{"text_format":"1","workbook":"xlsx","n_sheets":6,"sheets":["使い方","結果貼付け用","各種グラフ表示用","管理職_各種グラフ表示","非管理職_各種グラフ表示","階層間GAP"],"not_rendered":{"charts":25,"images":16,"macros":1,"external_links":0,"defined_names":9,"comments":0,"pivot_tables":0},"unopened":[],"bounds":{"document_bytes":16777216,"sheet_cells":100000,"rows_first":2000,"rows_last":500,"rows_between":2000,"halvings":0,"cell_chars":16384,"cell_head_chars":4096},"cells_cut":0,"cells_raw":0,"read":"whole","date_system":"1900"}

{"sheet":"使い方","index":0,"n_rows":138,"n_cols":13,"rows_kept":138,"cut":false,"hidden":false,"merged":[[1,1,2,19],[3,1,3,19]]}
[]
[null,"「 簡 易 分 析 ツ ー ル 」 の 使 い 方"]
[]
[null,"※「準備編」⇒「分析編」の順でご確認・ご対応のうえ、お使いくださいませ。　　"]
[]
[]
[]
[]
[]
[]
[]
[]
[]
[]
[]
[]
[]
[]
[]
[]
[]
[]
[]
[]
[]
[]
[]
[]
[]
[]
[]
[]
[]
[]
[]
[]
[]
[]
[]
[]
[]
[]
[]
[]
[]
[]
[]
[]
[]
[]
[]
[]
[]
[]
[]
[]
[]
[]
[]
[]
[]
[]
[]
[]
[]
[]
[]
[]
[]
[]
[]
[]
[]
[]
[]
[]
[]
[]
[]
[]
[]
[]
[]
[]
[]
[]
[]
[]
[]
[]
[]
[]
[]
[]
[]
[]
[]
[]
[]
[]
[]
[]
[]
[]
[]
[]
[]
[]
[]
[]
[]
[]
[]
[]
[]
[]
[]
[]
[]
[]
[]
[]
[]
[]
[]
[]
[]
[]
[]
[]
[]
[]
[]
[]
[null,null,null,null,null,null,null,null,null,null,null,null,"https://crexta-support.mynavi.jp/faq/12133/"]
[]
[]
[null,null,null,null,null,null,null,null,null,null,null,null,"https://crexta-support.mynavi.jp/faq/12218/"]

{"sheet":"結果貼付け用","index":1,"n_rows":0,"n_cols":0,"rows_kept":0,"cut":false,"hidden":false,"merged":[]}

{"sheet":"各種グラフ表示用","index":2,"n_rows":233,"n_cols":34,"rows_kept":233,"cut":false,"hidden":false,"merged":[]}
[]
[]
[]
[]
[]
[]
[]
[]
[]
[]
[]
[]
[]
[]
[]
[]
[]
[]
[]
[]
[]
[]
[]
[]
[]
[null,"実施開始日時",{"$f":"IF(結果貼付け用!B2=0,NA(),結果貼付け用!B2)","v":{"$error":"#N/A"}},{"$f":"IF((OFFSET(結果貼付け用!$H$2, 0, (COLUMN() - COLUMN($D$26)) * 6))=\"\",NA(),(OFFSET(結果貼付け用!$H$2, 0, (COLUMN() - COLUMN($D$26)) * 6)))","v":{"$error":"#N/A"}},{"$f":"IF((OFFSET(結果貼付け用!$H$2, 0, (COLUMN() - COLUMN($D$26)) * 6))=\"\",NA(),(OFFSET(結果貼付け用!$H$2, 0, (COLUMN() - COLUMN($D$26)) * 6)))","v":{"$error":"#N/A"}},{"$f":"IF((OFFSET(結果貼付け用!$H$2, 0, (COLUMN() - COLUMN($D$26)) * 6))=\"\",NA(),(OFFSET(結果貼付け用!$H$2, 0, (COLUMN() - COLUMN($D$26)) * 6)))","v":{"$error":"#N/A"}},{"$f":"IF((OFFSET(結果貼付け用!$H$2, 0, (COLUMN() - COLUMN($D$26)) * 6))=\"\",NA(),(OFFSET(結果貼付け用!$H$2, 0, (COLUMN() - COLUMN($D$26)) * 6)))","v":{"$error":"#N/A"}},{"$f":"IF((OFFSET(結果貼付け用!$H$2, 0, (COLUMN() - COLUMN($D$26)) * 6))=\"\",NA(),(OFFSET(結果貼付け用!$H$2, 0, (COLUMN() - COLUMN($D$26)) * 6)))","v":{"$error":"#N/A"}},{"$f":"IF((OFFSET(結果貼付け用!$H$2, 0, (COLUMN() - COLUMN($D$26)) * 6))=\"\",NA(),(OFFSET(結果貼付け用!$H$2, 0, (COLUMN() - COLUMN($D$26)) * 6)))","v":{"$error":"#N/A"}},{"$f":"IF((OFFSET(結果貼付け用!$H$2, 0, (COLUMN() - COLUMN($D$26)) * 6))=\"\",NA(),(OFFSET(結果貼付け用!$H$2, 0, (COLUMN() - COLUMN($D$26)) * 6)))","v":{"$error":"#N/A"}},{"$f":"IF((OFFSET(結果貼付け用!$H$2, 0, (COLUMN() - COLUMN($D$26)) * 6))=\"\",NA(),(OFFSET(結果貼付け用!$H$2, 0, (COLUMN() - COLUMN($D$26)) * 6)))","v":{"$error":"#N/A"}},{"$f":"IF((OFFSET(結果貼付け用!$H$2, 0, (COLUMN() - COLUMN($D$26)) * 6))=\"\",NA(),(OFFSET(結果貼付け用!$H$2, 0, (COLUMN() - COLUMN($D$26)) * 6)))","v":{"$error":"#N/A"}},{"$f":"IF((OFFSET(結果貼付け用!$H$2, 0, (COLUMN() - COLUMN($D$26)) * 6))=\"\",NA(),(OFFSET(結果貼付け用!$H$2, 0, (COLUMN() - COLUMN($D$26)) * 6)))","v":{"$error":"#N/A"}},{"$f":"IF((OFFSET(結果貼付け用!$H$2, 0, (COLUMN() - COLUMN($D$26)) * 6))=\"\",NA(),(OFFSET(結果貼付け用!$H$2, 0, (COLUMN() - COLUMN($D$26)) * 6)))","v":{"$error":"#N/A"}},{"$f":"IF((OFFSET(結果貼付け用!$H$2, 0, (COLUMN() - COLUMN($D$26)) * 6))=\"\",NA(),(OFFSET(結果貼付け用!$H$2, 0, (COLUMN() - COLUMN($D$26)) * 6)))","v":{"$error":"#N/A"}},{"$f":"IF((OFFSET(結果貼付け用!$H$2, 0, (COLUMN() - COLUMN($D$26)) * 6))=\"\",NA(),(OFFSET(結果貼付け用!$H$2, 0, (COLUMN() - COLUMN($D$26)) * 6)))","v":{"$error":"#N/A"}},{"$f":"IF((OFFSET(結果貼付け用!$H$2, 0, (COLUMN() - COLUMN($D$26)) * 6))=\"\",NA(),(OFFSET(結果貼付け用!$H$2, 0, (COLUMN() - COLUMN($D$26)) * 6)))","v":{"$error":"#N/A"}},{"$f":"IF((OFFSET(結果貼付け用!$H$2, 0, (COLUMN() - COLUMN($D$26)) * 6))=\"\",NA(),(OFFSET(結果貼付け用!$H$2, 0, (COLUMN() - COLUMN($D$26)) * 6)))","v":{"$error":"#N/A"}},{"$f":"IF((OFFSET(結果貼付け用!$H$2, 0, (COLUMN() - COLUMN($D$26)) * 6))=\"\",NA(),(OFFSET(結果貼付け用!$H$2, 0, (COLUMN() - COLUMN($D$26)) * 6)))","v":{"$error":"#N/A"}},{"$f":"IF((OFFSET(結果貼付け用!$H$2, 0, (COLUMN() - COLUMN($D$26)) * 6))=\"\",NA(),(OFFSET(結果貼付け用!$H$2, 0, (COLUMN() - COLUMN($D$26)) * 6)))","v":{"$error":"#N/A"}},{"$f":"IF((OFFSET(結果貼付け用!$H$2, 0, (COLUMN() - COLUMN($D$26)) * 6))=\"\",NA(),(OFFSET(結果貼付け用!$H$2, 0, (COLUMN() - COLUMN($D$26)) * 6)))","v":{"$error":"#N/A"}},{"$f":"IF((OFFSET(結果貼付け用!$H$2, 0, (COLUMN() - COLUMN($D$26)) * 6))=\"\",NA(),(OFFSET(結果貼付け用!$H$2, 0, (COLUMN() - COLUMN($D$26)) * 6)))","v":{"$error":"#N/A"}},{"$f":"IF((OFFSET(結果貼付け用!$H$2, 0, (COLUMN() - COLUMN($D$26)) * 6))=\"\",NA(),(OFFSET(結果貼付け用!$H$2, 0, (COLUMN() - COLUMN($D$26)) * 6)))","v":{"$error":"#N/A"}},{"$f":"IF((OFFSET(結果貼付け用!$H$2, 0, (COLUMN() - COLUMN($D$26)) * 6))=\"\",NA(),(OFFSET(結果貼付け用!$H$2, 0, (COLUMN() - COLUMN($D$26)) * 6)))","v":{"$error":"#N/A"}},{"$f":"IF((OFFSET(結果貼付け用!$H$2, 0, (COLUMN() - COLUMN($D$26)) * 6))=\"\",NA(),(OFFSET(結果貼付け用!$H$2, 0, (COLUMN() - COLUMN($D$26)) * 6)))","v":{"$error":"#N/A"}},{"$f":"IF((OFFSET(結果貼付け用!$H$2, 0, (COLUMN() - COLUMN($D$26)) * 6))=\"\",NA(),(OFFSET(結果貼付け用!$H$2, 0, (COLUMN() - COLUMN($D$26)) * 6)))","v":{"$error":"#N/A"}},{"$f":"IF((OFFSET(結果貼付け用!$H$2, 0, (COLUMN() - COLUMN($D$26)) * 6))=\"\",NA(),(OFFSET(結果貼付け用!$H$2, 0, (COLUMN() - COLUMN($D$26)) * 6)))","v":{"$error":"#N/A"}},{"$f":"IF((OFFSET(結果貼付け用!$H$2, 0, (COLUMN() - COLUMN($D$26)) * 6))=\"\",NA(),(OFFSET(結果貼付け用!$H$2, 0, (COLUMN() - COLUMN($D$26)) * 6)))","v":{"$error":"#N/A"}},{"$f":"IF((OFFSET(結果貼付け用!$H$2, 0, (COLUMN() - COLUMN($D$26)) * 6))=\"\",NA(),(OFFSET(結果貼付け用!$H$2, 0, (COLUMN() - COLUMN($D$26)) * 6)))","v":{"$error":"#N/A"}},{"$f":"IF((OFFSET(結果貼付け用!$H$2, 0, (COLUMN() - COLUMN($D$26)) * 6))=\"\",NA(),(OFFSET(結果貼付け用!$H$2, 0, (COLUMN() - COLUMN($D$26)) * 6)))","v":{"$error":"#N/A"}},{"$f":"IF((OFFSET(結果貼付け用!$H$2, 0, (COLUMN() - COLUMN($D$26)) * 6))=\"\",NA(),(OFFSET(結果貼付け用!$H$2, 0, (COLUMN() - COLUMN($D$26)) * 6)))","v":{"$error":"#N/A"}},{"$f":"IF((OFFSET(結果貼付け用!$H$2, 0, (COLUMN() - COLUMN($D$26)) * 6))=\"\",NA(),(OFFSET(結果貼付け用!$H$2, 0, (COLUMN() - COLUMN($D$26)) * 6)))","v":{"$error":"#N/A"}},{"$f":"IF((OFFSET(結果貼付け用!$H$2, 0, (COLUMN() - COLUMN($D$26)) * 6))=\"\",NA(),(OFFSET(結果貼付け用!$H$2, 0, (COLUMN() - COLUMN($D$26)) * 6)))","v":{"$error":"#N/A"}},{"$f":"IF((OFFSET(結果貼付け用!$H$2, 0, (COLUMN() - COLUMN($D$26)) * 6))=\"\",NA(),(OFFSET(結果貼付け用!$H$2, 0, (COLUMN() - COLUMN($D$26)) * 6)))","v":{"$error":"#N/A"}}]
[null,"配信人数",{"$f":"IF(結果貼付け用!B5=0,NA(),結果貼付け用!B5)","v":{"$error":"#N/A"}},{"$f":"IF(OR(OFFSET(結果貼付け用!$H5,0,(COLUMN()-4)*6,1,1)=\"-\",OFFSET(結果貼付け用!$H5,0,(COLUMN()-4)*6,1,1)=\"\"),NA(),OFFSET(結果貼付け用!$H5,0,(COLUMN()-4)*6,1,1))","v":{"$error":"#N/A"}},{"$f":"IF(OR(OFFSET(結果貼付け用!$H5,0,(COLUMN()-4)*6,1,1)=\"-\",OFFSET(結果貼付け用!$H5,0,(COLUMN()-4)*6,1,1)=\"\"),NA(),OFFSET(結果貼付け用!$H5,0,(COLUMN()-4)*6,1,1))","v":{"$error":"#N/A"}},{"$f":"IF(OR(OFFSET(結果貼付け用!$H5,0,(COLUMN()-4)*6,1,1)=\"-\",OFFSET(結果貼付け用!$H5,0,(COLUMN()-4)*6,1,1)=\"\"),NA(),OFFSET(結果貼付け用!$H5,0,(COLUMN()-4)*6,1,1))","v":{"$error":"#N/A"}},{"$f":"IF(OR(OFFSET(結果貼付け用!$H5,0,(COLUMN()-4)*6,1,1)=\"-\",OFFSET(結果貼付け用!$H5,0,(COLUMN()-4)*6,1,1)=\"\"),NA(),OFFSET(結果貼付け用!$H5,0,(COLUMN()-4)*6,1,1))","v":{"$error":"#N/A"}},{"$f":"IF(OR(OFFSET(結果貼付け用!$H5,0,(COLUMN()-4)*6,1,1)=\"-\",OFFSET(結果貼付け用!$H5,0,(COLUMN()-4)*6,1,1)=\"\"),NA(),OFFSET(結果貼付け用!$H5,0,(COLUMN()-4)*6,1,1))","v":{"$error":"#N/A"}},{"$f":"IF(OR(OFFSET(結果貼付け用!$H5,0,(COLUMN()-4)*6,1,1)=\"-\",OFFSET(結果貼付け用!$H5,0,(COLUMN()-4)*6,1,1)=\"\"),NA(),OFFSET(結果貼付け用!$H5,0,(COLUMN()-4)*6,1,1))","v":{"$error":"#N/A"}},{"$f":"IF(OR(OFFSET(結果貼付け用!$H5,0,(COLUMN()-4)*6,1,1)=\"-\",OFFSET(結果貼付け用!$H5,0,(COLUMN()-4)*6,1,1)=\"\"),NA(),OFFSET(結果貼付け用!$H5,0,(COLUMN()-4)*6,1,1))","v":{"$error":"#N/A"}},{"$f":"IF(OR(OFFSET(結果貼付け用!$H5,0,(COLUMN()-4)*6,1,1)=\"-\",OFFSET(結果貼付け用!$H5,0,(COLUMN()-4)*6,1,1)=\"\"),NA(),OFFSET(結果貼付け用!$H5,0,(COLUMN()-4)*6,1,1))","v":{"$error":"#N/A"}},{"$f":"IF(OR(OFFSET(結果貼付け用!$H5,0,(COLUMN()-4)*6,1,1)=\"-\",OFFSET(結果貼付け用!$H5,0,(COLUMN()-4)*6,1,1)=\"\"),NA(),OFFSET(結果貼付け用!$H5,0,(COLUMN()-4)*6,1,1))","v":{"$error":"#N/A"}},{"$f":"IF(OR(OFFSET(結果貼付け用!$H5,0,(COLUMN()-4)*6,1,1)=\"-\",OFFSET(結果貼付け用!$H5,0,(COLUMN()-4)*6,1,1)=\"\"),NA(),OFFSET(結果貼付け用!$H5,0,(COLUMN()-4)*6,1,1))","v":{"$error":"#N/A"}},{"$f":"IF(OR(OFFSET(結果貼付け用!$H5,0,(COLUMN()-4)*6,1,1)=\"-\",OFFSET(結果貼付け用!$H5,0,(COLUMN()-4)*6,1,1)=\"\"),NA(),OFFSET(結果貼付け用!$H5,0,(COLUMN()-4)*6,1,1))","v":{"$error":"#N/A"}},{"$f":"IF(OR(OFFSET(結果貼付け用!$H5,0,(COLUMN()-4)*6,1,1)=\"-\",OFFSET(結果貼付け用!$H5,0,(COLUMN()-4)*6,1,1)=\"\"),NA(),OFFSET(結果貼付け用!$H5,0,(COLUMN()-4)*6,1,1))","v":{"$error":"#N/A"}},{"$f":"IF(OR(OFFSET(結果貼付け用!$H5,0,(COLUMN()-4)*6,1,1)=\"-\",OFFSET(結果貼付け用!$H5,0,(COLUMN()-4)*6,1,1)=\"\"),NA(),OFFSET(結果貼付け用!$H5,0,(COLUMN()-4)*6,1,1))","v":{"$error":"#N/A"}},{"$f":"IF(OR(OFFSET(結果貼付け用!$H5,0,(COLUMN()-4)*6,1,1)=\"-\",OFFSET(結果貼付け用!$H5,0,(COLUMN()-4)*6,1,1)=\"\"),NA(),OFFSET(結果貼付け用!$H5,0,(COLUMN()-4)*6,1,1))","v":{"$error":"#N/A"}},{"$f":"IF(OR(OFFSET(結果貼付け用!$H5,0,(COLUMN()-4)*6,1,1)=\"-\",OFFSET(結果貼付け用!$H5,0,(COLUMN()-4)*6,1,1)=\"\"),NA(),OFFSET(結果貼付け用!$H5,0,(COLUMN()-4)*6,1,1))","v":{"$error":"#N/A"}},{"$f":"IF(OR(OFFSET(結果貼付け用!$H5,0,(COLUMN()-4)*6,1,1)=\"-\",OFFSET(結果貼付け用!$H5,0,(COLUMN()-4)*6,1,1)=\"\"),NA(),OFFSET(結果貼付け用!$H5,0,(COLUMN()-4)*6,1,1))","v":{"$error":"#N/A"}},{"$f":"IF(OR(OFFSET(結果貼付け用!$H5,0,(COLUMN()-4)*6,1,1)=\"-\",OFFSET(結果貼付け用!$H5,0,(COLUMN()-4)*6,1,1)=\"\"),NA(),OFFSET(結果貼付け用!$H5,0,(COLUMN()-4)*6,1,1))","v":{"$error":"#N/A"}},{"$f":"IF(OR(OFFSET(結果貼付け用!$H5,0,(COLUMN()-4)*6,1,1)=\"-\",OFFSET(結果貼付け用!$H5,0,(COLUMN()-4)*6,1,1)=\"\"),NA(),OFFSET(結果貼付け用!$H5,0,(COLUMN()-4)*6,1,1))","v":{"$error":"#N/A"}},{"$f":"IF(OR(OFFSET(結果貼付け用!$H5,0,(COLUMN()-4)*6,1,1)=\"-\",OFFSET(結果貼付け用!$H5,0,(COLUMN()-4)*6,1,1)=\"\"),NA(),OFFSET(結果貼付け用!$H5,0,(COLUMN()-4)*6,1,1))","v":{"$error":"#N/A"}},{"$f":"IF(OR(OFFSET(結果貼付け用!$H5,0,(COLUMN()-4)*6,1,1)=\"-\",OFFSET(結果貼付け用!$H5,0,(COLUMN()-4)*6,1,1)=\"\"),NA(),OFFSET(結果貼付け用!$H5,0,(COLUMN()-4)*6,1,1))","v":{"$error":"#N/A"}},{"$f":"IF(OR(OFFSET(結果貼付け用!$H5,0,(COLUMN()-4)*6,1,1)=\"-\",OFFSET(結果貼付け用!$H5,0,(COLUMN()-4)*6,1,1)=\"\"),NA(),OFFSET(結果貼付け用!$H5,0,(COLUMN()-4)*6,1,1))","v":{"$error":"#N/A"}},{"$f":"IF(OR(OFFSET(結果貼付け用!$H5,0,(COLUMN()-4)*6,1,1)=\"-\",OFFSET(結果貼付け用!$H5,0,(COLUMN()-4)*6,1,1)=\"\"),NA(),OFFSET(結果貼付け用!$H5,0,(COLUMN()-4)*6,1,1))","v":{"$error":"#N/A"}},{"$f":"IF(OR(OFFSET(結果貼付け用!$H5,0,(COLUMN()-4)*6,1,1)=\"-\",OFFSET(結果貼付け用!$H5,0,(COLUMN()-4)*6,1,1)=\"\"),NA(),OFFSET(結果貼付け用!$H5,0,(COLUMN()-4)*6,1,1))","v":{"$error":"#N/A"}},{"$f":"IF(OR(OFFSET(結果貼付け用!$H5,0,(COLUMN()-4)*6,1,1)=\"-\",OFFSET(結果貼付け用!$H5,0,(COLUMN()-4)*6,1,1)=\"\"),NA(),OFFSET(結果貼付け用!$H5,0,(COLUMN()-4)*6,1,1))","v":{"$error":"#N/A"}},{"$f":"IF(OR(OFFSET(結果貼付け用!$H5,0,(COLUMN()-4)*6,1,1)=\"-\",OFFSET(結果貼付け用!$H5,0,(COLUMN()-4)*6,1,1)=\"\"),NA(),OFFSET(結果貼付け用!$H5,0,(COLUMN()-4)*6,1,1))","v":{"$error":"#N/A"}},{"$f":"IF(OR(OFFSET(結果貼付け用!$H5,0,(COLUMN()-4)*6,1,1)=\"-\",OFFSET(結果貼付け用!$H5,0,(COLUMN()-4)*6,1,1)=\"\"),NA(),OFFSET(結果貼付け用!$H5,0,(COLUMN()-4)*6,1,1))","v":{"$error":"#N/A"}},{"$f":"IF(OR(OFFSET(結果貼付け用!$H5,0,(COLUMN()-4)*6,1,1)=\"-\",OFFSET(結果貼付け用!$H5,0,(COLUMN()-4)*6,1,1)=\"\"),NA(),OFFSET(結果貼付け用!$H5,0,(COLUMN()-4)*6,1,1))","v":{"$error":"#N/A"}},{"$f":"IF(OR(OFFSET(結果貼付け用!$H5,0,(COLUMN()-4)*6,1,1)=\"-\",OFFSET(結果貼付け用!$H5,0,(COLUMN()-4)*6,1,1)=\"\"),NA(),OFFSET(結果貼付け用!$H5,0,(COLUMN()-4)*6,1,1))","v":{"$error":"#N/A"}},{"$f":"IF(OR(OFFSET(結果貼付け用!$H5,0,(COLUMN()-4)*6,1,1)=\"-\",OFFSET(結果貼付け用!$H5,0,(COLUMN()-4)*6,1,1)=\"\"),NA(),OFFSET(結果貼付け用!$H5,0,(COLUMN()-4)*6,1,1))","v":{"$error":"#N/A"}}]
[null,"回答数",{"$f":"IF(結果貼付け用!B6=0,NA(),結果貼付け用!B6)","v":{"$error":"#N/A"}},{"$f":"IF(OR(OFFSET(結果貼付け用!$H6,0,(COLUMN()-4)*6,1,1)=\"-\",OFFSET(結果貼付け用!$H6,0,(COLUMN()-4)*6,1,1)=\"\"),NA(),OFFSET(結果貼付け用!$H6,0,(COLUMN()-4)*6,1,1))","v":{"$error":"#N/A"}},{"$f":"IF(OR(OFFSET(結果貼付け用!$H6,0,(COLUMN()-4)*6,1,1)=\"-\",OFFSET(結果貼付け用!$H6,0,(COLUMN()-4)*6,1,1)=\"\"),NA(),OFFSET(結果貼付け用!$H6,0,(COLUMN()-4)*6,1,1))","v":{"$error":"#N/A"}},{"$f":"IF(OR(OFFSET(結果貼付け用!$H6,0,(COLUMN()-4)*6,1,1)=\"-\",OFFSET(結果貼付け用!$H6,0,(COLUMN()-4)*6,1,1)=\"\"),NA(),OFFSET(結果貼付け用!$H6,0,(COLUMN()-4)*6,1,1))","v":{"$error":"#N/A"}},{"$f":"IF(OR(OFFSET(結果貼付け用!$H6,0,(COLUMN()-4)*6,1,1)=\"-\",OFFSET(結果貼付け用!$H6,0,(COLUMN()-4)*6,1,1)=\"\"),NA(),OFFSET(結果貼付け用!$H6,0,(COLUMN()-4)*6,1,1))","v":{"$error":"#N/A"}},{"$f":"IF(OR(OFFSET(結果貼付け用!$H6,0,(COLUMN()-4)*6,1,1)=\"-\",OFFSET(結果貼付け用!$H6,0,(COLUMN()-4)*6,1,1)=\"\"),NA(),OFFSET(結果貼付け用!$H6,0,(COLUMN()-4)*6,1,1))","v":{"$error":"#N/A"}},{"$f":"IF(OR(OFFSET(結果貼付け用!$H6,0,(COLUMN()-4)*6,1,1)=\"-\",OFFSET(結果貼付け用!$H6,0,(COLUMN()-4)*6,1,1)=\"\"),NA(),OFFSET(結果貼付け用!$H6,0,(COLUMN()-4)*6,1,1))","v":{"$error":"#N/A"}},{"$f":"IF(OR(OFFSET(結果貼付け用!$H6,0,(COLUMN()-4)*6,1,1)=\"-\",OFFSET(結果貼付け用!$H6,0,(COLUMN()-4)*6,1,1)=\"\"),NA(),OFFSET(結果貼付け用!$H6,0,(COLUMN()-4)*6,1,1))","v":{"$error":"#N/A"}},{"$f":"IF(OR(OFFSET(結果貼付け用!$H6,0,(COLUMN()-4)*6,1,1)=\"-\",OFFSET(結果貼付け用!$H6,0,(COLUMN()-4)*6,1,1)=\"\"),NA(),OFFSET(結果貼付け用!$H6,0,(COLUMN()-4)*6,1,1))","v":{"$error":"#N/A"}},{"$f":"IF(OR(OFFSET(結果貼付け用!$H6,0,(COLUMN()-4)*6,1,1)=\"-\",OFFSET(結果貼付け用!$H6,0,(COLUMN()-4)*6,1,1)=\"\"),NA(),OFFSET(結果貼付け用!$H6,0,(COLUMN()-4)*6,1,1))","v":{"$error":"#N/A"}},{"$f":"IF(OR(OFFSET(結果貼付け用!$H6,0,(COLUMN()-4)*6,1,1)=\"-\",OFFSET(結果貼付け用!$H6,0,(COLUMN()-4)*6,1,1)=\"\"),NA(),OFFSET(結果貼付け用!$H6,0,(COLUMN()-4)*6,1,1))","v":{"$error":"#N/A"}},{"$f":"IF(OR(OFFSET(結果貼付け用!$H6,0,(COLUMN()-4)*6,1,1)=\"-\",OFFSET(結果貼付け用!$H6,0,(COLUMN()-4)*6,1,1)=\"\"),NA(),OFFSET(結果貼付け用!$H6,0,(COLUMN()-4)*6,1,1))","v":{"$error":"#N/A"}},{"$f":"IF(OR(OFFSET(結果貼付け用!$H6,0,(COLUMN()-4)*6,1,1)=\"-\",OFFSET(結果貼付け用!$H6,0,(COLUMN()-4)*6,1,1)=\"\"),NA(),OFFSET(結果貼付け用!$H6,0,(COLUMN()-4)*6,1,1))","v":{"$error":"#N/A"}},{"$f":"IF(OR(OFFSET(結果貼付け用!$H6,0,(COLUMN()-4)*6,1,1)=\"-\",OFFSET(結果貼付け用!$H6,0,(COLUMN()-4)*6,1,1)=\"\"),NA(),OFFSET(結果貼付け用!$H6,0,(COLUMN()-4)*6,1,1))","v":{"$error":"#N/A"}},{"$f":"IF(OR(OFFSET(結果貼付け用!$H6,0,(COLUMN()-4)*6,1,1)=\"-\",OFFSET(結果貼付け用!$H6,0,(COLUMN()-4)*6,1,1)=\"\"),NA(),OFFSET(結果貼付け用!$H6,0,(COLUMN()-4)*6,1,1))","v":{"$error":"#N/A"}},{"$f":"IF(OR(OFFSET(結果貼付け用!$H6,0,(COLUMN()-4)*6,1,1)=\"-\",OFFSET(結果貼付け用!$H6,0,(COLUMN()-4)*6,1,1)=\"\"),NA(),OFFSET(結果貼付け用!$H6,0,(COLUMN()-4)*6,1,1))","v":{"$error":"#N/A"}},{"$f":"IF(OR(OFFSET(結果貼付け用!$H6,0,(COLUMN()-4)*6,1,1)=\"-\",OFFSET(結果貼付け用!$H6,0,(COLUMN()-4)*6,1,1)=\"\"),NA(),OFFSET(結果貼付け用!$H6,0,(COLUMN()-4)*6,1,1))","v":{"$error":"#N/A"}},{"$f":"IF(OR(OFFSET(結果貼付け用!$H6,0,(COLUMN()-4)*6,1,1)=\"-\",OFFSET(結果貼付け用!$H6,0,(COLUMN()-4)*6,1,1)=\"\"),NA(),OFFSET(結果貼付け用!$H6,0,(COLUMN()-4)*6,1,1))","v":{"$error":"#N/A"}},{"$f":"IF(OR(OFFSET(結果貼付け用!$H6,0,(COLUMN()-4)*6,1,1)=\"-\",OFFSET(結果貼付け用!$H6,0,(COLUMN()-4)*6,1,1)=\"\"),NA(),OFFSET(結果貼付け用!$H6,0,(COLUMN()-4)*6,1,1))","v":{"$error":"#N/A"}},{"$f":"IF(OR(OFFSET(結果貼付け用!$H6,0,(COLUMN()-4)*6,1,1)=\"-\",OFFSET(結果貼付け用!$H6,0,(COLUMN()-4)*6,1,1)=\"\"),NA(),OFFSET(結果貼付け用!$H6,0,(COLUMN()-4)*6,1,1))","v":{"$error":"#N/A"}},{"$f":"IF(OR(OFFSET(結果貼付け用!$H6,0,(COLUMN()-4)*6,1,1)=\"-\",OFFSET(結果貼付け用!$H6,0,(COLUMN()-4)*6,1,1)=\"\"),NA(),OFFSET(結果貼付け用!$H6,0,(COLUMN()-4)*6,1,1))","v":{"$error":"#N/A"}},{"$f":"IF(OR(OFFSET(結果貼付け用!$H6,0,(COLUMN()-4)*6,1,1)=\"-\",OFFSET(結果貼付け用!$H6,0,(COLUMN()-4)*6,1,1)=\"\"),NA(),OFFSET(結果貼付け用!$H6,0,(COLUMN()-4)*6,1,1))","v":{"$error":"#N/A"}},{"$f":"IF(OR(OFFSET(結果貼付け用!$H6,0,(COLUMN()-4)*6,1,1)=\"-\",OFFSET(結果貼付け用!$H6,0,(COLUMN()-4)*6,1,1)=\"\"),NA(),OFFSET(結果貼付け用!$H6,0,(COLUMN()-4)*6,1,1))","v":{"$error":"#N/A"}},{"$f":"IF(OR(OFFSET(結果貼付け用!$H6,0,(COLUMN()-4)*6,1,1)=\"-\",OFFSET(結果貼付け用!$H6,0,(COLUMN()-4)*6,1,1)=\"\"),NA(),OFFSET(結果貼付け用!$H6,0,(COLUMN()-4)*6,1,1))","v":{"$error":"#N/A"}},{"$f":"IF(OR(OFFSET(結果貼付け用!$H6,0,(COLUMN()-4)*6,1,1)=\"-\",OFFSET(結果貼付け用!$H6,0,(COLUMN()-4)*6,1,1)=\"\"),NA(),OFFSET(結果貼付け用!$H6,0,(COLUMN()-4)*6,1,1))","v":{"$error":"#N/A"}},{"$f":"IF(OR(OFFSET(結果貼付け用!$H6,0,(COLUMN()-4)*6,1,1)=\"-\",OFFSET(結果貼付け用!$H6,0,(COLUMN()-4)*6,1,1)=\"\"),NA(),OFFSET(結果貼付け用!$H6,0,(COLUMN()-4)*6,1,1))","v":{"$error":"#N/A"}},{"$f":"IF(OR(OFFSET(結果貼付け用!$H6,0,(COLUMN()-4)*6,1,1)=\"-\",OFFSET(結果貼付け用!$H6,0,(COLUMN()-4)*6,1,1)=\"\"),NA(),OFFSET(結果貼付け用!$H6,0,(COLUMN()-4)*6,1,1))","v":{"$error":"#N/A"}},{"$f":"IF(OR(OFFSET(結果貼付け用!$H6,0,(COLUMN()-4)*6,1,1)=\"-\",OFFSET(結果貼付け用!$H6,0,(COLUMN()-4)*6,1,1)=\"\"),NA(),OFFSET(結果貼付け用!$H6,0,(COLUMN()-4)*6,1,1))","v":{"$error":"#N/A"}},{"$f":"IF(OR(OFFSET(結果貼付け用!$H6,0,(COLUMN()-4)*6,1,1)=\"-\",OFFSET(結果貼付け用!$H6,0,(COLUMN()-4)*6,1,1)=\"\"),NA(),OFFSET(結果貼付け用!$H6,0,(COLUMN()-4)*6,1,1))","v":{"$error":"#N/A"}},{"$f":"IF(OR(OFFSET(結果貼付け用!$H6,0,(COLUMN()-4)*6,1,1)=\"-\",OFFSET(結果貼付け用!$H6,0,(COLUMN()-4)*6,1,1)=\"\"),NA(),OFFSET(結果貼付け用!$H6,0,(COLUMN()-4)*6,1,1))","v":{"$error":"#N/A"}}]
[null,"回答率",{"$f":"IF(結果貼付け用!B7/100=0,NA(),結果貼付け用!B7/100)","v":{"$error":"#N/A"}},{"$f":"IF(OR(OFFSET(結果貼付け用!$H7,0,(COLUMN()-4)*6,1,1)=\"-\",OFFSET(結果貼付け用!$H7,0,(COLUMN()-4)*6,1,1)=\"\"),NA(),OFFSET(結果貼付け用!$H7,0,(COLUMN()-4)*6,1,1)/100)","v":{"$error":"#N/A"}},{"$f":"IF(OR(OFFSET(結果貼付け用!$H7,0,(COLUMN()-4)*6,1,1)=\"-\",OFFSET(結果貼付け用!$H7,0,(COLUMN()-4)*6,1,1)=\"\"),NA(),OFFSET(結果貼付け用!$H7,0,(COLUMN()-4)*6,1,1)/100)","v":{"$error":"#N/A"}},{"$f":"IF(OR(OFFSET(結果貼付け用!$H7,0,(COLUMN()-4)*6,1,1)=\"-\",OFFSET(結果貼付け用!$H7,0,(COLUMN()-4)*6,1,1)=\"\"),NA(),OFFSET(結果貼付け用!$H7,0,(COLUMN()-4)*6,1,1)/100)","v":{"$error":"#N/A"}},{"$f":"IF(OR(OFFSET(結果貼付け用!$H7,0,(COLUMN()-4)*6,1,1)=\"-\",OFFSET(結果貼付け用!$H7,0,(COLUMN()-4)*6,1,1)=\"\"),NA(),OFFSET(結果貼付け用!$H7,0,(COLUMN()-4)*6,1,1)/100)","v":{"$error":"#N/A"}},{"$f":"IF(OR(OFFSET(結果貼付け用!$H7,0,(COLUMN()-4)*6,1,1)=\"-\",OFFSET(結果貼付け用!$H7,0,(COLUMN()-4)*6,1,1)=\"\"),NA(),OFFSET(結果貼付け用!$H7,0,(COLUMN()-4)*6,1,1)/100)","v":{"$error":"#N/A"}},{"$f":"IF(OR(OFFSET(結果貼付け用!$H7,0,(COLUMN()-4)*6,1,1)=\"-\",OFFSET(結果貼付け用!$H7,0,(COLUMN()-4)*6,1,1)=\"\"),NA(),OFFSET(結果貼付け用!$H7,0,(COLUMN()-4)*6,1,1)/100)","v":{"$error":"#N/A"}},{"$f":"IF(OR(OFFSET(結果貼付け用!$H7,0,(COLUMN()-4)*6,1,1)=\"-\",OFFSET(結果貼付け用!$H7,0,(COLUMN()-4)*6,1,1)=\"\"),NA(),OFFSET(結果貼付け用!$H7,0,(COLUMN()-4)*6,1,1)/100)","v":{"$error":"#N/A"}},{"$f":"IF(OR(OFFSET(結果貼付け用!$H7,0,(COLUMN()-4)*6,1,1)=\"-\",OFFSET(結果貼付け用!$H7,0,(COLUMN()-4)*6,1,1)=\"\"),NA(),OFFSET(結果貼付け用!$H7,0,(COLUMN()-4)*6,1,1)/100)","v":{"$error":"#N/A"}},{"$f":"IF(OR(OFFSET(結果貼付け用!$H7,0,(COLUMN()-4)*6,1,1)=\"-\",OFFSET(結果貼付け用!$H7,0,(COLUMN()-4)*6,1,1)=\"\"),NA(),OFFSET(結果貼付け用!$H7,0,(COLUMN()-4)*6,1,1)/100)","v":{"$error":"#N/A"}},{"$f":"IF(OR(OFFSET(結果貼付け用!$H7,0,(COLUMN()-4)*6,1,1)=\"-\",OFFSET(結果貼付け用!$H7,0,(COLUMN()-4)*6,1,1)=\"\"),NA(),OFFSET(結果貼付け用!$H7,0,(COLUMN()-4)*6,1,1)/100)","v":{"$error":"#N/A"}},{"$f":"IF(OR(OFFSET(結果貼付け用!$H7,0,(COLUMN()-4)*6,1,1)=\"-\",OFFSET(結果貼付け用!$H7,0,(COLUMN()-4)*6,1,1)=\"\"),NA(),OFFSET(結果貼付け用!$H7,0,(COLUMN()-4)*6,1,1)/100)","v":{"$error":"#N/A"}},{"$f":"IF(OR(OFFSET(結果貼付け用!$H7,0,(COLUMN()-4)*6,1,1)=\"-\",OFFSET(結果貼付け用!$H7,0,(COLUMN()-4)*6,1,1)=\"\"),NA(),OFFSET(結果貼付け用!$H7,0,(COLUMN()-4)*6,1,1)/100)","v":{"$error":"#N/A"}},{"$f":"IF(OR(OFFSET(結果貼付け用!$H7,0,(COLUMN()-4)*6,1,1)=\"-\",OFFSET(結果貼付け用!$H7,0,(COLUMN()-4)*6,1,1)=\"\"),NA(),OFFSET(結果貼付け用!$H7,0,(COLUMN()-4)*6,1,1)/100)","v":{"$error":"#N/A"}},{"$f":"IF(OR(OFFSET(結果貼付け用!$H7,0,(COLUMN()-4)*6,1,1)=\"-\",OFFSET(結果貼付け用!$H7,0,(COLUMN()-4)*6,1,1)=\"\"),NA(),OFFSET(結果貼付け用!$H7,0,(COLUMN()-4)*6,1,1)/100)","v":{"$error":"#N/A"}},{"$f":"IF(OR(OFFSET(結果貼付け用!$H7,0,(COLUMN()-4)*6,1,1)=\"-\",OFFSET(結果貼付け用!$H7,0,(COLUMN()-4)*6,1,1)=\"\"),NA(),OFFSET(結果貼付け用!$H7,0,(COLUMN()-4)*6,1,1)/100)","v":{"$error":"#N/A"}},{"$f":"IF(OR(OFFSET(結果貼付け用!$H7,0,(COLUMN()-4)*6,1,1)=\"-\",OFFSET(結果貼付け用!$H7,0,(COLUMN()-4)*6,1,1)=\"\"),NA(),OFFSET(結果貼付け用!$H7,0,(COLUMN()-4)*6,1,1)/100)","v":{"$error":"#N/A"}},{"$f":"IF(OR(OFFSET(結果貼付け用!$H7,0,(COLUMN()-4)*6,1,1)=\"-\",OFFSET(結果貼付け用!$H7,0,(COLUMN()-4)*6,1,1)=\"\"),NA(),OFFSET(結果貼付け用!$H7,0,(COLUMN()-4)*6,1,1)/100)","v":{"$error":"#N/A"}},{"$f":"IF(OR(OFFSET(結果貼付け用!$H7,0,(COLUMN()-4)*6,1,1)=\"-\",OFFSET(結果貼付け用!$H7,0,(COLUMN()-4)*6,1,1)=\"\"),NA(),OFFSET(結果貼付け用!$H7,0,(COLUMN()-4)*6,1,1)/100)","v":{"$error":"#N/A"}},{"$f":"IF(OR(OFFSET(結果貼付け用!$H7,0,(COLUMN()-4)*6,1,1)=\"-\",OFFSET(結果貼付け用!$H7,0,(COLUMN()-4)*6,1,1)=\"\"),NA(),OFFSET(結果貼付け用!$H7,0,(COLUMN()-4)*6,1,1)/100)","v":{"$error":"#N/A"}},{"$f":"IF(OR(OFFSET(結果貼付け用!$H7,0,(COLUMN()-4)*6,1,1)=\"-\",OFFSET(結果貼付け用!$H7,0,(COLUMN()-4)*6,1,1)=\"\"),NA(),OFFSET(結果貼付け用!$H7,0,(COLUMN()-4)*6,1,1)/100)","v":{"$error":"#N/A"}},{"$f":"IF(OR(OFFSET(結果貼付け用!$H7,0,(COLUMN()-4)*6,1,1)=\"-\",OFFSET(結果貼付け用!$H7,0,(COLUMN()-4)*6,1,1)=\"\"),NA(),OFFSET(結果貼付け用!$H7,0,(COLUMN()-4)*6,1,1)/100)","v":{"$error":"#N/A"}},{"$f":"IF(OR(OFFSET(結果貼付け用!$H7,0,(COLUMN()-4)*6,1,1)=\"-\",OFFSET(結果貼付け用!$H7,0,(COLUMN()-4)*6,1,1)=\"\"),NA(),OFFSET(結果貼付け用!$H7,0,(COLUMN()-4)*6,1,1)/100)","v":{"$error":"#N/A"}},{"$f":"IF(OR(OFFSET(結果貼付け用!$H7,0,(COLUMN()-4)*6,1,1)=\"-\",OFFSET(結果貼付け用!$H7,0,(COLUMN()-4)*6,1,1)=\"\"),NA(),OFFSET(結果貼付け用!$H7,0,(COLUMN()-4)*6,1,1)/100)","v":{"$error":"#N/A"}},{"$f":"IF(OR(OFFSET(結果貼付け用!$H7,0,(COLUMN()-4)*6,1,1)=\"-\",OFFSET(結果貼付け用!$H7,0,(COLUMN()-4)*6,1,1)=\"\"),NA(),OFFSET(結果貼付け用!$H7,0,(COLUMN()-4)*6,1,1)/100)","v":{"$error":"#N/A"}},{"$f":"IF(OR(OFFSET(結果貼付け用!$H7,0,(COLUMN()-4)*6,1,1)=\"-\",OFFSET(結果貼付け用!$H7,0,(COLUMN()-4)*6,1,1)=\"\"),NA(),OFFSET(結果貼付け用!$H7,0,(COLUMN()-4)*6,1,1)/100)","v":{"$error":"#N/A"}},{"$f":"IF(OR(OFFSET(結果貼付け用!$H7,0,(COLUMN()-4)*6,1,1)=\"-\",OFFSET(結果貼付け用!$H7,0,(COLUMN()-4)*6,1,1)=\"\"),NA(),OFFSET(結果貼付け用!$H7,0,(COLUMN()-4)*6,1,1)/100)","v":{"$error":"#N/A"}},{"$f":"IF(OR(OFFSET(結果貼付け用!$H7,0,(COLUMN()-4)*6,1,1)=\"-\",OFFSET(結果貼付け用!$H7,0,(COLUMN()-4)*6,1,1)=\"\"),NA(),OFFSET(結果貼付け用!$H7,0,(COLUMN()-4)*6,1,1)/100)","v":{"$error":"#N/A"}},{"$f":"IF(OR(OFFSET(結果貼付け用!$H7,0,(COLUMN()-4)*6,1,1)=\"-\",OFFSET(結果貼付け用!$H7,0,(COLUMN()-4)*6,1,1)=\"\"),NA(),OFFSET(結果貼付け用!$H7,0,(COLUMN()-4)*6,1,1)/100)","v":{"$error":"#N/A"}},{"$f":"IF(OR(OFFSET(結果貼付け用!$H7,0,(COLUMN()-4)*6,1,1)=\"-\",OFFSET(結果貼付け用!$H7,0,(COLUMN()-4)*6,1,1)=\"\"),NA(),OFFSET(結果貼付け用!$H7,0,(COLUMN()-4)*6,1,1)/100)","v":{"$error":"#N/A"}}]
[null,"エンゲージメントランク",{"$f":"IF(結果貼付け用!B8=0,NA(),結果貼付け用!B8)","v":{"$error":"#N/A"}},{"$f":"IF(OR(OFFSET(結果貼付け用!$H8,0,(COLUMN()-4)*6,1,1)=\"-\",OFFSET(結果貼付け用!$H8,0,(COLUMN()-4)*6,1,1)=\"\"),NA(),OFFSET(結果貼付け用!$H8,0,(COLUMN()-4)*6,1,1))","v":{"$error":"#N/A"}},{"$f":"IF(OR(OFFSET(結果貼付け用!$H8,0,(COLUMN()-4)*6,1,1)=\"-\",OFFSET(結果貼付け用!$H8,0,(COLUMN()-4)*6,1,1)=\"\"),NA(),OFFSET(結果貼付け用!$H8,0,(COLUMN()-4)*6,1,1))","v":{"$error":"#N/A"}},{"$f":"IF(OR(OFFSET(結果貼付け用!$H8,0,(COLUMN()-4)*6,1,1)=\"-\",OFFSET(結果貼付け用!$H8,0,(COLUMN()-4)*6,1,1)=\"\"),NA(),OFFSET(結果貼付け用!$H8,0,(COLUMN()-4)*6,1,1))","v":{"$error":"#N/A"}},{"$f":"IF(OR(OFFSET(結果貼付け用!$H8,0,(COLUMN()-4)*6,1,1)=\"-\",OFFSET(結果貼付け用!$H8,0,(COLUMN()-4)*6,1,1)=\"\"),NA(),OFFSET(結果貼付け用!$H8,0,(COLUMN()-4)*6,1,1))","v":{"$error":"#N/A"}},{"$f":"IF(OR(OFFSET(結果貼付け用!$H8,0,(COLUMN()-4)*6,1,1)=\"-\",OFFSET(結果貼付け用!$H8,0,(COLUMN()-4)*6,1,1)=\"\"),NA(),OFFSET(結果貼付け用!$H8,0,(COLUMN()-4)*6,1,1))","v":{"$error":"#N/A"}},{"$f":"IF(OR(OFFSET(結果貼付け用!$H8,0,(COLUMN()-4)*6,1,1)=\"-\",OFFSET(結果貼付け用!$H8,0,(COLUMN()-4)*6,1,1)=\"\"),NA(),OFFSET(結果貼付け用!$H8,0,(COLUMN()-4)*6,1,1))","v":{"$error":"#N/A"}},{"$f":"IF(OR(OFFSET(結果貼付け用!$H8,0,(COLUMN()-4)*6,1,1)=\"-\",OFFSET(結果貼付け用!$H8,0,(COLUMN()-4)*6,1,1)=\"\"),NA(),OFFSET(結果貼付け用!$H8,0,(COLUMN()-4)*6,1,1))","v":{"$error":"#N/A"}},{"$f":"IF(OR(OFFSET(結果貼付け用!$H8,0,(COLUMN()-4)*6,1,1)=\"-\",OFFSET(結果貼付け用!$H8,0,(COLUMN()-4)*6,1,1)=\"\"),NA(),OFFSET(結果貼付け用!$H8,0,(COLUMN()-4)*6,1,1))","v":{"$error":"#N/A"}},{"$f":"IF(OR(OFFSET(結果貼付け用!$H8,0,(COLUMN()-4)*6,1,1)=\"-\",OFFSET(結果貼付け用!$H8,0,(COLUMN()-4)*6,1,1)=\"\"),NA(),OFFSET(結果貼付け用!$H8,0,(COLUMN()-4)*6,1,1))","v":{"$error":"#N/A"}},{"$f":"IF(OR(OFFSET(結果貼付け用!$H8,0,(COLUMN()-4)*6,1,1)=\"-\",OFFSET(結果貼付け用!$H8,0,(COLUMN()-4)*6,1,1)=\"\"),NA(),OFFSET(結果貼付け用!$H8,0,(COLUMN()-4)*6,1,1))","v":{"$error":"#N/A"}},{"$f":"IF(OR(OFFSET(結果貼付け用!$H8,0,(COLUMN()-4)*6,1,1)=\"-\",OFFSET(結果貼付け用!$H8,0,(COLUMN()-4)*6,1,1)=\"\"),NA(),OFFSET(結果貼付け用!$H8,0,(COLUMN()-4)*6,1,1))","v":{"$error":"#N/A"}},{"$f":"IF(OR(OFFSET(結果貼付け用!$H8,0,(COLUMN()-4)*6,1,1)=\"-\",OFFSET(結果貼付け用!$H8,0,(COLUMN()-4)*6,1,1)=\"\"),NA(),OFFSET(結果貼付け用!$H8,0,(COLUMN()-4)*6,1,1))","v":{"$error":"#N/A"}},{"$f":"IF(OR(OFFSET(結果貼付け用!$H8,0,(COLUMN()-4)*6,1,1)=\"-\",OFFSET(結果貼付け用!$H8,0,(COLUMN()-4)*6,1,1)=\"\"),NA(),OFFSET(結果貼付け用!$H8,0,(COLUMN()-4)*6,1,1))","v":{"$error":"#N/A"}},{"$f":"IF(OR(OFFSET(結果貼付け用!$H8,0,(COLUMN()-4)*6,1,1)=\"-\",OFFSET(結果貼付け用!$H8,0,(COLUMN()-4)*6,1,1)=\"\"),NA(),OFFSET(結果貼付け用!$H8,0,(COLUMN()-4)*6,1,1))","v":{"$error":"#N/A"}},{"$f":"IF(OR(OFFSET(結果貼付け用!$H8,0,(COLUMN()-4)*6,1,1)=\"-\",OFFSET(結果貼付け用!$H8,0,(COLUMN()-4)*6,1,1)=\"\"),NA(),OFFSET(結果貼付け用!$H8,0,(COLUMN()-4)*6,1,1))","v":{"$error":"#N/A"}},{"$f":"IF(OR(OFFSET(結果貼付け用!$H8,0,(COLUMN()-4)*6,1,1)=\"-\",OFFSET(結果貼付け用!$H8,0,(COLUMN()-4)*6,1,1)=\"\"),NA(),OFFSET(結果貼付け用!$H8,0,(COLUMN()-4)*6,1,1))","v":{"$error":"#N/A"}},{"$f":"IF(OR(OFFSET(結果貼付け用!$H8,0,(COLUMN()-4)*6,1,1)=\"-\",OFFSET(結果貼付け用!$H8,0,(COLUMN()-4)*6,1,1)=\"\"),NA(),OFFSET(結果貼付け用!$H8,0,(COLUMN()-4)*6,1,1))","v":{"$error":"#N/A"}},{"$f":"IF(OR(OFFSET(結果貼付け用!$H8,0,(COLUMN()-4)*6,1,1)=\"-\",OFFSET(結果貼付け用!$H8,0,(COLUMN()-4)*6,1,1)=\"\"),NA(),OFFSET(結果貼付け用!$H8,0,(COLUMN()-4)*6,1,1))","v":{"$error":"#N/A"}},{"$f":"IF(OR(OFFSET(結果貼付け用!$H8,0,(COLUMN()-4)*6,1,1)=\"-\",OFFSET(結果貼付け用!$H8,0,(COLUMN()-4)*6,1,1)=\"\"),NA(),OFFSET(結果貼付け用!$H8,0,(COLUMN()-4)*6,1,1))","v":{"$error":"#N/A"}},{"$f":"IF(OR(OFFSET(結果貼付け用!$H8,0,(COLUMN()-4)*6,1,1)=\"-\",OFFSET(結果貼付け用!$H8,0,(COLUMN()-4)*6,1,1)=\"\"),NA(),OFFSET(結果貼付け用!$H8,0,(COLUMN()-4)*6,1,1))","v":{"$error":"#N/A"}},{"$f":"IF(OR(OFFSET(結果貼付け用!$H8,0,(COLUMN()-4)*6,1,1)=\"-\",OFFSET(結果貼付け用!$H8,0,(COLUMN()-4)*6,1,1)=\"\"),NA(),OFFSET(結果貼付け用!$H8,0,(COLUMN()-4)*6,1,1))","v":{"$error":"#N/A"}},{"$f":"IF(OR(OFFSET(結果貼付け用!$H8,0,(COLUMN()-4)*6,1,1)=\"-\",OFFSET(結果貼付け用!$H8,0,(COLUMN()-4)*6,1,1)=\"\"),NA(),OFFSET(結果貼付け用!$H8,0,(COLUMN()-4)*6,1,1))","v":{"$error":"#N/A"}},{"$f":"IF(OR(OFFSET(結果貼付け用!$H8,0,(COLUMN()-4)*6,1,1)=\"-\",OFFSET(結果貼付け用!$H8,0,(COLUMN()-4)*6,1,1)=\"\"),NA(),OFFSET(結果貼付け用!$H8,0,(COLUMN()-4)*6,1,1))","v":{"$error":"#N/A"}},{"$f":"IF(OR(OFFSET(結果貼付け用!$H8,0,(COLUMN()-4)*6,1,1)=\"-\",OFFSET(結果貼付け用!$H8,0,(COLUMN()-4)*6,1,1)=\"\"),NA(),OFFSET(結果貼付け用!$H8,0,(COLUMN()-4)*6,1,1))","v":{"$error":"#N/A"}},{"$f":"IF(OR(OFFSET(結果貼付け用!$H8,0,(COLUMN()-4)*6,1,1)=\"-\",OFFSET(結果貼付け用!$H8,0,(COLUMN()-4)*6,1,1)=\"\"),NA(),OFFSET(結果貼付け用!$H8,0,(COLUMN()-4)*6,1,1))","v":{"$error":"#N/A"}},{"$f":"IF(OR(OFFSET(結果貼付け用!$H8,0,(COLUMN()-4)*6,1,1)=\"-\",OFFSET(結果貼付け用!$H8,0,(COLUMN()-4)*6,1,1)=\"\"),NA(),OFFSET(結果貼付け用!$H8,0,(COLUMN()-4)*6,1,1))","v":{"$error":"#N/A"}},{"$f":"IF(OR(OFFSET(結果貼付け用!$H8,0,(COLUMN()-4)*6,1,1)=\"-\",OFFSET(結果貼付け用!$H8,0,(COLUMN()-4)*6,1,1)=\"\"),NA(),OFFSET(結果貼付け用!$H8,0,(COLUMN()-4)*6,1,1))","v":{"$error":"#N/A"}},{"$f":"IF(OR(OFFSET(結果貼付け用!$H8,0,(COLUMN()-4)*6,1,1)=\"-\",OFFSET(結果貼付け用!$H8,0,(COLUMN()-4)*6,1,1)=\"\"),NA(),OFFSET(結果貼付け用!$H8,0,(COLUMN()-4)*6,1,1))","v":{"$error":"#N/A"}},{"$f":"IF(OR(OFFSET(結果貼付け用!$H8,0,(COLUMN()-4)*6,1,1)=\"-\",OFFSET(結果貼付け用!$H8,0,(COLUMN()-4)*6,1,1)=\"\"),NA(),OFFSET(結果貼付け用!$H8,0,(COLUMN()-4)*6,1,1))","v":{"$error":"#N/A"}}]
[null,"エンゲージメントプロファイル",{"$f":"IF(結果貼付け用!B9=0,NA(),結果貼付け用!B9)","v":{"$error":"#N/A"}},{"$f":"IF(OR(OFFSET(結果貼付け用!$H9,0,(COLUMN()-4)*6,1,1)=\"-\",OFFSET(結果貼付け用!$H9,0,(COLUMN()-4)*6,1,1)=\"\"),NA(),OFFSET(結果貼付け用!$H9,0,(COLUMN()-4)*6,1,1))","v":{"$error":"#N/A"}},{"$f":"IF(OR(OFFSET(結果貼付け用!$H9,0,(COLUMN()-4)*6,1,1)=\"-\",OFFSET(結果貼付け用!$H9,0,(COLUMN()-4)*6,1,1)=\"\"),NA(),OFFSET(結果貼付け用!$H9,0,(COLUMN()-4)*6,1,1))","v":{"$error":"#N/A"}},{"$f":"IF(OR(OFFSET(結果貼付け用!$H9,0,(COLUMN()-4)*6,1,1)=\"-\",OFFSET(結果貼付け用!$H9,0,(COLUMN()-4)*6,1,1)=\"\"),NA(),OFFSET(結果貼付け用!$H9,0,(COLUMN()-4)*6,1,1))","v":{"$error":"#N/A"}},{"$f":"IF(OR(OFFSET(結果貼付け用!$H9,0,(COLUMN()-4)*6,1,1)=\"-\",OFFSET(結果貼付け用!$H9,0,(COLUMN()-4)*6,1,1)=\"\"),NA(),OFFSET(結果貼付け用!$H9,0,(COLUMN()-4)*6,1,1))","v":{"$error":"#N/A"}},{"$f":"IF(OR(OFFSET(結果貼付け用!$H9,0,(COLUMN()-4)*6,1,1)=\"-\",OFFSET(結果貼付け用!$H9,0,(COLUMN()-4)*6,1,1)=\"\"),NA(),OFFSET(結果貼付け用!$H9,0,(COLUMN()-4)*6,1,1))","v":{"$error":"#N/A"}},{"$f":"IF(OR(OFFSET(結果貼付け用!$H9,0,(COLUMN()-4)*6,1,1)=\"-\",OFFSET(結果貼付け用!$H9,0,(COLUMN()-4)*6,1,1)=\"\"),NA(),OFFSET(結果貼付け用!$H9,0,(COLUMN()-4)*6,1,1))","v":{"$error":"#N/A"}},{"$f":"IF(OR(OFFSET(結果貼付け用!$H9,0,(COLUMN()-4)*6,1,1)=\"-\",OFFSET(結果貼付け用!$H9,0,(COLUMN()-4)*6,1,1)=\"\"),NA(),OFFSET(結果貼付け用!$H9,0,(COLUMN()-4)*6,1,1))","v":{"$error":"#N/A"}},{"$f":"IF(OR(OFFSET(結果貼付け用!$H9,0,(COLUMN()-4)*6,1,1)=\"-\",OFFSET(結果貼付け用!$H9,0,(COLUMN()-4)*6,1,1)=\"\"),NA(),OFFSET(結果貼付け用!$H9,0,(COLUMN()-4)*6,1,1))","v":{"$error":"#N/A"}},{"$f":"IF(OR(OFFSET(結果貼付け用!$H9,0,(COLUMN()-4)*6,1,1)=\"-\",OFFSET(結果貼付け用!$H9,0,(COLUMN()-4)*6,1,1)=\"\"),NA(),OFFSET(結果貼付け用!$H9,0,(COLUMN()-4)*6,1,1))","v":{"$error":"#N/A"}},{"$f":"IF(OR(OFFSET(結果貼付け用!$H9,0,(COLUMN()-4)*6,1,1)=\"-\",OFFSET(結果貼付け用!$H9,0,(COLUMN()-4)*6,1,1)=\"\"),NA(),OFFSET(結果貼付け用!$H9,0,(COLUMN()-4)*6,1,1))","v":{"$error":"#N/A"}},{"$f":"IF(OR(OFFSET(結果貼付け用!$H9,0,(COLUMN()-4)*6,1,1)=\"-\",OFFSET(結果貼付け用!$H9,0,(COLUMN()-4)*6,1,1)=\"\"),NA(),OFFSET(結果貼付け用!$H9,0,(COLUMN()-4)*6,1,1))","v":{"$error":"#N/A"}},{"$f":"IF(OR(OFFSET(結果貼付け用!$H9,0,(COLUMN()-4)*6,1,1)=\"-\",OFFSET(結果貼付け用!$H9,0,(COLUMN()-4)*6,1,1)=\"\"),NA(),OFFSET(結果貼付け用!$H9,0,(COLUMN()-4)*6,1,1))","v":{"$error":"#N/A"}},{"$f":"IF(OR(OFFSET(結果貼付け用!$H9,0,(COLUMN()-4)*6,1,1)=\"-\",OFFSET(結果貼付け用!$H9,0,(COLUMN()-4)*6,1,1)=\"\"),NA(),OFFSET(結果貼付け用!$H9,0,(COLUMN()-4)*6,1,1))","v":{"$error":"#N/A"}},{"$f":"IF(OR(OFFSET(結果貼付け用!$H9,0,(COLUMN()-4)*6,1,1)=\"-\",OFFSET(結果貼付け用!$H9,0,(COLUMN()-4)*6,1,1)=\"\"),NA(),OFFSET(結果貼付け用!$H9,0,(COLUMN()-4)*6,1,1))","v":{"$error":"#N/A"}},{"$f":"IF(OR(OFFSET(結果貼付け用!$H9,0,(COLUMN()-4)*6,1,1)=\"-\",OFFSET(結果貼付け用!$H9,0,(COLUMN()-4)*6,1,1)=\"\"),NA(),OFFSET(結果貼付け用!$H9,0,(COLUMN()-4)*6,1,1))","v":{"$error":"#N/A"}},{"$f":"IF(OR(OFFSET(結果貼付け用!$H9,0,(COLUMN()-4)*6,1,1)=\"-\",OFFSET(結果貼付け用!$H9,0,(COLUMN()-4)*6,1,1)=\"\"),NA(),OFFSET(結果貼付け用!$H9,0,(COLUMN()-4)*6,1,1))","v":{"$error":"#N/A"}},{"$f":"IF(OR(OFFSET(結果貼付け用!$H9,0,(COLUMN()-4)*6,1,1)=\"-\",OFFSET(結果貼付け用!$H9,0,(COLUMN()-4)*6,1,1)=\"\"),NA(),OFFSET(結果貼付け用!$H9,0,(COLUMN()-4)*6,1,1))","v":{"$error":"#N/A"}},{"$f":"IF(OR(OFFSET(結果貼付け用!$H9,0,(COLUMN()-4)*6,1,1)=\"-\",OFFSET(結果貼付け用!$H9,0,(COLUMN()-4)*6,1,1)=\"\"),NA(),OFFSET(結果貼付け用!$H9,0,(COLUMN()-4)*6,1,1))","v":{"$error":"#N/A"}},{"$f":"IF(OR(OFFSET(結果貼付け用!$H9,0,(COLUMN()-4)*6,1,1)=\"-\",OFFSET(結果貼付け用!$H9,0,(COLUMN()-4)*6,1,1)=\"\"),NA(),OFFSET(結果貼付け用!$H9,0,(COLUMN()-4)*6,1,1))","v":{"$error":"#N/A"}},{"$f":"IF(OR(OFFSET(結果貼付け用!$H9,0,(COLUMN()-4)*6,1,1)=\"-\",OFFSET(結果貼付け用!$H9,0,(COLUMN()-4)*6,1,1)=\"\"),NA(),OFFSET(結果貼付け用!$H9,0,(COLUMN()-4)*6,1,1))","v":{"$error":"#N/A"}},{"$f":"IF(OR(OFFSET(結果貼付け用!$H9,0,(COLUMN()-4)*6,1,1)=\"-\",OFFSET(結果貼付け用!$H9,0,(COLUMN()-4)*6,1,1)=\"\"),NA(),OFFSET(結果貼付け用!$H9,0,(COLUMN()-4)*6,1,1))","v":{"$error":"#N/A"}},{"$f":"IF(OR(OFFSET(結果貼付け用!$H9,0,(COLUMN()-4)*6,1,1)=\"-\",OFFSET(結果貼付け用!$H9,0,(COLUMN()-4)*6,1,1)=\"\"),NA(),OFFSET(結果貼付け用!$H9,0,(COLUMN()-4)*6,1,1))","v":{"$error":"#N/A"}},{"$f":"IF(OR(OFFSET(結果貼付け用!$H9,0,(COLUMN()-4)*6,1,1)=\"-\",OFFSET(結果貼付け用!$H9,0,(COLUMN()-4)*6,1,1)=\"\"),NA(),OFFSET(結果貼付け用!$H9,0,(COLUMN()-4)*6,1,1))","v":{"$error":"#N/A"}},{"$f":"IF(OR(OFFSET(結果貼付け用!$H9,0,(COLUMN()-4)*6,1,1)=\"-\",OFFSET(結果貼付け用!$H9,0,(COLUMN()-4)*6,1,1)=\"\"),NA(),OFFSET(結果貼付け用!$H9,0,(COLUMN()-4)*6,1,1))","v":{"$error":"#N/A"}},{"$f":"IF(OR(OFFSET(結果貼付け用!$H9,0,(COLUMN()-4)*6,1,1)=\"-\",OFFSET(結果貼付け用!$H9,0,(COLUMN()-4)*6,1,1)=\"\"),NA(),OFFSET(結果貼付け用!$H9,0,(COLUMN()-4)*6,1,1))","v":{"$error":"#N/A"}},{"$f":"IF(OR(OFFSET(結果貼付け用!$H9,0,(COLUMN()-4)*6,1,1)=\"-\",OFFSET(結果貼付け用!$H9,0,(COLUMN()-4)*6,1,1)=\"\"),NA(),OFFSET(結果貼付け用!$H9,0,(COLUMN()-4)*6,1,1))","v":{"$error":"#N/A"}},{"$f":"IF(OR(OFFSET(結果貼付け用!$H9,0,(COLUMN()-4)*6,1,1)=\"-\",OFFSET(結果貼付け用!$H9,0,(COLUMN()-4)*6,1,1)=\"\"),NA(),OFFSET(結果貼付け用!$H9,0,(COLUMN()-4)*6,1,1))","v":{"$error":"#N/A"}},{"$f":"IF(OR(OFFSET(結果貼付け用!$H9,0,(COLUMN()-4)*6,1,1)=\"-\",OFFSET(結果貼付け用!$H9,0,(COLUMN()-4)*6,1,1)=\"\"),NA(),OFFSET(結果貼付け用!$H9,0,(COLUMN()-4)*6,1,1))","v":{"$error":"#N/A"}},{"$f":"IF(OR(OFFSET(結果貼付け用!$H9,0,(COLUMN()-4)*6,1,1)=\"-\",OFFSET(結果貼付け用!$H9,0,(COLUMN()-4)*6,1,1)=\"\"),NA(),OFFSET(結果貼付け用!$H9,0,(COLUMN()-4)*6,1,1))","v":{"$error":"#N/A"}}]
[]
[]
[]
[]
[]
[]
[]
[]
[]
[]
[]
[]
[]
[]
[]
[]
[]
[]
[]
[]
[null,"実施開始日時",{"$f":"IF(結果貼付け用!B2=\"\",NA(),結果貼付け用!B2)","v":{"$error":"#N/A"}},{"$f":"IF((OFFSET(結果貼付け用!$H$2, 0, (COLUMN() - COLUMN($D$26)) * 6))=\"\",NA(),(OFFSET(結果貼付け用!$H$2, 0, (COLUMN() - COLUMN($D$26)) * 6)))","v":{"$error":"#N/A"}},{"$f":"IF((OFFSET(結果貼付け用!$H$2, 0, (COLUMN() - COLUMN($D$26)) * 6))=\"\",NA(),(OFFSET(結果貼付け用!$H$2, 0, (COLUMN() - COLUMN($D$26)) * 6)))","v":{"$error":"#N/A"}},{"$f":"IF((OFFSET(結果貼付け用!$H$2, 0, (COLUMN() - COLUMN($D$26)) * 6))=\"\",NA(),(OFFSET(結果貼付け用!$H$2, 0, (COLUMN() - COLUMN($D$26)) * 6)))","v":{"$error":"#N/A"}},{"$f":"IF((OFFSET(結果貼付け用!$H$2, 0, (COLUMN() - COLUMN($D$26)) * 6))=\"\",NA(),(OFFSET(結果貼付け用!$H$2, 0, (COLUMN() - COLUMN($D$26)) * 6)))","v":{"$error":"#N/A"}},{"$f":"IF((OFFSET(結果貼付け用!$H$2, 0, (COLUMN() - COLUMN($D$26)) * 6))=\"\",NA(),(OFFSET(結果貼付け用!$H$2, 0, (COLUMN() - COLUMN($D$26)) * 6)))","v":{"$error":"#N/A"}},{"$f":"IF((OFFSET(結果貼付け用!$H$2, 0, (COLUMN() - COLUMN($D$26)) * 6))=\"\",NA(),(OFFSET(結果貼付け用!$H$2, 0, (COLUMN() - COLUMN($D$26)) * 6)))","v":{"$error":"#N/A"}},{"$f":"IF((OFFSET(結果貼付け用!$H$2, 0, (COLUMN() - COLUMN($D$26)) * 6))=\"\",NA(),(OFFSET(結果貼付け用!$H$2, 0, (COLUMN() - COLUMN($D$26)) * 6)))","v":{"$error":"#N/A"}},{"$f":"IF((OFFSET(結果貼付け用!$H$2, 0, (COLUMN() - COLUMN($D$26)) * 6))=\"\",NA(),(OFFSET(結果貼付け用!$H$2, 0, (COLUMN() - COLUMN($D$26)) * 6)))","v":{"$error":"#N/A"}},{"$f":"IF((OFFSET(結果貼付け用!$H$2, 0, (COLUMN() - COLUMN($D$26)) * 6))=\"\",NA(),(OFFSET(結果貼付け用!$H$2, 0, (COLUMN() - COLUMN($D$26)) * 6)))","v":{"$error":"#N/A"}},{"$f":"IF((OFFSET(結果貼付け用!$H$2, 0, (COLUMN() - COLUMN($D$26)) * 6))=\"\",NA(),(OFFSET(結果貼付け用!$H$2, 0, (COLUMN() - COLUMN($D$26)) * 6)))","v":{"$error":"#N/A"}},{"$f":"IF((OFFSET(結果貼付け用!$H$2, 0, (COLUMN() - COLUMN($D$26)) * 6))=\"\",NA(),(OFFSET(結果貼付け用!$H$2, 0, (COLUMN() - COLUMN($D$26)) * 6)))","v":{"$error":"#N/A"}},{"$f":"IF((OFFSET(結果貼付け用!$H$2, 0, (COLUMN() - COLUMN($D$26)) * 6))=\"\",NA(),(OFFSET(結果貼付け用!$H$2, 0, (COLUMN() - COLUMN($D$26)) * 6)))","v":{"$error":"#N/A"}},{"$f":"IF((OFFSET(結果貼付け用!$H$2, 0, (COLUMN() - COLUMN($D$26)) * 6))=\"\",NA(),(OFFSET(結果貼付け用!$H$2, 0, (COLUMN() - COLUMN($D$26)) * 6)))","v":{"$error":"#N/A"}},{"$f":"IF((OFFSET(結果貼付け用!$H$2, 0, (COLUMN() - COLUMN($D$26)) * 6))=\"\",NA(),(OFFSET(結果貼付け用!$H$2, 0, (COLUMN() - COLUMN($D$26)) * 6)))","v":{"$error":"#N/A"}},{"$f":"IF((OFFSET(結果貼付け用!$H$2, 0, (COLUMN() - COLUMN($D$26)) * 6))=\"\",NA(),(OFFSET(結果貼付け用!$H$2, 0, (COLUMN() - COLUMN($D$26)) * 6)))","v":{"$error":"#N/A"}},{"$f":"IF((OFFSET(結果貼付け用!$H$2, 0, (COLUMN() - COLUMN($D$26)) * 6))=\"\",NA(),(OFFSET(結果貼付け用!$H$2, 0, (COLUMN() - COLUMN($D$26)) * 6)))","v":{"$error":"#N/A"}},{"$f":"IF((OFFSET(結果貼付け用!$H$2, 0, (COLUMN() - COLUMN($D$26)) * 6))=\"\",NA(),(OFFSET(結果貼付け用!$H$2, 0, (COLUMN() - COLUMN($D$26)) * 6)))","v":{"$error":"#N/A"}},{"$f":"IF((OFFSET(結果貼付け用!$H$2, 0, (COLUMN() - COLUMN($D$26)) * 6))=\"\",NA(),(OFFSET(結果貼付け用!$H$2, 0, (COLUMN() - COLUMN($D$26)) * 6)))","v":{"$error":"#N/A"}},{"$f":"IF((OFFSET(結果貼付け用!$H$2, 0, (COLUMN() - COLUMN($D$26)) * 6))=\"\",NA(),(OFFSET(結果貼付け用!$H$2, 0, (COLUMN() - COLUMN($D$26)) * 6)))","v":{"$error":"#N/A"}},{"$f":"IF((OFFSET(結果貼付け用!$H$2, 0, (COLUMN() - COLUMN($D$26)) * 6))=\"\",NA(),(OFFSET(結果貼付け用!$H$2, 0, (COLUMN() - COLUMN($D$26)) * 6)))","v":{"$error":"#N/A"}},{"$f":"IF((OFFSET(結果貼付け用!$H$2, 0, (COLUMN() - COLUMN($D$26)) * 6))=\"\",NA(),(OFFSET(結果貼付け用!$H$2, 0, (COLUMN() - COLUMN($D$26)) * 6)))","v":{"$error":"#N/A"}},{"$f":"IF((OFFSET(結果貼付け用!$H$2, 0, (COLUMN() - COLUMN($D$26)) * 6))=\"\",NA(),(OFFSET(結果貼付け用!$H$2, 0, (COLUMN() - COLUMN($D$26)) * 6)))","v":{"$error":"#N/A"}},{"$f":"IF((OFFSET(結果貼付け用!$H$2, 0, (COLUMN() - COLUMN($D$26)) * 6))=\"\",NA(),(OFFSET(結果貼付け用!$H$2, 0, (COLUMN() - COLUMN($D$26)) * 6)))","v":{"$error":"#N/A"}},{"$f":"IF((OFFSET(結果貼付け用!$H$2, 0, (COLUMN() - COLUMN($D$26)) * 6))=\"\",NA(),(OFFSET(結果貼付け用!$H$2, 0, (COLUMN() - COLUMN($D$26)) * 6)))","v":{"$error":"#N/A"}},{"$f":"IF((OFFSET(結果貼付け用!$H$2, 0, (COLUMN() - COLUMN($D$26)) * 6))=\"\",NA(),(OFFSET(結果貼付け用!$H$2, 0, (COLUMN() - COLUMN($D$26)) * 6)))","v":{"$error":"#N/A"}},{"$f":"IF((OFFSET(結果貼付け用!$H$2, 0, (COLUMN() - COLUMN($D$26)) * 6))=\"\",NA(),(OFFSET(結果貼付け用!$H$2, 0, (COLUMN() - COLUMN($D$26)) * 6)))","v":{"$error":"#N/A"}},{"$f":"IF((OFFSET(結果貼付け用!$H$2, 0, (COLUMN() - COLUMN($D$26)) * 6))=\"\",NA(),(OFFSET(結果貼付け用!$H$2, 0, (COLUMN() - COLUMN($D$26)) * 6)))","v":{"$error":"#N/A"}},{"$f":"IF((OFFSET(結果貼付け用!$H$2, 0, (COLUMN() - COLUMN($D$26)) * 6))=\"\",NA(),(OFFSET(結果貼付け用!$H$2, 0, (COLUMN() - COLUMN($D$26)) * 6)))","v":{"$error":"#N/A"}},{"$f":"IF((OFFSET(結果貼付け用!$H$2, 0, (COLUMN() - COLUMN($D$26)) * 6))=\"\",NA(),(OFFSET(結果貼付け用!$H$2, 0, (COLUMN() - COLUMN($D$26)) * 6)))","v":{"$error":"#N/A"}}]
[null,"能力発揮感",{"$f":"IF(結果貼付け用!B12=\"\",NA(),結果貼付け用!B12)","v":{"$error":"#N/A"}},{"$f":"IF(OR(OFFSET(結果貼付け用!$H12,0,(COLUMN()-4)*6,1,1)=\"-\", OFFSET(結果貼付け用!$H12,0,(COLUMN()-4)*6,1,1)=\"\"), NA(), OFFSET(結果貼付け用!$H12,0,(COLUMN()-4)*6,1,1))","v":{"$error":"#N/A"}},{"$f":"IF(OR(OFFSET(結果貼付け用!$H12,0,(COLUMN()-4)*6,1,1)=\"-\", OFFSET(結果貼付け用!$H12,0,(COLUMN()-4)*6,1,1)=\"\"), NA(), OFFSET(結果貼付け用!$H12,0,(COLUMN()-4)*6,1,1))","v":{"$error":"#N/A"}},{"$f":"IF(OR(OFFSET(結果貼付け用!$H12,0,(COLUMN()-4)*6,1,1)=\"-\", OFFSET(結果貼付け用!$H12,0,(COLUMN()-4)*6,1,1)=\"\"), NA(), OFFSET(結果貼付け用!$H12,0,(COLUMN()-4)*6,1,1))","v":{"$error":"#N/A"}},{"$f":"IF(OR(OFFSET(結果貼付け用!$H12,0,(COLUMN()-4)*6,1,1)=\"-\", OFFSET(結果貼付け用!$H12,0,(COLUMN()-4)*6,1,1)=\"\"), NA(), OFFSET(結果貼付け用!$H12,0,(COLUMN()-4)*6,1,1))","v":{"$error":"#N/A"}},{"$f":"IF(OR(OFFSET(結果貼付け用!$H12,0,(COLUMN()-4)*6,1,1)=\"-\", OFFSET(結果貼付け用!$H12,0,(COLUMN()-4)*6,1,1)=\"\"), NA(), OFFSET(結果貼付け用!$H12,0,(COLUMN()-4)*6,1,1))","v":{"$error":"#N/A"}},{"$f":"IF(OR(OFFSET(結果貼付け用!$H12,0,(COLUMN()-4)*6,1,1)=\"-\", OFFSET(結果貼付け用!$H12,0,(COLUMN()-4)*6,1,1)=\"\"), NA(), OFFSET(結果貼付け用!$H12,0,(COLUMN()-4)*6,1,1))","v":{"$error":"#N/A"}},{"$f":"IF(OR(OFFSET(結果貼付け用!$H12,0,(COLUMN()-4)*6,1,1)=\"-\", OFFSET(結果貼付け用!$H12,0,(COLUMN()-4)*6,1,1)=\"\"), NA(), OFFSET(結果貼付け用!$H12,0,(COLUMN()-4)*6,1,1))","v":{"$error":"#N/A"}},{"$f":"IF(OR(OFFSET(結果貼付け用!$H12,0,(COLUMN()-4)*6,1,1)=\"-\", OFFSET(結果貼付け用!$H12,0,(COLUMN()-4)*6,1,1)=\"\"), NA(), OFFSET(結果貼付け用!$H12,0,(COLUMN()-4)*6,1,1))","v":{"$error":"#N/A"}},{"$f":"IF(OR(OFFSET(結果貼付け用!$H12,0,(COLUMN()-4)*6,1,1)=\"-\", OFFSET(結果貼付け用!$H12,0,(COLUMN()-4)*6,1,1)=\"\"), NA(), OFFSET(結果貼付け用!$H12,0,(COLUMN()-4)*6,1,1))","v":{"$error":"#N/A"}},{"$f":"IF(OR(OFFSET(結果貼付け用!$H12,0,(COLUMN()-4)*6,1,1)=\"-\", OFFSET(結果貼付け用!$H12,0,(COLUMN()-4)*6,1,1)=\"\"), NA(), OFFSET(結果貼付け用!$H12,0,(COLUMN()-4)*6,1,1))","v":{"$error":"#N/A"}},{"$f":"IF(OR(OFFSET(結果貼付け用!$H12,0,(COLUMN()-4)*6,1,1)=\"-\", OFFSET(結果貼付け用!$H12,0,(COLUMN()-4)*6,1,1)=\"\"), NA(), OFFSET(結果貼付け用!$H12,0,(COLUMN()-4)*6,1,1))","v":{"$error":"#N/A"}},{"$f":"IF(OR(OFFSET(結果貼付け用!$H12,0,(COLUMN()-4)*6,1,1)=\"-\", OFFSET(結果貼付け用!$H12,0,(COLUMN()-4)*6,1,1)=\"\"), NA(), OFFSET(結果貼付け用!$H12,0,(COLUMN()-4)*6,1,1))","v":{"$error":"#N/A"}},{"$f":"IF(OR(OFFSET(結果貼付け用!$H12,0,(COLUMN()-4)*6,1,1)=\"-\", OFFSET(結果貼付け用!$H12,0,(COLUMN()-4)*6,1,1)=\"\"), NA(), OFFSET(結果貼付け用!$H12,0,(COLUMN()-4)*6,1,1))","v":{"$error":"#N/A"}},{"$f":"IF(OR(OFFSET(結果貼付け用!$H12,0,(COLUMN()-4)*6,1,1)=\"-\", OFFSET(結果貼付け用!$H12,0,(COLUMN()-4)*6,1,1)=\"\"), NA(), OFFSET(結果貼付け用!$H12,0,(COLUMN()-4)*6,1,1))","v":{"$error":"#N/A"}},{"$f":"IF(OR(OFFSET(結果貼付け用!$H12,0,(COLUMN()-4)*6,1,1)=\"-\", OFFSET(結果貼付け用!$H12,0,(COLUMN()-4)*6,1,1)=\"\"), NA(), OFFSET(結果貼付け用!$H12,0,(COLUMN()-4)*6,1,1))","v":{"$error":"#N/A"}},{"$f":"IF(OR(OFFSET(結果貼付け用!$H12,0,(COLUMN()-4)*6,1,1)=\"-\", OFFSET(結果貼付け用!$H12,0,(COLUMN()-4)*6,1,1)=\"\"), NA(), OFFSET(結果貼付け用!$H12,0,(COLUMN()-4)*6,1,1))","v":{"$error":"#N/A"}},{"$f":"IF(OR(OFFSET(結果貼付け用!$H12,0,(COLUMN()-4)*6,1,1)=\"-\", OFFSET(結果貼付け用!$H12,0,(COLUMN()-4)*6,1,1)=\"\"), NA(), OFFSET(結果貼付け用!$H12,0,(COLUMN()-4)*6,1,1))","v":{"$error":"#N/A"}},{"$f":"IF(OR(OFFSET(結果貼付け用!$H12,0,(COLUMN()-4)*6,1,1)=\"-\", OFFSET(結果貼付け用!$H12,0,(COLUMN()-4)*6,1,1)=\"\"), NA(), OFFSET(結果貼付け用!$H12,0,(COLUMN()-4)*6,1,1))","v":{"$error":"#N/A"}},{"$f":"IF(OR(OFFSET(結果貼付け用!$H12,0,(COLUMN()-4)*6,1,1)=\"-\", OFFSET(結果貼付け用!$H12,0,(COLUMN()-4)*6,1,1)=\"\"), NA(), OFFSET(結果貼付け用!$H12,0,(COLUMN()-4)*6,1,1))","v":{"$error":"#N/A"}},{"$f":"IF(OR(OFFSET(結果貼付け用!$H12,0,(COLUMN()-4)*6,1,1)=\"-\", OFFSET(結果貼付け用!$H12,0,(COLUMN()-4)*6,1,1)=\"\"), NA(), OFFSET(結果貼付け用!$H12,0,(COLUMN()-4)*6,1,1))","v":{"$error":"#N/A"}},{"$f":"IF(OR(OFFSET(結果貼付け用!$H12,0,(COLUMN()-4)*6,1,1)=\"-\", OFFSET(結果貼付け用!$H12,0,(COLUMN()-4)*6,1,1)=\"\"), NA(), OFFSET(結果貼付け用!$H12,0,(COLUMN()-4)*6,1,1))","v":{"$error":"#N/A"}},{"$f":"IF(OR(OFFSET(結果貼付け用!$H12,0,(COLUMN()-4)*6,1,1)=\"-\", OFFSET(結果貼付け用!$H12,0,(COLUMN()-4)*6,1,1)=\"\"), NA(), OFFSET(結果貼付け用!$H12,0,(COLUMN()-4)*6,1,1))","v":{"$error":"#N/A"}},{"$f":"IF(OR(OFFSET(結果貼付け用!$H12,0,(COLUMN()-4)*6,1,1)=\"-\", OFFSET(結果貼付け用!$H12,0,(COLUMN()-4)*6,1,1)=\"\"), NA(), OFFSET(結果貼付け用!$H12,0,(COLUMN()-4)*6,1,1))","v":{"$error":"#N/A"}},{"$f":"IF(OR(OFFSET(結果貼付け用!$H12,0,(COLUMN()-4)*6,1,1)=\"-\", OFFSET(結果貼付け用!$H12,0,(COLUMN()-4)*6,1,1)=\"\"), NA(), OFFSET(結果貼付け用!$H12,0,(COLUMN()-4)*6,1,1))","v":{"$error":"#N/A"}},{"$f":"IF(OR(OFFSET(結果貼付け用!$H12,0,(COLUMN()-4)*6,1,1)=\"-\", OFFSET(結果貼付け用!$H12,0,(COLUMN()-4)*6,1,1)=\"\"), NA(), OFFSET(結果貼付け用!$H12,0,(COLUMN()-4)*6,1,1))","v":{"$error":"#N/A"}},{"$f":"IF(OR(OFFSET(結果貼付け用!$H12,0,(COLUMN()-4)*6,1,1)=\"-\", OFFSET(結果貼付け用!$H12,0,(COLUMN()-4)*6,1,1)=\"\"), NA(), OFFSET(結果貼付け用!$H12,0,(COLUMN()-4)*6,1,1))","v":{"$error":"#N/A"}},{"$f":"IF(OR(OFFSET(結果貼付け用!$H12,0,(COLUMN()-4)*6,1,1)=\"-\", OFFSET(結果貼付け用!$H12,0,(COLUMN()-4)*6,1,1)=\"\"), NA(), OFFSET(結果貼付け用!$H12,0,(COLUMN()-4)*6,1,1))","v":{"$error":"#N/A"}},{"$f":"IF(OR(OFFSET(結果貼付け用!$H12,0,(COLUMN()-4)*6,1,1)=\"-\", OFFSET(結果貼付け用!$H12,0,(COLUMN()-4)*6,1,1)=\"\"), NA(), OFFSET(結果貼付け用!$H12,0,(COLUMN()-4)*6,1,1))","v":{"$error":"#N/A"}},{"$f":"IF(OR(OFFSET(結果貼付け用!$H12,0,(COLUMN()-4)*6,1,1)=\"-\", OFFSET(結果貼付け用!$H12,0,(COLUMN()-4)*6,1,1)=\"\"), NA(), OFFSET(結果貼付け用!$H12,0,(COLUMN()-4)*6,1,1))","v":{"$error":"#N/A"}}]
[null,"職場貢献感",{"$f":"IF(結果貼付け用!B13=\"\",NA(),結果貼付け用!B13)","v":{"$error":"#N/A"}},{"$f":"IF(OR(OFFSET(結果貼付け用!$H13,0,(COLUMN()-4)*6,1,1)=\"-\", OFFSET(結果貼付け用!$H13,0,(COLUMN()-4)*6,1,1)=\"\"), NA(), OFFSET(結果貼付け用!$H13,0,(COLUMN()-4)*6,1,1))","v":{"$error":"#N/A"}},{"$f":"IF(OR(OFFSET(結果貼付け用!$H13,0,(COLUMN()-4)*6,1,1)=\"-\", OFFSET(結果貼付け用!$H13,0,(COLUMN()-4)*6,1,1)=\"\"), NA(), OFFSET(結果貼付け用!$H13,0,(COLUMN()-4)*6,1,1))","v":{"$error":"#N/A"}},{"$f":"IF(OR(OFFSET(結果貼付け用!$H13,0,(COLUMN()-4)*6,1,1)=\"-\", OFFSET(結果貼付け用!$H13,0,(COLUMN()-4)*6,1,1)=\"\"), NA(), OFFSET(結果貼付け用!$H13,0,(COLUMN()-4)*6,1,1))","v":{"$error":"#N/A"}},{"$f":"IF(OR(OFFSET(結果貼付け用!$H13,0,(COLUMN()-4)*6,1,1)=\"-\", OFFSET(結果貼付け用!$H13,0,(COLUMN()-4)*6,1,1)=\"\"), NA(), OFFSET(結果貼付け用!$H13,0,(COLUMN()-4)*6,1,1))","v":{"$error":"#N/A"}},{"$f":"IF(OR(OFFSET(結果貼付け用!$H13,0,(COLUMN()-4)*6,1,1)=\"-\", OFFSET(結果貼付け用!$H13,0,(COLUMN()-4)*6,1,1)=\"\"), NA(), OFFSET(結果貼付け用!$H13,0,(COLUMN()-4)*6,1,1))","v":{"$error":"#N/A"}},{"$f":"IF(OR(OFFSET(結果貼付け用!$H13,0,(COLUMN()-4)*6,1,1)=\"-\", OFFSET(結果貼付け用!$H13,0,(COLUMN()-4)*6,1,1)=\"\"), NA(), OFFSET(結果貼付け用!$H13,0,(COLUMN()-4)*6,1,1))","v":{"$error":"#N/A"}},{"$f":"IF(OR(OFFSET(結果貼付け用!$H13,0,(COLUMN()-4)*6,1,1)=\"-\", OFFSET(結果貼付け用!$H13,0,(COLUMN()-4)*6,1,1)=\"\"), NA(), OFFSET(結果貼付け用!$H13,0,(COLUMN()-4)*6,1,1))","v":{"$error":"#N/A"}},{"$f":"IF(OR(OFFSET(結果貼付け用!$H13,0,(COLUMN()-4)*6,1,1)=\"-\", OFFSET(結果貼付け用!$H13,0,(COLUMN()-4)*6,1,1)=\"\"), NA(), OFFSET(結果貼付け用!$H13,0,(COLUMN()-4)*6,1,1))","v":{"$error":"#N/A"}},{"$f":"IF(OR(OFFSET(結果貼付け用!$H13,0,(COLUMN()-4)*6,1,1)=\"-\", OFFSET(結果貼付け用!$H13,0,(COLUMN()-4)*6,1,1)=\"\"), NA(), OFFSET(結果貼付け用!$H13,0,(COLUMN()-4)*6,1,1))","v":{"$error":"#N/A"}},{"$f":"IF(OR(OFFSET(結果貼付け用!$H13,0,(COLUMN()-4)*6,1,1)=\"-\", OFFSET(結果貼付け用!$H13,0,(COLUMN()-4)*6,1,1)=\"\"), NA(), OFFSET(結果貼付け用!$H13,0,(COLUMN()-4)*6,1,1))","v":{"$error":"#N/A"}},{"$f":"IF(OR(OFFSET(結果貼付け用!$H13,0,(COLUMN()-4)*6,1,1)=\"-\", OFFSET(結果貼付け用!$H13,0,(COLUMN()-4)*6,1,1)=\"\"), NA(), OFFSET(結果貼付け用!$H13,0,(COLUMN()-4)*6,1,1))","v":{"$error":"#N/A"}},{"$f":"IF(OR(OFFSET(結果貼付け用!$H13,0,(COLUMN()-4)*6,1,1)=\"-\", OFFSET(結果貼付け用!$H13,0,(COLUMN()-4)*6,1,1)=\"\"), NA(), OFFSET(結果貼付け用!$H13,0,(COLUMN()-4)*6,1,1))","v":{"$error":"#N/A"}},{"$f":"IF(OR(OFFSET(結果貼付け用!$H13,0,(COLUMN()-4)*6,1,1)=\"-\", OFFSET(結果貼付け用!$H13,0,(COLUMN()-4)*6,1,1)=\"\"), NA(), OFFSET(結果貼付け用!$H13,0,(COLUMN()-4)*6,1,1))","v":{"$error":"#N/A"}},{"$f":"IF(OR(OFFSET(結果貼付け用!$H13,0,(COLUMN()-4)*6,1,1)=\"-\", OFFSET(結果貼付け用!$H13,0,(COLUMN()-4)*6,1,1)=\"\"), NA(), OFFSET(結果貼付け用!$H13,0,(COLUMN()-4)*6,1,1))","v":{"$error":"#N/A"}},{"$f":"IF(OR(OFFSET(結果貼付け用!$H13,0,(COLUMN()-4)*6,1,1)=\"-\", OFFSET(結果貼付け用!$H13,0,(COLUMN()-4)*6,1,1)=\"\"), NA(), OFFSET(結果貼付け用!$H13,0,(COLUMN()-4)*6,1,1))","v":{"$error":"#N/A"}},{"$f":"IF(OR(OFFSET(結果貼付け用!$H13,0,(COLUMN()-4)*6,1,1)=\"-\", OFFSET(結果貼付け用!$H13,0,(COLUMN()-4)*6,1,1)=\"\"), NA(), OFFSET(結果貼付け用!$H13,0,(COLUMN()-4)*6,1,1))","v":{"$error":"#N/A"}},{"$f":"IF(OR(OFFSET(結果貼付け用!$H13,0,(COLUMN()-4)*6,1,1)=\"-\", OFFSET(結果貼付け用!$H13,0,(COLUMN()-4)*6,1,1)=\"\"), NA(), OFFSET(結果貼付け用!$H13,0,(COLUMN()-4)*6,1,1))","v":{"$error":"#N/A"}},{"$f":"IF(OR(OFFSET(結果貼付け用!$H13,0,(COLUMN()-4)*6,1,1)=\"-\", OFFSET(結果貼付け用!$H13,0,(COLUMN()-4)*6,1,1)=\"\"), NA(), OFFSET(結果貼付け用!$H13,0,(COLUMN()-4)*6,1,1))","v":{"$error":"#N/A"}},{"$f":"IF(OR(OFFSET(結果貼付け用!$H13,0,(COLUMN()-4)*6,1,1)=\"-\", OFFSET(結果貼付け用!$H13,0,(COLUMN()-4)*6,1,1)=\"\"), NA(), OFFSET(結果貼付け用!$H13,0,(COLUMN()-4)*6,1,1))","v":{"$error":"#N/A"}},{"$f":"IF(OR(OFFSET(結果貼付け用!$H13,0,(COLUMN()-4)*6,1,1)=\"-\", OFFSET(結果貼付け用!$H13,0,(COLUMN()-4)*6,1,1)=\"\"), NA(), OFFSET(結果貼付け用!$H13,0,(COLUMN()-4)*6,1,1))","v":{"$error":"#N/A"}},{"$f":"IF(OR(OFFSET(結果貼付け用!$H13,0,(COLUMN()-4)*6,1,1)=\"-\", OFFSET(結果貼付け用!$H13,0,(COLUMN()-4)*6,1,1)=\"\"), NA(), OFFSET(結果貼付け用!$H13,0,(COLUMN()-4)*6,1,1))","v":{"$error":"#N/A"}},{"$f":"IF(OR(OFFSET(結果貼付け用!$H13,0,(COLUMN()-4)*6,1,1)=\"-\", OFFSET(結果貼付け用!$H13,0,(COLUMN()-4)*6,1,1)=\"\"), NA(), OFFSET(結果貼付け用!$H13,0,(COLUMN()-4)*6,1,1))","v":{"$error":"#N/A"}},{"$f":"IF(OR(OFFSET(結果貼付け用!$H13,0,(COLUMN()-4)*6,1,1)=\"-\", OFFSET(結果貼付け用!$H13,0,(COLUMN()-4)*6,1,1)=\"\"), NA(), OFFSET(結果貼付け用!$H13,0,(COLUMN()-4)*6,1,1))","v":{"$error":"#N/A"}},{"$f":"IF(OR(OFFSET(結果貼付け用!$H13,0,(COLUMN()-4)*6,1,1)=\"-\", OFFSET(結果貼付け用!$H13,0,(COLUMN()-4)*6,1,1)=\"\"), NA(), OFFSET(結果貼付け用!$H13,0,(COLUMN()-4)*6,1,1))","v":{"$error":"#N/A"}},{"$f":"IF(OR(OFFSET(結果貼付け用!$H13,0,(COLUMN()-4)*6,1,1)=\"-\", OFFSET(結果貼付け用!$H13,0,(COLUMN()-4)*6,1,1)=\"\"), NA(), OFFSET(結果貼付け用!$H13,0,(COLUMN()-4)*6,1,1))","v":{"$error":"#N/A"}},{"$f":"IF(OR(OFFSET(結果貼付け用!$H13,0,(COLUMN()-4)*6,1,1)=\"-\", OFFSET(結果貼付け用!$H13,0,(COLUMN()-4)*6,1,1)=\"\"), NA(), OFFSET(結果貼付け用!$H13,0,(COLUMN()-4)*6,1,1))","v":{"$error":"#N/A"}},{"$f":"IF(OR(OFFSET(結果貼付け用!$H13,0,(COLUMN()-4)*6,1,1)=\"-\", OFFSET(結果貼付け用!$H13,0,(COLUMN()-4)*6,1,1)=\"\"), NA(), OFFSET(結果貼付け用!$H13,0,(COLUMN()-4)*6,1,1))","v":{"$error":"#N/A"}},{"$f":"IF(OR(OFFSET(結果貼付け用!$H13,0,(COLUMN()-4)*6,1,1)=\"-\", OFFSET(結果貼付け用!$H13,0,(COLUMN()-4)*6,1,1)=\"\"), NA(), OFFSET(結果貼付け用!$H13,0,(COLUMN()-4)*6,1,1))","v":{"$error":"#N/A"}},{"$f":"IF(OR(OFFSET(結果貼付け用!$H13,0,(COLUMN()-4)*6,1,1)=\"-\", OFFSET(結果貼付け用!$H13,0,(COLUMN()-4)*6,1,1)=\"\"), NA(), OFFSET(結果貼付け用!$H13,0,(COLUMN()-4)*6,1,1))","v":{"$error":"#N/A"}}]
[null,"働きがい",{"$f":"IF(結果貼付け用!B14=\"\",NA(),結果貼付け用!B14)","v":{"$error":"#N/A"}},{"$f":"IF(OR(OFFSET(結果貼付け用!$H14,0,(COLUMN()-4)*6,1,1)=\"-\", OFFSET(結果貼付け用!$H14,0,(COLUMN()-4)*6,1,1)=\"\"), NA(), OFFSET(結果貼付け用!$H14,0,(COLUMN()-4)*6,1,1))","v":{"$error":"#N/A"}},{"$f":"IF(OR(OFFSET(結果貼付け用!$H14,0,(COLUMN()-4)*6,1,1)=\"-\", OFFSET(結果貼付け用!$H14,0,(COLUMN()-4)*6,1,1)=\"\"), NA(), OFFSET(結果貼付け用!$H14,0,(COLUMN()-4)*6,1,1))","v":{"$error":"#N/A"}},{"$f":"IF(OR(OFFSET(結果貼付け用!$H14,0,(COLUMN()-4)*6,1,1)=\"-\", OFFSET(結果貼付け用!$H14,0,(COLUMN()-4)*6,1,1)=\"\"), NA(), OFFSET(結果貼付け用!$H14,0,(COLUMN()-4)*6,1,1))","v":{"$error":"#N/A"}},{"$f":"IF(OR(OFFSET(結果貼付け用!$H14,0,(COLUMN()-4)*6,1,1)=\"-\", OFFSET(結果貼付け用!$H14,0,(COLUMN()-4)*6,1,1)=\"\"), NA(), OFFSET(結果貼付け用!$H14,0,(COLUMN()-4)*6,1,1))","v":{"$error":"#N/A"}},{"$f":"IF(OR(OFFSET(結果貼付け用!$H14,0,(COLUMN()-4)*6,1,1)=\"-\", OFFSET(結果貼付け用!$H14,0,(COLUMN()-4)*6,1,1)=\"\"), NA(), OFFSET(結果貼付け用!$H14,0,(COLUMN()-4)*6,1,1))","v":{"$error":"#N/A"}},{"$f":"IF(OR(OFFSET(結果貼付け用!$H14,0,(COLUMN()-4)*6,1,1)=\"-\", OFFSET(結果貼付け用!$H14,0,(COLUMN()-4)*6,1,1)=\"\"), NA(), OFFSET(結果貼付け用!$H14,0,(COLUMN()-4)*6,1,1))","v":{"$error":"#N/A"}},{"$f":"IF(OR(OFFSET(結果貼付け用!$H14,0,(COLUMN()-4)*6,1,1)=\"-\", OFFSET(結果貼付け用!$H14,0,(COLUMN()-4)*6,1,1)=\"\"), NA(), OFFSET(結果貼付け用!$H14,0,(COLUMN()-4)*6,1,1))","v":{"$error":"#N/A"}},{"$f":"IF(OR(OFFSET(結果貼付け用!$H14,0,(COLUMN()-4)*6,1,1)=\"-\", OFFSET(結果貼付け用!$H14,0,(COLUMN()-4)*6,1,1)=\"\"), NA(), OFFSET(結果貼付け用!$H14,0,(COLUMN()-4)*6,1,1))","v":{"$error":"#N/A"}},{"$f":"IF(OR(OFFSET(結果貼付け用!$H14,0,(COLUMN()-4)*6,1,1)=\"-\", OFFSET(結果貼付け用!$H14,0,(COLUMN()-4)*6,1,1)=\"\"), NA(), OFFSET(結果貼付け用!$H14,0,(COLUMN()-4)*6,1,1))","v":{"$error":"#N/A"}},{"$f":"IF(OR(OFFSET(結果貼付け用!$H14,0,(COLUMN()-4)*6,1,1)=\"-\", OFFSET(結果貼付け用!$H14,0,(COLUMN()-4)*6,1,1)=\"\"), NA(), OFFSET(結果貼付け用!$H14,0,(COLUMN()-4)*6,1,1))","v":{"$error":"#N/A"}},{"$f":"IF(OR(OFFSET(結果貼付け用!$H14,0,(COLUMN()-4)*6,1,1)=\"-\", OFFSET(結果貼付け用!$H14,0,(COLUMN()-4)*6,1,1)=\"\"), NA(), OFFSET(結果貼付け用!$H14,0,(COLUMN()-4)*6,1,1))","v":{"$error":"#N/A"}},{"$f":"IF(OR(OFFSET(結果貼付け用!$H14,0,(COLUMN()-4)*6,1,1)=\"-\", OFFSET(結果貼付け用!$H14,0,(COLUMN()-4)*6,1,1)=\"\"), NA(), OFFSET(結果貼付け用!$H14,0,(COLUMN()-4)*6,1,1))","v":{"$error":"#N/A"}},{"$f":"IF(OR(OFFSET(結果貼付け用!$H14,0,(COLUMN()-4)*6,1,1)=\"-\", OFFSET(結果貼付け用!$H14,0,(COLUMN()-4)*6,1,1)=\"\"), NA(), OFFSET(結果貼付け用!$H14,0,(COLUMN()-4)*6,1,1))","v":{"$error":"#N/A"}},{"$f":"IF(OR(OFFSET(結果貼付け用!$H14,0,(COLUMN()-4)*6,1,1)=\"-\", OFFSET(結果貼付け用!$H14,0,(COLUMN()-4)*6,1,1)=\"\"), NA(), OFFSET(結果貼付け用!$H14,0,(COLUMN()-4)*6,1,1))","v":{"$error":"#N/A"}},{"$f":"IF(OR(OFFSET(結果貼付け用!$H14,0,(COLUMN()-4)*6,1,1)=\"-\", OFFSET(結果貼付け用!$H14,0,(COLUMN()-4)*6,1,1)=\"\"), NA(), OFFSET(結果貼付け用!$H14,0,(COLUMN()-4)*6,1,1))","v":{"$error":"#N/A"}},{"$f":"IF(OR(OFFSET(結果貼付け用!$H14,0,(COLUMN()-4)*6,1,1)=\"-\", OFFSET(結果貼付け用!$H14,0,(COLUMN()-4)*6,1,1)=\"\"), NA(), OFFSET(結果貼付け用!$H14,0,(COLUMN()-4)*6,1,1))","v":{"$error":"#N/A"}},{"$f":"IF(OR(OFFSET(結果貼付け用!$H14,0,(COLUMN()-4)*6,1,1)=\"-\", OFFSET(結果貼付け用!$H14,0,(COLUMN()-4)*6,1,1)=\"\"), NA(), OFFSET(結果貼付け用!$H14,0,(COLUMN()-4)*6,1,1))","v":{"$error":"#N/A"}},{"$f":"IF(OR(OFFSET(結果貼付け用!$H14,0,(COLUMN()-4)*6,1,1)=\"-\", OFFSET(結果貼付け用!$H14,0,(COLUMN()-4)*6,1,1)=\"\"), NA(), OFFSET(結果貼付け用!$H14,0,(COLUMN()-4)*6,1,1))","v":{"$error":"#N/A"}},{"$f":"IF(OR(OFFSET(結果貼付け用!$H14,0,(COLUMN()-4)*6,1,1)=\"-\", OFFSET(結果貼付け用!$H14,0,(COLUMN()-4)*6,1,1)=\"\"), NA(), OFFSET(結果貼付け用!$H14,0,(COLUMN()-4)*6,1,1))","v":{"$error":"#N/A"}},{"$f":"IF(OR(OFFSET(結果貼付け用!$H14,0,(COLUMN()-4)*6,1,1)=\"-\", OFFSET(結果貼付け用!$H14,0,(COLUMN()-4)*6,1,1)=\"\"), NA(), OFFSET(結果貼付け用!$H14,0,(COLUMN()-4)*6,1,1))","v":{"$error":"#N/A"}},{"$f":"IF(OR(OFFSET(結果貼付け用!$H14,0,(COLUMN()-4)*6,1,1)=\"-\", OFFSET(結果貼付け用!$H14,0,(COLUMN()-4)*6,1,1)=\"\"), NA(), OFFSET(結果貼付け用!$H14,0,(COLUMN()-4)*6,1,1))","v":{"$error":"#N/A"}},{"$f":"IF(OR(OFFSET(結果貼付け用!$H14,0,(COLUMN()-4)*6,1,1)=\"-\", OFFSET(結果貼付け用!$H14,0,(COLUMN()-4)*6,1,1)=\"\"), NA(), OFFSET(結果貼付け用!$H14,0,(COLUMN()-4)*6,1,1))","v":{"$error":"#N/A"}},{"$f":"IF(OR(OFFSET(結果貼付け用!$H14,0,(COLUMN()-4)*6,1,1)=\"-\", OFFSET(結果貼付け用!$H14,0,(COLUMN()-4)*6,1,1)=\"\"), NA(), OFFSET(結果貼付け用!$H14,0,(COLUMN()-4)*6,1,1))","v":{"$error":"#N/A"}},{"$f":"IF(OR(OFFSET(結果貼付け用!$H14,0,(COLUMN()-4)*6,1,1)=\"-\", OFFSET(結果貼付け用!$H14,0,(COLUMN()-4)*6,1,1)=\"\"), NA(), OFFSET(結果貼付け用!$H14,0,(COLUMN()-4)*6,1,1))","v":{"$error":"#N/A"}},{"$f":"IF(OR(OFFSET(結果貼付け用!$H14,0,(COLUMN()-4)*6,1,1)=\"-\", OFFSET(結果貼付け用!$H14,0,(COLUMN()-4)*6,1,1)=\"\"), NA(), OFFSET(結果貼付け用!$H14,0,(COLUMN()-4)*6,1,1))","v":{"$error":"#N/A"}},{"$f":"IF(OR(OFFSET(結果貼付け用!$H14,0,(COLUMN()-4)*6,1,1)=\"-\", OFFSET(結果貼付け用!$H14,0,(COLUMN()-4)*6,1,1)=\"\"), NA(), OFFSET(結果貼付け用!$H14,0,(COLUMN()-4)*6,1,1))","v":{"$error":"#N/A"}},{"$f":"IF(OR(OFFSET(結果貼付け用!$H14,0,(COLUMN()-4)*6,1,1)=\"-\", OFFSET(結果貼付け用!$H14,0,(COLUMN()-4)*6,1,1)=\"\"), NA(), OFFSET(結果貼付け用!$H14,0,(COLUMN()-4)*6,1,1))","v":{"$error":"#N/A"}},{"$f":"IF(OR(OFFSET(結果貼付け用!$H14,0,(COLUMN()-4)*6,1,1)=\"-\", OFFSET(結果貼付け用!$H14,0,(COLUMN()-4)*6,1,1)=\"\"), NA(), OFFSET(結果貼付け用!$H14,0,(COLUMN()-4)*6,1,1))","v":{"$error":"#N/A"}},{"$f":"IF(OR(OFFSET(結果貼付け用!$H14,0,(COLUMN()-4)*6,1,1)=\"-\", OFFSET(結果貼付け用!$H14,0,(COLUMN()-4)*6,1,1)=\"\"), NA(), OFFSET(結果貼付け用!$H14,0,(COLUMN()-4)*6,1,1))","v":{"$error":"#N/A"}}]
[null,"目標遂行感",{"$f":"IF(結果貼付け用!B15=\"\",NA(),結果貼付け用!B15)","v":{"$error":"#N/A"}},{"$f":"IF(OR(OFFSET(結果貼付け用!$H15,0,(COLUMN()-4)*6,1,1)=\"-\", OFFSET(結果貼付け用!$H15,0,(COLUMN()-4)*6,1,1)=\"\"), NA(), OFFSET(結果貼付け用!$H15,0,(COLUMN()-4)*6,1,1))","v":{"$error":"#N/A"}},{"$f":"IF(OR(OFFSET(結果貼付け用!$H15,0,(COLUMN()-4)*6,1,1)=\"-\", OFFSET(結果貼付け用!$H15,0,(COLUMN()-4)*6,1,1)=\"\"), NA(), OFFSET(結果貼付け用!$H15,0,(COLUMN()-4)*6,1,1))","v":{"$error":"#N/A"}},{"$f":"IF(OR(OFFSET(結果貼付け用!$H15,0,(COLUMN()-4)*6,1,1)=\"-\", OFFSET(結果貼付け用!$H15,0,(COLUMN()-4)*6,1,1)=\"\"), NA(), OFFSET(結果貼付け用!$H15,0,(COLUMN()-4)*6,1,1))","v":{"$error":"#N/A"}},{"$f":"IF(OR(OFFSET(結果貼付け用!$H15,0,(COLUMN()-4)*6,1,1)=\"-\", OFFSET(結果貼付け用!$H15,0,(COLUMN()-4)*6,1,1)=\"\"), NA(), OFFSET(結果貼付け用!$H15,0,(COLUMN()-4)*6,1,1))","v":{"$error":"#N/A"}},{"$f":"IF(OR(OFFSET(結果貼付け用!$H15,0,(COLUMN()-4)*6,1,1)=\"-\", OFFSET(結果貼付け用!$H15,0,(COLUMN()-4)*6,1,1)=\"\"), NA(), OFFSET(結果貼付け用!$H15,0,(COLUMN()-4)*6,1,1))","v":{"$error":"#N/A"}},{"$f":"IF(OR(OFFSET(結果貼付け用!$H15,0,(COLUMN()-4)*6,1,1)=\"-\", OFFSET(結果貼付け用!$H15,0,(COLUMN()-4)*6,1,1)=\"\"), NA(), OFFSET(結果貼付け用!$H15,0,(COLUMN()-4)*6,1,1))","v":{"$error":"#N/A"}},{"$f":"IF(OR(OFFSET(結果貼付け用!$H15,0,(COLUMN()-4)*6,1,1)=\"-\", OFFSET(結果貼付け用!$H15,0,(COLUMN()-4)*6,1,1)=\"\"), NA(), OFFSET(結果貼付け用!$H15,0,(COLUMN()-4)*6,1,1))","v":{"$error":"#N/A"}},{"$f":"IF(OR(OFFSET(結果貼付け用!$H15,0,(COLUMN()-4)*6,1,1)=\"-\", OFFSET(結果貼付け用!$H15,0,(COLUMN()-4)*6,1,1)=\"\"), NA(), OFFSET(結果貼付け用!$H15,0,(COLUMN()-4)*6,1,1))","v":{"$error":"#N/A"}},{"$f":"IF(OR(OFFSET(結果貼付け用!$H15,0,(COLUMN()-4)*6,1,1)=\"-\", OFFSET(結果貼付け用!$H15,0,(COLUMN()-4)*6,1,1)=\"\"), NA(), OFFSET(結果貼付け用!$H15,0,(COLUMN()-4)*6,1,1))","v":{"$error":"#N/A"}},{"$f":"IF(OR(OFFSET(結果貼付け用!$H15,0,(COLUMN()-4)*6,1,1)=\"-\", OFFSET(結果貼付け用!$H15,0,(COLUMN()-4)*6,1,1)=\"\"), NA(), OFFSET(結果貼付け用!$H15,0,(COLUMN()-4)*6,1,1))","v":{"$error":"#N/A"}},{"$f":"IF(OR(OFFSET(結果貼付け用!$H15,0,(COLUMN()-4)*6,1,1)=\"-\", OFFSET(結果貼付け用!$H15,0,(COLUMN()-4)*6,1,1)=\"\"), NA(), OFFSET(結果貼付け用!$H15,0,(COLUMN()-4)*6,1,1))","v":{"$error":"#N/A"}},{"$f":"IF(OR(OFFSET(結果貼付け用!$H15,0,(COLUMN()-4)*6,1,1)=\"-\", OFFSET(結果貼付け用!$H15,0,(COLUMN()-4)*6,1,1)=\"\"), NA(), OFFSET(結果貼付け用!$H15,0,(COLUMN()-4)*6,1,1))","v":{"$error":"#N/A"}},{"$f":"IF(OR(OFFSET(結果貼付け用!$H15,0,(COLUMN()-4)*6,1,1)=\"-\", OFFSET(結果貼付け用!$H15,0,(COLUMN()-4)*6,1,1)=\"\"), NA(), OFFSET(結果貼付け用!$H15,0,(COLUMN()-4)*6,1,1))","v":{"$error":"#N/A"}},{"$f":"IF(OR(OFFSET(結果貼付け用!$H15,0,(COLUMN()-4)*6,1,1)=\"-\", OFFSET(結果貼付け用!$H15,0,(COLUMN()-4)*6,1,1)=\"\"), NA(), OFFSET(結果貼付け用!$H15,0,(COLUMN()-4)*6,1,1))","v":{"$error":"#N/A"}},{"$f":"IF(OR(OFFSET(結果貼付け用!$H15,0,(COLUMN()-4)*6,1,1)=\"-\", OFFSET(結果貼付け用!$H15,0,(COLUMN()-4)*6,1,1)=\"\"), NA(), OFFSET(結果貼付け用!$H15,0,(COLUMN()-4)*6,1,1))","v":{"$error":"#N/A"}},{"$f":"IF(OR(OFFSET(結果貼付け用!$H15,0,(COLUMN()-4)*6,1,1)=\"-\", OFFSET(結果貼付け用!$H15,0,(COLUMN()-4)*6,1,1)=\"\"), NA(), OFFSET(結果貼付け用!$H15,0,(COLUMN()-4)*6,1,1))","v":{"$error":"#N/A"}},{"$f":"IF(OR(OFFSET(結果貼付け用!$H15,0,(COLUMN()-4)*6,1,1)=\"-\", OFFSET(結果貼付け用!$H15,0,(COLUMN()-4)*6,1,1)=\"\"), NA(), OFFSET(結果貼付け用!$H15,0,(COLUMN()-4)*6,1,1))","v":{"$error":"#N/A"}},{"$f":"IF(OR(OFFSET(結果貼付け用!$H15,0,(COLUMN()-4)*6,1,1)=\"-\", OFFSET(結果貼付け用!$H15,0,(COLUMN()-4)*6,1,1)=\"\"), NA(), OFFSET(結果貼付け用!$H15,0,(COLUMN()-4)*6,1,1))","v":{"$error":"#N/A"}},{"$f":"IF(OR(OFFSET(結果貼付け用!$H15,0,(COLUMN()-4)*6,1,1)=\"-\", OFFSET(結果貼付け用!$H15,0,(COLUMN()-4)*6,1,1)=\"\"), NA(), OFFSET(結果貼付け用!$H15,0,(COLUMN()-4)*6,1,1))","v":{"$error":"#N/A"}},{"$f":"IF(OR(OFFSET(結果貼付け用!$H15,0,(COLUMN()-4)*6,1,1)=\"-\", OFFSET(結果貼付け用!$H15,0,(COLUMN()-4)*6,1,1)=\"\"), NA(), OFFSET(結果貼付け用!$H15,0,(COLUMN()-4)*6,1,1))","v":{"$error":"#N/A"}},{"$f":"IF(OR(OFFSET(結果貼付け用!$H15,0,(COLUMN()-4)*6,1,1)=\"-\", OFFSET(結果貼付け用!$H15,0,(COLUMN()-4)*6,1,1)=\"\"), NA(), OFFSET(結果貼付け用!$H15,0,(COLUMN()-4)*6,1,1))","v":{"$error":"#N/A"}},{"$f":"IF(OR(OFFSET(結果貼付け用!$H15,0,(COLUMN()-4)*6,1,1)=\"-\", OFFSET(結果貼付け用!$H15,0,(COLUMN()-4)*6,1,1)=\"\"), NA(), OFFSET(結果貼付け用!$H15,0,(COLUMN()-4)*6,1,1))","v":{"$error":"#N/A"}},{"$f":"IF(OR(OFFSET(結果貼付け用!$H15,0,(COLUMN()-4)*6,1,1)=\"-\", OFFSET(結果貼付け用!$H15,0,(COLUMN()-4)*6,1,1)=\"\"), NA(), OFFSET(結果貼付け用!$H15,0,(COLUMN()-4)*6,1,1))","v":{"$error":"#N/A"}},{"$f":"IF(OR(OFFSET(結果貼付け用!$H15,0,(COLUMN()-4)*6,1,1)=\"-\", OFFSET(結果貼付け用!$H15,0,(COLUMN()-4)*6,1,1)=\"\"), NA(), OFFSET(結果貼付け用!$H15,0,(COLUMN()-4)*6,1,1))","v":{"$error":"#N/A"}},{"$f":"IF(OR(OFFSET(結果貼付け用!$H15,0,(COLUMN()-4)*6,1,1)=\"-\", OFFSET(結果貼付け用!$H15,0,(COLUMN()-4)*6,1,1)=\"\"), NA(), OFFSET(結果貼付け用!$H15,0,(COLUMN()-4)*6,1,1))","v":{"$error":"#N/A"}},{"$f":"IF(OR(OFFSET(結果貼付け用!$H15,0,(COLUMN()-4)*6,1,1)=\"-\", OFFSET(結果貼付け用!$H15,0,(COLUMN()-4)*6,1,1)=\"\"), NA(), OFFSET(結果貼付け用!$H15,0,(COLUMN()-4)*6,1,1))","v":{"$error":"#N/A"}},{"$f":"IF(OR(OFFSET(結果貼付け用!$H15,0,(COLUMN()-4)*6,1,1)=\"-\", OFFSET(結果貼付け用!$H15,0,(COLUMN()-4)*6,1,1)=\"\"), NA(), OFFSET(結果貼付け用!$H15,0,(COLUMN()-4)*6,1,1))","v":{"$error":"#N/A"}},{"$f":"IF(OR(OFFSET(結果貼付け用!$H15,0,(COLUMN()-4)*6,1,1)=\"-\", OFFSET(結果貼付け用!$H15,0,(COLUMN()-4)*6,1,1)=\"\"), NA(), OFFSET(結果貼付け用!$H15,0,(COLUMN()-4)*6,1,1))","v":{"$error":"#N/A"}},{"$f":"IF(OR(OFFSET(結果貼付け用!$H15,0,(COLUMN()-4)*6,1,1)=\"-\", OFFSET(結果貼付け用!$H15,0,(COLUMN()-4)*6,1,1)=\"\"), NA(), OFFSET(結果貼付け用!$H15,0,(COLUMN()-4)*6,1,1))","v":{"$error":"#N/A"}}]
[null,"人生における仕事の意味",{"$f":"IF(結果貼付け用!B16=\"\",NA(),結果貼付け用!B16)","v":{"$error":"#N/A"}},{"$f":"IF(OR(OFFSET(結果貼付け用!$H16,0,(COLUMN()-4)*6,1,1)=\"-\", OFFSET(結果貼付け用!$H16,0,(COLUMN()-4)*6,1,1)=\"\"), NA(), OFFSET(結果貼付け用!$H16,0,(COLUMN()-4)*6,1,1))","v":{"$error":"#N/A"}},{"$f":"IF(OR(OFFSET(結果貼付け用!$H16,0,(COLUMN()-4)*6,1,1)=\"-\", OFFSET(結果貼付け用!$H16,0,(COLUMN()-4)*6,1,1)=\"\"), NA(), OFFSET(結果貼付け用!$H16,0,(COLUMN()-4)*6,1,1))","v":{"$error":"#N/A"}},{"$f":"IF(OR(OFFSET(結果貼付け用!$H16,0,(COLUMN()-4)*6,1,1)=\"-\", OFFSET(結果貼付け用!$H16,0,(COLUMN()-4)*6,1,1)=\"\"), NA(), OFFSET(結果貼付け用!$H16,0,(COLUMN()-4)*6,1,1))","v":{"$error":"#N/A"}},{"$f":"IF(OR(OFFSET(結果貼付け用!$H16,0,(COLUMN()-4)*6,1,1)=\"-\", OFFSET(結果貼付け用!$H16,0,(COLUMN()-4)*6,1,1)=\"\"), NA(), OFFSET(結果貼付け用!$H16,0,(COLUMN()-4)*6,1,1))","v":{"$error":"#N/A"}},{"$f":"IF(OR(OFFSET(結果貼付け用!$H16,0,(COLUMN()-4)*6,1,1)=\"-\", OFFSET(結果貼付け用!$H16,0,(COLUMN()-4)*6,1,1)=\"\"), NA(), OFFSET(結果貼付け用!$H16,0,(COLUMN()-4)*6,1,1))","v":{"$error":"#N/A"}},{"$f":"IF(OR(OFFSET(結果貼付け用!$H16,0,(COLUMN()-4)*6,1,1)=\"-\", OFFSET(結果貼付け用!$H16,0,(COLUMN()-4)*6,1,1)=\"\"), NA(), OFFSET(結果貼付け用!$H16,0,(COLUMN()-4)*6,1,1))","v":{"$error":"#N/A"}},{"$f":"IF(OR(OFFSET(結果貼付け用!$H16,0,(COLUMN()-4)*6,1,1)=\"-\", OFFSET(結果貼付け用!$H16,0,(COLUMN()-4)*6,1,1)=\"\"), NA(), OFFSET(結果貼付け用!$H16,0,(COLUMN()-4)*6,1,1))","v":{"$error":"#N/A"}},{"$f":"IF(OR(OFFSET(結果貼付け用!$H16,0,(COLUMN()-4)*6,1,1)=\"-\", OFFSET(結果貼付け用!$H16,0,(COLUMN()-4)*6,1,1)=\"\"), NA(), OFFSET(結果貼付け用!$H16,0,(COLUMN()-4)*6,1,1))","v":{"$error":"#N/A"}},{"$f":"IF(OR(OFFSET(結果貼付け用!$H16,0,(COLUMN()-4)*6,1,1)=\"-\", OFFSET(結果貼付け用!$H16,0,(COLUMN()-4)*6,1,1)=\"\"), NA(), OFFSET(結果貼付け用!$H16,0,(COLUMN()-4)*6,1,1))","v":{"$error":"#N/A"}},{"$f":"IF(OR(OFFSET(結果貼付け用!$H16,0,(COLUMN()-4)*6,1,1)=\"-\", OFFSET(結果貼付け用!$H16,0,(COLUMN()-4)*6,1,1)=\"\"), NA(), OFFSET(結果貼付け用!$H16,0,(COLUMN()-4)*6,1,1))","v":{"$error":"#N/A"}},{"$f":"IF(OR(OFFSET(結果貼付け用!$H16,0,(COLUMN()-4)*6,1,1)=\"-\", OFFSET(結果貼付け用!$H16,0,(COLUMN()-4)*6,1,1)=\"\"), NA(), OFFSET(結果貼付け用!$H16,0,(COLUMN()-4)*6,1,1))","v":{"$error":"#N/A"}},{"$f":"IF(OR(OFFSET(結果貼付け用!$H16,0,(COLUMN()-4)*6,1,1)=\"-\", OFFSET(結果貼付け用!$H16,0,(COLUMN()-4)*6,1,1)=\"\"), NA(), OFFSET(結果貼付け用!$H16,0,(COLUMN()-4)*6,1,1))","v":{"$error":"#N/A"}},{"$f":"IF(OR(OFFSET(結果貼付け用!$H16,0,(COLUMN()-4)*6,1,1)=\"-\", OFFSET(結果貼付け用!$H16,0,(COLUMN()-4)*6,1,1)=\"\"), NA(), OFFSET(結果貼付け用!$H16,0,(COLUMN()-4)*6,1,1))","v":{"$error":"#N/A"}},{"$f":"IF(OR(OFFSET(結果貼付け用!$H16,0,(COLUMN()-4)*6,1,1)=\"-\", OFFSET(結果貼付け用!$H16,0,(COLUMN()-4)*6,1,1)=\"\"), NA(), OFFSET(結果貼付け用!$H16,0,(COLUMN()-4)*6,1,1))","v":{"$error":"#N/A"}},{"$f":"IF(OR(OFFSET(結果貼付け用!$H16,0,(COLUMN()-4)*6,1,1)=\"-\", OFFSET(結果貼付け用!$H16,0,(COLUMN()-4)*6,1,1)=\"\"), NA(), OFFSET(結果貼付け用!$H16,0,(COLUMN()-4)*6,1,1))","v":{"$error":"#N/A"}},{"$f":"IF(OR(OFFSET(結果貼付け用!$H16,0,(COLUMN()-4)*6,1,1)=\"-\", OFFSET(結果貼付け用!$H16,0,(COLUMN()-4)*6,1,1)=\"\"), NA(), OFFSET(結果貼付け用!$H16,0,(COLUMN()-4)*6,1,1))","v":{"$error":"#N/A"}},{"$f":"IF(OR(OFFSET(結果貼付け用!$H16,0,(COLUMN()-4)*6,1,1)=\"-\", OFFSET(結果貼付け用!$H16,0,(COLUMN()-4)*6,1,1)=\"\"), NA(), OFFSET(結果貼付け用!$H16,0,(COLUMN()-4)*6,1,1))","v":{"$error":"#N/A"}},{"$f":"IF(OR(OFFSET(結果貼付け用!$H16,0,(COLUMN()-4)*6,1,1)=\"-\", OFFSET(結果貼付け用!$H16,0,(COLUMN()-4)*6,1,1)=\"\"), NA(), OFFSET(結果貼付け用!$H16,0,(COLUMN()-4)*6,1,1))","v":{"$error":"#N/A"}},{"$f":"IF(OR(OFFSET(結果貼付け用!$H16,0,(COLUMN()-4)*6,1,1)=\"-\", OFFSET(結果貼付け用!$H16,0,(COLUMN()-4)*6,1,1)=\"\"), NA(), OFFSET(結果貼付け用!$H16,0,(COLUMN()-4)*6,1,1))","v":{"$error":"#N/A"}},{"$f":"IF(OR(OFFSET(結果貼付け用!$H16,0,(COLUMN()-4)*6,1,1)=\"-\", OFFSET(結果貼付け用!$H16,0,(COLUMN()-4)*6,1,1)=\"\"), NA(), OFFSET(結果貼付け用!$H16,0,(COLUMN()-4)*6,1,1))","v":{"$error":"#N/A"}},{"$f":"IF(OR(OFFSET(結果貼付け用!$H16,0,(COLUMN()-4)*6,1,1)=\"-\", OFFSET(結果貼付け用!$H16,0,(COLUMN()-4)*6,1,1)=\"\"), NA(), OFFSET(結果貼付け用!$H16,0,(COLUMN()-4)*6,1,1))","v":{"$error":"#N/A"}},{"$f":"IF(OR(OFFSET(結果貼付け用!$H16,0,(COLUMN()-4)*6,1,1)=\"-\", OFFSET(結果貼付け用!$H16,0,(COLUMN()-4)*6,1,1)=\"\"), NA(), OFFSET(結果貼付け用!$H16,0,(COLUMN()-4)*6,1,1))","v":{"$error":"#N/A"}},{"$f":"IF(OR(OFFSET(結果貼付け用!$H16,0,(COLUMN()-4)*6,1,1)=\"-\", OFFSET(結果貼付け用!$H16,0,(COLUMN()-4)*6,1,1)=\"\"), NA(), OFFSET(結果貼付け用!$H16,0,(COLUMN()-4)*6,1,1))","v":{"$error":"#N/A"}},{"$f":"IF(OR(OFFSET(結果貼付け用!$H16,0,(COLUMN()-4)*6,1,1)=\"-\", OFFSET(結果貼付け用!$H16,0,(COLUMN()-4)*6,1,1)=\"\"), NA(), OFFSET(結果貼付け用!$H16,0,(COLUMN()-4)*6,1,1))","v":{"$error":"#N/A"}},{"$f":"IF(OR(OFFSET(結果貼付け用!$H16,0,(COLUMN()-4)*6,1,1)=\"-\", OFFSET(結果貼付け用!$H16,0,(COLUMN()-4)*6,1,1)=\"\"), NA(), OFFSET(結果貼付け用!$H16,0,(COLUMN()-4)*6,1,1))","v":{"$error":"#N/A"}},{"$f":"IF(OR(OFFSET(結果貼付け用!$H16,0,(COLUMN()-4)*6,1,1)=\"-\", OFFSET(結果貼付け用!$H16,0,(COLUMN()-4)*6,1,1)=\"\"), NA(), OFFSET(結果貼付け用!$H16,0,(COLUMN()-4)*6,1,1))","v":{"$error":"#N/A"}},{"$f":"IF(OR(OFFSET(結果貼付け用!$H16,0,(COLUMN()-4)*6,1,1)=\"-\", OFFSET(結果貼付け用!$H16,0,(COLUMN()-4)*6,1,1)=\"\"), NA(), OFFSET(結果貼付け用!$H16,0,(COLUMN()-4)*6,1,1))","v":{"$error":"#N/A"}},{"$f":"IF(OR(OFFSET(結果貼付け用!$H16,0,(COLUMN()-4)*6,1,1)=\"-\", OFFSET(結果貼付け用!$H16,0,(COLUMN()-4)*6,1,1)=\"\"), NA(), OFFSET(結果貼付け用!$H16,0,(COLUMN()-4)*6,1,1))","v":{"$error":"#N/A"}},{"$f":"IF(OR(OFFSET(結果貼付け用!$H16,0,(COLUMN()-4)*6,1,1)=\"-\", OFFSET(結果貼付け用!$H16,0,(COLUMN()-4)*6,1,1)=\"\"), NA(), OFFSET(結果貼付け用!$H16,0,(COLUMN()-4)*6,1,1))","v":{"$error":"#N/A"}}]
[]
[]
[]
[]
[]
[]
[]
[]
[]
[]
[]
[]
[]
[]
[]
[]
[]
[]
[]
[]
[null,"実施開始日時",{"$f":"IF(結果貼付け用!B2=\"\",NA(),結果貼付け用!B2)","v":{"$error":"#N/A"}},{"$f":"IF((OFFSET(結果貼付け用!$H$2, 0, (COLUMN() - COLUMN($D$26)) * 6))=\"\",NA(),(OFFSET(結果貼付け用!$H$2, 0, (COLUMN() - COLUMN($D$26)) * 6)))","v":{"$error":"#N/A"}},{"$f":"IF((OFFSET(結果貼付け用!$H$2, 0, (COLUMN() - COLUMN($D$26)) * 6))=\"\",NA(),(OFFSET(結果貼付け用!$H$2, 0, (COLUMN() - COLUMN($D$26)) * 6)))","v":{"$error":"#N/A"}},{"$f":"IF((OFFSET(結果貼付け用!$H$2, 0, (COLUMN() - COLUMN($D$26)) * 6))=\"\",NA(),(OFFSET(結果貼付け用!$H$2, 0, (COLUMN() - COLUMN($D$26)) * 6)))","v":{"$error":"#N/A"}},{"$f":"IF((OFFSET(結果貼付け用!$H$2, 0, (COLUMN() - COLUMN($D$26)) * 6))=\"\",NA(),(OFFSET(結果貼付け用!$H$2, 0, (COLUMN() - COLUMN($D$26)) * 6)))","v":{"$error":"#N/A"}},{"$f":"IF((OFFSET(結果貼付け用!$H$2, 0, (COLUMN() - COLUMN($D$26)) * 6))=\"\",NA(),(OFFSET(結果貼付け用!$H$2, 0, (COLUMN() - COLUMN($D$26)) * 6)))","v":{"$error":"#N/A"}},{"$f":"IF((OFFSET(結果貼付け用!$H$2, 0, (COLUMN() - COLUMN($D$26)) * 6))=\"\",NA(),(OFFSET(結果貼付け用!$H$2, 0, (COLUMN() - COLUMN($D$26)) * 6)))","v":{"$error":"#N/A"}},{"$f":"IF((OFFSET(結果貼付け用!$H$2, 0, (COLUMN() - COLUMN($D$26)) * 6))=\"\",NA(),(OFFSET(結果貼付け用!$H$2, 0, (COLUMN() - COLUMN($D$26)) * 6)))","v":{"$error":"#N/A"}},{"$f":"IF((OFFSET(結果貼付け用!$H$2, 0, (COLUMN() - COLUMN($D$26)) * 6))=\"\",NA(),(OFFSET(結果貼付け用!$H$2, 0, (COLUMN() - COLUMN($D$26)) * 6)))","v":{"$error":"#N/A"}},{"$f":"IF((OFFSET(結果貼付け用!$H$2, 0, (COLUMN() - COLUMN($D$26)) * 6))=\"\",NA(),(OFFSET(結果貼付け用!$H$2, 0, (COLUMN() - COLUMN($D$26)) * 6)))","v":{"$error":"#N/A"}},{"$f":"IF((OFFSET(結果貼付け用!$H$2, 0, (COLUMN() - COLUMN($D$26)) * 6))=\"\",NA(),(OFFSET(結果貼付け用!$H$2, 0, (COLUMN() - COLUMN($D$26)) * 6)))","v":{"$error":"#N/A"}},{"$f":"IF((OFFSET(結果貼付け用!$H$2, 0, (COLUMN() - COLUMN($D$26)) * 6))=\"\",NA(),(OFFSET(結果貼付け用!$H$2, 0, (COLUMN() - COLUMN($D$26)) * 6)))","v":{"$error":"#N/A"}},{"$f":"IF((OFFSET(結果貼付け用!$H$2, 0, (COLUMN() - COLUMN($D$26)) * 6))=\"\",NA(),(OFFSET(結果貼付け用!$H$2, 0, (COLUMN() - COLUMN($D$26)) * 6)))","v":{"$error":"#N/A"}},{"$f":"IF((OFFSET(結果貼付け用!$H$2, 0, (COLUMN() - COLUMN($D$26)) * 6))=\"\",NA(),(OFFSET(結果貼付け用!$H$2, 0, (COLUMN() - COLUMN($D$26)) * 6)))","v":{"$error":"#N/A"}},{"$f":"IF((OFFSET(結果貼付け用!$H$2, 0, (COLUMN() - COLUMN($D$26)) * 6))=\"\",NA(),(OFFSET(結果貼付け用!$H$2, 0, (COLUMN() - COLUMN($D$26)) * 6)))","v":{"$error":"#N/A"}},{"$f":"IF((OFFSET(結果貼付け用!$H$2, 0, (COLUMN() - COLUMN($D$26)) * 6))=\"\",NA(),(OFFSET(結果貼付け用!$H$2, 0, (COLUMN() - COLUMN($D$26)) * 6)))","v":{"$error":"#N/A"}},{"$f":"IF((OFFSET(結果貼付け用!$H$2, 0, (COLUMN() - COLUMN($D$26)) * 6))=\"\",NA(),(OFFSET(結果貼付け用!$H$2, 0, (COLUMN() - COLUMN($D$26)) * 6)))","v":{"$error":"#N/A"}},{"$f":"IF((OFFSET(結果貼付け用!$H$2, 0, (COLUMN() - COLUMN($D$26)) * 6))=\"\",NA(),(OFFSET(結果貼付け用!$H$2, 0, (COLUMN() - COLUMN($D$26)) * 6)))","v":{"$error":"#N/A"}},{"$f":"IF((OFFSET(結果貼付け用!$H$2, 0, (COLUMN() - COLUMN($D$26)) * 6))=\"\",NA(),(OFFSET(結果貼付け用!$H$2, 0, (COLUMN() - COLUMN($D$26)) * 6)))","v":{"$error":"#N/A"}},{"$f":"IF((OFFSET(結果貼付け用!$H$2, 0, (COLUMN() - COLUMN($D$26)) * 6))=\"\",NA(),(OFFSET(結果貼付け用!$H$2, 0, (COLUMN() - COLUMN($D$26)) * 6)))","v":{"$error":"#N/A"}},{"$f":"IF((OFFSET(結果貼付け用!$H$2, 0, (COLUMN() - COLUMN($D$26)) * 6))=\"\",NA(),(OFFSET(結果貼付け用!$H$2, 0, (COLUMN() - COLUMN($D$26)) * 6)))","v":{"$error":"#N/A"}},{"$f":"IF((OFFSET(結果貼付け用!$H$2, 0, (COLUMN() - COLUMN($D$26)) * 6))=\"\",NA(),(OFFSET(結果貼付け用!$H$2, 0, (COLUMN() - COLUMN($D$26)) * 6)))","v":{"$error":"#N/A"}},{"$f":"IF((OFFSET(結果貼付け用!$H$2, 0, (COLUMN() - COLUMN($D$26)) * 6))=\"\",NA(),(OFFSET(結果貼付け用!$H$2, 0, (COLUMN() - COLUMN($D$26)) * 6)))","v":{"$error":"#N/A"}},{"$f":"IF((OFFSET(結果貼付け用!$H$2, 0, (COLUMN() - COLUMN($D$26)) * 6))=\"\",NA(),(OFFSET(結果貼付け用!$H$2, 0, (COLUMN() - COLUMN($D$26)) * 6)))","v":{"$error":"#N/A"}},{"$f":"IF((OFFSET(結果貼付け用!$H$2, 0, (COLUMN() - COLUMN($D$26)) * 6))=\"\",NA(),(OFFSET(結果貼付け用!$H$2, 0, (COLUMN() - COLUMN($D$26)) * 6)))","v":{"$error":"#N/A"}},{"$f":"IF((OFFSET(結果貼付け用!$H$2, 0, (COLUMN() - COLUMN($D$26)) * 6))=\"\",NA(),(OFFSET(結果貼付け用!$H$2, 0, (COLUMN() - COLUMN($D$26)) * 6)))","v":{"$error":"#N/A"}},{"$f":"IF((OFFSET(結果貼付け用!$H$2, 0, (COLUMN() - COLUMN($D$26)) * 6))=\"\",NA(),(OFFSET(結果貼付け用!$H$2, 0, (COLUMN() - COLUMN($D$26)) * 6)))","v":{"$error":"#N/A"}},{"$f":"IF((OFFSET(結果貼付け用!$H$2, 0, (COLUMN() - COLUMN($D$26)) * 6))=\"\",NA(),(OFFSET(結果貼付け用!$H$2, 0, (COLUMN() - COLUMN($D$26)) * 6)))","v":{"$error":"#N/A"}},{"$f":"IF((OFFSET(結果貼付け用!$H$2, 0, (COLUMN() - COLUMN($D$26)) * 6))=\"\",NA(),(OFFSET(結果貼付け用!$H$2, 0, (COLUMN() - COLUMN($D$26)) * 6)))","v":{"$error":"#N/A"}},{"$f":"IF((OFFSET(結果貼付け用!$H$2, 0, (COLUMN() - COLUMN($D$26)) * 6))=\"\",NA(),(OFFSET(結果貼付け用!$H$2, 0, (COLUMN() - COLUMN($D$26)) * 6)))","v":{"$error":"#N/A"}}]
[null,"部下支持",{"$f":"IF(結果貼付け用!B17=\"\",NA(),結果貼付け用!B17)","v":{"$error":"#N/A"}},{"$f":"IF(OR(OFFSET(結果貼付け用!$H17,0,(COLUMN()-4)*6,1,1)=\"-\", OFFSET(結果貼付け用!$H17,0,(COLUMN()-4)*6,1,1)=\"\"), NA(), OFFSET(結果貼付け用!$H17,0,(COLUMN()-4)*6,1,1))","v":{"$error":"#N/A"}},{"$f":"IF(OR(OFFSET(結果貼付け用!$H17,0,(COLUMN()-4)*6,1,1)=\"-\", OFFSET(結果貼付け用!$H17,0,(COLUMN()-4)*6,1,1)=\"\"), NA(), OFFSET(結果貼付け用!$H17,0,(COLUMN()-4)*6,1,1))","v":{"$error":"#N/A"}},{"$f":"IF(OR(OFFSET(結果貼付け用!$H17,0,(COLUMN()-4)*6,1,1)=\"-\", OFFSET(結果貼付け用!$H17,0,(COLUMN()-4)*6,1,1)=\"\"), NA(), OFFSET(結果貼付け用!$H17,0,(COLUMN()-4)*6,1,1))","v":{"$error":"#N/A"}},{"$f":"IF(OR(OFFSET(結果貼付け用!$H17,0,(COLUMN()-4)*6,1,1)=\"-\", OFFSET(結果貼付け用!$H17,0,(COLUMN()-4)*6,1,1)=\"\"), NA(), OFFSET(結果貼付け用!$H17,0,(COLUMN()-4)*6,1,1))","v":{"$error":"#N/A"}},{"$f":"IF(OR(OFFSET(結果貼付け用!$H17,0,(COLUMN()-4)*6,1,1)=\"-\", OFFSET(結果貼付け用!$H17,0,(COLUMN()-4)*6,1,1)=\"\"), NA(), OFFSET(結果貼付け用!$H17,0,(COLUMN()-4)*6,1,1))","v":{"$error":"#N/A"}},{"$f":"IF(OR(OFFSET(結果貼付け用!$H17,0,(COLUMN()-4)*6,1,1)=\"-\", OFFSET(結果貼付け用!$H17,0,(COLUMN()-4)*6,1,1)=\"\"), NA(), OFFSET(結果貼付け用!$H17,0,(COLUMN()-4)*6,1,1))","v":{"$error":"#N/A"}},{"$f":"IF(OR(OFFSET(結果貼付け用!$H17,0,(COLUMN()-4)*6,1,1)=\"-\", OFFSET(結果貼付け用!$H17,0,(COLUMN()-4)*6,1,1)=\"\"), NA(), OFFSET(結果貼付け用!$H17,0,(COLUMN()-4)*6,1,1))","v":{"$error":"#N/A"}},{"$f":"IF(OR(OFFSET(結果貼付け用!$H17,0,(COLUMN()-4)*6,1,1)=\"-\", OFFSET(結果貼付け用!$H17,0,(COLUMN()-4)*6,1,1)=\"\"), NA(), OFFSET(結果貼付け用!$H17,0,(COLUMN()-4)*6,1,1))","v":{"$error":"#N/A"}},{"$f":"IF(OR(OFFSET(結果貼付け用!$H17,0,(COLUMN()-4)*6,1,1)=\"-\", OFFSET(結果貼付け用!$H17,0,(COLUMN()-4)*6,1,1)=\"\"), NA(), OFFSET(結果貼付け用!$H17,0,(COLUMN()-4)*6,1,1))","v":{"$error":"#N/A"}},{"$f":"IF(OR(OFFSET(結果貼付け用!$H17,0,(COLUMN()-4)*6,1,1)=\"-\", OFFSET(結果貼付け用!$H17,0,(COLUMN()-4)*6,1,1)=\"\"), NA(), OFFSET(結果貼付け用!$H17,0,(COLUMN()-4)*6,1,1))","v":{"$error":"#N/A"}},{"$f":"IF(OR(OFFSET(結果貼付け用!$H17,0,(COLUMN()-4)*6,1,1)=\"-\", OFFSET(結果貼付け用!$H17,0,(COLUMN()-4)*6,1,1)=\"\"), NA(), OFFSET(結果貼付け用!$H17,0,(COLUMN()-4)*6,1,1))","v":{"$error":"#N/A"}},{"$f":"IF(OR(OFFSET(結果貼付け用!$H17,0,(COLUMN()-4)*6,1,1)=\"-\", OFFSET(結果貼付け用!$H17,0,(COLUMN()-4)*6,1,1)=\"\"), NA(), OFFSET(結果貼付け用!$H17,0,(COLUMN()-4)*6,1,1))","v":{"$error":"#N/A"}},{"$f":"IF(OR(OFFSET(結果貼付け用!$H17,0,(COLUMN()-4)*6,1,1)=\"-\", OFFSET(結果貼付け用!$H17,0,(COLUMN()-4)*6,1,1)=\"\"), NA(), OFFSET(結果貼付け用!$H17,0,(COLUMN()-4)*6,1,1))","v":{"$error":"#N/A"}},{"$f":"IF(OR(OFFSET(結果貼付け用!$H17,0,(COLUMN()-4)*6,1,1)=\"-\", OFFSET(結果貼付け用!$H17,0,(COLUMN()-4)*6,1,1)=\"\"), NA(), OFFSET(結果貼付け用!$H17,0,(COLUMN()-4)*6,1,1))","v":{"$error":"#N/A"}},{"$f":"IF(OR(OFFSET(結果貼付け用!$H17,0,(COLUMN()-4)*6,1,1)=\"-\", OFFSET(結果貼付け用!$H17,0,(COLUMN()-4)*6,1,1)=\"\"), NA(), OFFSET(結果貼付け用!$H17,0,(COLUMN()-4)*6,1,1))","v":{"$error":"#N/A"}},{"$f":"IF(OR(OFFSET(結果貼付け用!$H17,0,(COLUMN()-4)*6,1,1)=\"-\", OFFSET(結果貼付け用!$H17,0,(COLUMN()-4)*6,1,1)=\"\"), NA(), OFFSET(結果貼付け用!$H17,0,(COLUMN()-4)*6,1,1))","v":{"$error":"#N/A"}},{"$f":"IF(OR(OFFSET(結果貼付け用!$H17,0,(COLUMN()-4)*6,1,1)=\"-\", OFFSET(結果貼付け用!$H17,0,(COLUMN()-4)*6,1,1)=\"\"), NA(), OFFSET(結果貼付け用!$H17,0,(COLUMN()-4)*6,1,1))","v":{"$error":"#N/A"}},{"$f":"IF(OR(OFFSET(結果貼付け用!$H17,0,(COLUMN()-4)*6,1,1)=\"-\", OFFSET(結果貼付け用!$H17,0,(COLUMN()-4)*6,1,1)=\"\"), NA(), OFFSET(結果貼付け用!$H17,0,(COLUMN()-4)*6,1,1))","v":{"$error":"#N/A"}},{"$f":"IF(OR(OFFSET(結果貼付け用!$H17,0,(COLUMN()-4)*6,1,1)=\"-\", OFFSET(結果貼付け用!$H17,0,(COLUMN()-4)*6,1,1)=\"\"), NA(), OFFSET(結果貼付け用!$H17,0,(COLUMN()-4)*6,1,1))","v":{"$error":"#N/A"}},{"$f":"IF(OR(OFFSET(結果貼付け用!$H17,0,(COLUMN()-4)*6,1,1)=\"-\", OFFSET(結果貼付け用!$H17,0,(COLUMN()-4)*6,1,1)=\"\"), NA(), OFFSET(結果貼付け用!$H17,0,(COLUMN()-4)*6,1,1))","v":{"$error":"#N/A"}},{"$f":"IF(OR(OFFSET(結果貼付け用!$H17,0,(COLUMN()-4)*6,1,1)=\"-\", OFFSET(結果貼付け用!$H17,0,(COLUMN()-4)*6,1,1)=\"\"), NA(), OFFSET(結果貼付け用!$H17,0,(COLUMN()-4)*6,1,1))","v":{"$error":"#N/A"}},{"$f":"IF(OR(OFFSET(結果貼付け用!$H17,0,(COLUMN()-4)*6,1,1)=\"-\", OFFSET(結果貼付け用!$H17,0,(COLUMN()-4)*6,1,1)=\"\"), NA(), OFFSET(結果貼付け用!$H17,0,(COLUMN()-4)*6,1,1))","v":{"$error":"#N/A"}},{"$f":"IF(OR(OFFSET(結果貼付け用!$H17,0,(COLUMN()-4)*6,1,1)=\"-\", OFFSET(結果貼付け用!$H17,0,(COLUMN()-4)*6,1,1)=\"\"), NA(), OFFSET(結果貼付け用!$H17,0,(COLUMN()-4)*6,1,1))","v":{"$error":"#N/A"}},{"$f":"IF(OR(OFFSET(結果貼付け用!$H17,0,(COLUMN()-4)*6,1,1)=\"-\", OFFSET(結果貼付け用!$H17,0,(COLUMN()-4)*6,1,1)=\"\"), NA(), OFFSET(結果貼付け用!$H17,0,(COLUMN()-4)*6,1,1))","v":{"$error":"#N/A"}},{"$f":"IF(OR(OFFSET(結果貼付け用!$H17,0,(COLUMN()-4)*6,1,1)=\"-\", OFFSET(結果貼付け用!$H17,0,(COLUMN()-4)*6,1,1)=\"\"), NA(), OFFSET(結果貼付け用!$H17,0,(COLUMN()-4)*6,1,1))","v":{"$error":"#N/A"}},{"$f":"IF(OR(OFFSET(結果貼付け用!$H17,0,(COLUMN()-4)*6,1,1)=\"-\", OFFSET(結果貼付け用!$H17,0,(COLUMN()-4)*6,1,1)=\"\"), NA(), OFFSET(結果貼付け用!$H17,0,(COLUMN()-4)*6,1,1))","v":{"$error":"#N/A"}},{"$f":"IF(OR(OFFSET(結果貼付け用!$H17,0,(COLUMN()-4)*6,1,1)=\"-\", OFFSET(結果貼付け用!$H17,0,(COLUMN()-4)*6,1,1)=\"\"), NA(), OFFSET(結果貼付け用!$H17,0,(COLUMN()-4)*6,1,1))","v":{"$error":"#N/A"}},{"$f":"IF(OR(OFFSET(結果貼付け用!$H17,0,(COLUMN()-4)*6,1,1)=\"-\", OFFSET(結果貼付け用!$H17,0,(COLUMN()-4)*6,1,1)=\"\"), NA(), OFFSET(結果貼付け用!$H17,0,(COLUMN()-4)*6,1,1))","v":{"$error":"#N/A"}},{"$f":"IF(OR(OFFSET(結果貼付け用!$H17,0,(COLUMN()-4)*6,1,1)=\"-\", OFFSET(結果貼付け用!$H17,0,(COLUMN()-4)*6,1,1)=\"\"), NA(), OFFSET(結果貼付け用!$H17,0,(COLUMN()-4)*6,1,1))","v":{"$error":"#N/A"}}]
[null,"上司からの意見尊重",{"$f":"IF(結果貼付け用!B18=\"\",NA(),結果貼付け用!B18)","v":{"$error":"#N/A"}},{"$f":"IF(OR(OFFSET(結果貼付け用!$H18,0,(COLUMN()-4)*6,1,1)=\"-\", OFFSET(結果貼付け用!$H18,0,(COLUMN()-4)*6,1,1)=\"\"), NA(), OFFSET(結果貼付け用!$H18,0,(COLUMN()-4)*6,1,1))","v":{"$error":"#N/A"}},{"$f":"IF(OR(OFFSET(結果貼付け用!$H18,0,(COLUMN()-4)*6,1,1)=\"-\", OFFSET(結果貼付け用!$H18,0,(COLUMN()-4)*6,1,1)=\"\"), NA(), OFFSET(結果貼付け用!$H18,0,(COLUMN()-4)*6,1,1))","v":{"$error":"#N/A"}},{"$f":"IF(OR(OFFSET(結果貼付け用!$H18,0,(COLUMN()-4)*6,1,1)=\"-\", OFFSET(結果貼付け用!$H18,0,(COLUMN()-4)*6,1,1)=\"\"), NA(), OFFSET(結果貼付け用!$H18,0,(COLUMN()-4)*6,1,1))","v":{"$error":"#N/A"}},{"$f":"IF(OR(OFFSET(結果貼付け用!$H18,0,(COLUMN()-4)*6,1,1)=\"-\", OFFSET(結果貼付け用!$H18,0,(COLUMN()-4)*6,1,1)=\"\"), NA(), OFFSET(結果貼付け用!$H18,0,(COLUMN()-4)*6,1,1))","v":{"$error":"#N/A"}},{"$f":"IF(OR(OFFSET(結果貼付け用!$H18,0,(COLUMN()-4)*6,1,1)=\"-\", OFFSET(結果貼付け用!$H18,0,(COLUMN()-4)*6,1,1)=\"\"), NA(), OFFSET(結果貼付け用!$H18,0,(COLUMN()-4)*6,1,1))","v":{"$error":"#N/A"}},{"$f":"IF(OR(OFFSET(結果貼付け用!$H18,0,(COLUMN()-4)*6,1,1)=\"-\", OFFSET(結果貼付け用!$H18,0,(COLUMN()-4)*6,1,1)=\"\"), NA(), OFFSET(結果貼付け用!$H18,0,(COLUMN()-4)*6,1,1))","v":{"$error":"#N/A"}},{"$f":"IF(OR(OFFSET(結果貼付け用!$H18,0,(COLUMN()-4)*6,1,1)=\"-\", OFFSET(結果貼付け用!$H18,0,(COLUMN()-4)*6,1,1)=\"\"), NA(), OFFSET(結果貼付け用!$H18,0,(COLUMN()-4)*6,1,1))","v":{"$error":"#N/A"}},{"$f":"IF(OR(OFFSET(結果貼付け用!$H18,0,(COLUMN()-4)*6,1,1)=\"-\", OFFSET(結果貼付け用!$H18,0,(COLUMN()-4)*6,1,1)=\"\"), NA(), OFFSET(結果貼付け用!$H18,0,(COLUMN()-4)*6,1,1))","v":{"$error":"#N/A"}},{"$f":"IF(OR(OFFSET(結果貼付け用!$H18,0,(COLUMN()-4)*6,1,1)=\"-\", OFFSET(結果貼付け用!$H18,0,(COLUMN()-4)*6,1,1)=\"\"), NA(), OFFSET(結果貼付け用!$H18,0,(COLUMN()-4)*6,1,1))","v":{"$error":"#N/A"}},{"$f":"IF(OR(OFFSET(結果貼付け用!$H18,0,(COLUMN()-4)*6,1,1)=\"-\", OFFSET(結果貼付け用!$H18,0,(COLUMN()-4)*6,1,1)=\"\"), NA(), OFFSET(結果貼付け用!$H18,0,(COLUMN()-4)*6,1,1))","v":{"$error":"#N/A"}},{"$f":"IF(OR(OFFSET(結果貼付け用!$H18,0,(COLUMN()-4)*6,1,1)=\"-\", OFFSET(結果貼付け用!$H18,0,(COLUMN()-4)*6,1,1)=\"\"), NA(), OFFSET(結果貼付け用!$H18,0,(COLUMN()-4)*6,1,1))","v":{"$error":"#N/A"}},{"$f":"IF(OR(OFFSET(結果貼付け用!$H18,0,(COLUMN()-4)*6,1,1)=\"-\", OFFSET(結果貼付け用!$H18,0,(COLUMN()-4)*6,1,1)=\"\"), NA(), OFFSET(結果貼付け用!$H18,0,(COLUMN()-4)*6,1,1))","v":{"$error":"#N/A"}},{"$f":"IF(OR(OFFSET(結果貼付け用!$H18,0,(COLUMN()-4)*6,1,1)=\"-\", OFFSET(結果貼付け用!$H18,0,(COLUMN()-4)*6,1,1)=\"\"), NA(), OFFSET(結果貼付け用!$H18,0,(COLUMN()-4)*6,1,1))","v":{"$error":"#N/A"}},{"$f":"IF(OR(OFFSET(結果貼付け用!$H18,0,(COLUMN()-4)*6,1,1)=\"-\", OFFSET(結果貼付け用!$H18,0,(COLUMN()-4)*6,1,1)=\"\"), NA(), OFFSET(結果貼付け用!$H18,0,(COLUMN()-4)*6,1,1))","v":{"$error":"#N/A"}},{"$f":"IF(OR(OFFSET(結果貼付け用!$H18,0,(COLUMN()-4)*6,1,1)=\"-\", OFFSET(結果貼付け用!$H18,0,(COLUMN()-4)*6,1,1)=\"\"), NA(), OFFSET(結果貼付け用!$H18,0,(COLUMN()-4)*6,1,1))","v":{"$error":"#N/A"}},{"$f":"IF(OR(OFFSET(結果貼付け用!$H18,0,(COLUMN()-4)*6,1,1)=\"-\", OFFSET(結果貼付け用!$H18,0,(COLUMN()-4)*6,1,1)=\"\"), NA(), OFFSET(結果貼付け用!$H18,0,(COLUMN()-4)*6,1,1))","v":{"$error":"#N/A"}},{"$f":"IF(OR(OFFSET(結果貼付け用!$H18,0,(COLUMN()-4)*6,1,1)=\"-\", OFFSET(結果貼付け用!$H18,0,(COLUMN()-4)*6,1,1)=\"\"), NA(), OFFSET(結果貼付け用!$H18,0,(COLUMN()-4)*6,1,1))","v":{"$error":"#N/A"}},{"$f":"IF(OR(OFFSET(結果貼付け用!$H18,0,(COLUMN()-4)*6,1,1)=\"-\", OFFSET(結果貼付け用!$H18,0,(COLUMN()-4)*6,1,1)=\"\"), NA(), OFFSET(結果貼付け用!$H18,0,(COLUMN()-4)*6,1,1))","v":{"$error":"#N/A"}},{"$f":"IF(OR(OFFSET(結果貼付け用!$H18,0,(COLUMN()-4)*6,1,1)=\"-\", OFFSET(結果貼付け用!$H18,0,(COLUMN()-4)*6,1,1)=\"\"), NA(), OFFSET(結果貼付け用!$H18,0,(COLUMN()-4)*6,1,1))","v":{"$error":"#N/A"}},{"$f":"IF(OR(OFFSET(結果貼付け用!$H18,0,(COLUMN()-4)*6,1,1)=\"-\", OFFSET(結果貼付け用!$H18,0,(COLUMN()-4)*6,1,1)=\"\"), NA(), OFFSET(結果貼付け用!$H18,0,(COLUMN()-4)*6,1,1))","v":{"$error":"#N/A"}},{"$f":"IF(OR(OFFSET(結果貼付け用!$H18,0,(COLUMN()-4)*6,1,1)=\"-\", OFFSET(結果貼付け用!$H18,0,(COLUMN()-4)*6,1,1)=\"\"), NA(), OFFSET(結果貼付け用!$H18,0,(COLUMN()-4)*6,1,1))","v":{"$error":"#N/A"}},{"$f":"IF(OR(OFFSET(結果貼付け用!$H18,0,(COLUMN()-4)*6,1,1)=\"-\", OFFSET(結果貼付け用!$H18,0,(COLUMN()-4)*6,1,1)=\"\"), NA(), OFFSET(結果貼付け用!$H18,0,(COLUMN()-4)*6,1,1))","v":{"$error":"#N/A"}},{"$f":"IF(OR(OFFSET(結果貼付け用!$H18,0,(COLUMN()-4)*6,1,1)=\"-\", OFFSET(結果貼付け用!$H18,0,(COLUMN()-4)*6,1,1)=\"\"), NA(), OFFSET(結果貼付け用!$H18,0,(COLUMN()-4)*6,1,1))","v":{"$error":"#N/A"}},{"$f":"IF(OR(OFFSET(結果貼付け用!$H18,0,(COLUMN()-4)*6,1,1)=\"-\", OFFSET(結果貼付け用!$H18,0,(COLUMN()-4)*6,1,1)=\"\"), NA(), OFFSET(結果貼付け用!$H18,0,(COLUMN()-4)*6,1,1))","v":{"$error":"#N/A"}},{"$f":"IF(OR(OFFSET(結果貼付け用!$H18,0,(COLUMN()-4)*6,1,1)=\"-\", OFFSET(結果貼付け用!$H18,0,(COLUMN()-4)*6,1,1)=\"\"), NA(), OFFSET(結果貼付け用!$H18,0,(COLUMN()-4)*6,1,1))","v":{"$error":"#N/A"}},{"$f":"IF(OR(OFFSET(結果貼付け用!$H18,0,(COLUMN()-4)*6,1,1)=\"-\", OFFSET(結果貼付け用!$H18,0,(COLUMN()-4)*6,1,1)=\"\"), NA(), OFFSET(結果貼付け用!$H18,0,(COLUMN()-4)*6,1,1))","v":{"$error":"#N/A"}},{"$f":"IF(OR(OFFSET(結果貼付け用!$H18,0,(COLUMN()-4)*6,1,1)=\"-\", OFFSET(結果貼付け用!$H18,0,(COLUMN()-4)*6,1,1)=\"\"), NA(), OFFSET(結果貼付け用!$H18,0,(COLUMN()-4)*6,1,1))","v":{"$error":"#N/A"}},{"$f":"IF(OR(OFFSET(結果貼付け用!$H18,0,(COLUMN()-4)*6,1,1)=\"-\", OFFSET(結果貼付け用!$H18,0,(COLUMN()-4)*6,1,1)=\"\"), NA(), OFFSET(結果貼付け用!$H18,0,(COLUMN()-4)*6,1,1))","v":{"$error":"#N/A"}},{"$f":"IF(OR(OFFSET(結果貼付け用!$H18,0,(COLUMN()-4)*6,1,1)=\"-\", OFFSET(結果貼付け用!$H18,0,(COLUMN()-4)*6,1,1)=\"\"), NA(), OFFSET(結果貼付け用!$H18,0,(COLUMN()-4)*6,1,1))","v":{"$error":"#N/A"}}]
[null,"上司からの強みの引き出し",{"$f":"IF(結果貼付け用!B19=\"\",NA(),結果貼付け用!B19)","v":{"$error":"#N/A"}},{"$f":"IF(OR(OFFSET(結果貼付け用!$H19,0,(COLUMN()-4)*6,1,1)=\"-\", OFFSET(結果貼付け用!$H19,0,(COLUMN()-4)*6,1,1)=\"\"), NA(), OFFSET(結果貼付け用!$H19,0,(COLUMN()-4)*6,1,1))","v":{"$error":"#N/A"}},{"$f":"IF(OR(OFFSET(結果貼付け用!$H19,0,(COLUMN()-4)*6,1,1)=\"-\", OFFSET(結果貼付け用!$H19,0,(COLUMN()-4)*6,1,1)=\"\"), NA(), OFFSET(結果貼付け用!$H19,0,(COLUMN()-4)*6,1,1))","v":{"$error":"#N/A"}},{"$f":"IF(OR(OFFSET(結果貼付け用!$H19,0,(COLUMN()-4)*6,1,1)=\"-\", OFFSET(結果貼付け用!$H19,0,(COLUMN()-4)*6,1,1)=\"\"), NA(), OFFSET(結果貼付け用!$H19,0,(COLUMN()-4)*6,1,1))","v":{"$error":"#N/A"}},{"$f":"IF(OR(OFFSET(結果貼付け用!$H19,0,(COLUMN()-4)*6,1,1)=\"-\", OFFSET(結果貼付け用!$H19,0,(COLUMN()-4)*6,1,1)=\"\"), NA(), OFFSET(結果貼付け用!$H19,0,(COLUMN()-4)*6,1,1))","v":{"$error":"#N/A"}},{"$f":"IF(OR(OFFSET(結果貼付け用!$H19,0,(COLUMN()-4)*6,1,1)=\"-\", OFFSET(結果貼付け用!$H19,0,(COLUMN()-4)*6,1,1)=\"\"), NA(), OFFSET(結果貼付け用!$H19,0,(COLUMN()-4)*6,1,1))","v":{"$error":"#N/A"}},{"$f":"IF(OR(OFFSET(結果貼付け用!$H19,0,(COLUMN()-4)*6,1,1)=\"-\", OFFSET(結果貼付け用!$H19,0,(COLUMN()-4)*6,1,1)=\"\"), NA(), OFFSET(結果貼付け用!$H19,0,(COLUMN()-4)*6,1,1))","v":{"$error":"#N/A"}},{"$f":"IF(OR(OFFSET(結果貼付け用!$H19,0,(COLUMN()-4)*6,1,1)=\"-\", OFFSET(結果貼付け用!$H19,0,(COLUMN()-4)*6,1,1)=\"\"), NA(), OFFSET(結果貼付け用!$H19,0,(COLUMN()-4)*6,1,1))","v":{"$error":"#N/A"}},{"$f":"IF(OR(OFFSET(結果貼付け用!$H19,0,(COLUMN()-4)*6,1,1)=\"-\", OFFSET(結果貼付け用!$H19,0,(COLUMN()-4)*6,1,1)=\"\"), NA(), OFFSET(結果貼付け用!$H19,0,(COLUMN()-4)*6,1,1))","v":{"$error":"#N/A"}},{"$f":"IF(OR(OFFSET(結果貼付け用!$H19,0,(COLUMN()-4)*6,1,1)=\"-\", OFFSET(結果貼付け用!$H19,0,(COLUMN()-4)*6,1,1)=\"\"), NA(), OFFSET(結果貼付け用!$H19,0,(COLUMN()-4)*6,1,1))","v":{"$error":"#N/A"}},{"$f":"IF(OR(OFFSET(結果貼付け用!$H19,0,(COLUMN()-4)*6,1,1)=\"-\", OFFSET(結果貼付け用!$H19,0,(COLUMN()-4)*6,1,1)=\"\"), NA(), OFFSET(結果貼付け用!$H19,0,(COLUMN()-4)*6,1,1))","v":{"$error":"#N/A"}},{"$f":"IF(OR(OFFSET(結果貼付け用!$H19,0,(COLUMN()-4)*6,1,1)=\"-\", OFFSET(結果貼付け用!$H19,0,(COLUMN()-4)*6,1,1)=\"\"), NA(), OFFSET(結果貼付け用!$H19,0,(COLUMN()-4)*6,1,1))","v":{"$error":"#N/A"}},{"$f":"IF(OR(OFFSET(結果貼付け用!$H19,0,(COLUMN()-4)*6,1,1)=\"-\", OFFSET(結果貼付け用!$H19,0,(COLUMN()-4)*6,1,1)=\"\"), NA(), OFFSET(結果貼付け用!$H19,0,(COLUMN()-4)*6,1,1))","v":{"$error":"#N/A"}},{"$f":"IF(OR(OFFSET(結果貼付け用!$H19,0,(COLUMN()-4)*6,1,1)=\"-\", OFFSET(結果貼付け用!$H19,0,(COLUMN()-4)*6,1,1)=\"\"), NA(), OFFSET(結果貼付け用!$H19,0,(COLUMN()-4)*6,1,1))","v":{"$error":"#N/A"}},{"$f":"IF(OR(OFFSET(結果貼付け用!$H19,0,(COLUMN()-4)*6,1,1)=\"-\", OFFSET(結果貼付け用!$H19,0,(COLUMN()-4)*6,1,1)=\"\"), NA(), OFFSET(結果貼付け用!$H19,0,(COLUMN()-4)*6,1,1))","v":{"$error":"#N/A"}},{"$f":"IF(OR(OFFSET(結果貼付け用!$H19,0,(COLUMN()-4)*6,1,1)=\"-\", OFFSET(結果貼付け用!$H19,0,(COLUMN()-4)*6,1,1)=\"\"), NA(), OFFSET(結果貼付け用!$H19,0,(COLUMN()-4)*6,1,1))","v":{"$error":"#N/A"}},{"$f":"IF(OR(OFFSET(結果貼付け用!$H19,0,(COLUMN()-4)*6,1,1)=\"-\", OFFSET(結果貼付け用!$H19,0,(COLUMN()-4)*6,1,1)=\"\"), NA(), OFFSET(結果貼付け用!$H19,0,(COLUMN()-4)*6,1,1))","v":{"$error":"#N/A"}},{"$f":"IF(OR(OFFSET(結果貼付け用!$H19,0,(COLUMN()-4)*6,1,1)=\"-\", OFFSET(結果貼付け用!$H19,0,(COLUMN()-4)*6,1,1)=\"\"), NA(), OFFSET(結果貼付け用!$H19,0,(COLUMN()-4)*6,1,1))","v":{"$error":"#N/A"}},{"$f":"IF(OR(OFFSET(結果貼付け用!$H19,0,(COLUMN()-4)*6,1,1)=\"-\", OFFSET(結果貼付け用!$H19,0,(COLUMN()-4)*6,1,1)=\"\"), NA(), OFFSET(結果貼付け用!$H19,0,(COLUMN()-4)*6,1,1))","v":{"$error":"#N/A"}},{"$f":"IF(OR(OFFSET(結果貼付け用!$H19,0,(COLUMN()-4)*6,1,1)=\"-\", OFFSET(結果貼付け用!$H19,0,(COLUMN()-4)*6,1,1)=\"\"), NA(), OFFSET(結果貼付け用!$H19,0,(COLUMN()-4)*6,1,1))","v":{"$error":"#N/A"}},{"$f":"IF(OR(OFFSET(結果貼付け用!$H19,0,(COLUMN()-4)*6,1,1)=\"-\", OFFSET(結果貼付け用!$H19,0,(COLUMN()-4)*6,1,1)=\"\"), NA(), OFFSET(結果貼付け用!$H19,0,(COLUMN()-4)*6,1,1))","v":{"$error":"#N/A"}},{"$f":"IF(OR(OFFSET(結果貼付け用!$H19,0,(COLUMN()-4)*6,1,1)=\"-\", OFFSET(結果貼付け用!$H19,0,(COLUMN()-4)*6,1,1)=\"\"), NA(), OFFSET(結果貼付け用!$H19,0,(COLUMN()-4)*6,1,1))","v":{"$error":"#N/A"}},{"$f":"IF(OR(OFFSET(結果貼付け用!$H19,0,(COLUMN()-4)*6,1,1)=\"-\", OFFSET(結果貼付け用!$H19,0,(COLUMN()-4)*6,1,1)=\"\"), NA(), OFFSET(結果貼付け用!$H19,0,(COLUMN()-4)*6,1,1))","v":{"$error":"#N/A"}},{"$f":"IF(OR(OFFSET(結果貼付け用!$H19,0,(COLUMN()-4)*6,1,1)=\"-\", OFFSET(結果貼付け用!$H19,0,(COLUMN()-4)*6,1,1)=\"\"), NA(), OFFSET(結果貼付け用!$H19,0,(COLUMN()-4)*6,1,1))","v":{"$error":"#N/A"}},{"$f":"IF(OR(OFFSET(結果貼付け用!$H19,0,(COLUMN()-4)*6,1,1)=\"-\", OFFSET(結果貼付け用!$H19,0,(COLUMN()-4)*6,1,1)=\"\"), NA(), OFFSET(結果貼付け用!$H19,0,(COLUMN()-4)*6,1,1))","v":{"$error":"#N/A"}},{"$f":"IF(OR(OFFSET(結果貼付け用!$H19,0,(COLUMN()-4)*6,1,1)=\"-\", OFFSET(結果貼付け用!$H19,0,(COLUMN()-4)*6,1,1)=\"\"), NA(), OFFSET(結果貼付け用!$H19,0,(COLUMN()-4)*6,1,1))","v":{"$error":"#N/A"}},{"$f":"IF(OR(OFFSET(結果貼付け用!$H19,0,(COLUMN()-4)*6,1,1)=\"-\", OFFSET(結果貼付け用!$H19,0,(COLUMN()-4)*6,1,1)=\"\"), NA(), OFFSET(結果貼付け用!$H19,0,(COLUMN()-4)*6,1,1))","v":{"$error":"#N/A"}},{"$f":"IF(OR(OFFSET(結果貼付け用!$H19,0,(COLUMN()-4)*6,1,1)=\"-\", OFFSET(結果貼付け用!$H19,0,(COLUMN()-4)*6,1,1)=\"\"), NA(), OFFSET(結果貼付け用!$H19,0,(COLUMN()-4)*6,1,1))","v":{"$error":"#N/A"}},{"$f":"IF(OR(OFFSET(結果貼付け用!$H19,0,(COLUMN()-4)*6,1,1)=\"-\", OFFSET(結果貼付け用!$H19,0,(COLUMN()-4)*6,1,1)=\"\"), NA(), OFFSET(結果貼付け用!$H19,0,(COLUMN()-4)*6,1,1))","v":{"$error":"#N/A"}},{"$f":"IF(OR(OFFSET(結果貼付け用!$H19,0,(COLUMN()-4)*6,1,1)=\"-\", OFFSET(結果貼付け用!$H19,0,(COLUMN()-4)*6,1,1)=\"\"), NA(), OFFSET(結果貼付け用!$H19,0,(COLUMN()-4)*6,1,1))","v":{"$error":"#N/A"}}]
[null,"上司からの動機づけ",{"$f":"IF(結果貼付け用!B20=\"\",NA(),結果貼付け用!B20)","v":{"$error":"#N/A"}},{"$f":"IF(OR(OFFSET(結果貼付け用!$H20,0,(COLUMN()-4)*6,1,1)=\"-\", OFFSET(結果貼付け用!$H20,0,(COLUMN()-4)*6,1,1)=\"\"), NA(), OFFSET(結果貼付け用!$H20,0,(COLUMN()-4)*6,1,1))","v":{"$error":"#N/A"}},{"$f":"IF(OR(OFFSET(結果貼付け用!$H20,0,(COLUMN()-4)*6,1,1)=\"-\", OFFSET(結果貼付け用!$H20,0,(COLUMN()-4)*6,1,1)=\"\"), NA(), OFFSET(結果貼付け用!$H20,0,(COLUMN()-4)*6,1,1))","v":{"$error":"#N/A"}},{"$f":"IF(OR(OFFSET(結果貼付け用!$H20,0,(COLUMN()-4)*6,1,1)=\"-\", OFFSET(結果貼付け用!$H20,0,(COLUMN()-4)*6,1,1)=\"\"), NA(), OFFSET(結果貼付け用!$H20,0,(COLUMN()-4)*6,1,1))","v":{"$error":"#N/A"}},{"$f":"IF(OR(OFFSET(結果貼付け用!$H20,0,(COLUMN()-4)*6,1,1)=\"-\", OFFSET(結果貼付け用!$H20,0,(COLUMN()-4)*6,1,1)=\"\"), NA(), OFFSET(結果貼付け用!$H20,0,(COLUMN()-4)*6,1,1))","v":{"$error":"#N/A"}},{"$f":"IF(OR(OFFSET(結果貼付け用!$H20,0,(COLUMN()-4)*6,1,1)=\"-\", OFFSET(結果貼付け用!$H20,0,(COLUMN()-4)*6,1,1)=\"\"), NA(), OFFSET(結果貼付け用!$H20,0,(COLUMN()-4)*6,1,1))","v":{"$error":"#N/A"}},{"$f":"IF(OR(OFFSET(結果貼付け用!$H20,0,(COLUMN()-4)*6,1,1)=\"-\", OFFSET(結果貼付け用!$H20,0,(COLUMN()-4)*6,1,1)=\"\"), NA(), OFFSET(結果貼付け用!$H20,0,(COLUMN()-4)*6,1,1))","v":{"$error":"#N/A"}},{"$f":"IF(OR(OFFSET(結果貼付け用!$H20,0,(COLUMN()-4)*6,1,1)=\"-\", OFFSET(結果貼付け用!$H20,0,(COLUMN()-4)*6,1,1)=\"\"), NA(), OFFSET(結果貼付け用!$H20,0,(COLUMN()-4)*6,1,1))","v":{"$error":"#N/A"}},{"$f":"IF(OR(OFFSET(結果貼付け用!$H20,0,(COLUMN()-4)*6,1,1)=\"-\", OFFSET(結果貼付け用!$H20,0,(COLUMN()-4)*6,1,1)=\"\"), NA(), OFFSET(結果貼付け用!$H20,0,(COLUMN()-4)*6,1,1))","v":{"$error":"#N/A"}},{"$f":"IF(OR(OFFSET(結果貼付け用!$H20,0,(COLUMN()-4)*6,1,1)=\"-\", OFFSET(結果貼付け用!$H20,0,(COLUMN()-4)*6,1,1)=\"\"), NA(), OFFSET(結果貼付け用!$H20,0,(COLUMN()-4)*6,1,1))","v":{"$error":"#N/A"}},{"$f":"IF(OR(OFFSET(結果貼付け用!$H20,0,(COLUMN()-4)*6,1,1)=\"-\", OFFSET(結果貼付け用!$H20,0,(COLUMN()-4)*6,1,1)=\"\"), NA(), OFFSET(結果貼付け用!$H20,0,(COLUMN()-4)*6,1,1))","v":{"$error":"#N/A"}},{"$f":"IF(OR(OFFSET(結果貼付け用!$H20,0,(COLUMN()-4)*6,1,1)=\"-\", OFFSET(結果貼付け用!$H20,0,(COLUMN()-4)*6,1,1)=\"\"), NA(), OFFSET(結果貼付け用!$H20,0,(COLUMN()-4)*6,1,1))","v":{"$error":"#N/A"}},{"$f":"IF(OR(OFFSET(結果貼付け用!$H20,0,(COLUMN()-4)*6,1,1)=\"-\", OFFSET(結果貼付け用!$H20,0,(COLUMN()-4)*6,1,1)=\"\"), NA(), OFFSET(結果貼付け用!$H20,0,(COLUMN()-4)*6,1,1))","v":{"$error":"#N/A"}},{"$f":"IF(OR(OFFSET(結果貼付け用!$H20,0,(COLUMN()-4)*6,1,1)=\"-\", OFFSET(結果貼付け用!$H20,0,(COLUMN()-4)*6,1,1)=\"\"), NA(), OFFSET(結果貼付け用!$H20,0,(COLUMN()-4)*6,1,1))","v":{"$error":"#N/A"}},{"$f":"IF(OR(OFFSET(結果貼付け用!$H20,0,(COLUMN()-4)*6,1,1)=\"-\", OFFSET(結果貼付け用!$H20,0,(COLUMN()-4)*6,1,1)=\"\"), NA(), OFFSET(結果貼付け用!$H20,0,(COLUMN()-4)*6,1,1))","v":{"$error":"#N/A"}},{"$f":"IF(OR(OFFSET(結果貼付け用!$H20,0,(COLUMN()-4)*6,1,1)=\"-\", OFFSET(結果貼付け用!$H20,0,(COLUMN()-4)*6,1,1)=\"\"), NA(), OFFSET(結果貼付け用!$H20,0,(COLUMN()-4)*6,1,1))","v":{"$error":"#N/A"}},{"$f":"IF(OR(OFFSET(結果貼付け用!$H20,0,(COLUMN()-4)*6,1,1)=\"-\", OFFSET(結果貼付け用!$H20,0,(COLUMN()-4)*6,1,1)=\"\"), NA(), OFFSET(結果貼付け用!$H20,0,(COLUMN()-4)*6,1,1))","v":{"$error":"#N/A"}},{"$f":"IF(OR(OFFSET(結果貼付け用!$H20,0,(COLUMN()-4)*6,1,1)=\"-\", OFFSET(結果貼付け用!$H20,0,(COLUMN()-4)*6,1,1)=\"\"), NA(), OFFSET(結果貼付け用!$H20,0,(COLUMN()-4)*6,1,1))","v":{"$error":"#N/A"}},{"$f":"IF(OR(OFFSET(結果貼付け用!$H20,0,(COLUMN()-4)*6,1,1)=\"-\", OFFSET(結果貼付け用!$H20,0,(COLUMN()-4)*6,1,1)=\"\"), NA(), OFFSET(結果貼付け用!$H20,0,(COLUMN()-4)*6,1,1))","v":{"$error":"#N/A"}},{"$f":"IF(OR(OFFSET(結果貼付け用!$H20,0,(COLUMN()-4)*6,1,1)=\"-\", OFFSET(結果貼付け用!$H20,0,(COLUMN()-4)*6,1,1)=\"\"), NA(), OFFSET(結果貼付け用!$H20,0,(COLUMN()-4)*6,1,1))","v":{"$error":"#N/A"}},{"$f":"IF(OR(OFFSET(結果貼付け用!$H20,0,(COLUMN()-4)*6,1,1)=\"-\", OFFSET(結果貼付け用!$H20,0,(COLUMN()-4)*6,1,1)=\"\"), NA(), OFFSET(結果貼付け用!$H20,0,(COLUMN()-4)*6,1,1))","v":{"$error":"#N/A"}},{"$f":"IF(OR(OFFSET(結果貼付け用!$H20,0,(COLUMN()-4)*6,1,1)=\"-\", OFFSET(結果貼付け用!$H20,0,(COLUMN()-4)*6,1,1)=\"\"), NA(), OFFSET(結果貼付け用!$H20,0,(COLUMN()-4)*6,1,1))","v":{"$error":"#N/A"}},{"$f":"IF(OR(OFFSET(結果貼付け用!$H20,0,(COLUMN()-4)*6,1,1)=\"-\", OFFSET(結果貼付け用!$H20,0,(COLUMN()-4)*6,1,1)=\"\"), NA(), OFFSET(結果貼付け用!$H20,0,(COLUMN()-4)*6,1,1))","v":{"$error":"#N/A"}},{"$f":"IF(OR(OFFSET(結果貼付け用!$H20,0,(COLUMN()-4)*6,1,1)=\"-\", OFFSET(結果貼付け用!$H20,0,(COLUMN()-4)*6,1,1)=\"\"), NA(), OFFSET(結果貼付け用!$H20,0,(COLUMN()-4)*6,1,1))","v":{"$error":"#N/A"}},{"$f":"IF(OR(OFFSET(結果貼付け用!$H20,0,(COLUMN()-4)*6,1,1)=\"-\", OFFSET(結果貼付け用!$H20,0,(COLUMN()-4)*6,1,1)=\"\"), NA(), OFFSET(結果貼付け用!$H20,0,(COLUMN()-4)*6,1,1))","v":{"$error":"#N/A"}},{"$f":"IF(OR(OFFSET(結果貼付け用!$H20,0,(COLUMN()-4)*6,1,1)=\"-\", OFFSET(結果貼付け用!$H20,0,(COLUMN()-4)*6,1,1)=\"\"), NA(), OFFSET(結果貼付け用!$H20,0,(COLUMN()-4)*6,1,1))","v":{"$error":"#N/A"}},{"$f":"IF(OR(OFFSET(結果貼付け用!$H20,0,(COLUMN()-4)*6,1,1)=\"-\", OFFSET(結果貼付け用!$H20,0,(COLUMN()-4)*6,1,1)=\"\"), NA(), OFFSET(結果貼付け用!$H20,0,(COLUMN()-4)*6,1,1))","v":{"$error":"#N/A"}},{"$f":"IF(OR(OFFSET(結果貼付け用!$H20,0,(COLUMN()-4)*6,1,1)=\"-\", OFFSET(結果貼付け用!$H20,0,(COLUMN()-4)*6,1,1)=\"\"), NA(), OFFSET(結果貼付け用!$H20,0,(COLUMN()-4)*6,1,1))","v":{"$error":"#N/A"}},{"$f":"IF(OR(OFFSET(結果貼付け用!$H20,0,(COLUMN()-4)*6,1,1)=\"-\", OFFSET(結果貼付け用!$H20,0,(COLUMN()-4)*6,1,1)=\"\"), NA(), OFFSET(結果貼付け用!$H20,0,(COLUMN()-4)*6,1,1))","v":{"$error":"#N/A"}},{"$f":"IF(OR(OFFSET(結果貼付け用!$H20,0,(COLUMN()-4)*6,1,1)=\"-\", OFFSET(結果貼付け用!$H20,0,(COLUMN()-4)*6,1,1)=\"\"), NA(), OFFSET(結果貼付け用!$H20,0,(COLUMN()-4)*6,1,1))","v":{"$error":"#N/A"}}]
[null,"上司からの適切な仕事支援",{"$f":"IF(結果貼付け用!B21=\"\",NA(),結果貼付け用!B21)","v":{"$error":"#N/A"}},{"$f":"IF(OR(OFFSET(結果貼付け用!$H21,0,(COLUMN()-4)*6,1,1)=\"-\", OFFSET(結果貼付け用!$H21,0,(COLUMN()-4)*6,1,1)=\"\"), NA(), OFFSET(結果貼付け用!$H21,0,(COLUMN()-4)*6,1,1))","v":{"$error":"#N/A"}},{"$f":"IF(OR(OFFSET(結果貼付け用!$H21,0,(COLUMN()-4)*6,1,1)=\"-\", OFFSET(結果貼付け用!$H21,0,(COLUMN()-4)*6,1,1)=\"\"), NA(), OFFSET(結果貼付け用!$H21,0,(COLUMN()-4)*6,1,1))","v":{"$error":"#N/A"}},{"$f":"IF(OR(OFFSET(結果貼付け用!$H21,0,(COLUMN()-4)*6,1,1)=\"-\", OFFSET(結果貼付け用!$H21,0,(COLUMN()-4)*6,1,1)=\"\"), NA(), OFFSET(結果貼付け用!$H21,0,(COLUMN()-4)*6,1,1))","v":{"$error":"#N/A"}},{"$f":"IF(OR(OFFSET(結果貼付け用!$H21,0,(COLUMN()-4)*6,1,1)=\"-\", OFFSET(結果貼付け用!$H21,0,(COLUMN()-4)*6,1,1)=\"\"), NA(), OFFSET(結果貼付け用!$H21,0,(COLUMN()-4)*6,1,1))","v":{"$error":"#N/A"}},{"$f":"IF(OR(OFFSET(結果貼付け用!$H21,0,(COLUMN()-4)*6,1,1)=\"-\", OFFSET(結果貼付け用!$H21,0,(COLUMN()-4)*6,1,1)=\"\"), NA(), OFFSET(結果貼付け用!$H21,0,(COLUMN()-4)*6,1,1))","v":{"$error":"#N/A"}},{"$f":"IF(OR(OFFSET(結果貼付け用!$H21,0,(COLUMN()-4)*6,1,1)=\"-\", OFFSET(結果貼付け用!$H21,0,(COLUMN()-4)*6,1,1)=\"\"), NA(), OFFSET(結果貼付け用!$H21,0,(COLUMN()-4)*6,1,1))","v":{"$error":"#N/A"}},{"$f":"IF(OR(OFFSET(結果貼付け用!$H21,0,(COLUMN()-4)*6,1,1)=\"-\", OFFSET(結果貼付け用!$H21,0,(COLUMN()-4)*6,1,1)=\"\"), NA(), OFFSET(結果貼付け用!$H21,0,(COLUMN()-4)*6,1,1))","v":{"$error":"#N/A"}},{"$f":"IF(OR(OFFSET(結果貼付け用!$H21,0,(COLUMN()-4)*6,1,1)=\"-\", OFFSET(結果貼付け用!$H21,0,(COLUMN()-4)*6,1,1)=\"\"), NA(), OFFSET(結果貼付け用!$H21,0,(COLUMN()-4)*6,1,1))","v":{"$error":"#N/A"}},{"$f":"IF(OR(OFFSET(結果貼付け用!$H21,0,(COLUMN()-4)*6,1,1)=\"-\", OFFSET(結果貼付け用!$H21,0,(COLUMN()-4)*6,1,1)=\"\"), NA(), OFFSET(結果貼付け用!$H21,0,(COLUMN()-4)*6,1,1))","v":{"$error":"#N/A"}},{"$f":"IF(OR(OFFSET(結果貼付け用!$H21,0,(COLUMN()-4)*6,1,1)=\"-\", OFFSET(結果貼付け用!$H21,0,(COLUMN()-4)*6,1,1)=\"\"), NA(), OFFSET(結果貼付け用!$H21,0,(COLUMN()-4)*6,1,1))","v":{"$error":"#N/A"}},{"$f":"IF(OR(OFFSET(結果貼付け用!$H21,0,(COLUMN()-4)*6,1,1)=\"-\", OFFSET(結果貼付け用!$H21,0,(COLUMN()-4)*6,1,1)=\"\"), NA(), OFFSET(結果貼付け用!$H21,0,(COLUMN()-4)*6,1,1))","v":{"$error":"#N/A"}},{"$f":"IF(OR(OFFSET(結果貼付け用!$H21,0,(COLUMN()-4)*6,1,1)=\"-\", OFFSET(結果貼付け用!$H21,0,(COLUMN()-4)*6,1,1)=\"\"), NA(), OFFSET(結果貼付け用!$H21,0,(COLUMN()-4)*6,1,1))","v":{"$error":"#N/A"}},{"$f":"IF(OR(OFFSET(結果貼付け用!$H21,0,(COLUMN()-4)*6,1,1)=\"-\", OFFSET(結果貼付け用!$H21,0,(COLUMN()-4)*6,1,1)=\"\"), NA(), OFFSET(結果貼付け用!$H21,0,(COLUMN()-4)*6,1,1))","v":{"$error":"#N/A"}},{"$f":"IF(OR(OFFSET(結果貼付け用!$H21,0,(COLUMN()-4)*6,1,1)=\"-\", OFFSET(結果貼付け用!$H21,0,(COLUMN()-4)*6,1,1)=\"\"), NA(), OFFSET(結果貼付け用!$H21,0,(COLUMN()-4)*6,1,1))","v":{"$error":"#N/A"}},{"$f":"IF(OR(OFFSET(結果貼付け用!$H21,0,(COLUMN()-4)*6,1,1)=\"-\", OFFSET(結果貼付け用!$H21,0,(COLUMN()-4)*6,1,1)=\"\"), NA(), OFFSET(結果貼付け用!$H21,0,(COLUMN()-4)*6,1,1))","v":{"$error":"#N/A"}},{"$f":"IF(OR(OFFSET(結果貼付け用!$H21,0,(COLUMN()-4)*6,1,1)=\"-\", OFFSET(結果貼付け用!$H21,0,(COLUMN()-4)*6,1,1)=\"\"), NA(), OFFSET(結果貼付け用!$H21,0,(COLUMN()-4)*6,1,1))","v":{"$error":"#N/A"}},{"$f":"IF(OR(OFFSET(結果貼付け用!$H21,0,(COLUMN()-4)*6,1,1)=\"-\", OFFSET(結果貼付け用!$H21,0,(COLUMN()-4)*6,1,1)=\"\"), NA(), OFFSET(結果貼付け用!$H21,0,(COLUMN()-4)*6,1,1))","v":{"$error":"#N/A"}},{"$f":"IF(OR(OFFSET(結果貼付け用!$H21,0,(COLUMN()-4)*6,1,1)=\"-\", OFFSET(結果貼付け用!$H21,0,(COLUMN()-4)*6,1,1)=\"\"), NA(), OFFSET(結果貼付け用!$H21,0,(COLUMN()-4)*6,1,1))","v":{"$error":"#N/A"}},{"$f":"IF(OR(OFFSET(結果貼付け用!$H21,0,(COLUMN()-4)*6,1,1)=\"-\", OFFSET(結果貼付け用!$H21,0,(COLUMN()-4)*6,1,1)=\"\"), NA(), OFFSET(結果貼付け用!$H21,0,(COLUMN()-4)*6,1,1))","v":{"$error":"#N/A"}},{"$f":"IF(OR(OFFSET(結果貼付け用!$H21,0,(COLUMN()-4)*6,1,1)=\"-\", OFFSET(結果貼付け用!$H21,0,(COLUMN()-4)*6,1,1)=\"\"), NA(), OFFSET(結果貼付け用!$H21,0,(COLUMN()-4)*6,1,1))","v":{"$error":"#N/A"}},{"$f":"IF(OR(OFFSET(結果貼付け用!$H21,0,(COLUMN()-4)*6,1,1)=\"-\", OFFSET(結果貼付け用!$H21,0,(COLUMN()-4)*6,1,1)=\"\"), NA(), OFFSET(結果貼付け用!$H21,0,(COLUMN()-4)*6,1,1))","v":{"$error":"#N/A"}},{"$f":"IF(OR(OFFSET(結果貼付け用!$H21,0,(COLUMN()-4)*6,1,1)=\"-\", OFFSET(結果貼付け用!$H21,0,(COLUMN()-4)*6,1,1)=\"\"), NA(), OFFSET(結果貼付け用!$H21,0,(COLUMN()-4)*6,1,1))","v":{"$error":"#N/A"}},{"$f":"IF(OR(OFFSET(結果貼付け用!$H21,0,(COLUMN()-4)*6,1,1)=\"-\", OFFSET(結果貼付け用!$H21,0,(COLUMN()-4)*6,1,1)=\"\"), NA(), OFFSET(結果貼付け用!$H21,0,(COLUMN()-4)*6,1,1))","v":{"$error":"#N/A"}},{"$f":"IF(OR(OFFSET(結果貼付け用!$H21,0,(COLUMN()-4)*6,1,1)=\"-\", OFFSET(結果貼付け用!$H21,0,(COLUMN()-4)*6,1,1)=\"\"), NA(), OFFSET(結果貼付け用!$H21,0,(COLUMN()-4)*6,1,1))","v":{"$error":"#N/A"}},{"$f":"IF(OR(OFFSET(結果貼付け用!$H21,0,(COLUMN()-4)*6,1,1)=\"-\", OFFSET(結果貼付け用!$H21,0,(COLUMN()-4)*6,1,1)=\"\"), NA(), OFFSET(結果貼付け用!$H21,0,(COLUMN()-4)*6,1,1))","v":{"$error":"#N/A"}},{"$f":"IF(OR(OFFSET(結果貼付け用!$H21,0,(COLUMN()-4)*6,1,1)=\"-\", OFFSET(結果貼付け用!$H21,0,(COLUMN()-4)*6,1,1)=\"\"), NA(), OFFSET(結果貼付け用!$H21,0,(COLUMN()-4)*6,1,1))","v":{"$error":"#N/A"}},{"$f":"IF(OR(OFFSET(結果貼付け用!$H21,0,(COLUMN()-4)*6,1,1)=\"-\", OFFSET(結果貼付け用!$H21,0,(COLUMN()-4)*6,1,1)=\"\"), NA(), OFFSET(結果貼付け用!$H21,0,(COLUMN()-4)*6,1,1))","v":{"$error":"#N/A"}},{"$f":"IF(OR(OFFSET(結果貼付け用!$H21,0,(COLUMN()-4)*6,1,1)=\"-\", OFFSET(結果貼付け用!$H21,0,(COLUMN()-4)*6,1,1)=\"\"), NA(), OFFSET(結果貼付け用!$H21,0,(COLUMN()-4)*6,1,1))","v":{"$error":"#N/A"}},{"$f":"IF(OR(OFFSET(結果貼付け用!$H21,0,(COLUMN()-4)*6,1,1)=\"-\", OFFSET(結果貼付け用!$H21,0,(COLUMN()-4)*6,1,1)=\"\"), NA(), OFFSET(結果貼付け用!$H21,0,(COLUMN()-4)*6,1,1))","v":{"$error":"#N/A"}}]
[]
[]
[]
[]
[]
[]
[]
[]
[]
[]
[]
[]
[]
[]
[]
[]
[]
[]
[]
[]
[null,"実施開始日時",{"$f":"IF(結果貼付け用!B2=\"\",NA(),結果貼付け用!B2)","v":{"$error":"#N/A"}},{"$f":"IF((OFFSET(結果貼付け用!$H$2, 0, (COLUMN() - COLUMN($D$26)) * 6))=\"\",NA(),(OFFSET(結果貼付け用!$H$2, 0, (COLUMN() - COLUMN($D$26)) * 6)))","v":{"$error":"#N/A"}},{"$f":"IF((OFFSET(結果貼付け用!$H$2, 0, (COLUMN() - COLUMN($D$26)) * 6))=\"\",NA(),(OFFSET(結果貼付け用!$H$2, 0, (COLUMN() - COLUMN($D$26)) * 6)))","v":{"$error":"#N/A"}},{"$f":"IF((OFFSET(結果貼付け用!$H$2, 0, (COLUMN() - COLUMN($D$26)) * 6))=\"\",NA(),(OFFSET(結果貼付け用!$H$2, 0, (COLUMN() - COLUMN($D$26)) * 6)))","v":{"$error":"#N/A"}},{"$f":"IF((OFFSET(結果貼付け用!$H$2, 0, (COLUMN() - COLUMN($D$26)) * 6))=\"\",NA(),(OFFSET(結果貼付け用!$H$2, 0, (COLUMN() - COLUMN($D$26)) * 6)))","v":{"$error":"#N/A"}},{"$f":"IF((OFFSET(結果貼付け用!$H$2, 0, (COLUMN() - COLUMN($D$26)) * 6))=\"\",NA(),(OFFSET(結果貼付け用!$H$2, 0, (COLUMN() - COLUMN($D$26)) * 6)))","v":{"$error":"#N/A"}},{"$f":"IF((OFFSET(結果貼付け用!$H$2, 0, (COLUMN() - COLUMN($D$26)) * 6))=\"\",NA(),(OFFSET(結果貼付け用!$H$2, 0, (COLUMN() - COLUMN($D$26)) * 6)))","v":{"$error":"#N/A"}},{"$f":"IF((OFFSET(結果貼付け用!$H$2, 0, (COLUMN() - COLUMN($D$26)) * 6))=\"\",NA(),(OFFSET(結果貼付け用!$H$2, 0, (COLUMN() - COLUMN($D$26)) * 6)))","v":{"$error":"#N/A"}},{"$f":"IF((OFFSET(結果貼付け用!$H$2, 0, (COLUMN() - COLUMN($D$26)) * 6))=\"\",NA(),(OFFSET(結果貼付け用!$H$2, 0, (COLUMN() - COLUMN($D$26)) * 6)))","v":{"$error":"#N/A"}},{"$f":"IF((OFFSET(結果貼付け用!$H$2, 0, (COLUMN() - COLUMN($D$26)) * 6))=\"\",NA(),(OFFSET(結果貼付け用!$H$2, 0, (COLUMN() - COLUMN($D$26)) * 6)))","v":{"$error":"#N/A"}},{"$f":"IF((OFFSET(結果貼付け用!$H$2, 0, (COLUMN() - COLUMN($D$26)) * 6))=\"\",NA(),(OFFSET(結果貼付け用!$H$2, 0, (COLUMN() - COLUMN($D$26)) * 6)))","v":{"$error":"#N/A"}},{"$f":"IF((OFFSET(結果貼付け用!$H$2, 0, (COLUMN() - COLUMN($D$26)) * 6))=\"\",NA(),(OFFSET(結果貼付け用!$H$2, 0, (COLUMN() - COLUMN($D$26)) * 6)))","v":{"$error":"#N/A"}},{"$f":"IF((OFFSET(結果貼付け用!$H$2, 0, (COLUMN() - COLUMN($D$26)) * 6))=\"\",NA(),(OFFSET(結果貼付け用!$H$2, 0, (COLUMN() - COLUMN($D$26)) * 6)))","v":{"$error":"#N/A"}},{"$f":"IF((OFFSET(結果貼付け用!$H$2, 0, (COLUMN() - COLUMN($D$26)) * 6))=\"\",NA(),(OFFSET(結果貼付け用!$H$2, 0, (COLUMN() - COLUMN($D$26)) * 6)))","v":{"$error":"#N/A"}},{"$f":"IF((OFFSET(結果貼付け用!$H$2, 0, (COLUMN() - COLUMN($D$26)) * 6))=\"\",NA(),(OFFSET(結果貼付け用!$H$2, 0, (COLUMN() - COLUMN($D$26)) * 6)))","v":{"$error":"#N/A"}},{"$f":"IF((OFFSET(結果貼付け用!$H$2, 0, (COLUMN() - COLUMN($D$26)) * 6))=\"\",NA(),(OFFSET(結果貼付け用!$H$2, 0, (COLUMN() - COLUMN($D$26)) * 6)))","v":{"$error":"#N/A"}},{"$f":"IF((OFFSET(結果貼付け用!$H$2, 0, (COLUMN() - COLUMN($D$26)) * 6))=\"\",NA(),(OFFSET(結果貼付け用!$H$2, 0, (COLUMN() - COLUMN($D$26)) * 6)))","v":{"$error":"#N/A"}},{"$f":"IF((OFFSET(結果貼付け用!$H$2, 0, (COLUMN() - COLUMN($D$26)) * 6))=\"\",NA(),(OFFSET(結果貼付け用!$H$2, 0, (COLUMN() - COLUMN($D$26)) * 6)))","v":{"$error":"#N/A"}},{"$f":"IF((OFFSET(結果貼付け用!$H$2, 0, (COLUMN() - COLUMN($D$26)) * 6))=\"\",NA(),(OFFSET(結果貼付け用!$H$2, 0, (COLUMN() - COLUMN($D$26)) * 6)))","v":{"$error":"#N/A"}},{"$f":"IF((OFFSET(結果貼付け用!$H$2, 0, (COLUMN() - COLUMN($D$26)) * 6))=\"\",NA(),(OFFSET(結果貼付け用!$H$2, 0, (COLUMN() - COLUMN($D$26)) * 6)))","v":{"$error":"#N/A"}},{"$f":"IF((OFFSET(結果貼付け用!$H$2, 0, (COLUMN() - COLUMN($D$26)) * 6))=\"\",NA(),(OFFSET(結果貼付け用!$H$2, 0, (COLUMN() - COLUMN($D$26)) * 6)))","v":{"$error":"#N/A"}},{"$f":"IF((OFFSET(結果貼付け用!$H$2, 0, (COLUMN() - COLUMN($D$26)) * 6))=\"\",NA(),(OFFSET(結果貼付け用!$H$2, 0, (COLUMN() - COLUMN($D$26)) * 6)))","v":{"$error":"#N/A"}},{"$f":"IF((OFFSET(結果貼付け用!$H$2, 0, (COLUMN() - COLUMN($D$26)) * 6))=\"\",NA(),(OFFSET(結果貼付け用!$H$2, 0, (COLUMN() - COLUMN($D$26)) * 6)))","v":{"$error":"#N/A"}},{"$f":"IF((OFFSET(結果貼付け用!$H$2, 0, (COLUMN() - COLUMN($D$26)) * 6))=\"\",NA(),(OFFSET(結果貼付け用!$H$2, 0, (COLUMN() - COLUMN($D$26)) * 6)))","v":{"$error":"#N/A"}},{"$f":"IF((OFFSET(結果貼付け用!$H$2, 0, (COLUMN() - COLUMN($D$26)) * 6))=\"\",NA(),(OFFSET(結果貼付け用!$H$2, 0, (COLUMN() - COLUMN($D$26)) * 6)))","v":{"$error":"#N/A"}},{"$f":"IF((OFFSET(結果貼付け用!$H$2, 0, (COLUMN() - COLUMN($D$26)) * 6))=\"\",NA(),(OFFSET(結果貼付け用!$H$2, 0, (COLUMN() - COLUMN($D$26)) * 6)))","v":{"$error":"#N/A"}},{"$f":"IF((OFFSET(結果貼付け用!$H$2, 0, (COLUMN() - COLUMN($D$26)) * 6))=\"\",NA(),(OFFSET(結果貼付け用!$H$2, 0, (COLUMN() - COLUMN($D$26)) * 6)))","v":{"$error":"#N/A"}},{"$f":"IF((OFFSET(結果貼付け用!$H$2, 0, (COLUMN() - COLUMN($D$26)) * 6))=\"\",NA(),(OFFSET(結果貼付け用!$H$2, 0, (COLUMN() - COLUMN($D$26)) * 6)))","v":{"$error":"#N/A"}},{"$f":"IF((OFFSET(結果貼付け用!$H$2, 0, (COLUMN() - COLUMN($D$26)) * 6))=\"\",NA(),(OFFSET(結果貼付け用!$H$2, 0, (COLUMN() - COLUMN($D$26)) * 6)))","v":{"$error":"#N/A"}},{"$f":"IF((OFFSET(結果貼付け用!$H$2, 0, (COLUMN() - COLUMN($D$26)) * 6))=\"\",NA(),(OFFSET(結果貼付け用!$H$2, 0, (COLUMN() - COLUMN($D$26)) * 6)))","v":{"$error":"#N/A"}}]
[null,"業務設計",{"$f":"IF(結果貼付け用!B22=\"\",NA(),結果貼付け用!B22)","v":{"$error":"#N/A"}},{"$f":"IF(OR(OFFSET(結果貼付け用!$H22,0,(COLUMN()-4)*6,1,1)=\"-\", OFFSET(結果貼付け用!$H22,0,(COLUMN()-4)*6,1,1)=\"\"), NA(), OFFSET(結果貼付け用!$H22,0,(COLUMN()-4)*6,1,1))","v":{"$error":"#N/A"}},{"$f":"IF(OR(OFFSET(結果貼付け用!$H22,0,(COLUMN()-4)*6,1,1)=\"-\", OFFSET(結果貼付け用!$H22,0,(COLUMN()-4)*6,1,1)=\"\"), NA(), OFFSET(結果貼付け用!$H22,0,(COLUMN()-4)*6,1,1))","v":{"$error":"#N/A"}},{"$f":"IF(OR(OFFSET(結果貼付け用!$H22,0,(COLUMN()-4)*6,1,1)=\"-\", OFFSET(結果貼付け用!$H22,0,(COLUMN()-4)*6,1,1)=\"\"), NA(), OFFSET(結果貼付け用!$H22,0,(COLUMN()-4)*6,1,1))","v":{"$error":"#N/A"}},{"$f":"IF(OR(OFFSET(結果貼付け用!$H22,0,(COLUMN()-4)*6,1,1)=\"-\", OFFSET(結果貼付け用!$H22,0,(COLUMN()-4)*6,1,1)=\"\"), NA(), OFFSET(結果貼付け用!$H22,0,(COLUMN()-4)*6,1,1))","v":{"$error":"#N/A"}},{"$f":"IF(OR(OFFSET(結果貼付け用!$H22,0,(COLUMN()-4)*6,1,1)=\"-\", OFFSET(結果貼付け用!$H22,0,(COLUMN()-4)*6,1,1)=\"\"), NA(), OFFSET(結果貼付け用!$H22,0,(COLUMN()-4)*6,1,1))","v":{"$error":"#N/A"}},{"$f":"IF(OR(OFFSET(結果貼付け用!$H22,0,(COLUMN()-4)*6,1,1)=\"-\", OFFSET(結果貼付け用!$H22,0,(COLUMN()-4)*6,1,1)=\"\"), NA(), OFFSET(結果貼付け用!$H22,0,(COLUMN()-4)*6,1,1))","v":{"$error":"#N/A"}},{"$f":"IF(OR(OFFSET(結果貼付け用!$H22,0,(COLUMN()-4)*6,1,1)=\"-\", OFFSET(結果貼付け用!$H22,0,(COLUMN()-4)*6,1,1)=\"\"), NA(), OFFSET(結果貼付け用!$H22,0,(COLUMN()-4)*6,1,1))","v":{"$error":"#N/A"}},{"$f":"IF(OR(OFFSET(結果貼付け用!$H22,0,(COLUMN()-4)*6,1,1)=\"-\", OFFSET(結果貼付け用!$H22,0,(COLUMN()-4)*6,1,1)=\"\"), NA(), OFFSET(結果貼付け用!$H22,0,(COLUMN()-4)*6,1,1))","v":{"$error":"#N/A"}},{"$f":"IF(OR(OFFSET(結果貼付け用!$H22,0,(COLUMN()-4)*6,1,1)=\"-\", OFFSET(結果貼付け用!$H22,0,(COLUMN()-4)*6,1,1)=\"\"), NA(), OFFSET(結果貼付け用!$H22,0,(COLUMN()-4)*6,1,1))","v":{"$error":"#N/A"}},{"$f":"IF(OR(OFFSET(結果貼付け用!$H22,0,(COLUMN()-4)*6,1,1)=\"-\", OFFSET(結果貼付け用!$H22,0,(COLUMN()-4)*6,1,1)=\"\"), NA(), OFFSET(結果貼付け用!$H22,0,(COLUMN()-4)*6,1,1))","v":{"$error":"#N/A"}},{"$f":"IF(OR(OFFSET(結果貼付け用!$H22,0,(COLUMN()-4)*6,1,1)=\"-\", OFFSET(結果貼付け用!$H22,0,(COLUMN()-4)*6,1,1)=\"\"), NA(), OFFSET(結果貼付け用!$H22,0,(COLUMN()-4)*6,1,1))","v":{"$error":"#N/A"}},{"$f":"IF(OR(OFFSET(結果貼付け用!$H22,0,(COLUMN()-4)*6,1,1)=\"-\", OFFSET(結果貼付け用!$H22,0,(COLUMN()-4)*6,1,1)=\"\"), NA(), OFFSET(結果貼付け用!$H22,0,(COLUMN()-4)*6,1,1))","v":{"$error":"#N/A"}},{"$f":"IF(OR(OFFSET(結果貼付け用!$H22,0,(COLUMN()-4)*6,1,1)=\"-\", OFFSET(結果貼付け用!$H22,0,(COLUMN()-4)*6,1,1)=\"\"), NA(), OFFSET(結果貼付け用!$H22,0,(COLUMN()-4)*6,1,1))","v":{"$error":"#N/A"}},{"$f":"IF(OR(OFFSET(結果貼付け用!$H22,0,(COLUMN()-4)*6,1,1)=\"-\", OFFSET(結果貼付け用!$H22,0,(COLUMN()-4)*6,1,1)=\"\"), NA(), OFFSET(結果貼付け用!$H22,0,(COLUMN()-4)*6,1,1))","v":{"$error":"#N/A"}},{"$f":"IF(OR(OFFSET(結果貼付け用!$H22,0,(COLUMN()-4)*6,1,1)=\"-\", OFFSET(結果貼付け用!$H22,0,(COLUMN()-4)*6,1,1)=\"\"), NA(), OFFSET(結果貼付け用!$H22,0,(COLUMN()-4)*6,1,1))","v":{"$error":"#N/A"}},{"$f":"IF(OR(OFFSET(結果貼付け用!$H22,0,(COLUMN()-4)*6,1,1)=\"-\", OFFSET(結果貼付け用!$H22,0,(COLUMN()-4)*6,1,1)=\"\"), NA(), OFFSET(結果貼付け用!$H22,0,(COLUMN()-4)*6,1,1))","v":{"$error":"#N/A"}},{"$f":"IF(OR(OFFSET(結果貼付け用!$H22,0,(COLUMN()-4)*6,1,1)=\"-\", OFFSET(結果貼付け用!$H22,0,(COLUMN()-4)*6,1,1)=\"\"), NA(), OFFSET(結果貼付け用!$H22,0,(COLUMN()-4)*6,1,1))","v":{"$error":"#N/A"}},{"$f":"IF(OR(OFFSET(結果貼付け用!$H22,0,(COLUMN()-4)*6,1,1)=\"-\", OFFSET(結果貼付け用!$H22,0,(COLUMN()-4)*6,1,1)=\"\"), NA(), OFFSET(結果貼付け用!$H22,0,(COLUMN()-4)*6,1,1))","v":{"$error":"#N/A"}},{"$f":"IF(OR(OFFSET(結果貼付け用!$H22,0,(COLUMN()-4)*6,1,1)=\"-\", OFFSET(結果貼付け用!$H22,0,(COLUMN()-4)*6,1,1)=\"\"), NA(), OFFSET(結果貼付け用!$H22,0,(COLUMN()-4)*6,1,1))","v":{"$error":"#N/A"}},{"$f":"IF(OR(OFFSET(結果貼付け用!$H22,0,(COLUMN()-4)*6,1,1)=\"-\", OFFSET(結果貼付け用!$H22,0,(COLUMN()-4)*6,1,1)=\"\"), NA(), OFFSET(結果貼付け用!$H22,0,(COLUMN()-4)*6,1,1))","v":{"$error":"#N/A"}},{"$f":"IF(OR(OFFSET(結果貼付け用!$H22,0,(COLUMN()-4)*6,1,1)=\"-\", OFFSET(結果貼付け用!$H22,0,(COLUMN()-4)*6,1,1)=\"\"), NA(), OFFSET(結果貼付け用!$H22,0,(COLUMN()-4)*6,1,1))","v":{"$error":"#N/A"}},{"$f":"IF(OR(OFFSET(結果貼付け用!$H22,0,(COLUMN()-4)*6,1,1)=\"-\", OFFSET(結果貼付け用!$H22,0,(COLUMN()-4)*6,1,1)=\"\"), NA(), OFFSET(結果貼付け用!$H22,0,(COLUMN()-4)*6,1,1))","v":{"$error":"#N/A"}},{"$f":"IF(OR(OFFSET(結果貼付け用!$H22,0,(COLUMN()-4)*6,1,1)=\"-\", OFFSET(結果貼付け用!$H22,0,(COLUMN()-4)*6,1,1)=\"\"), NA(), OFFSET(結果貼付け用!$H22,0,(COLUMN()-4)*6,1,1))","v":{"$error":"#N/A"}},{"$f":"IF(OR(OFFSET(結果貼付け用!$H22,0,(COLUMN()-4)*6,1,1)=\"-\", OFFSET(結果貼付け用!$H22,0,(COLUMN()-4)*6,1,1)=\"\"), NA(), OFFSET(結果貼付け用!$H22,0,(COLUMN()-4)*6,1,1))","v":{"$error":"#N/A"}},{"$f":"IF(OR(OFFSET(結果貼付け用!$H22,0,(COLUMN()-4)*6,1,1)=\"-\", OFFSET(結果貼付け用!$H22,0,(COLUMN()-4)*6,1,1)=\"\"), NA(), OFFSET(結果貼付け用!$H22,0,(COLUMN()-4)*6,1,1))","v":{"$error":"#N/A"}},{"$f":"IF(OR(OFFSET(結果貼付け用!$H22,0,(COLUMN()-4)*6,1,1)=\"-\", OFFSET(結果貼付け用!$H22,0,(COLUMN()-4)*6,1,1)=\"\"), NA(), OFFSET(結果貼付け用!$H22,0,(COLUMN()-4)*6,1,1))","v":{"$error":"#N/A"}},{"$f":"IF(OR(OFFSET(結果貼付け用!$H22,0,(COLUMN()-4)*6,1,1)=\"-\", OFFSET(結果貼付け用!$H22,0,(COLUMN()-4)*6,1,1)=\"\"), NA(), OFFSET(結果貼付け用!$H22,0,(COLUMN()-4)*6,1,1))","v":{"$error":"#N/A"}},{"$f":"IF(OR(OFFSET(結果貼付け用!$H22,0,(COLUMN()-4)*6,1,1)=\"-\", OFFSET(結果貼付け用!$H22,0,(COLUMN()-4)*6,1,1)=\"\"), NA(), OFFSET(結果貼付け用!$H22,0,(COLUMN()-4)*6,1,1))","v":{"$error":"#N/A"}},{"$f":"IF(OR(OFFSET(結果貼付け用!$H22,0,(COLUMN()-4)*6,1,1)=\"-\", OFFSET(結果貼付け用!$H22,0,(COLUMN()-4)*6,1,1)=\"\"), NA(), OFFSET(結果貼付け用!$H22,0,(COLUMN()-4)*6,1,1))","v":{"$error":"#N/A"}}]
[null,"目標達成意識",{"$f":"IF(結果貼付け用!B23=\"\",NA(),結果貼付け用!B23)","v":{"$error":"#N/A"}},{"$f":"IF(OR(OFFSET(結果貼付け用!$H23,0,(COLUMN()-4)*6,1,1)=\"-\", OFFSET(結果貼付け用!$H23,0,(COLUMN()-4)*6,1,1)=\"\"), NA(), OFFSET(結果貼付け用!$H23,0,(COLUMN()-4)*6,1,1))","v":{"$error":"#N/A"}},{"$f":"IF(OR(OFFSET(結果貼付け用!$H23,0,(COLUMN()-4)*6,1,1)=\"-\", OFFSET(結果貼付け用!$H23,0,(COLUMN()-4)*6,1,1)=\"\"), NA(), OFFSET(結果貼付け用!$H23,0,(COLUMN()-4)*6,1,1))","v":{"$error":"#N/A"}},{"$f":"IF(OR(OFFSET(結果貼付け用!$H23,0,(COLUMN()-4)*6,1,1)=\"-\", OFFSET(結果貼付け用!$H23,0,(COLUMN()-4)*6,1,1)=\"\"), NA(), OFFSET(結果貼付け用!$H23,0,(COLUMN()-4)*6,1,1))","v":{"$error":"#N/A"}},{"$f":"IF(OR(OFFSET(結果貼付け用!$H23,0,(COLUMN()-4)*6,1,1)=\"-\", OFFSET(結果貼付け用!$H23,0,(COLUMN()-4)*6,1,1)=\"\"), NA(), OFFSET(結果貼付け用!$H23,0,(COLUMN()-4)*6,1,1))","v":{"$error":"#N/A"}},{"$f":"IF(OR(OFFSET(結果貼付け用!$H23,0,(COLUMN()-4)*6,1,1)=\"-\", OFFSET(結果貼付け用!$H23,0,(COLUMN()-4)*6,1,1)=\"\"), NA(), OFFSET(結果貼付け用!$H23,0,(COLUMN()-4)*6,1,1))","v":{"$error":"#N/A"}},{"$f":"IF(OR(OFFSET(結果貼付け用!$H23,0,(COLUMN()-4)*6,1,1)=\"-\", OFFSET(結果貼付け用!$H23,0,(COLUMN()-4)*6,1,1)=\"\"), NA(), OFFSET(結果貼付け用!$H23,0,(COLUMN()-4)*6,1,1))","v":{"$error":"#N/A"}},{"$f":"IF(OR(OFFSET(結果貼付け用!$H23,0,(COLUMN()-4)*6,1,1)=\"-\", OFFSET(結果貼付け用!$H23,0,(COLUMN()-4)*6,1,1)=\"\"), NA(), OFFSET(結果貼付け用!$H23,0,(COLUMN()-4)*6,1,1))","v":{"$error":"#N/A"}},{"$f":"IF(OR(OFFSET(結果貼付け用!$H23,0,(COLUMN()-4)*6,1,1)=\"-\", OFFSET(結果貼付け用!$H23,0,(COLUMN()-4)*6,1,1)=\"\"), NA(), OFFSET(結果貼付け用!$H23,0,(COLUMN()-4)*6,1,1))","v":{"$error":"#N/A"}},{"$f":"IF(OR(OFFSET(結果貼付け用!$H23,0,(COLUMN()-4)*6,1,1)=\"-\", OFFSET(結果貼付け用!$H23,0,(COLUMN()-4)*6,1,1)=\"\"), NA(), OFFSET(結果貼付け用!$H23,0,(COLUMN()-4)*6,1,1))","v":{"$error":"#N/A"}},{"$f":"IF(OR(OFFSET(結果貼付け用!$H23,0,(COLUMN()-4)*6,1,1)=\"-\", OFFSET(結果貼付け用!$H23,0,(COLUMN()-4)*6,1,1)=\"\"), NA(), OFFSET(結果貼付け用!$H23,0,(COLUMN()-4)*6,1,1))","v":{"$error":"#N/A"}},{"$f":"IF(OR(OFFSET(結果貼付け用!$H23,0,(COLUMN()-4)*6,1,1)=\"-\", OFFSET(結果貼付け用!$H23,0,(COLUMN()-4)*6,1,1)=\"\"), NA(), OFFSET(結果貼付け用!$H23,0,(COLUMN()-4)*6,1,1))","v":{"$error":"#N/A"}},{"$f":"IF(OR(OFFSET(結果貼付け用!$H23,0,(COLUMN()-4)*6,1,1)=\"-\", OFFSET(結果貼付け用!$H23,0,(COLUMN()-4)*6,1,1)=\"\"), NA(), OFFSET(結果貼付け用!$H23,0,(COLUMN()-4)*6,1,1))","v":{"$error":"#N/A"}},{"$f":"IF(OR(OFFSET(結果貼付け用!$H23,0,(COLUMN()-4)*6,1,1)=\"-\", OFFSET(結果貼付け用!$H23,0,(COLUMN()-4)*6,1,1)=\"\"), NA(), OFFSET(結果貼付け用!$H23,0,(COLUMN()-4)*6,1,1))","v":{"$error":"#N/A"}},{"$f":"IF(OR(OFFSET(結果貼付け用!$H23,0,(COLUMN()-4)*6,1,1)=\"-\", OFFSET(結果貼付け用!$H23,0,(COLUMN()-4)*6,1,1)=\"\"), NA(), OFFSET(結果貼付け用!$H23,0,(COLUMN()-4)*6,1,1))","v":{"$error":"#N/A"}},{"$f":"IF(OR(OFFSET(結果貼付け用!$H23,0,(COLUMN()-4)*6,1,1)=\"-\", OFFSET(結果貼付け用!$H23,0,(COLUMN()-4)*6,1,1)=\"\"), NA(), OFFSET(結果貼付け用!$H23,0,(COLUMN()-4)*6,1,1))","v":{"$error":"#N/A"}},{"$f":"IF(OR(OFFSET(結果貼付け用!$H23,0,(COLUMN()-4)*6,1,1)=\"-\", OFFSET(結果貼付け用!$H23,0,(COLUMN()-4)*6,1,1)=\"\"), NA(), OFFSET(結果貼付け用!$H23,0,(COLUMN()-4)*6,1,1))","v":{"$error":"#N/A"}},{"$f":"IF(OR(OFFSET(結果貼付け用!$H23,0,(COLUMN()-4)*6,1,1)=\"-\", OFFSET(結果貼付け用!$H23,0,(COLUMN()-4)*6,1,1)=\"\"), NA(), OFFSET(結果貼付け用!$H23,0,(COLUMN()-4)*6,1,1))","v":{"$error":"#N/A"}},{"$f":"IF(OR(OFFSET(結果貼付け用!$H23,0,(COLUMN()-4)*6,1,1)=\"-\", OFFSET(結果貼付け用!$H23,0,(COLUMN()-4)*6,1,1)=\"\"), NA(), OFFSET(結果貼付け用!$H23,0,(COLUMN()-4)*6,1,1))","v":{"$error":"#N/A"}},{"$f":"IF(OR(OFFSET(結果貼付け用!$H23,0,(COLUMN()-4)*6,1,1)=\"-\", OFFSET(結果貼付け用!$H23,0,(COLUMN()-4)*6,1,1)=\"\"), NA(), OFFSET(結果貼付け用!$H23,0,(COLUMN()-4)*6,1,1))","v":{"$error":"#N/A"}},{"$f":"IF(OR(OFFSET(結果貼付け用!$H23,0,(COLUMN()-4)*6,1,1)=\"-\", OFFSET(結果貼付け用!$H23,0,(COLUMN()-4)*6,1,1)=\"\"), NA(), OFFSET(結果貼付け用!$H23,0,(COLUMN()-4)*6,1,1))","v":{"$error":"#N/A"}},{"$f":"IF(OR(OFFSET(結果貼付け用!$H23,0,(COLUMN()-4)*6,1,1)=\"-\", OFFSET(結果貼付け用!$H23,0,(COLUMN()-4)*6,1,1)=\"\"), NA(), OFFSET(結果貼付け用!$H23,0,(COLUMN()-4)*6,1,1))","v":{"$error":"#N/A"}},{"$f":"IF(OR(OFFSET(結果貼付け用!$H23,0,(COLUMN()-4)*6,1,1)=\"-\", OFFSET(結果貼付け用!$H23,0,(COLUMN()-4)*6,1,1)=\"\"), NA(), OFFSET(結果貼付け用!$H23,0,(COLUMN()-4)*6,1,1))","v":{"$error":"#N/A"}},{"$f":"IF(OR(OFFSET(結果貼付け用!$H23,0,(COLUMN()-4)*6,1,1)=\"-\", OFFSET(結果貼付け用!$H23,0,(COLUMN()-4)*6,1,1)=\"\"), NA(), OFFSET(結果貼付け用!$H23,0,(COLUMN()-4)*6,1,1))","v":{"$error":"#N/A"}},{"$f":"IF(OR(OFFSET(結果貼付け用!$H23,0,(COLUMN()-4)*6,1,1)=\"-\", OFFSET(結果貼付け用!$H23,0,(COLUMN()-4)*6,1,1)=\"\"), NA(), OFFSET(結果貼付け用!$H23,0,(COLUMN()-4)*6,1,1))","v":{"$error":"#N/A"}},{"$f":"IF(OR(OFFSET(結果貼付け用!$H23,0,(COLUMN()-4)*6,1,1)=\"-\", OFFSET(結果貼付け用!$H23,0,(COLUMN()-4)*6,1,1)=\"\"), NA(), OFFSET(結果貼付け用!$H23,0,(COLUMN()-4)*6,1,1))","v":{"$error":"#N/A"}},{"$f":"IF(OR(OFFSET(結果貼付け用!$H23,0,(COLUMN()-4)*6,1,1)=\"-\", OFFSET(結果貼付け用!$H23,0,(COLUMN()-4)*6,1,1)=\"\"), NA(), OFFSET(結果貼付け用!$H23,0,(COLUMN()-4)*6,1,1))","v":{"$error":"#N/A"}},{"$f":"IF(OR(OFFSET(結果貼付け用!$H23,0,(COLUMN()-4)*6,1,1)=\"-\", OFFSET(結果貼付け用!$H23,0,(COLUMN()-4)*6,1,1)=\"\"), NA(), OFFSET(結果貼付け用!$H23,0,(COLUMN()-4)*6,1,1))","v":{"$error":"#N/A"}},{"$f":"IF(OR(OFFSET(結果貼付け用!$H23,0,(COLUMN()-4)*6,1,1)=\"-\", OFFSET(結果貼付け用!$H23,0,(COLUMN()-4)*6,1,1)=\"\"), NA(), OFFSET(結果貼付け用!$H23,0,(COLUMN()-4)*6,1,1))","v":{"$error":"#N/A"}},{"$f":"IF(OR(OFFSET(結果貼付け用!$H23,0,(COLUMN()-4)*6,1,1)=\"-\", OFFSET(結果貼付け用!$H23,0,(COLUMN()-4)*6,1,1)=\"\"), NA(), OFFSET(結果貼付け用!$H23,0,(COLUMN()-4)*6,1,1))","v":{"$error":"#N/A"}}]
[null,"ストレッチ目標",{"$f":"IF(結果貼付け用!B24=\"\",NA(),結果貼付け用!B24)","v":{"$error":"#N/A"}},{"$f":"IF(OR(OFFSET(結果貼付け用!$H24,0,(COLUMN()-4)*6,1,1)=\"-\", OFFSET(結果貼付け用!$H24,0,(COLUMN()-4)*6,1,1)=\"\"), NA(), OFFSET(結果貼付け用!$H24,0,(COLUMN()-4)*6,1,1))","v":{"$error":"#N/A"}},{"$f":"IF(OR(OFFSET(結果貼付け用!$H24,0,(COLUMN()-4)*6,1,1)=\"-\", OFFSET(結果貼付け用!$H24,0,(COLUMN()-4)*6,1,1)=\"\"), NA(), OFFSET(結果貼付け用!$H24,0,(COLUMN()-4)*6,1,1))","v":{"$error":"#N/A"}},{"$f":"IF(OR(OFFSET(結果貼付け用!$H24,0,(COLUMN()-4)*6,1,1)=\"-\", OFFSET(結果貼付け用!$H24,0,(COLUMN()-4)*6,1,1)=\"\"), NA(), OFFSET(結果貼付け用!$H24,0,(COLUMN()-4)*6,1,1))","v":{"$error":"#N/A"}},{"$f":"IF(OR(OFFSET(結果貼付け用!$H24,0,(COLUMN()-4)*6,1,1)=\"-\", OFFSET(結果貼付け用!$H24,0,(COLUMN()-4)*6,1,1)=\"\"), NA(), OFFSET(結果貼付け用!$H24,0,(COLUMN()-4)*6,1,1))","v":{"$error":"#N/A"}},{"$f":"IF(OR(OFFSET(結果貼付け用!$H24,0,(COLUMN()-4)*6,1,1)=\"-\", OFFSET(結果貼付け用!$H24,0,(COLUMN()-4)*6,1,1)=\"\"), NA(), OFFSET(結果貼付け用!$H24,0,(COLUMN()-4)*6,1,1))","v":{"$error":"#N/A"}},{"$f":"IF(OR(OFFSET(結果貼付け用!$H24,0,(COLUMN()-4)*6,1,1)=\"-\", OFFSET(結果貼付け用!$H24,0,(COLUMN()-4)*6,1,1)=\"\"), NA(), OFFSET(結果貼付け用!$H24,0,(COLUMN()-4)*6,1,1))","v":{"$error":"#N/A"}},{"$f":"IF(OR(OFFSET(結果貼付け用!$H24,0,(COLUMN()-4)*6,1,1)=\"-\", OFFSET(結果貼付け用!$H24,0,(COLUMN()-4)*6,1,1)=\"\"), NA(), OFFSET(結果貼付け用!$H24,0,(COLUMN()-4)*6,1,1))","v":{"$error":"#N/A"}},{"$f":"IF(OR(OFFSET(結果貼付け用!$H24,0,(COLUMN()-4)*6,1,1)=\"-\", OFFSET(結果貼付け用!$H24,0,(COLUMN()-4)*6,1,1)=\"\"), NA(), OFFSET(結果貼付け用!$H24,0,(COLUMN()-4)*6,1,1))","v":{"$error":"#N/A"}},{"$f":"IF(OR(OFFSET(結果貼付け用!$H24,0,(COLUMN()-4)*6,1,1)=\"-\", OFFSET(結果貼付け用!$H24,0,(COLUMN()-4)*6,1,1)=\"\"), NA(), OFFSET(結果貼付け用!$H24,0,(COLUMN()-4)*6,1,1))","v":{"$error":"#N/A"}},{"$f":"IF(OR(OFFSET(結果貼付け用!$H24,0,(COLUMN()-4)*6,1,1)=\"-\", OFFSET(結果貼付け用!$H24,0,(COLUMN()-4)*6,1,1)=\"\"), NA(), OFFSET(結果貼付け用!$H24,0,(COLUMN()-4)*6,1,1))","v":{"$error":"#N/A"}},{"$f":"IF(OR(OFFSET(結果貼付け用!$H24,0,(COLUMN()-4)*6,1,1)=\"-\", OFFSET(結果貼付け用!$H24,0,(COLUMN()-4)*6,1,1)=\"\"), NA(), OFFSET(結果貼付け用!$H24,0,(COLUMN()-4)*6,1,1))","v":{"$error":"#N/A"}},{"$f":"IF(OR(OFFSET(結果貼付け用!$H24,0,(COLUMN()-4)*6,1,1)=\"-\", OFFSET(結果貼付け用!$H24,0,(COLUMN()-4)*6,1,1)=\"\"), NA(), OFFSET(結果貼付け用!$H24,0,(COLUMN()-4)*6,1,1))","v":{"$error":"#N/A"}},{"$f":"IF(OR(OFFSET(結果貼付け用!$H24,0,(COLUMN()-4)*6,1,1)=\"-\", OFFSET(結果貼付け用!$H24,0,(COLUMN()-4)*6,1,1)=\"\"), NA(), OFFSET(結果貼付け用!$H24,0,(COLUMN()-4)*6,1,1))","v":{"$error":"#N/A"}},{"$f":"IF(OR(OFFSET(結果貼付け用!$H24,0,(COLUMN()-4)*6,1,1)=\"-\", OFFSET(結果貼付け用!$H24,0,(COLUMN()-4)*6,1,1)=\"\"), NA(), OFFSET(結果貼付け用!$H24,0,(COLUMN()-4)*6,1,1))","v":{"$error":"#N/A"}},{"$f":"IF(OR(OFFSET(結果貼付け用!$H24,0,(COLUMN()-4)*6,1,1)=\"-\", OFFSET(結果貼付け用!$H24,0,(COLUMN()-4)*6,1,1)=\"\"), NA(), OFFSET(結果貼付け用!$H24,0,(COLUMN()-4)*6,1,1))","v":{"$error":"#N/A"}},{"$f":"IF(OR(OFFSET(結果貼付け用!$H24,0,(COLUMN()-4)*6,1,1)=\"-\", OFFSET(結果貼付け用!$H24,0,(COLUMN()-4)*6,1,1)=\"\"), NA(), OFFSET(結果貼付け用!$H24,0,(COLUMN()-4)*6,1,1))","v":{"$error":"#N/A"}},{"$f":"IF(OR(OFFSET(結果貼付け用!$H24,0,(COLUMN()-4)*6,1,1)=\"-\", OFFSET(結果貼付け用!$H24,0,(COLUMN()-4)*6,1,1)=\"\"), NA(), OFFSET(結果貼付け用!$H24,0,(COLUMN()-4)*6,1,1))","v":{"$error":"#N/A"}},{"$f":"IF(OR(OFFSET(結果貼付け用!$H24,0,(COLUMN()-4)*6,1,1)=\"-\", OFFSET(結果貼付け用!$H24,0,(COLUMN()-4)*6,1,1)=\"\"), NA(), OFFSET(結果貼付け用!$H24,0,(COLUMN()-4)*6,1,1))","v":{"$error":"#N/A"}},{"$f":"IF(OR(OFFSET(結果貼付け用!$H24,0,(COLUMN()-4)*6,1,1)=\"-\", OFFSET(結果貼付け用!$H24,0,(COLUMN()-4)*6,1,1)=\"\"), NA(), OFFSET(結果貼付け用!$H24,0,(COLUMN()-4)*6,1,1))","v":{"$error":"#N/A"}},{"$f":"IF(OR(OFFSET(結果貼付け用!$H24,0,(COLUMN()-4)*6,1,1)=\"-\", OFFSET(結果貼付け用!$H24,0,(COLUMN()-4)*6,1,1)=\"\"), NA(), OFFSET(結果貼付け用!$H24,0,(COLUMN()-4)*6,1,1))","v":{"$error":"#N/A"}},{"$f":"IF(OR(OFFSET(結果貼付け用!$H24,0,(COLUMN()-4)*6,1,1)=\"-\", OFFSET(結果貼付け用!$H24,0,(COLUMN()-4)*6,1,1)=\"\"), NA(), OFFSET(結果貼付け用!$H24,0,(COLUMN()-4)*6,1,1))","v":{"$error":"#N/A"}},{"$f":"IF(OR(OFFSET(結果貼付け用!$H24,0,(COLUMN()-4)*6,1,1)=\"-\", OFFSET(結果貼付け用!$H24,0,(COLUMN()-4)*6,1,1)=\"\"), NA(), OFFSET(結果貼付け用!$H24,0,(COLUMN()-4)*6,1,1))","v":{"$error":"#N/A"}},{"$f":"IF(OR(OFFSET(結果貼付け用!$H24,0,(COLUMN()-4)*6,1,1)=\"-\", OFFSET(結果貼付け用!$H24,0,(COLUMN()-4)*6,1,1)=\"\"), NA(), OFFSET(結果貼付け用!$H24,0,(COLUMN()-4)*6,1,1))","v":{"$error":"#N/A"}},{"$f":"IF(OR(OFFSET(結果貼付け用!$H24,0,(COLUMN()-4)*6,1,1)=\"-\", OFFSET(結果貼付け用!$H24,0,(COLUMN()-4)*6,1,1)=\"\"), NA(), OFFSET(結果貼付け用!$H24,0,(COLUMN()-4)*6,1,1))","v":{"$error":"#N/A"}},{"$f":"IF(OR(OFFSET(結果貼付け用!$H24,0,(COLUMN()-4)*6,1,1)=\"-\", OFFSET(結果貼付け用!$H24,0,(COLUMN()-4)*6,1,1)=\"\"), NA(), OFFSET(結果貼付け用!$H24,0,(COLUMN()-4)*6,1,1))","v":{"$error":"#N/A"}},{"$f":"IF(OR(OFFSET(結果貼付け用!$H24,0,(COLUMN()-4)*6,1,1)=\"-\", OFFSET(結果貼付け用!$H24,0,(COLUMN()-4)*6,1,1)=\"\"), NA(), OFFSET(結果貼付け用!$H24,0,(COLUMN()-4)*6,1,1))","v":{"$error":"#N/A"}},{"$f":"IF(OR(OFFSET(結果貼付け用!$H24,0,(COLUMN()-4)*6,1,1)=\"-\", OFFSET(結果貼付け用!$H24,0,(COLUMN()-4)*6,1,1)=\"\"), NA(), OFFSET(結果貼付け用!$H24,0,(COLUMN()-4)*6,1,1))","v":{"$error":"#N/A"}},{"$f":"IF(OR(OFFSET(結果貼付け用!$H24,0,(COLUMN()-4)*6,1,1)=\"-\", OFFSET(結果貼付け用!$H24,0,(COLUMN()-4)*6,1,1)=\"\"), NA(), OFFSET(結果貼付け用!$H24,0,(COLUMN()-4)*6,1,1))","v":{"$error":"#N/A"}},{"$f":"IF(OR(OFFSET(結果貼付け用!$H24,0,(COLUMN()-4)*6,1,1)=\"-\", OFFSET(結果貼付け用!$H24,0,(COLUMN()-4)*6,1,1)=\"\"), NA(), OFFSET(結果貼付け用!$H24,0,(COLUMN()-4)*6,1,1))","v":{"$error":"#N/A"}}]
[null,"協働必要性",{"$f":"IF(結果貼付け用!B25=\"\",NA(),結果貼付け用!B25)","v":{"$error":"#N/A"}},{"$f":"IF(OR(OFFSET(結果貼付け用!$H25,0,(COLUMN()-4)*6,1,1)=\"-\", OFFSET(結果貼付け用!$H25,0,(COLUMN()-4)*6,1,1)=\"\"), NA(), OFFSET(結果貼付け用!$H25,0,(COLUMN()-4)*6,1,1))","v":{"$error":"#N/A"}},{"$f":"IF(OR(OFFSET(結果貼付け用!$H25,0,(COLUMN()-4)*6,1,1)=\"-\", OFFSET(結果貼付け用!$H25,0,(COLUMN()-4)*6,1,1)=\"\"), NA(), OFFSET(結果貼付け用!$H25,0,(COLUMN()-4)*6,1,1))","v":{"$error":"#N/A"}},{"$f":"IF(OR(OFFSET(結果貼付け用!$H25,0,(COLUMN()-4)*6,1,1)=\"-\", OFFSET(結果貼付け用!$H25,0,(COLUMN()-4)*6,1,1)=\"\"), NA(), OFFSET(結果貼付け用!$H25,0,(COLUMN()-4)*6,1,1))","v":{"$error":"#N/A"}},{"$f":"IF(OR(OFFSET(結果貼付け用!$H25,0,(COLUMN()-4)*6,1,1)=\"-\", OFFSET(結果貼付け用!$H25,0,(COLUMN()-4)*6,1,1)=\"\"), NA(), OFFSET(結果貼付け用!$H25,0,(COLUMN()-4)*6,1,1))","v":{"$error":"#N/A"}},{"$f":"IF(OR(OFFSET(結果貼付け用!$H25,0,(COLUMN()-4)*6,1,1)=\"-\", OFFSET(結果貼付け用!$H25,0,(COLUMN()-4)*6,1,1)=\"\"), NA(), OFFSET(結果貼付け用!$H25,0,(COLUMN()-4)*6,1,1))","v":{"$error":"#N/A"}},{"$f":"IF(OR(OFFSET(結果貼付け用!$H25,0,(COLUMN()-4)*6,1,1)=\"-\", OFFSET(結果貼付け用!$H25,0,(COLUMN()-4)*6,1,1)=\"\"), NA(), OFFSET(結果貼付け用!$H25,0,(COLUMN()-4)*6,1,1))","v":{"$error":"#N/A"}},{"$f":"IF(OR(OFFSET(結果貼付け用!$H25,0,(COLUMN()-4)*6,1,1)=\"-\", OFFSET(結果貼付け用!$H25,0,(COLUMN()-4)*6,1,1)=\"\"), NA(), OFFSET(結果貼付け用!$H25,0,(COLUMN()-4)*6,1,1))","v":{"$error":"#N/A"}},{"$f":"IF(OR(OFFSET(結果貼付け用!$H25,0,(COLUMN()-4)*6,1,1)=\"-\", OFFSET(結果貼付け用!$H25,0,(COLUMN()-4)*6,1,1)=\"\"), NA(), OFFSET(結果貼付け用!$H25,0,(COLUMN()-4)*6,1,1))","v":{"$error":"#N/A"}},{"$f":"IF(OR(OFFSET(結果貼付け用!$H25,0,(COLUMN()-4)*6,1,1)=\"-\", OFFSET(結果貼付け用!$H25,0,(COLUMN()-4)*6,1,1)=\"\"), NA(), OFFSET(結果貼付け用!$H25,0,(COLUMN()-4)*6,1,1))","v":{"$error":"#N/A"}},{"$f":"IF(OR(OFFSET(結果貼付け用!$H25,0,(COLUMN()-4)*6,1,1)=\"-\", OFFSET(結果貼付け用!$H25,0,(COLUMN()-4)*6,1,1)=\"\"), NA(), OFFSET(結果貼付け用!$H25,0,(COLUMN()-4)*6,1,1))","v":{"$error":"#N/A"}},{"$f":"IF(OR(OFFSET(結果貼付け用!$H25,0,(COLUMN()-4)*6,1,1)=\"-\", OFFSET(結果貼付け用!$H25,0,(COLUMN()-4)*6,1,1)=\"\"), NA(), OFFSET(結果貼付け用!$H25,0,(COLUMN()-4)*6,1,1))","v":{"$error":"#N/A"}},{"$f":"IF(OR(OFFSET(結果貼付け用!$H25,0,(COLUMN()-4)*6,1,1)=\"-\", OFFSET(結果貼付け用!$H25,0,(COLUMN()-4)*6,1,1)=\"\"), NA(), OFFSET(結果貼付け用!$H25,0,(COLUMN()-4)*6,1,1))","v":{"$error":"#N/A"}},{"$f":"IF(OR(OFFSET(結果貼付け用!$H25,0,(COLUMN()-4)*6,1,1)=\"-\", OFFSET(結果貼付け用!$H25,0,(COLUMN()-4)*6,1,1)=\"\"), NA(), OFFSET(結果貼付け用!$H25,0,(COLUMN()-4)*6,1,1))","v":{"$error":"#N/A"}},{"$f":"IF(OR(OFFSET(結果貼付け用!$H25,0,(COLUMN()-4)*6,1,1)=\"-\", OFFSET(結果貼付け用!$H25,0,(COLUMN()-4)*6,1,1)=\"\"), NA(), OFFSET(結果貼付け用!$H25,0,(COLUMN()-4)*6,1,1))","v":{"$error":"#N/A"}},{"$f":"IF(OR(OFFSET(結果貼付け用!$H25,0,(COLUMN()-4)*6,1,1)=\"-\", OFFSET(結果貼付け用!$H25,0,(COLUMN()-4)*6,1,1)=\"\"), NA(), OFFSET(結果貼付け用!$H25,0,(COLUMN()-4)*6,1,1))","v":{"$error":"#N/A"}},{"$f":"IF(OR(OFFSET(結果貼付け用!$H25,0,(COLUMN()-4)*6,1,1)=\"-\", OFFSET(結果貼付け用!$H25,0,(COLUMN()-4)*6,1,1)=\"\"), NA(), OFFSET(結果貼付け用!$H25,0,(COLUMN()-4)*6,1,1))","v":{"$error":"#N/A"}},{"$f":"IF(OR(OFFSET(結果貼付け用!$H25,0,(COLUMN()-4)*6,1,1)=\"-\", OFFSET(結果貼付け用!$H25,0,(COLUMN()-4)*6,1,1)=\"\"), NA(), OFFSET(結果貼付け用!$H25,0,(COLUMN()-4)*6,1,1))","v":{"$error":"#N/A"}},{"$f":"IF(OR(OFFSET(結果貼付け用!$H25,0,(COLUMN()-4)*6,1,1)=\"-\", OFFSET(結果貼付け用!$H25,0,(COLUMN()-4)*6,1,1)=\"\"), NA(), OFFSET(結果貼付け用!$H25,0,(COLUMN()-4)*6,1,1))","v":{"$error":"#N/A"}},{"$f":"IF(OR(OFFSET(結果貼付け用!$H25,0,(COLUMN()-4)*6,1,1)=\"-\", OFFSET(結果貼付け用!$H25,0,(COLUMN()-4)*6,1,1)=\"\"), NA(), OFFSET(結果貼付け用!$H25,0,(COLUMN()-4)*6,1,1))","v":{"$error":"#N/A"}},{"$f":"IF(OR(OFFSET(結果貼付け用!$H25,0,(COLUMN()-4)*6,1,1)=\"-\", OFFSET(結果貼付け用!$H25,0,(COLUMN()-4)*6,1,1)=\"\"), NA(), OFFSET(結果貼付け用!$H25,0,(COLUMN()-4)*6,1,1))","v":{"$error":"#N/A"}},{"$f":"IF(OR(OFFSET(結果貼付け用!$H25,0,(COLUMN()-4)*6,1,1)=\"-\", OFFSET(結果貼付け用!$H25,0,(COLUMN()-4)*6,1,1)=\"\"), NA(), OFFSET(結果貼付け用!$H25,0,(COLUMN()-4)*6,1,1))","v":{"$error":"#N/A"}},{"$f":"IF(OR(OFFSET(結果貼付け用!$H25,0,(COLUMN()-4)*6,1,1)=\"-\", OFFSET(結果貼付け用!$H25,0,(COLUMN()-4)*6,1,1)=\"\"), NA(), OFFSET(結果貼付け用!$H25,0,(COLUMN()-4)*6,1,1))","v":{"$error":"#N/A"}},{"$f":"IF(OR(OFFSET(結果貼付け用!$H25,0,(COLUMN()-4)*6,1,1)=\"-\", OFFSET(結果貼付け用!$H25,0,(COLUMN()-4)*6,1,1)=\"\"), NA(), OFFSET(結果貼付け用!$H25,0,(COLUMN()-4)*6,1,1))","v":{"$error":"#N/A"}},{"$f":"IF(OR(OFFSET(結果貼付け用!$H25,0,(COLUMN()-4)*6,1,1)=\"-\", OFFSET(結果貼付け用!$H25,0,(COLUMN()-4)*6,1,1)=\"\"), NA(), OFFSET(結果貼付け用!$H25,0,(COLUMN()-4)*6,1,1))","v":{"$error":"#N/A"}},{"$f":"IF(OR(OFFSET(結果貼付け用!$H25,0,(COLUMN()-4)*6,1,1)=\"-\", OFFSET(結果貼付け用!$H25,0,(COLUMN()-4)*6,1,1)=\"\"), NA(), OFFSET(結果貼付け用!$H25,0,(COLUMN()-4)*6,1,1))","v":{"$error":"#N/A"}},{"$f":"IF(OR(OFFSET(結果貼付け用!$H25,0,(COLUMN()-4)*6,1,1)=\"-\", OFFSET(結果貼付け用!$H25,0,(COLUMN()-4)*6,1,1)=\"\"), NA(), OFFSET(結果貼付け用!$H25,0,(COLUMN()-4)*6,1,1))","v":{"$error":"#N/A"}},{"$f":"IF(OR(OFFSET(結果貼付け用!$H25,0,(COLUMN()-4)*6,1,1)=\"-\", OFFSET(結果貼付け用!$H25,0,(COLUMN()-4)*6,1,1)=\"\"), NA(), OFFSET(結果貼付け用!$H25,0,(COLUMN()-4)*6,1,1))","v":{"$error":"#N/A"}},{"$f":"IF(OR(OFFSET(結果貼付け用!$H25,0,(COLUMN()-4)*6,1,1)=\"-\", OFFSET(結果貼付け用!$H25,0,(COLUMN()-4)*6,1,1)=\"\"), NA(), OFFSET(結果貼付け用!$H25,0,(COLUMN()-4)*6,1,1))","v":{"$error":"#N/A"}},{"$f":"IF(OR(OFFSET(結果貼付け用!$H25,0,(COLUMN()-4)*6,1,1)=\"-\", OFFSET(結果貼付け用!$H25,0,(COLUMN()-4)*6,1,1)=\"\"), NA(), OFFSET(結果貼付け用!$H25,0,(COLUMN()-4)*6,1,1))","v":{"$error":"#N/A"}}]
[]
[]
[]
[]
[]
[]
[]
[]
[]
[]
[]
[]
[]
[]
[]
[]
[]
[]
[]
[]
[null,"実施開始日時",{"$f":"IF(結果貼付け用!B2=\"\",NA(),結果貼付け用!B2)","v":{"$error":"#N/A"}},{"$f":"IF((OFFSET(結果貼付け用!$H$2, 0, (COLUMN() - COLUMN($D$26)) * 6))=\"\",NA(),(OFFSET(結果貼付け用!$H$2, 0, (COLUMN() - COLUMN($D$26)) * 6)))","v":{"$error":"#N/A"}},{"$f":"IF((OFFSET(結果貼付け用!$H$2, 0, (COLUMN() - COLUMN($D$26)) * 6))=\"\",NA(),(OFFSET(結果貼付け用!$H$2, 0, (COLUMN() - COLUMN($D$26)) * 6)))","v":{"$error":"#N/A"}},{"$f":"IF((OFFSET(結果貼付け用!$H$2, 0, (COLUMN() - COLUMN($D$26)) * 6))=\"\",NA(),(OFFSET(結果貼付け用!$H$2, 0, (COLUMN() - COLUMN($D$26)) * 6)))","v":{"$error":"#N/A"}},{"$f":"IF((OFFSET(結果貼付け用!$H$2, 0, (COLUMN() - COLUMN($D$26)) * 6))=\"\",NA(),(OFFSET(結果貼付け用!$H$2, 0, (COLUMN() - COLUMN($D$26)) * 6)))","v":{"$error":"#N/A"}},{"$f":"IF((OFFSET(結果貼付け用!$H$2, 0, (COLUMN() - COLUMN($D$26)) * 6))=\"\",NA(),(OFFSET(結果貼付け用!$H$2, 0, (COLUMN() - COLUMN($D$26)) * 6)))","v":{"$error":"#N/A"}},{"$f":"IF((OFFSET(結果貼付け用!$H$2, 0, (COLUMN() - COLUMN($D$26)) * 6))=\"\",NA(),(OFFSET(結果貼付け用!$H$2, 0, (COLUMN() - COLUMN($D$26)) * 6)))","v":{"$error":"#N/A"}},{"$f":"IF((OFFSET(結果貼付け用!$H$2, 0, (COLUMN() - COLUMN($D$26)) * 6))=\"\",NA(),(OFFSET(結果貼付け用!$H$2, 0, (COLUMN() - COLUMN($D$26)) * 6)))","v":{"$error":"#N/A"}},{"$f":"IF((OFFSET(結果貼付け用!$H$2, 0, (COLUMN() - COLUMN($D$26)) * 6))=\"\",NA(),(OFFSET(結果貼付け用!$H$2, 0, (COLUMN() - COLUMN($D$26)) * 6)))","v":{"$error":"#N/A"}},{"$f":"IF((OFFSET(結果貼付け用!$H$2, 0, (COLUMN() - COLUMN($D$26)) * 6))=\"\",NA(),(OFFSET(結果貼付け用!$H$2, 0, (COLUMN() - COLUMN($D$26)) * 6)))","v":{"$error":"#N/A"}},{"$f":"IF((OFFSET(結果貼付け用!$H$2, 0, (COLUMN() - COLUMN($D$26)) * 6))=\"\",NA(),(OFFSET(結果貼付け用!$H$2, 0, (COLUMN() - COLUMN($D$26)) * 6)))","v":{"$error":"#N/A"}},{"$f":"IF((OFFSET(結果貼付け用!$H$2, 0, (COLUMN() - COLUMN($D$26)) * 6))=\"\",NA(),(OFFSET(結果貼付け用!$H$2, 0, (COLUMN() - COLUMN($D$26)) * 6)))","v":{"$error":"#N/A"}},{"$f":"IF((OFFSET(結果貼付け用!$H$2, 0, (COLUMN() - COLUMN($D$26)) * 6))=\"\",NA(),(OFFSET(結果貼付け用!$H$2, 0, (COLUMN() - COLUMN($D$26)) * 6)))","v":{"$error":"#N/A"}},{"$f":"IF((OFFSET(結果貼付け用!$H$2, 0, (COLUMN() - COLUMN($D$26)) * 6))=\"\",NA(),(OFFSET(結果貼付け用!$H$2, 0, (COLUMN() - COLUMN($D$26)) * 6)))","v":{"$error":"#N/A"}},{"$f":"IF((OFFSET(結果貼付け用!$H$2, 0, (COLUMN() - COLUMN($D$26)) * 6))=\"\",NA(),(OFFSET(結果貼付け用!$H$2, 0, (COLUMN() - COLUMN($D$26)) * 6)))","v":{"$error":"#N/A"}},{"$f":"IF((OFFSET(結果貼付け用!$H$2, 0, (COLUMN() - COLUMN($D$26)) * 6))=\"\",NA(),(OFFSET(結果貼付け用!$H$2, 0, (COLUMN() - COLUMN($D$26)) * 6)))","v":{"$error":"#N/A"}},{"$f":"IF((OFFSET(結果貼付け用!$H$2, 0, (COLUMN() - COLUMN($D$26)) * 6))=\"\",NA(),(OFFSET(結果貼付け用!$H$2, 0, (COLUMN() - COLUMN($D$26)) * 6)))","v":{"$error":"#N/A"}},{"$f":"IF((OFFSET(結果貼付け用!$H$2, 0, (COLUMN() - COLUMN($D$26)) * 6))=\"\",NA(),(OFFSET(結果貼付け用!$H$2, 0, (COLUMN() - COLUMN($D$26)) * 6)))","v":{"$error":"#N/A"}},{"$f":"IF((OFFSET(結果貼付け用!$H$2, 0, (COLUMN() - COLUMN($D$26)) * 6))=\"\",NA(),(OFFSET(結果貼付け用!$H$2, 0, (COLUMN() - COLUMN($D$26)) * 6)))","v":{"$error":"#N/A"}},{"$f":"IF((OFFSET(結果貼付け用!$H$2, 0, (COLUMN() - COLUMN($D$26)) * 6))=\"\",NA(),(OFFSET(結果貼付け用!$H$2, 0, (COLUMN() - COLUMN($D$26)) * 6)))","v":{"$error":"#N/A"}},{"$f":"IF((OFFSET(結果貼付け用!$H$2, 0, (COLUMN() - COLUMN($D$26)) * 6))=\"\",NA(),(OFFSET(結果貼付け用!$H$2, 0, (COLUMN() - COLUMN($D$26)) * 6)))","v":{"$error":"#N/A"}},{"$f":"IF((OFFSET(結果貼付け用!$H$2, 0, (COLUMN() - COLUMN($D$26)) * 6))=\"\",NA(),(OFFSET(結果貼付け用!$H$2, 0, (COLUMN() - COLUMN($D$26)) * 6)))","v":{"$error":"#N/A"}},{"$f":"IF((OFFSET(結果貼付け用!$H$2, 0, (COLUMN() - COLUMN($D$26)) * 6))=\"\",NA(),(OFFSET(結果貼付け用!$H$2, 0, (COLUMN() - COLUMN($D$26)) * 6)))","v":{"$error":"#N/A"}},{"$f":"IF((OFFSET(結果貼付け用!$H$2, 0, (COLUMN() - COLUMN($D$26)) * 6))=\"\",NA(),(OFFSET(結果貼付け用!$H$2, 0, (COLUMN() - COLUMN($D$26)) * 6)))","v":{"$error":"#N/A"}},{"$f":"IF((OFFSET(結果貼付け用!$H$2, 0, (COLUMN() - COLUMN($D$26)) * 6))=\"\",NA(),(OFFSET(結果貼付け用!$H$2, 0, (COLUMN() - COLUMN($D$26)) * 6)))","v":{"$error":"#N/A"}},{"$f":"IF((OFFSET(結果貼付け用!$H$2, 0, (COLUMN() - COLUMN($D$26)) * 6))=\"\",NA(),(OFFSET(結果貼付け用!$H$2, 0, (COLUMN() - COLUMN($D$26)) * 6)))","v":{"$error":"#N/A"}},{"$f":"IF((OFFSET(結果貼付け用!$H$2, 0, (COLUMN() - COLUMN($D$26)) * 6))=\"\",NA(),(OFFSET(結果貼付け用!$H$2, 0, (COLUMN() - COLUMN($D$26)) * 6)))","v":{"$error":"#N/A"}},{"$f":"IF((OFFSET(結果貼付け用!$H$2, 0, (COLUMN() - COLUMN($D$26)) * 6))=\"\",NA(),(OFFSET(結果貼付け用!$H$2, 0, (COLUMN() - COLUMN($D$26)) * 6)))","v":{"$error":"#N/A"}},{"$f":"IF((OFFSET(結果貼付け用!$H$2, 0, (COLUMN() - COLUMN($D$26)) * 6))=\"\",NA(),(OFFSET(結果貼付け用!$H$2, 0, (COLUMN() - COLUMN($D$26)) * 6)))","v":{"$error":"#N/A"}},{"$f":"IF((OFFSET(結果貼付け用!$H$2, 0, (COLUMN() - COLUMN($D$26)) * 6))=\"\",NA(),(OFFSET(結果貼付け用!$H$2, 0, (COLUMN() - COLUMN($D$26)) * 6)))","v":{"$error":"#N/A"}}]
[null,"仕事状況",{"$f":"IF(結果貼付け用!B26=\"\",NA(),結果貼付け用!B26)","v":{"$error":"#N/A"}},{"$f":"IF(OR(OFFSET(結果貼付け用!$H26,0,(COLUMN()-4)*6,1,1)=\"-\", OFFSET(結果貼付け用!$H26,0,(COLUMN()-4)*6,1,1)=\"\"), NA(), OFFSET(結果貼付け用!$H26,0,(COLUMN()-4)*6,1,1))","v":{"$error":"#N/A"}},{"$f":"IF(OR(OFFSET(結果貼付け用!$H26,0,(COLUMN()-4)*6,1,1)=\"-\", OFFSET(結果貼付け用!$H26,0,(COLUMN()-4)*6,1,1)=\"\"), NA(), OFFSET(結果貼付け用!$H26,0,(COLUMN()-4)*6,1,1))","v":{"$error":"#N/A"}},{"$f":"IF(OR(OFFSET(結果貼付け用!$H26,0,(COLUMN()-4)*6,1,1)=\"-\", OFFSET(結果貼付け用!$H26,0,(COLUMN()-4)*6,1,1)=\"\"), NA(), OFFSET(結果貼付け用!$H26,0,(COLUMN()-4)*6,1,1))","v":{"$error":"#N/A"}},{"$f":"IF(OR(OFFSET(結果貼付け用!$H26,0,(COLUMN()-4)*6,1,1)=\"-\", OFFSET(結果貼付け用!$H26,0,(COLUMN()-4)*6,1,1)=\"\"), NA(), OFFSET(結果貼付け用!$H26,0,(COLUMN()-4)*6,1,1))","v":{"$error":"#N/A"}},{"$f":"IF(OR(OFFSET(結果貼付け用!$H26,0,(COLUMN()-4)*6,1,1)=\"-\", OFFSET(結果貼付け用!$H26,0,(COLUMN()-4)*6,1,1)=\"\"), NA(), OFFSET(結果貼付け用!$H26,0,(COLUMN()-4)*6,1,1))","v":{"$error":"#N/A"}},{"$f":"IF(OR(OFFSET(結果貼付け用!$H26,0,(COLUMN()-4)*6,1,1)=\"-\", OFFSET(結果貼付け用!$H26,0,(COLUMN()-4)*6,1,1)=\"\"), NA(), OFFSET(結果貼付け用!$H26,0,(COLUMN()-4)*6,1,1))","v":{"$error":"#N/A"}},{"$f":"IF(OR(OFFSET(結果貼付け用!$H26,0,(COLUMN()-4)*6,1,1)=\"-\", OFFSET(結果貼付け用!$H26,0,(COLUMN()-4)*6,1,1)=\"\"), NA(), OFFSET(結果貼付け用!$H26,0,(COLUMN()-4)*6,1,1))","v":{"$error":"#N/A"}},{"$f":"IF(OR(OFFSET(結果貼付け用!$H26,0,(COLUMN()-4)*6,1,1)=\"-\", OFFSET(結果貼付け用!$H26,0,(COLUMN()-4)*6,1,1)=\"\"), NA(), OFFSET(結果貼付け用!$H26,0,(COLUMN()-4)*6,1,1))","v":{"$error":"#N/A"}},{"$f":"IF(OR(OFFSET(結果貼付け用!$H26,0,(COLUMN()-4)*6,1,1)=\"-\", OFFSET(結果貼付け用!$H26,0,(COLUMN()-4)*6,1,1)=\"\"), NA(), OFFSET(結果貼付け用!$H26,0,(COLUMN()-4)*6,1,1))","v":{"$error":"#N/A"}},{"$f":"IF(OR(OFFSET(結果貼付け用!$H26,0,(COLUMN()-4)*6,1,1)=\"-\", OFFSET(結果貼付け用!$H26,0,(COLUMN()-4)*6,1,1)=\"\"), NA(), OFFSET(結果貼付け用!$H26,0,(COLUMN()-4)*6,1,1))","v":{"$error":"#N/A"}},{"$f":"IF(OR(OFFSET(結果貼付け用!$H26,0,(COLUMN()-4)*6,1,1)=\"-\", OFFSET(結果貼付け用!$H26,0,(COLUMN()-4)*6,1,1)=\"\"), NA(), OFFSET(結果貼付け用!$H26,0,(COLUMN()-4)*6,1,1))","v":{"$error":"#N/A"}},{"$f":"IF(OR(OFFSET(結果貼付け用!$H26,0,(COLUMN()-4)*6,1,1)=\"-\", OFFSET(結果貼付け用!$H26,0,(COLUMN()-4)*6,1,1)=\"\"), NA(), OFFSET(結果貼付け用!$H26,0,(COLUMN()-4)*6,1,1))","v":{"$error":"#N/A"}},{"$f":"IF(OR(OFFSET(結果貼付け用!$H26,0,(COLUMN()-4)*6,1,1)=\"-\", OFFSET(結果貼付け用!$H26,0,(COLUMN()-4)*6,1,1)=\"\"), NA(), OFFSET(結果貼付け用!$H26,0,(COLUMN()-4)*6,1,1))","v":{"$error":"#N/A"}},{"$f":"IF(OR(OFFSET(結果貼付け用!$H26,0,(COLUMN()-4)*6,1,1)=\"-\", OFFSET(結果貼付け用!$H26,0,(COLUMN()-4)*6,1,1)=\"\"), NA(), OFFSET(結果貼付け用!$H26,0,(COLUMN()-4)*6,1,1))","v":{"$error":"#N/A"}},{"$f":"IF(OR(OFFSET(結果貼付け用!$H26,0,(COLUMN()-4)*6,1,1)=\"-\", OFFSET(結果貼付け用!$H26,0,(COLUMN()-4)*6,1,1)=\"\"), NA(), OFFSET(結果貼付け用!$H26,0,(COLUMN()-4)*6,1,1))","v":{"$error":"#N/A"}},{"$f":"IF(OR(OFFSET(結果貼付け用!$H26,0,(COLUMN()-4)*6,1,1)=\"-\", OFFSET(結果貼付け用!$H26,0,(COLUMN()-4)*6,1,1)=\"\"), NA(), OFFSET(結果貼付け用!$H26,0,(COLUMN()-4)*6,1,1))","v":{"$error":"#N/A"}},{"$f":"IF(OR(OFFSET(結果貼付け用!$H26,0,(COLUMN()-4)*6,1,1)=\"-\", OFFSET(結果貼付け用!$H26,0,(COLUMN()-4)*6,1,1)=\"\"), NA(), OFFSET(結果貼付け用!$H26,0,(COLUMN()-4)*6,1,1))","v":{"$error":"#N/A"}},{"$f":"IF(OR(OFFSET(結果貼付け用!$H26,0,(COLUMN()-4)*6,1,1)=\"-\", OFFSET(結果貼付け用!$H26,0,(COLUMN()-4)*6,1,1)=\"\"), NA(), OFFSET(結果貼付け用!$H26,0,(COLUMN()-4)*6,1,1))","v":{"$error":"#N/A"}},{"$f":"IF(OR(OFFSET(結果貼付け用!$H26,0,(COLUMN()-4)*6,1,1)=\"-\", OFFSET(結果貼付け用!$H26,0,(COLUMN()-4)*6,1,1)=\"\"), NA(), OFFSET(結果貼付け用!$H26,0,(COLUMN()-4)*6,1,1))","v":{"$error":"#N/A"}},{"$f":"IF(OR(OFFSET(結果貼付け用!$H26,0,(COLUMN()-4)*6,1,1)=\"-\", OFFSET(結果貼付け用!$H26,0,(COLUMN()-4)*6,1,1)=\"\"), NA(), OFFSET(結果貼付け用!$H26,0,(COLUMN()-4)*6,1,1))","v":{"$error":"#N/A"}},{"$f":"IF(OR(OFFSET(結果貼付け用!$H26,0,(COLUMN()-4)*6,1,1)=\"-\", OFFSET(結果貼付け用!$H26,0,(COLUMN()-4)*6,1,1)=\"\"), NA(), OFFSET(結果貼付け用!$H26,0,(COLUMN()-4)*6,1,1))","v":{"$error":"#N/A"}},{"$f":"IF(OR(OFFSET(結果貼付け用!$H26,0,(COLUMN()-4)*6,1,1)=\"-\", OFFSET(結果貼付け用!$H26,0,(COLUMN()-4)*6,1,1)=\"\"), NA(), OFFSET(結果貼付け用!$H26,0,(COLUMN()-4)*6,1,1))","v":{"$error":"#N/A"}},{"$f":"IF(OR(OFFSET(結果貼付け用!$H26,0,(COLUMN()-4)*6,1,1)=\"-\", OFFSET(結果貼付け用!$H26,0,(COLUMN()-4)*6,1,1)=\"\"), NA(), OFFSET(結果貼付け用!$H26,0,(COLUMN()-4)*6,1,1))","v":{"$error":"#N/A"}},{"$f":"IF(OR(OFFSET(結果貼付け用!$H26,0,(COLUMN()-4)*6,1,1)=\"-\", OFFSET(結果貼付け用!$H26,0,(COLUMN()-4)*6,1,1)=\"\"), NA(), OFFSET(結果貼付け用!$H26,0,(COLUMN()-4)*6,1,1))","v":{"$error":"#N/A"}},{"$f":"IF(OR(OFFSET(結果貼付け用!$H26,0,(COLUMN()-4)*6,1,1)=\"-\", OFFSET(結果貼付け用!$H26,0,(COLUMN()-4)*6,1,1)=\"\"), NA(), OFFSET(結果貼付け用!$H26,0,(COLUMN()-4)*6,1,1))","v":{"$error":"#N/A"}},{"$f":"IF(OR(OFFSET(結果貼付け用!$H26,0,(COLUMN()-4)*6,1,1)=\"-\", OFFSET(結果貼付け用!$H26,0,(COLUMN()-4)*6,1,1)=\"\"), NA(), OFFSET(結果貼付け用!$H26,0,(COLUMN()-4)*6,1,1))","v":{"$error":"#N/A"}},{"$f":"IF(OR(OFFSET(結果貼付け用!$H26,0,(COLUMN()-4)*6,1,1)=\"-\", OFFSET(結果貼付け用!$H26,0,(COLUMN()-4)*6,1,1)=\"\"), NA(), OFFSET(結果貼付け用!$H26,0,(COLUMN()-4)*6,1,1))","v":{"$error":"#N/A"}},{"$f":"IF(OR(OFFSET(結果貼付け用!$H26,0,(COLUMN()-4)*6,1,1)=\"-\", OFFSET(結果貼付け用!$H26,0,(COLUMN()-4)*6,1,1)=\"\"), NA(), OFFSET(結果貼付け用!$H26,0,(COLUMN()-4)*6,1,1))","v":{"$error":"#N/A"}},{"$f":"IF(OR(OFFSET(結果貼付け用!$H26,0,(COLUMN()-4)*6,1,1)=\"-\", OFFSET(結果貼付け用!$H26,0,(COLUMN()-4)*6,1,1)=\"\"), NA(), OFFSET(結果貼付け用!$H26,0,(COLUMN()-4)*6,1,1))","v":{"$error":"#N/A"}}]
[null,"十分な休息",{"$f":"IF(結果貼付け用!B27=\"\",NA(),結果貼付け用!B27)","v":{"$error":"#N/A"}},{"$f":"IF(OR(OFFSET(結果貼付け用!$H27,0,(COLUMN()-4)*6,1,1)=\"-\", OFFSET(結果貼付け用!$H27,0,(COLUMN()-4)*6,1,1)=\"\"), NA(), OFFSET(結果貼付け用!$H27,0,(COLUMN()-4)*6,1,1))","v":{"$error":"#N/A"}},{"$f":"IF(OR(OFFSET(結果貼付け用!$H27,0,(COLUMN()-4)*6,1,1)=\"-\", OFFSET(結果貼付け用!$H27,0,(COLUMN()-4)*6,1,1)=\"\"), NA(), OFFSET(結果貼付け用!$H27,0,(COLUMN()-4)*6,1,1))","v":{"$error":"#N/A"}},{"$f":"IF(OR(OFFSET(結果貼付け用!$H27,0,(COLUMN()-4)*6,1,1)=\"-\", OFFSET(結果貼付け用!$H27,0,(COLUMN()-4)*6,1,1)=\"\"), NA(), OFFSET(結果貼付け用!$H27,0,(COLUMN()-4)*6,1,1))","v":{"$error":"#N/A"}},{"$f":"IF(OR(OFFSET(結果貼付け用!$H27,0,(COLUMN()-4)*6,1,1)=\"-\", OFFSET(結果貼付け用!$H27,0,(COLUMN()-4)*6,1,1)=\"\"), NA(), OFFSET(結果貼付け用!$H27,0,(COLUMN()-4)*6,1,1))","v":{"$error":"#N/A"}},{"$f":"IF(OR(OFFSET(結果貼付け用!$H27,0,(COLUMN()-4)*6,1,1)=\"-\", OFFSET(結果貼付け用!$H27,0,(COLUMN()-4)*6,1,1)=\"\"), NA(), OFFSET(結果貼付け用!$H27,0,(COLUMN()-4)*6,1,1))","v":{"$error":"#N/A"}},{"$f":"IF(OR(OFFSET(結果貼付け用!$H27,0,(COLUMN()-4)*6,1,1)=\"-\", OFFSET(結果貼付け用!$H27,0,(COLUMN()-4)*6,1,1)=\"\"), NA(), OFFSET(結果貼付け用!$H27,0,(COLUMN()-4)*6,1,1))","v":{"$error":"#N/A"}},{"$f":"IF(OR(OFFSET(結果貼付け用!$H27,0,(COLUMN()-4)*6,1,1)=\"-\", OFFSET(結果貼付け用!$H27,0,(COLUMN()-4)*6,1,1)=\"\"), NA(), OFFSET(結果貼付け用!$H27,0,(COLUMN()-4)*6,1,1))","v":{"$error":"#N/A"}},{"$f":"IF(OR(OFFSET(結果貼付け用!$H27,0,(COLUMN()-4)*6,1,1)=\"-\", OFFSET(結果貼付け用!$H27,0,(COLUMN()-4)*6,1,1)=\"\"), NA(), OFFSET(結果貼付け用!$H27,0,(COLUMN()-4)*6,1,1))","v":{"$error":"#N/A"}},{"$f":"IF(OR(OFFSET(結果貼付け用!$H27,0,(COLUMN()-4)*6,1,1)=\"-\", OFFSET(結果貼付け用!$H27,0,(COLUMN()-4)*6,1,1)=\"\"), NA(), OFFSET(結果貼付け用!$H27,0,(COLUMN()-4)*6,1,1))","v":{"$error":"#N/A"}},{"$f":"IF(OR(OFFSET(結果貼付け用!$H27,0,(COLUMN()-4)*6,1,1)=\"-\", OFFSET(結果貼付け用!$H27,0,(COLUMN()-4)*6,1,1)=\"\"), NA(), OFFSET(結果貼付け用!$H27,0,(COLUMN()-4)*6,1,1))","v":{"$error":"#N/A"}},{"$f":"IF(OR(OFFSET(結果貼付け用!$H27,0,(COLUMN()-4)*6,1,1)=\"-\", OFFSET(結果貼付け用!$H27,0,(COLUMN()-4)*6,1,1)=\"\"), NA(), OFFSET(結果貼付け用!$H27,0,(COLUMN()-4)*6,1,1))","v":{"$error":"#N/A"}},{"$f":"IF(OR(OFFSET(結果貼付け用!$H27,0,(COLUMN()-4)*6,1,1)=\"-\", OFFSET(結果貼付け用!$H27,0,(COLUMN()-4)*6,1,1)=\"\"), NA(), OFFSET(結果貼付け用!$H27,0,(COLUMN()-4)*6,1,1))","v":{"$error":"#N/A"}},{"$f":"IF(OR(OFFSET(結果貼付け用!$H27,0,(COLUMN()-4)*6,1,1)=\"-\", OFFSET(結果貼付け用!$H27,0,(COLUMN()-4)*6,1,1)=\"\"), NA(), OFFSET(結果貼付け用!$H27,0,(COLUMN()-4)*6,1,1))","v":{"$error":"#N/A"}},{"$f":"IF(OR(OFFSET(結果貼付け用!$H27,0,(COLUMN()-4)*6,1,1)=\"-\", OFFSET(結果貼付け用!$H27,0,(COLUMN()-4)*6,1,1)=\"\"), NA(), OFFSET(結果貼付け用!$H27,0,(COLUMN()-4)*6,1,1))","v":{"$error":"#N/A"}},{"$f":"IF(OR(OFFSET(結果貼付け用!$H27,0,(COLUMN()-4)*6,1,1)=\"-\", OFFSET(結果貼付け用!$H27,0,(COLUMN()-4)*6,1,1)=\"\"), NA(), OFFSET(結果貼付け用!$H27,0,(COLUMN()-4)*6,1,1))","v":{"$error":"#N/A"}},{"$f":"IF(OR(OFFSET(結果貼付け用!$H27,0,(COLUMN()-4)*6,1,1)=\"-\", OFFSET(結果貼付け用!$H27,0,(COLUMN()-4)*6,1,1)=\"\"), NA(), OFFSET(結果貼付け用!$H27,0,(COLUMN()-4)*6,1,1))","v":{"$error":"#N/A"}},{"$f":"IF(OR(OFFSET(結果貼付け用!$H27,0,(COLUMN()-4)*6,1,1)=\"-\", OFFSET(結果貼付け用!$H27,0,(COLUMN()-4)*6,1,1)=\"\"), NA(), OFFSET(結果貼付け用!$H27,0,(COLUMN()-4)*6,1,1))","v":{"$error":"#N/A"}},{"$f":"IF(OR(OFFSET(結果貼付け用!$H27,0,(COLUMN()-4)*6,1,1)=\"-\", OFFSET(結果貼付け用!$H27,0,(COLUMN()-4)*6,1,1)=\"\"), NA(), OFFSET(結果貼付け用!$H27,0,(COLUMN()-4)*6,1,1))","v":{"$error":"#N/A"}},{"$f":"IF(OR(OFFSET(結果貼付け用!$H27,0,(COLUMN()-4)*6,1,1)=\"-\", OFFSET(結果貼付け用!$H27,0,(COLUMN()-4)*6,1,1)=\"\"), NA(), OFFSET(結果貼付け用!$H27,0,(COLUMN()-4)*6,1,1))","v":{"$error":"#N/A"}},{"$f":"IF(OR(OFFSET(結果貼付け用!$H27,0,(COLUMN()-4)*6,1,1)=\"-\", OFFSET(結果貼付け用!$H27,0,(COLUMN()-4)*6,1,1)=\"\"), NA(), OFFSET(結果貼付け用!$H27,0,(COLUMN()-4)*6,1,1))","v":{"$error":"#N/A"}},{"$f":"IF(OR(OFFSET(結果貼付け用!$H27,0,(COLUMN()-4)*6,1,1)=\"-\", OFFSET(結果貼付け用!$H27,0,(COLUMN()-4)*6,1,1)=\"\"), NA(), OFFSET(結果貼付け用!$H27,0,(COLUMN()-4)*6,1,1))","v":{"$error":"#N/A"}},{"$f":"IF(OR(OFFSET(結果貼付け用!$H27,0,(COLUMN()-4)*6,1,1)=\"-\", OFFSET(結果貼付け用!$H27,0,(COLUMN()-4)*6,1,1)=\"\"), NA(), OFFSET(結果貼付け用!$H27,0,(COLUMN()-4)*6,1,1))","v":{"$error":"#N/A"}},{"$f":"IF(OR(OFFSET(結果貼付け用!$H27,0,(COLUMN()-4)*6,1,1)=\"-\", OFFSET(結果貼付け用!$H27,0,(COLUMN()-4)*6,1,1)=\"\"), NA(), OFFSET(結果貼付け用!$H27,0,(COLUMN()-4)*6,1,1))","v":{"$error":"#N/A"}},{"$f":"IF(OR(OFFSET(結果貼付け用!$H27,0,(COLUMN()-4)*6,1,1)=\"-\", OFFSET(結果貼付け用!$H27,0,(COLUMN()-4)*6,1,1)=\"\"), NA(), OFFSET(結果貼付け用!$H27,0,(COLUMN()-4)*6,1,1))","v":{"$error":"#N/A"}},{"$f":"IF(OR(OFFSET(結果貼付け用!$H27,0,(COLUMN()-4)*6,1,1)=\"-\", OFFSET(結果貼付け用!$H27,0,(COLUMN()-4)*6,1,1)=\"\"), NA(), OFFSET(結果貼付け用!$H27,0,(COLUMN()-4)*6,1,1))","v":{"$error":"#N/A"}},{"$f":"IF(OR(OFFSET(結果貼付け用!$H27,0,(COLUMN()-4)*6,1,1)=\"-\", OFFSET(結果貼付け用!$H27,0,(COLUMN()-4)*6,1,1)=\"\"), NA(), OFFSET(結果貼付け用!$H27,0,(COLUMN()-4)*6,1,1))","v":{"$error":"#N/A"}},{"$f":"IF(OR(OFFSET(結果貼付け用!$H27,0,(COLUMN()-4)*6,1,1)=\"-\", OFFSET(結果貼付け用!$H27,0,(COLUMN()-4)*6,1,1)=\"\"), NA(), OFFSET(結果貼付け用!$H27,0,(COLUMN()-4)*6,1,1))","v":{"$error":"#N/A"}},{"$f":"IF(OR(OFFSET(結果貼付け用!$H27,0,(COLUMN()-4)*6,1,1)=\"-\", OFFSET(結果貼付け用!$H27,0,(COLUMN()-4)*6,1,1)=\"\"), NA(), OFFSET(結果貼付け用!$H27,0,(COLUMN()-4)*6,1,1))","v":{"$error":"#N/A"}},{"$f":"IF(OR(OFFSET(結果貼付け用!$H27,0,(COLUMN()-4)*6,1,1)=\"-\", OFFSET(結果貼付け用!$H27,0,(COLUMN()-4)*6,1,1)=\"\"), NA(), OFFSET(結果貼付け用!$H27,0,(COLUMN()-4)*6,1,1))","v":{"$error":"#N/A"}}]
[null,"仕事時間の適切感",{"$f":"IF(結果貼付け用!B28=\"\",NA(),結果貼付け用!B28)","v":{"$error":"#N/A"}},{"$f":"IF(OR(OFFSET(結果貼付け用!$H28,0,(COLUMN()-4)*6,1,1)=\"-\", OFFSET(結果貼付け用!$H28,0,(COLUMN()-4)*6,1,1)=\"\"), NA(), OFFSET(結果貼付け用!$H28,0,(COLUMN()-4)*6,1,1))","v":{"$error":"#N/A"}},{"$f":"IF(OR(OFFSET(結果貼付け用!$H28,0,(COLUMN()-4)*6,1,1)=\"-\", OFFSET(結果貼付け用!$H28,0,(COLUMN()-4)*6,1,1)=\"\"), NA(), OFFSET(結果貼付け用!$H28,0,(COLUMN()-4)*6,1,1))","v":{"$error":"#N/A"}},{"$f":"IF(OR(OFFSET(結果貼付け用!$H28,0,(COLUMN()-4)*6,1,1)=\"-\", OFFSET(結果貼付け用!$H28,0,(COLUMN()-4)*6,1,1)=\"\"), NA(), OFFSET(結果貼付け用!$H28,0,(COLUMN()-4)*6,1,1))","v":{"$error":"#N/A"}},{"$f":"IF(OR(OFFSET(結果貼付け用!$H28,0,(COLUMN()-4)*6,1,1)=\"-\", OFFSET(結果貼付け用!$H28,0,(COLUMN()-4)*6,1,1)=\"\"), NA(), OFFSET(結果貼付け用!$H28,0,(COLUMN()-4)*6,1,1))","v":{"$error":"#N/A"}},{"$f":"IF(OR(OFFSET(結果貼付け用!$H28,0,(COLUMN()-4)*6,1,1)=\"-\", OFFSET(結果貼付け用!$H28,0,(COLUMN()-4)*6,1,1)=\"\"), NA(), OFFSET(結果貼付け用!$H28,0,(COLUMN()-4)*6,1,1))","v":{"$error":"#N/A"}},{"$f":"IF(OR(OFFSET(結果貼付け用!$H28,0,(COLUMN()-4)*6,1,1)=\"-\", OFFSET(結果貼付け用!$H28,0,(COLUMN()-4)*6,1,1)=\"\"), NA(), OFFSET(結果貼付け用!$H28,0,(COLUMN()-4)*6,1,1))","v":{"$error":"#N/A"}},{"$f":"IF(OR(OFFSET(結果貼付け用!$H28,0,(COLUMN()-4)*6,1,1)=\"-\", OFFSET(結果貼付け用!$H28,0,(COLUMN()-4)*6,1,1)=\"\"), NA(), OFFSET(結果貼付け用!$H28,0,(COLUMN()-4)*6,1,1))","v":{"$error":"#N/A"}},{"$f":"IF(OR(OFFSET(結果貼付け用!$H28,0,(COLUMN()-4)*6,1,1)=\"-\", OFFSET(結果貼付け用!$H28,0,(COLUMN()-4)*6,1,1)=\"\"), NA(), OFFSET(結果貼付け用!$H28,0,(COLUMN()-4)*6,1,1))","v":{"$error":"#N/A"}},{"$f":"IF(OR(OFFSET(結果貼付け用!$H28,0,(COLUMN()-4)*6,1,1)=\"-\", OFFSET(結果貼付け用!$H28,0,(COLUMN()-4)*6,1,1)=\"\"), NA(), OFFSET(結果貼付け用!$H28,0,(COLUMN()-4)*6,1,1))","v":{"$error":"#N/A"}},{"$f":"IF(OR(OFFSET(結果貼付け用!$H28,0,(COLUMN()-4)*6,1,1)=\"-\", OFFSET(結果貼付け用!$H28,0,(COLUMN()-4)*6,1,1)=\"\"), NA(), OFFSET(結果貼付け用!$H28,0,(COLUMN()-4)*6,1,1))","v":{"$error":"#N/A"}},{"$f":"IF(OR(OFFSET(結果貼付け用!$H28,0,(COLUMN()-4)*6,1,1)=\"-\", OFFSET(結果貼付け用!$H28,0,(COLUMN()-4)*6,1,1)=\"\"), NA(), OFFSET(結果貼付け用!$H28,0,(COLUMN()-4)*6,1,1))","v":{"$error":"#N/A"}},{"$f":"IF(OR(OFFSET(結果貼付け用!$H28,0,(COLUMN()-4)*6,1,1)=\"-\", OFFSET(結果貼付け用!$H28,0,(COLUMN()-4)*6,1,1)=\"\"), NA(), OFFSET(結果貼付け用!$H28,0,(COLUMN()-4)*6,1,1))","v":{"$error":"#N/A"}},{"$f":"IF(OR(OFFSET(結果貼付け用!$H28,0,(COLUMN()-4)*6,1,1)=\"-\", OFFSET(結果貼付け用!$H28,0,(COLUMN()-4)*6,1,1)=\"\"), NA(), OFFSET(結果貼付け用!$H28,0,(COLUMN()-4)*6,1,1))","v":{"$error":"#N/A"}},{"$f":"IF(OR(OFFSET(結果貼付け用!$H28,0,(COLUMN()-4)*6,1,1)=\"-\", OFFSET(結果貼付け用!$H28,0,(COLUMN()-4)*6,1,1)=\"\"), NA(), OFFSET(結果貼付け用!$H28,0,(COLUMN()-4)*6,1,1))","v":{"$error":"#N/A"}},{"$f":"IF(OR(OFFSET(結果貼付け用!$H28,0,(COLUMN()-4)*6,1,1)=\"-\", OFFSET(結果貼付け用!$H28,0,(COLUMN()-4)*6,1,1)=\"\"), NA(), OFFSET(結果貼付け用!$H28,0,(COLUMN()-4)*6,1,1))","v":{"$error":"#N/A"}},{"$f":"IF(OR(OFFSET(結果貼付け用!$H28,0,(COLUMN()-4)*6,1,1)=\"-\", OFFSET(結果貼付け用!$H28,0,(COLUMN()-4)*6,1,1)=\"\"), NA(), OFFSET(結果貼付け用!$H28,0,(COLUMN()-4)*6,1,1))","v":{"$error":"#N/A"}},{"$f":"IF(OR(OFFSET(結果貼付け用!$H28,0,(COLUMN()-4)*6,1,1)=\"-\", OFFSET(結果貼付け用!$H28,0,(COLUMN()-4)*6,1,1)=\"\"), NA(), OFFSET(結果貼付け用!$H28,0,(COLUMN()-4)*6,1,1))","v":{"$error":"#N/A"}},{"$f":"IF(OR(OFFSET(結果貼付け用!$H28,0,(COLUMN()-4)*6,1,1)=\"-\", OFFSET(結果貼付け用!$H28,0,(COLUMN()-4)*6,1,1)=\"\"), NA(), OFFSET(結果貼付け用!$H28,0,(COLUMN()-4)*6,1,1))","v":{"$error":"#N/A"}},{"$f":"IF(OR(OFFSET(結果貼付け用!$H28,0,(COLUMN()-4)*6,1,1)=\"-\", OFFSET(結果貼付け用!$H28,0,(COLUMN()-4)*6,1,1)=\"\"), NA(), OFFSET(結果貼付け用!$H28,0,(COLUMN()-4)*6,1,1))","v":{"$error":"#N/A"}},{"$f":"IF(OR(OFFSET(結果貼付け用!$H28,0,(COLUMN()-4)*6,1,1)=\"-\", OFFSET(結果貼付け用!$H28,0,(COLUMN()-4)*6,1,1)=\"\"), NA(), OFFSET(結果貼付け用!$H28,0,(COLUMN()-4)*6,1,1))","v":{"$error":"#N/A"}},{"$f":"IF(OR(OFFSET(結果貼付け用!$H28,0,(COLUMN()-4)*6,1,1)=\"-\", OFFSET(結果貼付け用!$H28,0,(COLUMN()-4)*6,1,1)=\"\"), NA(), OFFSET(結果貼付け用!$H28,0,(COLUMN()-4)*6,1,1))","v":{"$error":"#N/A"}},{"$f":"IF(OR(OFFSET(結果貼付け用!$H28,0,(COLUMN()-4)*6,1,1)=\"-\", OFFSET(結果貼付け用!$H28,0,(COLUMN()-4)*6,1,1)=\"\"), NA(), OFFSET(結果貼付け用!$H28,0,(COLUMN()-4)*6,1,1))","v":{"$error":"#N/A"}},{"$f":"IF(OR(OFFSET(結果貼付け用!$H28,0,(COLUMN()-4)*6,1,1)=\"-\", OFFSET(結果貼付け用!$H28,0,(COLUMN()-4)*6,1,1)=\"\"), NA(), OFFSET(結果貼付け用!$H28,0,(COLUMN()-4)*6,1,1))","v":{"$error":"#N/A"}},{"$f":"IF(OR(OFFSET(結果貼付け用!$H28,0,(COLUMN()-4)*6,1,1)=\"-\", OFFSET(結果貼付け用!$H28,0,(COLUMN()-4)*6,1,1)=\"\"), NA(), OFFSET(結果貼付け用!$H28,0,(COLUMN()-4)*6,1,1))","v":{"$error":"#N/A"}},{"$f":"IF(OR(OFFSET(結果貼付け用!$H28,0,(COLUMN()-4)*6,1,1)=\"-\", OFFSET(結果貼付け用!$H28,0,(COLUMN()-4)*6,1,1)=\"\"), NA(), OFFSET(結果貼付け用!$H28,0,(COLUMN()-4)*6,1,1))","v":{"$error":"#N/A"}},{"$f":"IF(OR(OFFSET(結果貼付け用!$H28,0,(COLUMN()-4)*6,1,1)=\"-\", OFFSET(結果貼付け用!$H28,0,(COLUMN()-4)*6,1,1)=\"\"), NA(), OFFSET(結果貼付け用!$H28,0,(COLUMN()-4)*6,1,1))","v":{"$error":"#N/A"}},{"$f":"IF(OR(OFFSET(結果貼付け用!$H28,0,(COLUMN()-4)*6,1,1)=\"-\", OFFSET(結果貼付け用!$H28,0,(COLUMN()-4)*6,1,1)=\"\"), NA(), OFFSET(結果貼付け用!$H28,0,(COLUMN()-4)*6,1,1))","v":{"$error":"#N/A"}},{"$f":"IF(OR(OFFSET(結果貼付け用!$H28,0,(COLUMN()-4)*6,1,1)=\"-\", OFFSET(結果貼付け用!$H28,0,(COLUMN()-4)*6,1,1)=\"\"), NA(), OFFSET(結果貼付け用!$H28,0,(COLUMN()-4)*6,1,1))","v":{"$error":"#N/A"}},{"$f":"IF(OR(OFFSET(結果貼付け用!$H28,0,(COLUMN()-4)*6,1,1)=\"-\", OFFSET(結果貼付け用!$H28,0,(COLUMN()-4)*6,1,1)=\"\"), NA(), OFFSET(結果貼付け用!$H28,0,(COLUMN()-4)*6,1,1))","v":{"$error":"#N/A"}}]
[null,"役割明確性",{"$f":"IF(結果貼付け用!B29=\"\",NA(),結果貼付け用!B29)","v":{"$error":"#N/A"}},{"$f":"IF(OR(OFFSET(結果貼付け用!$H29,0,(COLUMN()-4)*6,1,1)=\"-\", OFFSET(結果貼付け用!$H29,0,(COLUMN()-4)*6,1,1)=\"\"), NA(), OFFSET(結果貼付け用!$H29,0,(COLUMN()-4)*6,1,1))","v":{"$error":"#N/A"}},{"$f":"IF(OR(OFFSET(結果貼付け用!$H29,0,(COLUMN()-4)*6,1,1)=\"-\", OFFSET(結果貼付け用!$H29,0,(COLUMN()-4)*6,1,1)=\"\"), NA(), OFFSET(結果貼付け用!$H29,0,(COLUMN()-4)*6,1,1))","v":{"$error":"#N/A"}},{"$f":"IF(OR(OFFSET(結果貼付け用!$H29,0,(COLUMN()-4)*6,1,1)=\"-\", OFFSET(結果貼付け用!$H29,0,(COLUMN()-4)*6,1,1)=\"\"), NA(), OFFSET(結果貼付け用!$H29,0,(COLUMN()-4)*6,1,1))","v":{"$error":"#N/A"}},{"$f":"IF(OR(OFFSET(結果貼付け用!$H29,0,(COLUMN()-4)*6,1,1)=\"-\", OFFSET(結果貼付け用!$H29,0,(COLUMN()-4)*6,1,1)=\"\"), NA(), OFFSET(結果貼付け用!$H29,0,(COLUMN()-4)*6,1,1))","v":{"$error":"#N/A"}},{"$f":"IF(OR(OFFSET(結果貼付け用!$H29,0,(COLUMN()-4)*6,1,1)=\"-\", OFFSET(結果貼付け用!$H29,0,(COLUMN()-4)*6,1,1)=\"\"), NA(), OFFSET(結果貼付け用!$H29,0,(COLUMN()-4)*6,1,1))","v":{"$error":"#N/A"}},{"$f":"IF(OR(OFFSET(結果貼付け用!$H29,0,(COLUMN()-4)*6,1,1)=\"-\", OFFSET(結果貼付け用!$H29,0,(COLUMN()-4)*6,1,1)=\"\"), NA(), OFFSET(結果貼付け用!$H29,0,(COLUMN()-4)*6,1,1))","v":{"$error":"#N/A"}},{"$f":"IF(OR(OFFSET(結果貼付け用!$H29,0,(COLUMN()-4)*6,1,1)=\"-\", OFFSET(結果貼付け用!$H29,0,(COLUMN()-4)*6,1,1)=\"\"), NA(), OFFSET(結果貼付け用!$H29,0,(COLUMN()-4)*6,1,1))","v":{"$error":"#N/A"}},{"$f":"IF(OR(OFFSET(結果貼付け用!$H29,0,(COLUMN()-4)*6,1,1)=\"-\", OFFSET(結果貼付け用!$H29,0,(COLUMN()-4)*6,1,1)=\"\"), NA(), OFFSET(結果貼付け用!$H29,0,(COLUMN()-4)*6,1,1))","v":{"$error":"#N/A"}},{"$f":"IF(OR(OFFSET(結果貼付け用!$H29,0,(COLUMN()-4)*6,1,1)=\"-\", OFFSET(結果貼付け用!$H29,0,(COLUMN()-4)*6,1,1)=\"\"), NA(), OFFSET(結果貼付け用!$H29,0,(COLUMN()-4)*6,1,1))","v":{"$error":"#N/A"}},{"$f":"IF(OR(OFFSET(結果貼付け用!$H29,0,(COLUMN()-4)*6,1,1)=\"-\", OFFSET(結果貼付け用!$H29,0,(COLUMN()-4)*6,1,1)=\"\"), NA(), OFFSET(結果貼付け用!$H29,0,(COLUMN()-4)*6,1,1))","v":{"$error":"#N/A"}},{"$f":"IF(OR(OFFSET(結果貼付け用!$H29,0,(COLUMN()-4)*6,1,1)=\"-\", OFFSET(結果貼付け用!$H29,0,(COLUMN()-4)*6,1,1)=\"\"), NA(), OFFSET(結果貼付け用!$H29,0,(COLUMN()-4)*6,1,1))","v":{"$error":"#N/A"}},{"$f":"IF(OR(OFFSET(結果貼付け用!$H29,0,(COLUMN()-4)*6,1,1)=\"-\", OFFSET(結果貼付け用!$H29,0,(COLUMN()-4)*6,1,1)=\"\"), NA(), OFFSET(結果貼付け用!$H29,0,(COLUMN()-4)*6,1,1))","v":{"$error":"#N/A"}},{"$f":"IF(OR(OFFSET(結果貼付け用!$H29,0,(COLUMN()-4)*6,1,1)=\"-\", OFFSET(結果貼付け用!$H29,0,(COLUMN()-4)*6,1,1)=\"\"), NA(), OFFSET(結果貼付け用!$H29,0,(COLUMN()-4)*6,1,1))","v":{"$error":"#N/A"}},{"$f":"IF(OR(OFFSET(結果貼付け用!$H29,0,(COLUMN()-4)*6,1,1)=\"-\", OFFSET(結果貼付け用!$H29,0,(COLUMN()-4)*6,1,1)=\"\"), NA(), OFFSET(結果貼付け用!$H29,0,(COLUMN()-4)*6,1,1))","v":{"$error":"#N/A"}},{"$f":"IF(OR(OFFSET(結果貼付け用!$H29,0,(COLUMN()-4)*6,1,1)=\"-\", OFFSET(結果貼付け用!$H29,0,(COLUMN()-4)*6,1,1)=\"\"), NA(), OFFSET(結果貼付け用!$H29,0,(COLUMN()-4)*6,1,1))","v":{"$error":"#N/A"}},{"$f":"IF(OR(OFFSET(結果貼付け用!$H29,0,(COLUMN()-4)*6,1,1)=\"-\", OFFSET(結果貼付け用!$H29,0,(COLUMN()-4)*6,1,1)=\"\"), NA(), OFFSET(結果貼付け用!$H29,0,(COLUMN()-4)*6,1,1))","v":{"$error":"#N/A"}},{"$f":"IF(OR(OFFSET(結果貼付け用!$H29,0,(COLUMN()-4)*6,1,1)=\"-\", OFFSET(結果貼付け用!$H29,0,(COLUMN()-4)*6,1,1)=\"\"), NA(), OFFSET(結果貼付け用!$H29,0,(COLUMN()-4)*6,1,1))","v":{"$error":"#N/A"}},{"$f":"IF(OR(OFFSET(結果貼付け用!$H29,0,(COLUMN()-4)*6,1,1)=\"-\", OFFSET(結果貼付け用!$H29,0,(COLUMN()-4)*6,1,1)=\"\"), NA(), OFFSET(結果貼付け用!$H29,0,(COLUMN()-4)*6,1,1))","v":{"$error":"#N/A"}},{"$f":"IF(OR(OFFSET(結果貼付け用!$H29,0,(COLUMN()-4)*6,1,1)=\"-\", OFFSET(結果貼付け用!$H29,0,(COLUMN()-4)*6,1,1)=\"\"), NA(), OFFSET(結果貼付け用!$H29,0,(COLUMN()-4)*6,1,1))","v":{"$error":"#N/A"}},{"$f":"IF(OR(OFFSET(結果貼付け用!$H29,0,(COLUMN()-4)*6,1,1)=\"-\", OFFSET(結果貼付け用!$H29,0,(COLUMN()-4)*6,1,1)=\"\"), NA(), OFFSET(結果貼付け用!$H29,0,(COLUMN()-4)*6,1,1))","v":{"$error":"#N/A"}},{"$f":"IF(OR(OFFSET(結果貼付け用!$H29,0,(COLUMN()-4)*6,1,1)=\"-\", OFFSET(結果貼付け用!$H29,0,(COLUMN()-4)*6,1,1)=\"\"), NA(), OFFSET(結果貼付け用!$H29,0,(COLUMN()-4)*6,1,1))","v":{"$error":"#N/A"}},{"$f":"IF(OR(OFFSET(結果貼付け用!$H29,0,(COLUMN()-4)*6,1,1)=\"-\", OFFSET(結果貼付け用!$H29,0,(COLUMN()-4)*6,1,1)=\"\"), NA(), OFFSET(結果貼付け用!$H29,0,(COLUMN()-4)*6,1,1))","v":{"$error":"#N/A"}},{"$f":"IF(OR(OFFSET(結果貼付け用!$H29,0,(COLUMN()-4)*6,1,1)=\"-\", OFFSET(結果貼付け用!$H29,0,(COLUMN()-4)*6,1,1)=\"\"), NA(), OFFSET(結果貼付け用!$H29,0,(COLUMN()-4)*6,1,1))","v":{"$error":"#N/A"}},{"$f":"IF(OR(OFFSET(結果貼付け用!$H29,0,(COLUMN()-4)*6,1,1)=\"-\", OFFSET(結果貼付け用!$H29,0,(COLUMN()-4)*6,1,1)=\"\"), NA(), OFFSET(結果貼付け用!$H29,0,(COLUMN()-4)*6,1,1))","v":{"$error":"#N/A"}},{"$f":"IF(OR(OFFSET(結果貼付け用!$H29,0,(COLUMN()-4)*6,1,1)=\"-\", OFFSET(結果貼付け用!$H29,0,(COLUMN()-4)*6,1,1)=\"\"), NA(), OFFSET(結果貼付け用!$H29,0,(COLUMN()-4)*6,1,1))","v":{"$error":"#N/A"}},{"$f":"IF(OR(OFFSET(結果貼付け用!$H29,0,(COLUMN()-4)*6,1,1)=\"-\", OFFSET(結果貼付け用!$H29,0,(COLUMN()-4)*6,1,1)=\"\"), NA(), OFFSET(結果貼付け用!$H29,0,(COLUMN()-4)*6,1,1))","v":{"$error":"#N/A"}},{"$f":"IF(OR(OFFSET(結果貼付け用!$H29,0,(COLUMN()-4)*6,1,1)=\"-\", OFFSET(結果貼付け用!$H29,0,(COLUMN()-4)*6,1,1)=\"\"), NA(), OFFSET(結果貼付け用!$H29,0,(COLUMN()-4)*6,1,1))","v":{"$error":"#N/A"}},{"$f":"IF(OR(OFFSET(結果貼付け用!$H29,0,(COLUMN()-4)*6,1,1)=\"-\", OFFSET(結果貼付け用!$H29,0,(COLUMN()-4)*6,1,1)=\"\"), NA(), OFFSET(結果貼付け用!$H29,0,(COLUMN()-4)*6,1,1))","v":{"$error":"#N/A"}},{"$f":"IF(OR(OFFSET(結果貼付け用!$H29,0,(COLUMN()-4)*6,1,1)=\"-\", OFFSET(結果貼付け用!$H29,0,(COLUMN()-4)*6,1,1)=\"\"), NA(), OFFSET(結果貼付け用!$H29,0,(COLUMN()-4)*6,1,1))","v":{"$error":"#N/A"}}]
[]
[]
[]
[]
[]
[]
[]
[]
[]
[]
[]
[]
[]
[]
[]
[]
[]
[]
[]
[]
[null,"実施開始日時",{"$f":"IF(結果貼付け用!B2=\"\",NA(),結果貼付け用!B2)","v":{"$error":"#N/A"}},{"$f":"IF((OFFSET(結果貼付け用!$H$2, 0, (COLUMN() - COLUMN($D$26)) * 6))=\"\",NA(),(OFFSET(結果貼付け用!$H$2, 0, (COLUMN() - COLUMN($D$26)) * 6)))","v":{"$error":"#N/A"}},{"$f":"IF((OFFSET(結果貼付け用!$H$2, 0, (COLUMN() - COLUMN($D$26)) * 6))=\"\",NA(),(OFFSET(結果貼付け用!$H$2, 0, (COLUMN() - COLUMN($D$26)) * 6)))","v":{"$error":"#N/A"}},{"$f":"IF((OFFSET(結果貼付け用!$H$2, 0, (COLUMN() - COLUMN($D$26)) * 6))=\"\",NA(),(OFFSET(結果貼付け用!$H$2, 0, (COLUMN() - COLUMN($D$26)) * 6)))","v":{"$error":"#N/A"}},{"$f":"IF((OFFSET(結果貼付け用!$H$2, 0, (COLUMN() - COLUMN($D$26)) * 6))=\"\",NA(),(OFFSET(結果貼付け用!$H$2, 0, (COLUMN() - COLUMN($D$26)) * 6)))","v":{"$error":"#N/A"}},{"$f":"IF((OFFSET(結果貼付け用!$H$2, 0, (COLUMN() - COLUMN($D$26)) * 6))=\"\",NA(),(OFFSET(結果貼付け用!$H$2, 0, (COLUMN() - COLUMN($D$26)) * 6)))","v":{"$error":"#N/A"}},{"$f":"IF((OFFSET(結果貼付け用!$H$2, 0, (COLUMN() - COLUMN($D$26)) * 6))=\"\",NA(),(OFFSET(結果貼付け用!$H$2, 0, (COLUMN() - COLUMN($D$26)) * 6)))","v":{"$error":"#N/A"}},{"$f":"IF((OFFSET(結果貼付け用!$H$2, 0, (COLUMN() - COLUMN($D$26)) * 6))=\"\",NA(),(OFFSET(結果貼付け用!$H$2, 0, (COLUMN() - COLUMN($D$26)) * 6)))","v":{"$error":"#N/A"}},{"$f":"IF((OFFSET(結果貼付け用!$H$2, 0, (COLUMN() - COLUMN($D$26)) * 6))=\"\",NA(),(OFFSET(結果貼付け用!$H$2, 0, (COLUMN() - COLUMN($D$26)) * 6)))","v":{"$error":"#N/A"}},{"$f":"IF((OFFSET(結果貼付け用!$H$2, 0, (COLUMN() - COLUMN($D$26)) * 6))=\"\",NA(),(OFFSET(結果貼付け用!$H$2, 0, (COLUMN() - COLUMN($D$26)) * 6)))","v":{"$error":"#N/A"}},{"$f":"IF((OFFSET(結果貼付け用!$H$2, 0, (COLUMN() - COLUMN($D$26)) * 6))=\"\",NA(),(OFFSET(結果貼付け用!$H$2, 0, (COLUMN() - COLUMN($D$26)) * 6)))","v":{"$error":"#N/A"}},{"$f":"IF((OFFSET(結果貼付け用!$H$2, 0, (COLUMN() - COLUMN($D$26)) * 6))=\"\",NA(),(OFFSET(結果貼付け用!$H$2, 0, (COLUMN() - COLUMN($D$26)) * 6)))","v":{"$error":"#N/A"}},{"$f":"IF((OFFSET(結果貼付け用!$H$2, 0, (COLUMN() - COLUMN($D$26)) * 6))=\"\",NA(),(OFFSET(結果貼付け用!$H$2, 0, (COLUMN() - COLUMN($D$26)) * 6)))","v":{"$error":"#N/A"}},{"$f":"IF((OFFSET(結果貼付け用!$H$2, 0, (COLUMN() - COLUMN($D$26)) * 6))=\"\",NA(),(OFFSET(結果貼付け用!$H$2, 0, (COLUMN() - COLUMN($D$26)) * 6)))","v":{"$error":"#N/A"}},{"$f":"IF((OFFSET(結果貼付け用!$H$2, 0, (COLUMN() - COLUMN($D$26)) * 6))=\"\",NA(),(OFFSET(結果貼付け用!$H$2, 0, (COLUMN() - COLUMN($D$26)) * 6)))","v":{"$error":"#N/A"}},{"$f":"IF((OFFSET(結果貼付け用!$H$2, 0, (COLUMN() - COLUMN($D$26)) * 6))=\"\",NA(),(OFFSET(結果貼付け用!$H$2, 0, (COLUMN() - COLUMN($D$26)) * 6)))","v":{"$error":"#N/A"}},{"$f":"IF((OFFSET(結果貼付け用!$H$2, 0, (COLUMN() - COLUMN($D$26)) * 6))=\"\",NA(),(OFFSET(結果貼付け用!$H$2, 0, (COLUMN() - COLUMN($D$26)) * 6)))","v":{"$error":"#N/A"}},{"$f":"IF((OFFSET(結果貼付け用!$H$2, 0, (COLUMN() - COLUMN($D$26)) * 6))=\"\",NA(),(OFFSET(結果貼付け用!$H$2, 0, (COLUMN() - COLUMN($D$26)) * 6)))","v":{"$error":"#N/A"}},{"$f":"IF((OFFSET(結果貼付け用!$H$2, 0, (COLUMN() - COLUMN($D$26)) * 6))=\"\",NA(),(OFFSET(結果貼付け用!$H$2, 0, (COLUMN() - COLUMN($D$26)) * 6)))","v":{"$error":"#N/A"}},{"$f":"IF((OFFSET(結果貼付け用!$H$2, 0, (COLUMN() - COLUMN($D$26)) * 6))=\"\",NA(),(OFFSET(結果貼付け用!$H$2, 0, (COLUMN() - COLUMN($D$26)) * 6)))","v":{"$error":"#N/A"}},{"$f":"IF((OFFSET(結果貼付け用!$H$2, 0, (COLUMN() - COLUMN($D$26)) * 6))=\"\",NA(),(OFFSET(結果貼付け用!$H$2, 0, (COLUMN() - COLUMN($D$26)) * 6)))","v":{"$error":"#N/A"}},{"$f":"IF((OFFSET(結果貼付け用!$H$2, 0, (COLUMN() - COLUMN($D$26)) * 6))=\"\",NA(),(OFFSET(結果貼付け用!$H$2, 0, (COLUMN() - COLUMN($D$26)) * 6)))","v":{"$error":"#N/A"}},{"$f":"IF((OFFSET(結果貼付け用!$H$2, 0, (COLUMN() - COLUMN($D$26)) * 6))=\"\",NA(),(OFFSET(結果貼付け用!$H$2, 0, (COLUMN() - COLUMN($D$26)) * 6)))","v":{"$error":"#N/A"}},{"$f":"IF((OFFSET(結果貼付け用!$H$2, 0, (COLUMN() - COLUMN($D$26)) * 6))=\"\",NA(),(OFFSET(結果貼付け用!$H$2, 0, (COLUMN() - COLUMN($D$26)) * 6)))","v":{"$error":"#N/A"}},{"$f":"IF((OFFSET(結果貼付け用!$H$2, 0, (COLUMN() - COLUMN($D$26)) * 6))=\"\",NA(),(OFFSET(結果貼付け用!$H$2, 0, (COLUMN() - COLUMN($D$26)) * 6)))","v":{"$error":"#N/A"}},{"$f":"IF((OFFSET(結果貼付け用!$H$2, 0, (COLUMN() - COLUMN($D$26)) * 6))=\"\",NA(),(OFFSET(結果貼付け用!$H$2, 0, (COLUMN() - COLUMN($D$26)) * 6)))","v":{"$error":"#N/A"}},{"$f":"IF((OFFSET(結果貼付け用!$H$2, 0, (COLUMN() - COLUMN($D$26)) * 6))=\"\",NA(),(OFFSET(結果貼付け用!$H$2, 0, (COLUMN() - COLUMN($D$26)) * 6)))","v":{"$error":"#N/A"}},{"$f":"IF((OFFSET(結果貼付け用!$H$2, 0, (COLUMN() - COLUMN($D$26)) * 6))=\"\",NA(),(OFFSET(結果貼付け用!$H$2, 0, (COLUMN() - COLUMN($D$26)) * 6)))","v":{"$error":"#N/A"}},{"$f":"IF((OFFSET(結果貼付け用!$H$2, 0, (COLUMN() - COLUMN($D$26)) * 6))=\"\",NA(),(OFFSET(結果貼付け用!$H$2, 0, (COLUMN() - COLUMN($D$26)) * 6)))","v":{"$error":"#N/A"}},{"$f":"IF((OFFSET(結果貼付け用!$H$2, 0, (COLUMN() - COLUMN($D$26)) * 6))=\"\",NA(),(OFFSET(結果貼付け用!$H$2, 0, (COLUMN() - COLUMN($D$26)) * 6)))","v":{"$error":"#N/A"}}]
[null,"職場風土",{"$f":"IF(結果貼付け用!B30=\"\",NA(),結果貼付け用!B30)","v":{"$error":"#N/A"}},{"$f":"IF(OR(OFFSET(結果貼付け用!$H30,0,(COLUMN()-4)*6,1,1)=\"-\", OFFSET(結果貼付け用!$H30,0,(COLUMN()-4)*6,1,1)=\"\"), NA(), OFFSET(結果貼付け用!$H30,0,(COLUMN()-4)*6,1,1))","v":{"$error":"#N/A"}},{"$f":"IF(OR(OFFSET(結果貼付け用!$H30,0,(COLUMN()-4)*6,1,1)=\"-\", OFFSET(結果貼付け用!$H30,0,(COLUMN()-4)*6,1,1)=\"\"), NA(), OFFSET(結果貼付け用!$H30,0,(COLUMN()-4)*6,1,1))","v":{"$error":"#N/A"}},{"$f":"IF(OR(OFFSET(結果貼付け用!$H30,0,(COLUMN()-4)*6,1,1)=\"-\", OFFSET(結果貼付け用!$H30,0,(COLUMN()-4)*6,1,1)=\"\"), NA(), OFFSET(結果貼付け用!$H30,0,(COLUMN()-4)*6,1,1))","v":{"$error":"#N/A"}},{"$f":"IF(OR(OFFSET(結果貼付け用!$H30,0,(COLUMN()-4)*6,1,1)=\"-\", OFFSET(結果貼付け用!$H30,0,(COLUMN()-4)*6,1,1)=\"\"), NA(), OFFSET(結果貼付け用!$H30,0,(COLUMN()-4)*6,1,1))","v":{"$error":"#N/A"}},{"$f":"IF(OR(OFFSET(結果貼付け用!$H30,0,(COLUMN()-4)*6,1,1)=\"-\", OFFSET(結果貼付け用!$H30,0,(COLUMN()-4)*6,1,1)=\"\"), NA(), OFFSET(結果貼付け用!$H30,0,(COLUMN()-4)*6,1,1))","v":{"$error":"#N/A"}},{"$f":"IF(OR(OFFSET(結果貼付け用!$H30,0,(COLUMN()-4)*6,1,1)=\"-\", OFFSET(結果貼付け用!$H30,0,(COLUMN()-4)*6,1,1)=\"\"), NA(), OFFSET(結果貼付け用!$H30,0,(COLUMN()-4)*6,1,1))","v":{"$error":"#N/A"}},{"$f":"IF(OR(OFFSET(結果貼付け用!$H30,0,(COLUMN()-4)*6,1,1)=\"-\", OFFSET(結果貼付け用!$H30,0,(COLUMN()-4)*6,1,1)=\"\"), NA(), OFFSET(結果貼付け用!$H30,0,(COLUMN()-4)*6,1,1))","v":{"$error":"#N/A"}},{"$f":"IF(OR(OFFSET(結果貼付け用!$H30,0,(COLUMN()-4)*6,1,1)=\"-\", OFFSET(結果貼付け用!$H30,0,(COLUMN()-4)*6,1,1)=\"\"), NA(), OFFSET(結果貼付け用!$H30,0,(COLUMN()-4)*6,1,1))","v":{"$error":"#N/A"}},{"$f":"IF(OR(OFFSET(結果貼付け用!$H30,0,(COLUMN()-4)*6,1,1)=\"-\", OFFSET(結果貼付け用!$H30,0,(COLUMN()-4)*6,1,1)=\"\"), NA(), OFFSET(結果貼付け用!$H30,0,(COLUMN()-4)*6,1,1))","v":{"$error":"#N/A"}},{"$f":"IF(OR(OFFSET(結果貼付け用!$H30,0,(COLUMN()-4)*6,1,1)=\"-\", OFFSET(結果貼付け用!$H30,0,(COLUMN()-4)*6,1,1)=\"\"), NA(), OFFSET(結果貼付け用!$H30,0,(COLUMN()-4)*6,1,1))","v":{"$error":"#N/A"}},{"$f":"IF(OR(OFFSET(結果貼付け用!$H30,0,(COLUMN()-4)*6,1,1)=\"-\", OFFSET(結果貼付け用!$H30,0,(COLUMN()-4)*6,1,1)=\"\"), NA(), OFFSET(結果貼付け用!$H30,0,(COLUMN()-4)*6,1,1))","v":{"$error":"#N/A"}},{"$f":"IF(OR(OFFSET(結果貼付け用!$H30,0,(COLUMN()-4)*6,1,1)=\"-\", OFFSET(結果貼付け用!$H30,0,(COLUMN()-4)*6,1,1)=\"\"), NA(), OFFSET(結果貼付け用!$H30,0,(COLUMN()-4)*6,1,1))","v":{"$error":"#N/A"}},{"$f":"IF(OR(OFFSET(結果貼付け用!$H30,0,(COLUMN()-4)*6,1,1)=\"-\", OFFSET(結果貼付け用!$H30,0,(COLUMN()-4)*6,1,1)=\"\"), NA(), OFFSET(結果貼付け用!$H30,0,(COLUMN()-4)*6,1,1))","v":{"$error":"#N/A"}},{"$f":"IF(OR(OFFSET(結果貼付け用!$H30,0,(COLUMN()-4)*6,1,1)=\"-\", OFFSET(結果貼付け用!$H30,0,(COLUMN()-4)*6,1,1)=\"\"), NA(), OFFSET(結果貼付け用!$H30,0,(COLUMN()-4)*6,1,1))","v":{"$error":"#N/A"}},{"$f":"IF(OR(OFFSET(結果貼付け用!$H30,0,(COLUMN()-4)*6,1,1)=\"-\", OFFSET(結果貼付け用!$H30,0,(COLUMN()-4)*6,1,1)=\"\"), NA(), OFFSET(結果貼付け用!$H30,0,(COLUMN()-4)*6,1,1))","v":{"$error":"#N/A"}},{"$f":"IF(OR(OFFSET(結果貼付け用!$H30,0,(COLUMN()-4)*6,1,1)=\"-\", OFFSET(結果貼付け用!$H30,0,(COLUMN()-4)*6,1,1)=\"\"), NA(), OFFSET(結果貼付け用!$H30,0,(COLUMN()-4)*6,1,1))","v":{"$error":"#N/A"}},{"$f":"IF(OR(OFFSET(結果貼付け用!$H30,0,(COLUMN()-4)*6,1,1)=\"-\", OFFSET(結果貼付け用!$H30,0,(COLUMN()-4)*6,1,1)=\"\"), NA(), OFFSET(結果貼付け用!$H30,0,(COLUMN()-4)*6,1,1))","v":{"$error":"#N/A"}},{"$f":"IF(OR(OFFSET(結果貼付け用!$H30,0,(COLUMN()-4)*6,1,1)=\"-\", OFFSET(結果貼付け用!$H30,0,(COLUMN()-4)*6,1,1)=\"\"), NA(), OFFSET(結果貼付け用!$H30,0,(COLUMN()-4)*6,1,1))","v":{"$error":"#N/A"}},{"$f":"IF(OR(OFFSET(結果貼付け用!$H30,0,(COLUMN()-4)*6,1,1)=\"-\", OFFSET(結果貼付け用!$H30,0,(COLUMN()-4)*6,1,1)=\"\"), NA(), OFFSET(結果貼付け用!$H30,0,(COLUMN()-4)*6,1,1))","v":{"$error":"#N/A"}},{"$f":"IF(OR(OFFSET(結果貼付け用!$H30,0,(COLUMN()-4)*6,1,1)=\"-\", OFFSET(結果貼付け用!$H30,0,(COLUMN()-4)*6,1,1)=\"\"), NA(), OFFSET(結果貼付け用!$H30,0,(COLUMN()-4)*6,1,1))","v":{"$error":"#N/A"}},{"$f":"IF(OR(OFFSET(結果貼付け用!$H30,0,(COLUMN()-4)*6,1,1)=\"-\", OFFSET(結果貼付け用!$H30,0,(COLUMN()-4)*6,1,1)=\"\"), NA(), OFFSET(結果貼付け用!$H30,0,(COLUMN()-4)*6,1,1))","v":{"$error":"#N/A"}},{"$f":"IF(OR(OFFSET(結果貼付け用!$H30,0,(COLUMN()-4)*6,1,1)=\"-\", OFFSET(結果貼付け用!$H30,0,(COLUMN()-4)*6,1,1)=\"\"), NA(), OFFSET(結果貼付け用!$H30,0,(COLUMN()-4)*6,1,1))","v":{"$error":"#N/A"}},{"$f":"IF(OR(OFFSET(結果貼付け用!$H30,0,(COLUMN()-4)*6,1,1)=\"-\", OFFSET(結果貼付け用!$H30,0,(COLUMN()-4)*6,1,1)=\"\"), NA(), OFFSET(結果貼付け用!$H30,0,(COLUMN()-4)*6,1,1))","v":{"$error":"#N/A"}},{"$f":"IF(OR(OFFSET(結果貼付け用!$H30,0,(COLUMN()-4)*6,1,1)=\"-\", OFFSET(結果貼付け用!$H30,0,(COLUMN()-4)*6,1,1)=\"\"), NA(), OFFSET(結果貼付け用!$H30,0,(COLUMN()-4)*6,1,1))","v":{"$error":"#N/A"}},{"$f":"IF(OR(OFFSET(結果貼付け用!$H30,0,(COLUMN()-4)*6,1,1)=\"-\", OFFSET(結果貼付け用!$H30,0,(COLUMN()-4)*6,1,1)=\"\"), NA(), OFFSET(結果貼付け用!$H30,0,(COLUMN()-4)*6,1,1))","v":{"$error":"#N/A"}},{"$f":"IF(OR(OFFSET(結果貼付け用!$H30,0,(COLUMN()-4)*6,1,1)=\"-\", OFFSET(結果貼付け用!$H30,0,(COLUMN()-4)*6,1,1)=\"\"), NA(), OFFSET(結果貼付け用!$H30,0,(COLUMN()-4)*6,1,1))","v":{"$error":"#N/A"}},{"$f":"IF(OR(OFFSET(結果貼付け用!$H30,0,(COLUMN()-4)*6,1,1)=\"-\", OFFSET(結果貼付け用!$H30,0,(COLUMN()-4)*6,1,1)=\"\"), NA(), OFFSET(結果貼付け用!$H30,0,(COLUMN()-4)*6,1,1))","v":{"$error":"#N/A"}},{"$f":"IF(OR(OFFSET(結果貼付け用!$H30,0,(COLUMN()-4)*6,1,1)=\"-\", OFFSET(結果貼付け用!$H30,0,(COLUMN()-4)*6,1,1)=\"\"), NA(), OFFSET(結果貼付け用!$H30,0,(COLUMN()-4)*6,1,1))","v":{"$error":"#N/A"}},{"$f":"IF(OR(OFFSET(結果貼付け用!$H30,0,(COLUMN()-4)*6,1,1)=\"-\", OFFSET(結果貼付け用!$H30,0,(COLUMN()-4)*6,1,1)=\"\"), NA(), OFFSET(結果貼付け用!$H30,0,(COLUMN()-4)*6,1,1))","v":{"$error":"#N/A"}}]
[null,"仕事の相互助言",{"$f":"IF(結果貼付け用!B31=\"\",NA(),結果貼付け用!B31)","v":{"$error":"#N/A"}},{"$f":"IF(OR(OFFSET(結果貼付け用!$H31,0,(COLUMN()-4)*6,1,1)=\"-\", OFFSET(結果貼付け用!$H31,0,(COLUMN()-4)*6,1,1)=\"\"), NA(), OFFSET(結果貼付け用!$H31,0,(COLUMN()-4)*6,1,1))","v":{"$error":"#N/A"}},{"$f":"IF(OR(OFFSET(結果貼付け用!$H31,0,(COLUMN()-4)*6,1,1)=\"-\", OFFSET(結果貼付け用!$H31,0,(COLUMN()-4)*6,1,1)=\"\"), NA(), OFFSET(結果貼付け用!$H31,0,(COLUMN()-4)*6,1,1))","v":{"$error":"#N/A"}},{"$f":"IF(OR(OFFSET(結果貼付け用!$H31,0,(COLUMN()-4)*6,1,1)=\"-\", OFFSET(結果貼付け用!$H31,0,(COLUMN()-4)*6,1,1)=\"\"), NA(), OFFSET(結果貼付け用!$H31,0,(COLUMN()-4)*6,1,1))","v":{"$error":"#N/A"}},{"$f":"IF(OR(OFFSET(結果貼付け用!$H31,0,(COLUMN()-4)*6,1,1)=\"-\", OFFSET(結果貼付け用!$H31,0,(COLUMN()-4)*6,1,1)=\"\"), NA(), OFFSET(結果貼付け用!$H31,0,(COLUMN()-4)*6,1,1))","v":{"$error":"#N/A"}},{"$f":"IF(OR(OFFSET(結果貼付け用!$H31,0,(COLUMN()-4)*6,1,1)=\"-\", OFFSET(結果貼付け用!$H31,0,(COLUMN()-4)*6,1,1)=\"\"), NA(), OFFSET(結果貼付け用!$H31,0,(COLUMN()-4)*6,1,1))","v":{"$error":"#N/A"}},{"$f":"IF(OR(OFFSET(結果貼付け用!$H31,0,(COLUMN()-4)*6,1,1)=\"-\", OFFSET(結果貼付け用!$H31,0,(COLUMN()-4)*6,1,1)=\"\"), NA(), OFFSET(結果貼付け用!$H31,0,(COLUMN()-4)*6,1,1))","v":{"$error":"#N/A"}},{"$f":"IF(OR(OFFSET(結果貼付け用!$H31,0,(COLUMN()-4)*6,1,1)=\"-\", OFFSET(結果貼付け用!$H31,0,(COLUMN()-4)*6,1,1)=\"\"), NA(), OFFSET(結果貼付け用!$H31,0,(COLUMN()-4)*6,1,1))","v":{"$error":"#N/A"}},{"$f":"IF(OR(OFFSET(結果貼付け用!$H31,0,(COLUMN()-4)*6,1,1)=\"-\", OFFSET(結果貼付け用!$H31,0,(COLUMN()-4)*6,1,1)=\"\"), NA(), OFFSET(結果貼付け用!$H31,0,(COLUMN()-4)*6,1,1))","v":{"$error":"#N/A"}},{"$f":"IF(OR(OFFSET(結果貼付け用!$H31,0,(COLUMN()-4)*6,1,1)=\"-\", OFFSET(結果貼付け用!$H31,0,(COLUMN()-4)*6,1,1)=\"\"), NA(), OFFSET(結果貼付け用!$H31,0,(COLUMN()-4)*6,1,1))","v":{"$error":"#N/A"}},{"$f":"IF(OR(OFFSET(結果貼付け用!$H31,0,(COLUMN()-4)*6,1,1)=\"-\", OFFSET(結果貼付け用!$H31,0,(COLUMN()-4)*6,1,1)=\"\"), NA(), OFFSET(結果貼付け用!$H31,0,(COLUMN()-4)*6,1,1))","v":{"$error":"#N/A"}},{"$f":"IF(OR(OFFSET(結果貼付け用!$H31,0,(COLUMN()-4)*6,1,1)=\"-\", OFFSET(結果貼付け用!$H31,0,(COLUMN()-4)*6,1,1)=\"\"), NA(), OFFSET(結果貼付け用!$H31,0,(COLUMN()-4)*6,1,1))","v":{"$error":"#N/A"}},{"$f":"IF(OR(OFFSET(結果貼付け用!$H31,0,(COLUMN()-4)*6,1,1)=\"-\", OFFSET(結果貼付け用!$H31,0,(COLUMN()-4)*6,1,1)=\"\"), NA(), OFFSET(結果貼付け用!$H31,0,(COLUMN()-4)*6,1,1))","v":{"$error":"#N/A"}},{"$f":"IF(OR(OFFSET(結果貼付け用!$H31,0,(COLUMN()-4)*6,1,1)=\"-\", OFFSET(結果貼付け用!$H31,0,(COLUMN()-4)*6,1,1)=\"\"), NA(), OFFSET(結果貼付け用!$H31,0,(COLUMN()-4)*6,1,1))","v":{"$error":"#N/A"}},{"$f":"IF(OR(OFFSET(結果貼付け用!$H31,0,(COLUMN()-4)*6,1,1)=\"-\", OFFSET(結果貼付け用!$H31,0,(COLUMN()-4)*6,1,1)=\"\"), NA(), OFFSET(結果貼付け用!$H31,0,(COLUMN()-4)*6,1,1))","v":{"$error":"#N/A"}},{"$f":"IF(OR(OFFSET(結果貼付け用!$H31,0,(COLUMN()-4)*6,1,1)=\"-\", OFFSET(結果貼付け用!$H31,0,(COLUMN()-4)*6,1,1)=\"\"), NA(), OFFSET(結果貼付け用!$H31,0,(COLUMN()-4)*6,1,1))","v":{"$error":"#N/A"}},{"$f":"IF(OR(OFFSET(結果貼付け用!$H31,0,(COLUMN()-4)*6,1,1)=\"-\", OFFSET(結果貼付け用!$H31,0,(COLUMN()-4)*6,1,1)=\"\"), NA(), OFFSET(結果貼付け用!$H31,0,(COLUMN()-4)*6,1,1))","v":{"$error":"#N/A"}},{"$f":"IF(OR(OFFSET(結果貼付け用!$H31,0,(COLUMN()-4)*6,1,1)=\"-\", OFFSET(結果貼付け用!$H31,0,(COLUMN()-4)*6,1,1)=\"\"), NA(), OFFSET(結果貼付け用!$H31,0,(COLUMN()-4)*6,1,1))","v":{"$error":"#N/A"}},{"$f":"IF(OR(OFFSET(結果貼付け用!$H31,0,(COLUMN()-4)*6,1,1)=\"-\", OFFSET(結果貼付け用!$H31,0,(COLUMN()-4)*6,1,1)=\"\"), NA(), OFFSET(結果貼付け用!$H31,0,(COLUMN()-4)*6,1,1))","v":{"$error":"#N/A"}},{"$f":"IF(OR(OFFSET(結果貼付け用!$H31,0,(COLUMN()-4)*6,1,1)=\"-\", OFFSET(結果貼付け用!$H31,0,(COLUMN()-4)*6,1,1)=\"\"), NA(), OFFSET(結果貼付け用!$H31,0,(COLUMN()-4)*6,1,1))","v":{"$error":"#N/A"}},{"$f":"IF(OR(OFFSET(結果貼付け用!$H31,0,(COLUMN()-4)*6,1,1)=\"-\", OFFSET(結果貼付け用!$H31,0,(COLUMN()-4)*6,1,1)=\"\"), NA(), OFFSET(結果貼付け用!$H31,0,(COLUMN()-4)*6,1,1))","v":{"$error":"#N/A"}},{"$f":"IF(OR(OFFSET(結果貼付け用!$H31,0,(COLUMN()-4)*6,1,1)=\"-\", OFFSET(結果貼付け用!$H31,0,(COLUMN()-4)*6,1,1)=\"\"), NA(), OFFSET(結果貼付け用!$H31,0,(COLUMN()-4)*6,1,1))","v":{"$error":"#N/A"}},{"$f":"IF(OR(OFFSET(結果貼付け用!$H31,0,(COLUMN()-4)*6,1,1)=\"-\", OFFSET(結果貼付け用!$H31,0,(COLUMN()-4)*6,1,1)=\"\"), NA(), OFFSET(結果貼付け用!$H31,0,(COLUMN()-4)*6,1,1))","v":{"$error":"#N/A"}},{"$f":"IF(OR(OFFSET(結果貼付け用!$H31,0,(COLUMN()-4)*6,1,1)=\"-\", OFFSET(結果貼付け用!$H31,0,(COLUMN()-4)*6,1,1)=\"\"), NA(), OFFSET(結果貼付け用!$H31,0,(COLUMN()-4)*6,1,1))","v":{"$error":"#N/A"}},{"$f":"IF(OR(OFFSET(結果貼付け用!$H31,0,(COLUMN()-4)*6,1,1)=\"-\", OFFSET(結果貼付け用!$H31,0,(COLUMN()-4)*6,1,1)=\"\"), NA(), OFFSET(結果貼付け用!$H31,0,(COLUMN()-4)*6,1,1))","v":{"$error":"#N/A"}},{"$f":"IF(OR(OFFSET(結果貼付け用!$H31,0,(COLUMN()-4)*6,1,1)=\"-\", OFFSET(結果貼付け用!$H31,0,(COLUMN()-4)*6,1,1)=\"\"), NA(), OFFSET(結果貼付け用!$H31,0,(COLUMN()-4)*6,1,1))","v":{"$error":"#N/A"}},{"$f":"IF(OR(OFFSET(結果貼付け用!$H31,0,(COLUMN()-4)*6,1,1)=\"-\", OFFSET(結果貼付け用!$H31,0,(COLUMN()-4)*6,1,1)=\"\"), NA(), OFFSET(結果貼付け用!$H31,0,(COLUMN()-4)*6,1,1))","v":{"$error":"#N/A"}},{"$f":"IF(OR(OFFSET(結果貼付け用!$H31,0,(COLUMN()-4)*6,1,1)=\"-\", OFFSET(結果貼付け用!$H31,0,(COLUMN()-4)*6,1,1)=\"\"), NA(), OFFSET(結果貼付け用!$H31,0,(COLUMN()-4)*6,1,1))","v":{"$error":"#N/A"}},{"$f":"IF(OR(OFFSET(結果貼付け用!$H31,0,(COLUMN()-4)*6,1,1)=\"-\", OFFSET(結果貼付け用!$H31,0,(COLUMN()-4)*6,1,1)=\"\"), NA(), OFFSET(結果貼付け用!$H31,0,(COLUMN()-4)*6,1,1))","v":{"$error":"#N/A"}},{"$f":"IF(OR(OFFSET(結果貼付け用!$H31,0,(COLUMN()-4)*6,1,1)=\"-\", OFFSET(結果貼付け用!$H31,0,(COLUMN()-4)*6,1,1)=\"\"), NA(), OFFSET(結果貼付け用!$H31,0,(COLUMN()-4)*6,1,1))","v":{"$error":"#N/A"}}]
[null,"職場の人間関係の良さ",{"$f":"IF(結果貼付け用!B32=\"\",NA(),結果貼付け用!B32)","v":{"$error":"#N/A"}},{"$f":"IF(OR(OFFSET(結果貼付け用!$H32,0,(COLUMN()-4)*6,1,1)=\"-\", OFFSET(結果貼付け用!$H32,0,(COLUMN()-4)*6,1,1)=\"\"), NA(), OFFSET(結果貼付け用!$H32,0,(COLUMN()-4)*6,1,1))","v":{"$error":"#N/A"}},{"$f":"IF(OR(OFFSET(結果貼付け用!$H32,0,(COLUMN()-4)*6,1,1)=\"-\", OFFSET(結果貼付け用!$H32,0,(COLUMN()-4)*6,1,1)=\"\"), NA(), OFFSET(結果貼付け用!$H32,0,(COLUMN()-4)*6,1,1))","v":{"$error":"#N/A"}},{"$f":"IF(OR(OFFSET(結果貼付け用!$H32,0,(COLUMN()-4)*6,1,1)=\"-\", OFFSET(結果貼付け用!$H32,0,(COLUMN()-4)*6,1,1)=\"\"), NA(), OFFSET(結果貼付け用!$H32,0,(COLUMN()-4)*6,1,1))","v":{"$error":"#N/A"}},{"$f":"IF(OR(OFFSET(結果貼付け用!$H32,0,(COLUMN()-4)*6,1,1)=\"-\", OFFSET(結果貼付け用!$H32,0,(COLUMN()-4)*6,1,1)=\"\"), NA(), OFFSET(結果貼付け用!$H32,0,(COLUMN()-4)*6,1,1))","v":{"$error":"#N/A"}},{"$f":"IF(OR(OFFSET(結果貼付け用!$H32,0,(COLUMN()-4)*6,1,1)=\"-\", OFFSET(結果貼付け用!$H32,0,(COLUMN()-4)*6,1,1)=\"\"), NA(), OFFSET(結果貼付け用!$H32,0,(COLUMN()-4)*6,1,1))","v":{"$error":"#N/A"}},{"$f":"IF(OR(OFFSET(結果貼付け用!$H32,0,(COLUMN()-4)*6,1,1)=\"-\", OFFSET(結果貼付け用!$H32,0,(COLUMN()-4)*6,1,1)=\"\"), NA(), OFFSET(結果貼付け用!$H32,0,(COLUMN()-4)*6,1,1))","v":{"$error":"#N/A"}},{"$f":"IF(OR(OFFSET(結果貼付け用!$H32,0,(COLUMN()-4)*6,1,1)=\"-\", OFFSET(結果貼付け用!$H32,0,(COLUMN()-4)*6,1,1)=\"\"), NA(), OFFSET(結果貼付け用!$H32,0,(COLUMN()-4)*6,1,1))","v":{"$error":"#N/A"}},{"$f":"IF(OR(OFFSET(結果貼付け用!$H32,0,(COLUMN()-4)*6,1,1)=\"-\", OFFSET(結果貼付け用!$H32,0,(COLUMN()-4)*6,1,1)=\"\"), NA(), OFFSET(結果貼付け用!$H32,0,(COLUMN()-4)*6,1,1))","v":{"$error":"#N/A"}},{"$f":"IF(OR(OFFSET(結果貼付け用!$H32,0,(COLUMN()-4)*6,1,1)=\"-\", OFFSET(結果貼付け用!$H32,0,(COLUMN()-4)*6,1,1)=\"\"), NA(), OFFSET(結果貼付け用!$H32,0,(COLUMN()-4)*6,1,1))","v":{"$error":"#N/A"}},{"$f":"IF(OR(OFFSET(結果貼付け用!$H32,0,(COLUMN()-4)*6,1,1)=\"-\", OFFSET(結果貼付け用!$H32,0,(COLUMN()-4)*6,1,1)=\"\"), NA(), OFFSET(結果貼付け用!$H32,0,(COLUMN()-4)*6,1,1))","v":{"$error":"#N/A"}},{"$f":"IF(OR(OFFSET(結果貼付け用!$H32,0,(COLUMN()-4)*6,1,1)=\"-\", OFFSET(結果貼付け用!$H32,0,(COLUMN()-4)*6,1,1)=\"\"), NA(), OFFSET(結果貼付け用!$H32,0,(COLUMN()-4)*6,1,1))","v":{"$error":"#N/A"}},{"$f":"IF(OR(OFFSET(結果貼付け用!$H32,0,(COLUMN()-4)*6,1,1)=\"-\", OFFSET(結果貼付け用!$H32,0,(COLUMN()-4)*6,1,1)=\"\"), NA(), OFFSET(結果貼付け用!$H32,0,(COLUMN()-4)*6,1,1))","v":{"$error":"#N/A"}},{"$f":"IF(OR(OFFSET(結果貼付け用!$H32,0,(COLUMN()-4)*6,1,1)=\"-\", OFFSET(結果貼付け用!$H32,0,(COLUMN()-4)*6,1,1)=\"\"), NA(), OFFSET(結果貼付け用!$H32,0,(COLUMN()-4)*6,1,1))","v":{"$error":"#N/A"}},{"$f":"IF(OR(OFFSET(結果貼付け用!$H32,0,(COLUMN()-4)*6,1,1)=\"-\", OFFSET(結果貼付け用!$H32,0,(COLUMN()-4)*6,1,1)=\"\"), NA(), OFFSET(結果貼付け用!$H32,0,(COLUMN()-4)*6,1,1))","v":{"$error":"#N/A"}},{"$f":"IF(OR(OFFSET(結果貼付け用!$H32,0,(COLUMN()-4)*6,1,1)=\"-\", OFFSET(結果貼付け用!$H32,0,(COLUMN()-4)*6,1,1)=\"\"), NA(), OFFSET(結果貼付け用!$H32,0,(COLUMN()-4)*6,1,1))","v":{"$error":"#N/A"}},{"$f":"IF(OR(OFFSET(結果貼付け用!$H32,0,(COLUMN()-4)*6,1,1)=\"-\", OFFSET(結果貼付け用!$H32,0,(COLUMN()-4)*6,1,1)=\"\"), NA(), OFFSET(結果貼付け用!$H32,0,(COLUMN()-4)*6,1,1))","v":{"$error":"#N/A"}},{"$f":"IF(OR(OFFSET(結果貼付け用!$H32,0,(COLUMN()-4)*6,1,1)=\"-\", OFFSET(結果貼付け用!$H32,0,(COLUMN()-4)*6,1,1)=\"\"), NA(), OFFSET(結果貼付け用!$H32,0,(COLUMN()-4)*6,1,1))","v":{"$error":"#N/A"}},{"$f":"IF(OR(OFFSET(結果貼付け用!$H32,0,(COLUMN()-4)*6,1,1)=\"-\", OFFSET(結果貼付け用!$H32,0,(COLUMN()-4)*6,1,1)=\"\"), NA(), OFFSET(結果貼付け用!$H32,0,(COLUMN()-4)*6,1,1))","v":{"$error":"#N/A"}},{"$f":"IF(OR(OFFSET(結果貼付け用!$H32,0,(COLUMN()-4)*6,1,1)=\"-\", OFFSET(結果貼付け用!$H32,0,(COLUMN()-4)*6,1,1)=\"\"), NA(), OFFSET(結果貼付け用!$H32,0,(COLUMN()-4)*6,1,1))","v":{"$error":"#N/A"}},{"$f":"IF(OR(OFFSET(結果貼付け用!$H32,0,(COLUMN()-4)*6,1,1)=\"-\", OFFSET(結果貼付け用!$H32,0,(COLUMN()-4)*6,1,1)=\"\"), NA(), OFFSET(結果貼付け用!$H32,0,(COLUMN()-4)*6,1,1))","v":{"$error":"#N/A"}},{"$f":"IF(OR(OFFSET(結果貼付け用!$H32,0,(COLUMN()-4)*6,1,1)=\"-\", OFFSET(結果貼付け用!$H32,0,(COLUMN()-4)*6,1,1)=\"\"), NA(), OFFSET(結果貼付け用!$H32,0,(COLUMN()-4)*6,1,1))","v":{"$error":"#N/A"}},{"$f":"IF(OR(OFFSET(結果貼付け用!$H32,0,(COLUMN()-4)*6,1,1)=\"-\", OFFSET(結果貼付け用!$H32,0,(COLUMN()-4)*6,1,1)=\"\"), NA(), OFFSET(結果貼付け用!$H32,0,(COLUMN()-4)*6,1,1))","v":{"$error":"#N/A"}},{"$f":"IF(OR(OFFSET(結果貼付け用!$H32,0,(COLUMN()-4)*6,1,1)=\"-\", OFFSET(結果貼付け用!$H32,0,(COLUMN()-4)*6,1,1)=\"\"), NA(), OFFSET(結果貼付け用!$H32,0,(COLUMN()-4)*6,1,1))","v":{"$error":"#N/A"}},{"$f":"IF(OR(OFFSET(結果貼付け用!$H32,0,(COLUMN()-4)*6,1,1)=\"-\", OFFSET(結果貼付け用!$H32,0,(COLUMN()-4)*6,1,1)=\"\"), NA(), OFFSET(結果貼付け用!$H32,0,(COLUMN()-4)*6,1,1))","v":{"$error":"#N/A"}},{"$f":"IF(OR(OFFSET(結果貼付け用!$H32,0,(COLUMN()-4)*6,1,1)=\"-\", OFFSET(結果貼付け用!$H32,0,(COLUMN()-4)*6,1,1)=\"\"), NA(), OFFSET(結果貼付け用!$H32,0,(COLUMN()-4)*6,1,1))","v":{"$error":"#N/A"}},{"$f":"IF(OR(OFFSET(結果貼付け用!$H32,0,(COLUMN()-4)*6,1,1)=\"-\", OFFSET(結果貼付け用!$H32,0,(COLUMN()-4)*6,1,1)=\"\"), NA(), OFFSET(結果貼付け用!$H32,0,(COLUMN()-4)*6,1,1))","v":{"$error":"#N/A"}},{"$f":"IF(OR(OFFSET(結果貼付け用!$H32,0,(COLUMN()-4)*6,1,1)=\"-\", OFFSET(結果貼付け用!$H32,0,(COLUMN()-4)*6,1,1)=\"\"), NA(), OFFSET(結果貼付け用!$H32,0,(COLUMN()-4)*6,1,1))","v":{"$error":"#N/A"}},{"$f":"IF(OR(OFFSET(結果貼付け用!$H32,0,(COLUMN()-4)*6,1,1)=\"-\", OFFSET(結果貼付け用!$H32,0,(COLUMN()-4)*6,1,1)=\"\"), NA(), OFFSET(結果貼付け用!$H32,0,(COLUMN()-4)*6,1,1))","v":{"$error":"#N/A"}},{"$f":"IF(OR(OFFSET(結果貼付け用!$H32,0,(COLUMN()-4)*6,1,1)=\"-\", OFFSET(結果貼付け用!$H32,0,(COLUMN()-4)*6,1,1)=\"\"), NA(), OFFSET(結果貼付け用!$H32,0,(COLUMN()-4)*6,1,1))","v":{"$error":"#N/A"}}]
[null,"職場の心理的安全性",{"$f":"IF(結果貼付け用!B33=\"\",NA(),結果貼付け用!B33)","v":{"$error":"#N/A"}},{"$f":"IF(OR(OFFSET(結果貼付け用!$H33,0,(COLUMN()-4)*6,1,1)=\"-\", OFFSET(結果貼付け用!$H33,0,(COLUMN()-4)*6,1,1)=\"\"), NA(), OFFSET(結果貼付け用!$H33,0,(COLUMN()-4)*6,1,1))","v":{"$error":"#N/A"}},{"$f":"IF(OR(OFFSET(結果貼付け用!$H33,0,(COLUMN()-4)*6,1,1)=\"-\", OFFSET(結果貼付け用!$H33,0,(COLUMN()-4)*6,1,1)=\"\"), NA(), OFFSET(結果貼付け用!$H33,0,(COLUMN()-4)*6,1,1))","v":{"$error":"#N/A"}},{"$f":"IF(OR(OFFSET(結果貼付け用!$H33,0,(COLUMN()-4)*6,1,1)=\"-\", OFFSET(結果貼付け用!$H33,0,(COLUMN()-4)*6,1,1)=\"\"), NA(), OFFSET(結果貼付け用!$H33,0,(COLUMN()-4)*6,1,1))","v":{"$error":"#N/A"}},{"$f":"IF(OR(OFFSET(結果貼付け用!$H33,0,(COLUMN()-4)*6,1,1)=\"-\", OFFSET(結果貼付け用!$H33,0,(COLUMN()-4)*6,1,1)=\"\"), NA(), OFFSET(結果貼付け用!$H33,0,(COLUMN()-4)*6,1,1))","v":{"$error":"#N/A"}},{"$f":"IF(OR(OFFSET(結果貼付け用!$H33,0,(COLUMN()-4)*6,1,1)=\"-\", OFFSET(結果貼付け用!$H33,0,(COLUMN()-4)*6,1,1)=\"\"), NA(), OFFSET(結果貼付け用!$H33,0,(COLUMN()-4)*6,1,1))","v":{"$error":"#N/A"}},{"$f":"IF(OR(OFFSET(結果貼付け用!$H33,0,(COLUMN()-4)*6,1,1)=\"-\", OFFSET(結果貼付け用!$H33,0,(COLUMN()-4)*6,1,1)=\"\"), NA(), OFFSET(結果貼付け用!$H33,0,(COLUMN()-4)*6,1,1))","v":{"$error":"#N/A"}},{"$f":"IF(OR(OFFSET(結果貼付け用!$H33,0,(COLUMN()-4)*6,1,1)=\"-\", OFFSET(結果貼付け用!$H33,0,(COLUMN()-4)*6,1,1)=\"\"), NA(), OFFSET(結果貼付け用!$H33,0,(COLUMN()-4)*6,1,1))","v":{"$error":"#N/A"}},{"$f":"IF(OR(OFFSET(結果貼付け用!$H33,0,(COLUMN()-4)*6,1,1)=\"-\", OFFSET(結果貼付け用!$H33,0,(COLUMN()-4)*6,1,1)=\"\"), NA(), OFFSET(結果貼付け用!$H33,0,(COLUMN()-4)*6,1,1))","v":{"$error":"#N/A"}},{"$f":"IF(OR(OFFSET(結果貼付け用!$H33,0,(COLUMN()-4)*6,1,1)=\"-\", OFFSET(結果貼付け用!$H33,0,(COLUMN()-4)*6,1,1)=\"\"), NA(), OFFSET(結果貼付け用!$H33,0,(COLUMN()-4)*6,1,1))","v":{"$error":"#N/A"}},{"$f":"IF(OR(OFFSET(結果貼付け用!$H33,0,(COLUMN()-4)*6,1,1)=\"-\", OFFSET(結果貼付け用!$H33,0,(COLUMN()-4)*6,1,1)=\"\"), NA(), OFFSET(結果貼付け用!$H33,0,(COLUMN()-4)*6,1,1))","v":{"$error":"#N/A"}},{"$f":"IF(OR(OFFSET(結果貼付け用!$H33,0,(COLUMN()-4)*6,1,1)=\"-\", OFFSET(結果貼付け用!$H33,0,(COLUMN()-4)*6,1,1)=\"\"), NA(), OFFSET(結果貼付け用!$H33,0,(COLUMN()-4)*6,1,1))","v":{"$error":"#N/A"}},{"$f":"IF(OR(OFFSET(結果貼付け用!$H33,0,(COLUMN()-4)*6,1,1)=\"-\", OFFSET(結果貼付け用!$H33,0,(COLUMN()-4)*6,1,1)=\"\"), NA(), OFFSET(結果貼付け用!$H33,0,(COLUMN()-4)*6,1,1))","v":{"$error":"#N/A"}},{"$f":"IF(OR(OFFSET(結果貼付け用!$H33,0,(COLUMN()-4)*6,1,1)=\"-\", OFFSET(結果貼付け用!$H33,0,(COLUMN()-4)*6,1,1)=\"\"), NA(), OFFSET(結果貼付け用!$H33,0,(COLUMN()-4)*6,1,1))","v":{"$error":"#N/A"}},{"$f":"IF(OR(OFFSET(結果貼付け用!$H33,0,(COLUMN()-4)*6,1,1)=\"-\", OFFSET(結果貼付け用!$H33,0,(COLUMN()-4)*6,1,1)=\"\"), NA(), OFFSET(結果貼付け用!$H33,0,(COLUMN()-4)*6,1,1))","v":{"$error":"#N/A"}},{"$f":"IF(OR(OFFSET(結果貼付け用!$H33,0,(COLUMN()-4)*6,1,1)=\"-\", OFFSET(結果貼付け用!$H33,0,(COLUMN()-4)*6,1,1)=\"\"), NA(), OFFSET(結果貼付け用!$H33,0,(COLUMN()-4)*6,1,1))","v":{"$error":"#N/A"}},{"$f":"IF(OR(OFFSET(結果貼付け用!$H33,0,(COLUMN()-4)*6,1,1)=\"-\", OFFSET(結果貼付け用!$H33,0,(COLUMN()-4)*6,1,1)=\"\"), NA(), OFFSET(結果貼付け用!$H33,0,(COLUMN()-4)*6,1,1))","v":{"$error":"#N/A"}},{"$f":"IF(OR(OFFSET(結果貼付け用!$H33,0,(COLUMN()-4)*6,1,1)=\"-\", OFFSET(結果貼付け用!$H33,0,(COLUMN()-4)*6,1,1)=\"\"), NA(), OFFSET(結果貼付け用!$H33,0,(COLUMN()-4)*6,1,1))","v":{"$error":"#N/A"}},{"$f":"IF(OR(OFFSET(結果貼付け用!$H33,0,(COLUMN()-4)*6,1,1)=\"-\", OFFSET(結果貼付け用!$H33,0,(COLUMN()-4)*6,1,1)=\"\"), NA(), OFFSET(結果貼付け用!$H33,0,(COLUMN()-4)*6,1,1))","v":{"$error":"#N/A"}},{"$f":"IF(OR(OFFSET(結果貼付け用!$H33,0,(COLUMN()-4)*6,1,1)=\"-\", OFFSET(結果貼付け用!$H33,0,(COLUMN()-4)*6,1,1)=\"\"), NA(), OFFSET(結果貼付け用!$H33,0,(COLUMN()-4)*6,1,1))","v":{"$error":"#N/A"}},{"$f":"IF(OR(OFFSET(結果貼付け用!$H33,0,(COLUMN()-4)*6,1,1)=\"-\", OFFSET(結果貼付け用!$H33,0,(COLUMN()-4)*6,1,1)=\"\"), NA(), OFFSET(結果貼付け用!$H33,0,(COLUMN()-4)*6,1,1))","v":{"$error":"#N/A"}},{"$f":"IF(OR(OFFSET(結果貼付け用!$H33,0,(COLUMN()-4)*6,1,1)=\"-\", OFFSET(結果貼付け用!$H33,0,(COLUMN()-4)*6,1,1)=\"\"), NA(), OFFSET(結果貼付け用!$H33,0,(COLUMN()-4)*6,1,1))","v":{"$error":"#N/A"}},{"$f":"IF(OR(OFFSET(結果貼付け用!$H33,0,(COLUMN()-4)*6,1,1)=\"-\", OFFSET(結果貼付け用!$H33,0,(COLUMN()-4)*6,1,1)=\"\"), NA(), OFFSET(結果貼付け用!$H33,0,(COLUMN()-4)*6,1,1))","v":{"$error":"#N/A"}},{"$f":"IF(OR(OFFSET(結果貼付け用!$H33,0,(COLUMN()-4)*6,1,1)=\"-\", OFFSET(結果貼付け用!$H33,0,(COLUMN()-4)*6,1,1)=\"\"), NA(), OFFSET(結果貼付け用!$H33,0,(COLUMN()-4)*6,1,1))","v":{"$error":"#N/A"}},{"$f":"IF(OR(OFFSET(結果貼付け用!$H33,0,(COLUMN()-4)*6,1,1)=\"-\", OFFSET(結果貼付け用!$H33,0,(COLUMN()-4)*6,1,1)=\"\"), NA(), OFFSET(結果貼付け用!$H33,0,(COLUMN()-4)*6,1,1))","v":{"$error":"#N/A"}},{"$f":"IF(OR(OFFSET(結果貼付け用!$H33,0,(COLUMN()-4)*6,1,1)=\"-\", OFFSET(結果貼付け用!$H33,0,(COLUMN()-4)*6,1,1)=\"\"), NA(), OFFSET(結果貼付け用!$H33,0,(COLUMN()-4)*6,1,1))","v":{"$error":"#N/A"}},{"$f":"IF(OR(OFFSET(結果貼付け用!$H33,0,(COLUMN()-4)*6,1,1)=\"-\", OFFSET(結果貼付け用!$H33,0,(COLUMN()-4)*6,1,1)=\"\"), NA(), OFFSET(結果貼付け用!$H33,0,(COLUMN()-4)*6,1,1))","v":{"$error":"#N/A"}},{"$f":"IF(OR(OFFSET(結果貼付け用!$H33,0,(COLUMN()-4)*6,1,1)=\"-\", OFFSET(結果貼付け用!$H33,0,(COLUMN()-4)*6,1,1)=\"\"), NA(), OFFSET(結果貼付け用!$H33,0,(COLUMN()-4)*6,1,1))","v":{"$error":"#N/A"}},{"$f":"IF(OR(OFFSET(結果貼付け用!$H33,0,(COLUMN()-4)*6,1,1)=\"-\", OFFSET(結果貼付け用!$H33,0,(COLUMN()-4)*6,1,1)=\"\"), NA(), OFFSET(結果貼付け用!$H33,0,(COLUMN()-4)*6,1,1))","v":{"$error":"#N/A"}},{"$f":"IF(OR(OFFSET(結果貼付け用!$H33,0,(COLUMN()-4)*6,1,1)=\"-\", OFFSET(結果貼付け用!$H33,0,(COLUMN()-4)*6,1,1)=\"\"), NA(), OFFSET(結果貼付け用!$H33,0,(COLUMN()-4)*6,1,1))","v":{"$error":"#N/A"}}]
[]
[]
[]
[]
[]
[]
[]
[]
[]
[]
[]
[]
[]
[]
[]
[]
[]
[]
[]
[]
[null,"実施開始日時",{"$f":"IF(結果貼付け用!B2=\"\",NA(),結果貼付け用!B2)","v":{"$error":"#N/A"}},{"$f":"IF((OFFSET(結果貼付け用!$H$2, 0, (COLUMN() - COLUMN($D$26)) * 6))=\"\",NA(),(OFFSET(結果貼付け用!$H$2, 0, (COLUMN() - COLUMN($D$26)) * 6)))","v":{"$error":"#N/A"}},{"$f":"IF((OFFSET(結果貼付け用!$H$2, 0, (COLUMN() - COLUMN($D$26)) * 6))=\"\",NA(),(OFFSET(結果貼付け用!$H$2, 0, (COLUMN() - COLUMN($D$26)) * 6)))","v":{"$error":"#N/A"}},{"$f":"IF((OFFSET(結果貼付け用!$H$2, 0, (COLUMN() - COLUMN($D$26)) * 6))=\"\",NA(),(OFFSET(結果貼付け用!$H$2, 0, (COLUMN() - COLUMN($D$26)) * 6)))","v":{"$error":"#N/A"}},{"$f":"IF((OFFSET(結果貼付け用!$H$2, 0, (COLUMN() - COLUMN($D$26)) * 6))=\"\",NA(),(OFFSET(結果貼付け用!$H$2, 0, (COLUMN() - COLUMN($D$26)) * 6)))","v":{"$error":"#N/A"}},{"$f":"IF((OFFSET(結果貼付け用!$H$2, 0, (COLUMN() - COLUMN($D$26)) * 6))=\"\",NA(),(OFFSET(結果貼付け用!$H$2, 0, (COLUMN() - COLUMN($D$26)) * 6)))","v":{"$error":"#N/A"}},{"$f":"IF((OFFSET(結果貼付け用!$H$2, 0, (COLUMN() - COLUMN($D$26)) * 6))=\"\",NA(),(OFFSET(結果貼付け用!$H$2, 0, (COLUMN() - COLUMN($D$26)) * 6)))","v":{"$error":"#N/A"}},{"$f":"IF((OFFSET(結果貼付け用!$H$2, 0, (COLUMN() - COLUMN($D$26)) * 6))=\"\",NA(),(OFFSET(結果貼付け用!$H$2, 0, (COLUMN() - COLUMN($D$26)) * 6)))","v":{"$error":"#N/A"}},{"$f":"IF((OFFSET(結果貼付け用!$H$2, 0, (COLUMN() - COLUMN($D$26)) * 6))=\"\",NA(),(OFFSET(結果貼付け用!$H$2, 0, (COLUMN() - COLUMN($D$26)) * 6)))","v":{"$error":"#N/A"}},{"$f":"IF((OFFSET(結果貼付け用!$H$2, 0, (COLUMN() - COLUMN($D$26)) * 6))=\"\",NA(),(OFFSET(結果貼付け用!$H$2, 0, (COLUMN() - COLUMN($D$26)) * 6)))","v":{"$error":"#N/A"}},{"$f":"IF((OFFSET(結果貼付け用!$H$2, 0, (COLUMN() - COLUMN($D$26)) * 6))=\"\",NA(),(OFFSET(結果貼付け用!$H$2, 0, (COLUMN() - COLUMN($D$26)) * 6)))","v":{"$error":"#N/A"}},{"$f":"IF((OFFSET(結果貼付け用!$H$2, 0, (COLUMN() - COLUMN($D$26)) * 6))=\"\",NA(),(OFFSET(結果貼付け用!$H$2, 0, (COLUMN() - COLUMN($D$26)) * 6)))","v":{"$error":"#N/A"}},{"$f":"IF((OFFSET(結果貼付け用!$H$2, 0, (COLUMN() - COLUMN($D$26)) * 6))=\"\",NA(),(OFFSET(結果貼付け用!$H$2, 0, (COLUMN() - COLUMN($D$26)) * 6)))","v":{"$error":"#N/A"}},{"$f":"IF((OFFSET(結果貼付け用!$H$2, 0, (COLUMN() - COLUMN($D$26)) * 6))=\"\",NA(),(OFFSET(結果貼付け用!$H$2, 0, (COLUMN() - COLUMN($D$26)) * 6)))","v":{"$error":"#N/A"}},{"$f":"IF((OFFSET(結果貼付け用!$H$2, 0, (COLUMN() - COLUMN($D$26)) * 6))=\"\",NA(),(OFFSET(結果貼付け用!$H$2, 0, (COLUMN() - COLUMN($D$26)) * 6)))","v":{"$error":"#N/A"}},{"$f":"IF((OFFSET(結果貼付け用!$H$2, 0, (COLUMN() - COLUMN($D$26)) * 6))=\"\",NA(),(OFFSET(結果貼付け用!$H$2, 0, (COLUMN() - COLUMN($D$26)) * 6)))","v":{"$error":"#N/A"}},{"$f":"IF((OFFSET(結果貼付け用!$H$2, 0, (COLUMN() - COLUMN($D$26)) * 6))=\"\",NA(),(OFFSET(結果貼付け用!$H$2, 0, (COLUMN() - COLUMN($D$26)) * 6)))","v":{"$error":"#N/A"}},{"$f":"IF((OFFSET(結果貼付け用!$H$2, 0, (COLUMN() - COLUMN($D$26)) * 6))=\"\",NA(),(OFFSET(結果貼付け用!$H$2, 0, (COLUMN() - COLUMN($D$26)) * 6)))","v":{"$error":"#N/A"}},{"$f":"IF((OFFSET(結果貼付け用!$H$2, 0, (COLUMN() - COLUMN($D$26)) * 6))=\"\",NA(),(OFFSET(結果貼付け用!$H$2, 0, (COLUMN() - COLUMN($D$26)) * 6)))","v":{"$error":"#N/A"}},{"$f":"IF((OFFSET(結果貼付け用!$H$2, 0, (COLUMN() - COLUMN($D$26)) * 6))=\"\",NA(),(OFFSET(結果貼付け用!$H$2, 0, (COLUMN() - COLUMN($D$26)) * 6)))","v":{"$error":"#N/A"}},{"$f":"IF((OFFSET(結果貼付け用!$H$2, 0, (COLUMN() - COLUMN($D$26)) * 6))=\"\",NA(),(OFFSET(結果貼付け用!$H$2, 0, (COLUMN() - COLUMN($D$26)) * 6)))","v":{"$error":"#N/A"}},{"$f":"IF((OFFSET(結果貼付け用!$H$2, 0, (COLUMN() - COLUMN($D$26)) * 6))=\"\",NA(),(OFFSET(結果貼付け用!$H$2, 0, (COLUMN() - COLUMN($D$26)) * 6)))","v":{"$error":"#N/A"}},{"$f":"IF((OFFSET(結果貼付け用!$H$2, 0, (COLUMN() - COLUMN($D$26)) * 6))=\"\",NA(),(OFFSET(結果貼付け用!$H$2, 0, (COLUMN() - COLUMN($D$26)) * 6)))","v":{"$error":"#N/A"}},{"$f":"IF((OFFSET(結果貼付け用!$H$2, 0, (COLUMN() - COLUMN($D$26)) * 6))=\"\",NA(),(OFFSET(結果貼付け用!$H$2, 0, (COLUMN() - COLUMN($D$26)) * 6)))","v":{"$error":"#N/A"}},{"$f":"IF((OFFSET(結果貼付け用!$H$2, 0, (COLUMN() - COLUMN($D$26)) * 6))=\"\",NA(),(OFFSET(結果貼付け用!$H$2, 0, (COLUMN() - COLUMN($D$26)) * 6)))","v":{"$error":"#N/A"}},{"$f":"IF((OFFSET(結果貼付け用!$H$2, 0, (COLUMN() - COLUMN($D$26)) * 6))=\"\",NA(),(OFFSET(結果貼付け用!$H$2, 0, (COLUMN() - COLUMN($D$26)) * 6)))","v":{"$error":"#N/A"}},{"$f":"IF((OFFSET(結果貼付け用!$H$2, 0, (COLUMN() - COLUMN($D$26)) * 6))=\"\",NA(),(OFFSET(結果貼付け用!$H$2, 0, (COLUMN() - COLUMN($D$26)) * 6)))","v":{"$error":"#N/A"}},{"$f":"IF((OFFSET(結果貼付け用!$H$2, 0, (COLUMN() - COLUMN($D$26)) * 6))=\"\",NA(),(OFFSET(結果貼付け用!$H$2, 0, (COLUMN() - COLUMN($D$26)) * 6)))","v":{"$error":"#N/A"}},{"$f":"IF((OFFSET(結果貼付け用!$H$2, 0, (COLUMN() - COLUMN($D$26)) * 6))=\"\",NA(),(OFFSET(結果貼付け用!$H$2, 0, (COLUMN() - COLUMN($D$26)) * 6)))","v":{"$error":"#N/A"}},{"$f":"IF((OFFSET(結果貼付け用!$H$2, 0, (COLUMN() - COLUMN($D$26)) * 6))=\"\",NA(),(OFFSET(結果貼付け用!$H$2, 0, (COLUMN() - COLUMN($D$26)) * 6)))","v":{"$error":"#N/A"}}]
[null,"人事施策",{"$f":"IF(結果貼付け用!B34=\"\",NA(),結果貼付け用!B34)","v":{"$error":"#N/A"}},{"$f":"IF(OR(OFFSET(結果貼付け用!$H34,0,(COLUMN()-4)*6,1,1)=\"-\", OFFSET(結果貼付け用!$H34,0,(COLUMN()-4)*6,1,1)=\"\"), NA(), OFFSET(結果貼付け用!$H34,0,(COLUMN()-4)*6,1,1))","v":{"$error":"#N/A"}},{"$f":"IF(OR(OFFSET(結果貼付け用!$H34,0,(COLUMN()-4)*6,1,1)=\"-\", OFFSET(結果貼付け用!$H34,0,(COLUMN()-4)*6,1,1)=\"\"), NA(), OFFSET(結果貼付け用!$H34,0,(COLUMN()-4)*6,1,1))","v":{"$error":"#N/A"}},{"$f":"IF(OR(OFFSET(結果貼付け用!$H34,0,(COLUMN()-4)*6,1,1)=\"-\", OFFSET(結果貼付け用!$H34,0,(COLUMN()-4)*6,1,1)=\"\"), NA(), OFFSET(結果貼付け用!$H34,0,(COLUMN()-4)*6,1,1))","v":{"$error":"#N/A"}},{"$f":"IF(OR(OFFSET(結果貼付け用!$H34,0,(COLUMN()-4)*6,1,1)=\"-\", OFFSET(結果貼付け用!$H34,0,(COLUMN()-4)*6,1,1)=\"\"), NA(), OFFSET(結果貼付け用!$H34,0,(COLUMN()-4)*6,1,1))","v":{"$error":"#N/A"}},{"$f":"IF(OR(OFFSET(結果貼付け用!$H34,0,(COLUMN()-4)*6,1,1)=\"-\", OFFSET(結果貼付け用!$H34,0,(COLUMN()-4)*6,1,1)=\"\"), NA(), OFFSET(結果貼付け用!$H34,0,(COLUMN()-4)*6,1,1))","v":{"$error":"#N/A"}},{"$f":"IF(OR(OFFSET(結果貼付け用!$H34,0,(COLUMN()-4)*6,1,1)=\"-\", OFFSET(結果貼付け用!$H34,0,(COLUMN()-4)*6,1,1)=\"\"), NA(), OFFSET(結果貼付け用!$H34,0,(COLUMN()-4)*6,1,1))","v":{"$error":"#N/A"}},{"$f":"IF(OR(OFFSET(結果貼付け用!$H34,0,(COLUMN()-4)*6,1,1)=\"-\", OFFSET(結果貼付け用!$H34,0,(COLUMN()-4)*6,1,1)=\"\"), NA(), OFFSET(結果貼付け用!$H34,0,(COLUMN()-4)*6,1,1))","v":{"$error":"#N/A"}},{"$f":"IF(OR(OFFSET(結果貼付け用!$H34,0,(COLUMN()-4)*6,1,1)=\"-\", OFFSET(結果貼付け用!$H34,0,(COLUMN()-4)*6,1,1)=\"\"), NA(), OFFSET(結果貼付け用!$H34,0,(COLUMN()-4)*6,1,1))","v":{"$error":"#N/A"}},{"$f":"IF(OR(OFFSET(結果貼付け用!$H34,0,(COLUMN()-4)*6,1,1)=\"-\", OFFSET(結果貼付け用!$H34,0,(COLUMN()-4)*6,1,1)=\"\"), NA(), OFFSET(結果貼付け用!$H34,0,(COLUMN()-4)*6,1,1))","v":{"$error":"#N/A"}},{"$f":"IF(OR(OFFSET(結果貼付け用!$H34,0,(COLUMN()-4)*6,1,1)=\"-\", OFFSET(結果貼付け用!$H34,0,(COLUMN()-4)*6,1,1)=\"\"), NA(), OFFSET(結果貼付け用!$H34,0,(COLUMN()-4)*6,1,1))","v":{"$error":"#N/A"}},{"$f":"IF(OR(OFFSET(結果貼付け用!$H34,0,(COLUMN()-4)*6,1,1)=\"-\", OFFSET(結果貼付け用!$H34,0,(COLUMN()-4)*6,1,1)=\"\"), NA(), OFFSET(結果貼付け用!$H34,0,(COLUMN()-4)*6,1,1))","v":{"$error":"#N/A"}},{"$f":"IF(OR(OFFSET(結果貼付け用!$H34,0,(COLUMN()-4)*6,1,1)=\"-\", OFFSET(結果貼付け用!$H34,0,(COLUMN()-4)*6,1,1)=\"\"), NA(), OFFSET(結果貼付け用!$H34,0,(COLUMN()-4)*6,1,1))","v":{"$error":"#N/A"}},{"$f":"IF(OR(OFFSET(結果貼付け用!$H34,0,(COLUMN()-4)*6,1,1)=\"-\", OFFSET(結果貼付け用!$H34,0,(COLUMN()-4)*6,1,1)=\"\"), NA(), OFFSET(結果貼付け用!$H34,0,(COLUMN()-4)*6,1,1))","v":{"$error":"#N/A"}},{"$f":"IF(OR(OFFSET(結果貼付け用!$H34,0,(COLUMN()-4)*6,1,1)=\"-\", OFFSET(結果貼付け用!$H34,0,(COLUMN()-4)*6,1,1)=\"\"), NA(), OFFSET(結果貼付け用!$H34,0,(COLUMN()-4)*6,1,1))","v":{"$error":"#N/A"}},{"$f":"IF(OR(OFFSET(結果貼付け用!$H34,0,(COLUMN()-4)*6,1,1)=\"-\", OFFSET(結果貼付け用!$H34,0,(COLUMN()-4)*6,1,1)=\"\"), NA(), OFFSET(結果貼付け用!$H34,0,(COLUMN()-4)*6,1,1))","v":{"$error":"#N/A"}},{"$f":"IF(OR(OFFSET(結果貼付け用!$H34,0,(COLUMN()-4)*6,1,1)=\"-\", OFFSET(結果貼付け用!$H34,0,(COLUMN()-4)*6,1,1)=\"\"), NA(), OFFSET(結果貼付け用!$H34,0,(COLUMN()-4)*6,1,1))","v":{"$error":"#N/A"}},{"$f":"IF(OR(OFFSET(結果貼付け用!$H34,0,(COLUMN()-4)*6,1,1)=\"-\", OFFSET(結果貼付け用!$H34,0,(COLUMN()-4)*6,1,1)=\"\"), NA(), OFFSET(結果貼付け用!$H34,0,(COLUMN()-4)*6,1,1))","v":{"$error":"#N/A"}},{"$f":"IF(OR(OFFSET(結果貼付け用!$H34,0,(COLUMN()-4)*6,1,1)=\"-\", OFFSET(結果貼付け用!$H34,0,(COLUMN()-4)*6,1,1)=\"\"), NA(), OFFSET(結果貼付け用!$H34,0,(COLUMN()-4)*6,1,1))","v":{"$error":"#N/A"}},{"$f":"IF(OR(OFFSET(結果貼付け用!$H34,0,(COLUMN()-4)*6,1,1)=\"-\", OFFSET(結果貼付け用!$H34,0,(COLUMN()-4)*6,1,1)=\"\"), NA(), OFFSET(結果貼付け用!$H34,0,(COLUMN()-4)*6,1,1))","v":{"$error":"#N/A"}},{"$f":"IF(OR(OFFSET(結果貼付け用!$H34,0,(COLUMN()-4)*6,1,1)=\"-\", OFFSET(結果貼付け用!$H34,0,(COLUMN()-4)*6,1,1)=\"\"), NA(), OFFSET(結果貼付け用!$H34,0,(COLUMN()-4)*6,1,1))","v":{"$error":"#N/A"}},{"$f":"IF(OR(OFFSET(結果貼付け用!$H34,0,(COLUMN()-4)*6,1,1)=\"-\", OFFSET(結果貼付け用!$H34,0,(COLUMN()-4)*6,1,1)=\"\"), NA(), OFFSET(結果貼付け用!$H34,0,(COLUMN()-4)*6,1,1))","v":{"$error":"#N/A"}},{"$f":"IF(OR(OFFSET(結果貼付け用!$H34,0,(COLUMN()-4)*6,1,1)=\"-\", OFFSET(結果貼付け用!$H34,0,(COLUMN()-4)*6,1,1)=\"\"), NA(), OFFSET(結果貼付け用!$H34,0,(COLUMN()-4)*6,1,1))","v":{"$error":"#N/A"}},{"$f":"IF(OR(OFFSET(結果貼付け用!$H34,0,(COLUMN()-4)*6,1,1)=\"-\", OFFSET(結果貼付け用!$H34,0,(COLUMN()-4)*6,1,1)=\"\"), NA(), OFFSET(結果貼付け用!$H34,0,(COLUMN()-4)*6,1,1))","v":{"$error":"#N/A"}},{"$f":"IF(OR(OFFSET(結果貼付け用!$H34,0,(COLUMN()-4)*6,1,1)=\"-\", OFFSET(結果貼付け用!$H34,0,(COLUMN()-4)*6,1,1)=\"\"), NA(), OFFSET(結果貼付け用!$H34,0,(COLUMN()-4)*6,1,1))","v":{"$error":"#N/A"}},{"$f":"IF(OR(OFFSET(結果貼付け用!$H34,0,(COLUMN()-4)*6,1,1)=\"-\", OFFSET(結果貼付け用!$H34,0,(COLUMN()-4)*6,1,1)=\"\"), NA(), OFFSET(結果貼付け用!$H34,0,(COLUMN()-4)*6,1,1))","v":{"$error":"#N/A"}},{"$f":"IF(OR(OFFSET(結果貼付け用!$H34,0,(COLUMN()-4)*6,1,1)=\"-\", OFFSET(結果貼付け用!$H34,0,(COLUMN()-4)*6,1,1)=\"\"), NA(), OFFSET(結果貼付け用!$H34,0,(COLUMN()-4)*6,1,1))","v":{"$error":"#N/A"}},{"$f":"IF(OR(OFFSET(結果貼付け用!$H34,0,(COLUMN()-4)*6,1,1)=\"-\", OFFSET(結果貼付け用!$H34,0,(COLUMN()-4)*6,1,1)=\"\"), NA(), OFFSET(結果貼付け用!$H34,0,(COLUMN()-4)*6,1,1))","v":{"$error":"#N/A"}},{"$f":"IF(OR(OFFSET(結果貼付け用!$H34,0,(COLUMN()-4)*6,1,1)=\"-\", OFFSET(結果貼付け用!$H34,0,(COLUMN()-4)*6,1,1)=\"\"), NA(), OFFSET(結果貼付け用!$H34,0,(COLUMN()-4)*6,1,1))","v":{"$error":"#N/A"}},{"$f":"IF(OR(OFFSET(結果貼付け用!$H34,0,(COLUMN()-4)*6,1,1)=\"-\", OFFSET(結果貼付け用!$H34,0,(COLUMN()-4)*6,1,1)=\"\"), NA(), OFFSET(結果貼付け用!$H34,0,(COLUMN()-4)*6,1,1))","v":{"$error":"#N/A"}}]
[null,"人事評価の透明性",{"$f":"IF(結果貼付け用!B35=\"\",NA(),結果貼付け用!B35)","v":{"$error":"#N/A"}},{"$f":"IF(OR(OFFSET(結果貼付け用!$H35,0,(COLUMN()-4)*6,1,1)=\"-\", OFFSET(結果貼付け用!$H35,0,(COLUMN()-4)*6,1,1)=\"\"), NA(), OFFSET(結果貼付け用!$H35,0,(COLUMN()-4)*6,1,1))","v":{"$error":"#N/A"}},{"$f":"IF(OR(OFFSET(結果貼付け用!$H35,0,(COLUMN()-4)*6,1,1)=\"-\", OFFSET(結果貼付け用!$H35,0,(COLUMN()-4)*6,1,1)=\"\"), NA(), OFFSET(結果貼付け用!$H35,0,(COLUMN()-4)*6,1,1))","v":{"$error":"#N/A"}},{"$f":"IF(OR(OFFSET(結果貼付け用!$H35,0,(COLUMN()-4)*6,1,1)=\"-\", OFFSET(結果貼付け用!$H35,0,(COLUMN()-4)*6,1,1)=\"\"), NA(), OFFSET(結果貼付け用!$H35,0,(COLUMN()-4)*6,1,1))","v":{"$error":"#N/A"}},{"$f":"IF(OR(OFFSET(結果貼付け用!$H35,0,(COLUMN()-4)*6,1,1)=\"-\", OFFSET(結果貼付け用!$H35,0,(COLUMN()-4)*6,1,1)=\"\"), NA(), OFFSET(結果貼付け用!$H35,0,(COLUMN()-4)*6,1,1))","v":{"$error":"#N/A"}},{"$f":"IF(OR(OFFSET(結果貼付け用!$H35,0,(COLUMN()-4)*6,1,1)=\"-\", OFFSET(結果貼付け用!$H35,0,(COLUMN()-4)*6,1,1)=\"\"), NA(), OFFSET(結果貼付け用!$H35,0,(COLUMN()-4)*6,1,1))","v":{"$error":"#N/A"}},{"$f":"IF(OR(OFFSET(結果貼付け用!$H35,0,(COLUMN()-4)*6,1,1)=\"-\", OFFSET(結果貼付け用!$H35,0,(COLUMN()-4)*6,1,1)=\"\"), NA(), OFFSET(結果貼付け用!$H35,0,(COLUMN()-4)*6,1,1))","v":{"$error":"#N/A"}},{"$f":"IF(OR(OFFSET(結果貼付け用!$H35,0,(COLUMN()-4)*6,1,1)=\"-\", OFFSET(結果貼付け用!$H35,0,(COLUMN()-4)*6,1,1)=\"\"), NA(), OFFSET(結果貼付け用!$H35,0,(COLUMN()-4)*6,1,1))","v":{"$error":"#N/A"}},{"$f":"IF(OR(OFFSET(結果貼付け用!$H35,0,(COLUMN()-4)*6,1,1)=\"-\", OFFSET(結果貼付け用!$H35,0,(COLUMN()-4)*6,1,1)=\"\"), NA(), OFFSET(結果貼付け用!$H35,0,(COLUMN()-4)*6,1,1))","v":{"$error":"#N/A"}},{"$f":"IF(OR(OFFSET(結果貼付け用!$H35,0,(COLUMN()-4)*6,1,1)=\"-\", OFFSET(結果貼付け用!$H35,0,(COLUMN()-4)*6,1,1)=\"\"), NA(), OFFSET(結果貼付け用!$H35,0,(COLUMN()-4)*6,1,1))","v":{"$error":"#N/A"}},{"$f":"IF(OR(OFFSET(結果貼付け用!$H35,0,(COLUMN()-4)*6,1,1)=\"-\", OFFSET(結果貼付け用!$H35,0,(COLUMN()-4)*6,1,1)=\"\"), NA(), OFFSET(結果貼付け用!$H35,0,(COLUMN()-4)*6,1,1))","v":{"$error":"#N/A"}},{"$f":"IF(OR(OFFSET(結果貼付け用!$H35,0,(COLUMN()-4)*6,1,1)=\"-\", OFFSET(結果貼付け用!$H35,0,(COLUMN()-4)*6,1,1)=\"\"), NA(), OFFSET(結果貼付け用!$H35,0,(COLUMN()-4)*6,1,1))","v":{"$error":"#N/A"}},{"$f":"IF(OR(OFFSET(結果貼付け用!$H35,0,(COLUMN()-4)*6,1,1)=\"-\", OFFSET(結果貼付け用!$H35,0,(COLUMN()-4)*6,1,1)=\"\"), NA(), OFFSET(結果貼付け用!$H35,0,(COLUMN()-4)*6,1,1))","v":{"$error":"#N/A"}},{"$f":"IF(OR(OFFSET(結果貼付け用!$H35,0,(COLUMN()-4)*6,1,1)=\"-\", OFFSET(結果貼付け用!$H35,0,(COLUMN()-4)*6,1,1)=\"\"), NA(), OFFSET(結果貼付け用!$H35,0,(COLUMN()-4)*6,1,1))","v":{"$error":"#N/A"}},{"$f":"IF(OR(OFFSET(結果貼付け用!$H35,0,(COLUMN()-4)*6,1,1)=\"-\", OFFSET(結果貼付け用!$H35,0,(COLUMN()-4)*6,1,1)=\"\"), NA(), OFFSET(結果貼付け用!$H35,0,(COLUMN()-4)*6,1,1))","v":{"$error":"#N/A"}},{"$f":"IF(OR(OFFSET(結果貼付け用!$H35,0,(COLUMN()-4)*6,1,1)=\"-\", OFFSET(結果貼付け用!$H35,0,(COLUMN()-4)*6,1,1)=\"\"), NA(), OFFSET(結果貼付け用!$H35,0,(COLUMN()-4)*6,1,1))","v":{"$error":"#N/A"}},{"$f":"IF(OR(OFFSET(結果貼付け用!$H35,0,(COLUMN()-4)*6,1,1)=\"-\", OFFSET(結果貼付け用!$H35,0,(COLUMN()-4)*6,1,1)=\"\"), NA(), OFFSET(結果貼付け用!$H35,0,(COLUMN()-4)*6,1,1))","v":{"$error":"#N/A"}},{"$f":"IF(OR(OFFSET(結果貼付け用!$H35,0,(COLUMN()-4)*6,1,1)=\"-\", OFFSET(結果貼付け用!$H35,0,(COLUMN()-4)*6,1,1)=\"\"), NA(), OFFSET(結果貼付け用!$H35,0,(COLUMN()-4)*6,1,1))","v":{"$error":"#N/A"}},{"$f":"IF(OR(OFFSET(結果貼付け用!$H35,0,(COLUMN()-4)*6,1,1)=\"-\", OFFSET(結果貼付け用!$H35,0,(COLUMN()-4)*6,1,1)=\"\"), NA(), OFFSET(結果貼付け用!$H35,0,(COLUMN()-4)*6,1,1))","v":{"$error":"#N/A"}},{"$f":"IF(OR(OFFSET(結果貼付け用!$H35,0,(COLUMN()-4)*6,1,1)=\"-\", OFFSET(結果貼付け用!$H35,0,(COLUMN()-4)*6,1,1)=\"\"), NA(), OFFSET(結果貼付け用!$H35,0,(COLUMN()-4)*6,1,1))","v":{"$error":"#N/A"}},{"$f":"IF(OR(OFFSET(結果貼付け用!$H35,0,(COLUMN()-4)*6,1,1)=\"-\", OFFSET(結果貼付け用!$H35,0,(COLUMN()-4)*6,1,1)=\"\"), NA(), OFFSET(結果貼付け用!$H35,0,(COLUMN()-4)*6,1,1))","v":{"$error":"#N/A"}},{"$f":"IF(OR(OFFSET(結果貼付け用!$H35,0,(COLUMN()-4)*6,1,1)=\"-\", OFFSET(結果貼付け用!$H35,0,(COLUMN()-4)*6,1,1)=\"\"), NA(), OFFSET(結果貼付け用!$H35,0,(COLUMN()-4)*6,1,1))","v":{"$error":"#N/A"}},{"$f":"IF(OR(OFFSET(結果貼付け用!$H35,0,(COLUMN()-4)*6,1,1)=\"-\", OFFSET(結果貼付け用!$H35,0,(COLUMN()-4)*6,1,1)=\"\"), NA(), OFFSET(結果貼付け用!$H35,0,(COLUMN()-4)*6,1,1))","v":{"$error":"#N/A"}},{"$f":"IF(OR(OFFSET(結果貼付け用!$H35,0,(COLUMN()-4)*6,1,1)=\"-\", OFFSET(結果貼付け用!$H35,0,(COLUMN()-4)*6,1,1)=\"\"), NA(), OFFSET(結果貼付け用!$H35,0,(COLUMN()-4)*6,1,1))","v":{"$error":"#N/A"}},{"$f":"IF(OR(OFFSET(結果貼付け用!$H35,0,(COLUMN()-4)*6,1,1)=\"-\", OFFSET(結果貼付け用!$H35,0,(COLUMN()-4)*6,1,1)=\"\"), NA(), OFFSET(結果貼付け用!$H35,0,(COLUMN()-4)*6,1,1))","v":{"$error":"#N/A"}},{"$f":"IF(OR(OFFSET(結果貼付け用!$H35,0,(COLUMN()-4)*6,1,1)=\"-\", OFFSET(結果貼付け用!$H35,0,(COLUMN()-4)*6,1,1)=\"\"), NA(), OFFSET(結果貼付け用!$H35,0,(COLUMN()-4)*6,1,1))","v":{"$error":"#N/A"}},{"$f":"IF(OR(OFFSET(結果貼付け用!$H35,0,(COLUMN()-4)*6,1,1)=\"-\", OFFSET(結果貼付け用!$H35,0,(COLUMN()-4)*6,1,1)=\"\"), NA(), OFFSET(結果貼付け用!$H35,0,(COLUMN()-4)*6,1,1))","v":{"$error":"#N/A"}},{"$f":"IF(OR(OFFSET(結果貼付け用!$H35,0,(COLUMN()-4)*6,1,1)=\"-\", OFFSET(結果貼付け用!$H35,0,(COLUMN()-4)*6,1,1)=\"\"), NA(), OFFSET(結果貼付け用!$H35,0,(COLUMN()-4)*6,1,1))","v":{"$error":"#N/A"}},{"$f":"IF(OR(OFFSET(結果貼付け用!$H35,0,(COLUMN()-4)*6,1,1)=\"-\", OFFSET(結果貼付け用!$H35,0,(COLUMN()-4)*6,1,1)=\"\"), NA(), OFFSET(結果貼付け用!$H35,0,(COLUMN()-4)*6,1,1))","v":{"$error":"#N/A"}},{"$f":"IF(OR(OFFSET(結果貼付け用!$H35,0,(COLUMN()-4)*6,1,1)=\"-\", OFFSET(結果貼付け用!$H35,0,(COLUMN()-4)*6,1,1)=\"\"), NA(), OFFSET(結果貼付け用!$H35,0,(COLUMN()-4)*6,1,1))","v":{"$error":"#N/A"}}]
[null,"適切な人材確保",{"$f":"IF(結果貼付け用!B36=\"\",NA(),結果貼付け用!B36)","v":{"$error":"#N/A"}},{"$f":"IF(OR(OFFSET(結果貼付け用!$H36,0,(COLUMN()-4)*6,1,1)=\"-\", OFFSET(結果貼付け用!$H36,0,(COLUMN()-4)*6,1,1)=\"\"), NA(), OFFSET(結果貼付け用!$H36,0,(COLUMN()-4)*6,1,1))","v":{"$error":"#N/A"}},{"$f":"IF(OR(OFFSET(結果貼付け用!$H36,0,(COLUMN()-4)*6,1,1)=\"-\", OFFSET(結果貼付け用!$H36,0,(COLUMN()-4)*6,1,1)=\"\"), NA(), OFFSET(結果貼付け用!$H36,0,(COLUMN()-4)*6,1,1))","v":{"$error":"#N/A"}},{"$f":"IF(OR(OFFSET(結果貼付け用!$H36,0,(COLUMN()-4)*6,1,1)=\"-\", OFFSET(結果貼付け用!$H36,0,(COLUMN()-4)*6,1,1)=\"\"), NA(), OFFSET(結果貼付け用!$H36,0,(COLUMN()-4)*6,1,1))","v":{"$error":"#N/A"}},{"$f":"IF(OR(OFFSET(結果貼付け用!$H36,0,(COLUMN()-4)*6,1,1)=\"-\", OFFSET(結果貼付け用!$H36,0,(COLUMN()-4)*6,1,1)=\"\"), NA(), OFFSET(結果貼付け用!$H36,0,(COLUMN()-4)*6,1,1))","v":{"$error":"#N/A"}},{"$f":"IF(OR(OFFSET(結果貼付け用!$H36,0,(COLUMN()-4)*6,1,1)=\"-\", OFFSET(結果貼付け用!$H36,0,(COLUMN()-4)*6,1,1)=\"\"), NA(), OFFSET(結果貼付け用!$H36,0,(COLUMN()-4)*6,1,1))","v":{"$error":"#N/A"}},{"$f":"IF(OR(OFFSET(結果貼付け用!$H36,0,(COLUMN()-4)*6,1,1)=\"-\", OFFSET(結果貼付け用!$H36,0,(COLUMN()-4)*6,1,1)=\"\"), NA(), OFFSET(結果貼付け用!$H36,0,(COLUMN()-4)*6,1,1))","v":{"$error":"#N/A"}},{"$f":"IF(OR(OFFSET(結果貼付け用!$H36,0,(COLUMN()-4)*6,1,1)=\"-\", OFFSET(結果貼付け用!$H36,0,(COLUMN()-4)*6,1,1)=\"\"), NA(), OFFSET(結果貼付け用!$H36,0,(COLUMN()-4)*6,1,1))","v":{"$error":"#N/A"}},{"$f":"IF(OR(OFFSET(結果貼付け用!$H36,0,(COLUMN()-4)*6,1,1)=\"-\", OFFSET(結果貼付け用!$H36,0,(COLUMN()-4)*6,1,1)=\"\"), NA(), OFFSET(結果貼付け用!$H36,0,(COLUMN()-4)*6,1,1))","v":{"$error":"#N/A"}},{"$f":"IF(OR(OFFSET(結果貼付け用!$H36,0,(COLUMN()-4)*6,1,1)=\"-\", OFFSET(結果貼付け用!$H36,0,(COLUMN()-4)*6,1,1)=\"\"), NA(), OFFSET(結果貼付け用!$H36,0,(COLUMN()-4)*6,1,1))","v":{"$error":"#N/A"}},{"$f":"IF(OR(OFFSET(結果貼付け用!$H36,0,(COLUMN()-4)*6,1,1)=\"-\", OFFSET(結果貼付け用!$H36,0,(COLUMN()-4)*6,1,1)=\"\"), NA(), OFFSET(結果貼付け用!$H36,0,(COLUMN()-4)*6,1,1))","v":{"$error":"#N/A"}},{"$f":"IF(OR(OFFSET(結果貼付け用!$H36,0,(COLUMN()-4)*6,1,1)=\"-\", OFFSET(結果貼付け用!$H36,0,(COLUMN()-4)*6,1,1)=\"\"), NA(), OFFSET(結果貼付け用!$H36,0,(COLUMN()-4)*6,1,1))","v":{"$error":"#N/A"}},{"$f":"IF(OR(OFFSET(結果貼付け用!$H36,0,(COLUMN()-4)*6,1,1)=\"-\", OFFSET(結果貼付け用!$H36,0,(COLUMN()-4)*6,1,1)=\"\"), NA(), OFFSET(結果貼付け用!$H36,0,(COLUMN()-4)*6,1,1))","v":{"$error":"#N/A"}},{"$f":"IF(OR(OFFSET(結果貼付け用!$H36,0,(COLUMN()-4)*6,1,1)=\"-\", OFFSET(結果貼付け用!$H36,0,(COLUMN()-4)*6,1,1)=\"\"), NA(), OFFSET(結果貼付け用!$H36,0,(COLUMN()-4)*6,1,1))","v":{"$error":"#N/A"}},{"$f":"IF(OR(OFFSET(結果貼付け用!$H36,0,(COLUMN()-4)*6,1,1)=\"-\", OFFSET(結果貼付け用!$H36,0,(COLUMN()-4)*6,1,1)=\"\"), NA(), OFFSET(結果貼付け用!$H36,0,(COLUMN()-4)*6,1,1))","v":{"$error":"#N/A"}},{"$f":"IF(OR(OFFSET(結果貼付け用!$H36,0,(COLUMN()-4)*6,1,1)=\"-\", OFFSET(結果貼付け用!$H36,0,(COLUMN()-4)*6,1,1)=\"\"), NA(), OFFSET(結果貼付け用!$H36,0,(COLUMN()-4)*6,1,1))","v":{"$error":"#N/A"}},{"$f":"IF(OR(OFFSET(結果貼付け用!$H36,0,(COLUMN()-4)*6,1,1)=\"-\", OFFSET(結果貼付け用!$H36,0,(COLUMN()-4)*6,1,1)=\"\"), NA(), OFFSET(結果貼付け用!$H36,0,(COLUMN()-4)*6,1,1))","v":{"$error":"#N/A"}},{"$f":"IF(OR(OFFSET(結果貼付け用!$H36,0,(COLUMN()-4)*6,1,1)=\"-\", OFFSET(結果貼付け用!$H36,0,(COLUMN()-4)*6,1,1)=\"\"), NA(), OFFSET(結果貼付け用!$H36,0,(COLUMN()-4)*6,1,1))","v":{"$error":"#N/A"}},{"$f":"IF(OR(OFFSET(結果貼付け用!$H36,0,(COLUMN()-4)*6,1,1)=\"-\", OFFSET(結果貼付け用!$H36,0,(COLUMN()-4)*6,1,1)=\"\"), NA(), OFFSET(結果貼付け用!$H36,0,(COLUMN()-4)*6,1,1))","v":{"$error":"#N/A"}},{"$f":"IF(OR(OFFSET(結果貼付け用!$H36,0,(COLUMN()-4)*6,1,1)=\"-\", OFFSET(結果貼付け用!$H36,0,(COLUMN()-4)*6,1,1)=\"\"), NA(), OFFSET(結果貼付け用!$H36,0,(COLUMN()-4)*6,1,1))","v":{"$error":"#N/A"}},{"$f":"IF(OR(OFFSET(結果貼付け用!$H36,0,(COLUMN()-4)*6,1,1)=\"-\", OFFSET(結果貼付け用!$H36,0,(COLUMN()-4)*6,1,1)=\"\"), NA(), OFFSET(結果貼付け用!$H36,0,(COLUMN()-4)*6,1,1))","v":{"$error":"#N/A"}},{"$f":"IF(OR(OFFSET(結果貼付け用!$H36,0,(COLUMN()-4)*6,1,1)=\"-\", OFFSET(結果貼付け用!$H36,0,(COLUMN()-4)*6,1,1)=\"\"), NA(), OFFSET(結果貼付け用!$H36,0,(COLUMN()-4)*6,1,1))","v":{"$error":"#N/A"}},{"$f":"IF(OR(OFFSET(結果貼付け用!$H36,0,(COLUMN()-4)*6,1,1)=\"-\", OFFSET(結果貼付け用!$H36,0,(COLUMN()-4)*6,1,1)=\"\"), NA(), OFFSET(結果貼付け用!$H36,0,(COLUMN()-4)*6,1,1))","v":{"$error":"#N/A"}},{"$f":"IF(OR(OFFSET(結果貼付け用!$H36,0,(COLUMN()-4)*6,1,1)=\"-\", OFFSET(結果貼付け用!$H36,0,(COLUMN()-4)*6,1,1)=\"\"), NA(), OFFSET(結果貼付け用!$H36,0,(COLUMN()-4)*6,1,1))","v":{"$error":"#N/A"}},{"$f":"IF(OR(OFFSET(結果貼付け用!$H36,0,(COLUMN()-4)*6,1,1)=\"-\", OFFSET(結果貼付け用!$H36,0,(COLUMN()-4)*6,1,1)=\"\"), NA(), OFFSET(結果貼付け用!$H36,0,(COLUMN()-4)*6,1,1))","v":{"$error":"#N/A"}},{"$f":"IF(OR(OFFSET(結果貼付け用!$H36,0,(COLUMN()-4)*6,1,1)=\"-\", OFFSET(結果貼付け用!$H36,0,(COLUMN()-4)*6,1,1)=\"\"), NA(), OFFSET(結果貼付け用!$H36,0,(COLUMN()-4)*6,1,1))","v":{"$error":"#N/A"}},{"$f":"IF(OR(OFFSET(結果貼付け用!$H36,0,(COLUMN()-4)*6,1,1)=\"-\", OFFSET(結果貼付け用!$H36,0,(COLUMN()-4)*6,1,1)=\"\"), NA(), OFFSET(結果貼付け用!$H36,0,(COLUMN()-4)*6,1,1))","v":{"$error":"#N/A"}},{"$f":"IF(OR(OFFSET(結果貼付け用!$H36,0,(COLUMN()-4)*6,1,1)=\"-\", OFFSET(結果貼付け用!$H36,0,(COLUMN()-4)*6,1,1)=\"\"), NA(), OFFSET(結果貼付け用!$H36,0,(COLUMN()-4)*6,1,1))","v":{"$error":"#N/A"}},{"$f":"IF(OR(OFFSET(結果貼付け用!$H36,0,(COLUMN()-4)*6,1,1)=\"-\", OFFSET(結果貼付け用!$H36,0,(COLUMN()-4)*6,1,1)=\"\"), NA(), OFFSET(結果貼付け用!$H36,0,(COLUMN()-4)*6,1,1))","v":{"$error":"#N/A"}},{"$f":"IF(OR(OFFSET(結果貼付け用!$H36,0,(COLUMN()-4)*6,1,1)=\"-\", OFFSET(結果貼付け用!$H36,0,(COLUMN()-4)*6,1,1)=\"\"), NA(), OFFSET(結果貼付け用!$H36,0,(COLUMN()-4)*6,1,1))","v":{"$error":"#N/A"}}]
[null,"教育の充実",{"$f":"IF(結果貼付け用!B37=\"\",NA(),結果貼付け用!B37)","v":{"$error":"#N/A"}},{"$f":"IF(OR(OFFSET(結果貼付け用!$H37,0,(COLUMN()-4)*6,1,1)=\"-\", OFFSET(結果貼付け用!$H37,0,(COLUMN()-4)*6,1,1)=\"\"), NA(), OFFSET(結果貼付け用!$H37,0,(COLUMN()-4)*6,1,1))","v":{"$error":"#N/A"}},{"$f":"IF(OR(OFFSET(結果貼付け用!$H37,0,(COLUMN()-4)*6,1,1)=\"-\", OFFSET(結果貼付け用!$H37,0,(COLUMN()-4)*6,1,1)=\"\"), NA(), OFFSET(結果貼付け用!$H37,0,(COLUMN()-4)*6,1,1))","v":{"$error":"#N/A"}},{"$f":"IF(OR(OFFSET(結果貼付け用!$H37,0,(COLUMN()-4)*6,1,1)=\"-\", OFFSET(結果貼付け用!$H37,0,(COLUMN()-4)*6,1,1)=\"\"), NA(), OFFSET(結果貼付け用!$H37,0,(COLUMN()-4)*6,1,1))","v":{"$error":"#N/A"}},{"$f":"IF(OR(OFFSET(結果貼付け用!$H37,0,(COLUMN()-4)*6,1,1)=\"-\", OFFSET(結果貼付け用!$H37,0,(COLUMN()-4)*6,1,1)=\"\"), NA(), OFFSET(結果貼付け用!$H37,0,(COLUMN()-4)*6,1,1))","v":{"$error":"#N/A"}},{"$f":"IF(OR(OFFSET(結果貼付け用!$H37,0,(COLUMN()-4)*6,1,1)=\"-\", OFFSET(結果貼付け用!$H37,0,(COLUMN()-4)*6,1,1)=\"\"), NA(), OFFSET(結果貼付け用!$H37,0,(COLUMN()-4)*6,1,1))","v":{"$error":"#N/A"}},{"$f":"IF(OR(OFFSET(結果貼付け用!$H37,0,(COLUMN()-4)*6,1,1)=\"-\", OFFSET(結果貼付け用!$H37,0,(COLUMN()-4)*6,1,1)=\"\"), NA(), OFFSET(結果貼付け用!$H37,0,(COLUMN()-4)*6,1,1))","v":{"$error":"#N/A"}},{"$f":"IF(OR(OFFSET(結果貼付け用!$H37,0,(COLUMN()-4)*6,1,1)=\"-\", OFFSET(結果貼付け用!$H37,0,(COLUMN()-4)*6,1,1)=\"\"), NA(), OFFSET(結果貼付け用!$H37,0,(COLUMN()-4)*6,1,1))","v":{"$error":"#N/A"}},{"$f":"IF(OR(OFFSET(結果貼付け用!$H37,0,(COLUMN()-4)*6,1,1)=\"-\", OFFSET(結果貼付け用!$H37,0,(COLUMN()-4)*6,1,1)=\"\"), NA(), OFFSET(結果貼付け用!$H37,0,(COLUMN()-4)*6,1,1))","v":{"$error":"#N/A"}},{"$f":"IF(OR(OFFSET(結果貼付け用!$H37,0,(COLUMN()-4)*6,1,1)=\"-\", OFFSET(結果貼付け用!$H37,0,(COLUMN()-4)*6,1,1)=\"\"), NA(), OFFSET(結果貼付け用!$H37,0,(COLUMN()-4)*6,1,1))","v":{"$error":"#N/A"}},{"$f":"IF(OR(OFFSET(結果貼付け用!$H37,0,(COLUMN()-4)*6,1,1)=\"-\", OFFSET(結果貼付け用!$H37,0,(COLUMN()-4)*6,1,1)=\"\"), NA(), OFFSET(結果貼付け用!$H37,0,(COLUMN()-4)*6,1,1))","v":{"$error":"#N/A"}},{"$f":"IF(OR(OFFSET(結果貼付け用!$H37,0,(COLUMN()-4)*6,1,1)=\"-\", OFFSET(結果貼付け用!$H37,0,(COLUMN()-4)*6,1,1)=\"\"), NA(), OFFSET(結果貼付け用!$H37,0,(COLUMN()-4)*6,1,1))","v":{"$error":"#N/A"}},{"$f":"IF(OR(OFFSET(結果貼付け用!$H37,0,(COLUMN()-4)*6,1,1)=\"-\", OFFSET(結果貼付け用!$H37,0,(COLUMN()-4)*6,1,1)=\"\"), NA(), OFFSET(結果貼付け用!$H37,0,(COLUMN()-4)*6,1,1))","v":{"$error":"#N/A"}},{"$f":"IF(OR(OFFSET(結果貼付け用!$H37,0,(COLUMN()-4)*6,1,1)=\"-\", OFFSET(結果貼付け用!$H37,0,(COLUMN()-4)*6,1,1)=\"\"), NA(), OFFSET(結果貼付け用!$H37,0,(COLUMN()-4)*6,1,1))","v":{"$error":"#N/A"}},{"$f":"IF(OR(OFFSET(結果貼付け用!$H37,0,(COLUMN()-4)*6,1,1)=\"-\", OFFSET(結果貼付け用!$H37,0,(COLUMN()-4)*6,1,1)=\"\"), NA(), OFFSET(結果貼付け用!$H37,0,(COLUMN()-4)*6,1,1))","v":{"$error":"#N/A"}},{"$f":"IF(OR(OFFSET(結果貼付け用!$H37,0,(COLUMN()-4)*6,1,1)=\"-\", OFFSET(結果貼付け用!$H37,0,(COLUMN()-4)*6,1,1)=\"\"), NA(), OFFSET(結果貼付け用!$H37,0,(COLUMN()-4)*6,1,1))","v":{"$error":"#N/A"}},{"$f":"IF(OR(OFFSET(結果貼付け用!$H37,0,(COLUMN()-4)*6,1,1)=\"-\", OFFSET(結果貼付け用!$H37,0,(COLUMN()-4)*6,1,1)=\"\"), NA(), OFFSET(結果貼付け用!$H37,0,(COLUMN()-4)*6,1,1))","v":{"$error":"#N/A"}},{"$f":"IF(OR(OFFSET(結果貼付け用!$H37,0,(COLUMN()-4)*6,1,1)=\"-\", OFFSET(結果貼付け用!$H37,0,(COLUMN()-4)*6,1,1)=\"\"), NA(), OFFSET(結果貼付け用!$H37,0,(COLUMN()-4)*6,1,1))","v":{"$error":"#N/A"}},{"$f":"IF(OR(OFFSET(結果貼付け用!$H37,0,(COLUMN()-4)*6,1,1)=\"-\", OFFSET(結果貼付け用!$H37,0,(COLUMN()-4)*6,1,1)=\"\"), NA(), OFFSET(結果貼付け用!$H37,0,(COLUMN()-4)*6,1,1))","v":{"$error":"#N/A"}},{"$f":"IF(OR(OFFSET(結果貼付け用!$H37,0,(COLUMN()-4)*6,1,1)=\"-\", OFFSET(結果貼付け用!$H37,0,(COLUMN()-4)*6,1,1)=\"\"), NA(), OFFSET(結果貼付け用!$H37,0,(COLUMN()-4)*6,1,1))","v":{"$error":"#N/A"}},{"$f":"IF(OR(OFFSET(結果貼付け用!$H37,0,(COLUMN()-4)*6,1,1)=\"-\", OFFSET(結果貼付け用!$H37,0,(COLUMN()-4)*6,1,1)=\"\"), NA(), OFFSET(結果貼付け用!$H37,0,(COLUMN()-4)*6,1,1))","v":{"$error":"#N/A"}},{"$f":"IF(OR(OFFSET(結果貼付け用!$H37,0,(COLUMN()-4)*6,1,1)=\"-\", OFFSET(結果貼付け用!$H37,0,(COLUMN()-4)*6,1,1)=\"\"), NA(), OFFSET(結果貼付け用!$H37,0,(COLUMN()-4)*6,1,1))","v":{"$error":"#N/A"}},{"$f":"IF(OR(OFFSET(結果貼付け用!$H37,0,(COLUMN()-4)*6,1,1)=\"-\", OFFSET(結果貼付け用!$H37,0,(COLUMN()-4)*6,1,1)=\"\"), NA(), OFFSET(結果貼付け用!$H37,0,(COLUMN()-4)*6,1,1))","v":{"$error":"#N/A"}},{"$f":"IF(OR(OFFSET(結果貼付け用!$H37,0,(COLUMN()-4)*6,1,1)=\"-\", OFFSET(結果貼付け用!$H37,0,(COLUMN()-4)*6,1,1)=\"\"), NA(), OFFSET(結果貼付け用!$H37,0,(COLUMN()-4)*6,1,1))","v":{"$error":"#N/A"}},{"$f":"IF(OR(OFFSET(結果貼付け用!$H37,0,(COLUMN()-4)*6,1,1)=\"-\", OFFSET(結果貼付け用!$H37,0,(COLUMN()-4)*6,1,1)=\"\"), NA(), OFFSET(結果貼付け用!$H37,0,(COLUMN()-4)*6,1,1))","v":{"$error":"#N/A"}},{"$f":"IF(OR(OFFSET(結果貼付け用!$H37,0,(COLUMN()-4)*6,1,1)=\"-\", OFFSET(結果貼付け用!$H37,0,(COLUMN()-4)*6,1,1)=\"\"), NA(), OFFSET(結果貼付け用!$H37,0,(COLUMN()-4)*6,1,1))","v":{"$error":"#N/A"}},{"$f":"IF(OR(OFFSET(結果貼付け用!$H37,0,(COLUMN()-4)*6,1,1)=\"-\", OFFSET(結果貼付け用!$H37,0,(COLUMN()-4)*6,1,1)=\"\"), NA(), OFFSET(結果貼付け用!$H37,0,(COLUMN()-4)*6,1,1))","v":{"$error":"#N/A"}},{"$f":"IF(OR(OFFSET(結果貼付け用!$H37,0,(COLUMN()-4)*6,1,1)=\"-\", OFFSET(結果貼付け用!$H37,0,(COLUMN()-4)*6,1,1)=\"\"), NA(), OFFSET(結果貼付け用!$H37,0,(COLUMN()-4)*6,1,1))","v":{"$error":"#N/A"}},{"$f":"IF(OR(OFFSET(結果貼付け用!$H37,0,(COLUMN()-4)*6,1,1)=\"-\", OFFSET(結果貼付け用!$H37,0,(COLUMN()-4)*6,1,1)=\"\"), NA(), OFFSET(結果貼付け用!$H37,0,(COLUMN()-4)*6,1,1))","v":{"$error":"#N/A"}},{"$f":"IF(OR(OFFSET(結果貼付け用!$H37,0,(COLUMN()-4)*6,1,1)=\"-\", OFFSET(結果貼付け用!$H37,0,(COLUMN()-4)*6,1,1)=\"\"), NA(), OFFSET(結果貼付け用!$H37,0,(COLUMN()-4)*6,1,1))","v":{"$error":"#N/A"}}]
[]
[]
[]
[]
[]
[]
[]
[]
[]
[]
[]
[]
[]
[]
[]
[]
[]
[]
[]
[]
[null,"実施開始日時",{"$f":"IF(結果貼付け用!B2=\"\",NA(),結果貼付け用!B2)","v":{"$error":"#N/A"}},{"$f":"IF((OFFSET(結果貼付け用!$H$2, 0, (COLUMN() - COLUMN($D$26)) * 6))=\"\",NA(),(OFFSET(結果貼付け用!$H$2, 0, (COLUMN() - COLUMN($D$26)) * 6)))","v":{"$error":"#N/A"}},{"$f":"IF((OFFSET(結果貼付け用!$H$2, 0, (COLUMN() - COLUMN($D$26)) * 6))=\"\",NA(),(OFFSET(結果貼付け用!$H$2, 0, (COLUMN() - COLUMN($D$26)) * 6)))","v":{"$error":"#N/A"}},{"$f":"IF((OFFSET(結果貼付け用!$H$2, 0, (COLUMN() - COLUMN($D$26)) * 6))=\"\",NA(),(OFFSET(結果貼付け用!$H$2, 0, (COLUMN() - COLUMN($D$26)) * 6)))","v":{"$error":"#N/A"}},{"$f":"IF((OFFSET(結果貼付け用!$H$2, 0, (COLUMN() - COLUMN($D$26)) * 6))=\"\",NA(),(OFFSET(結果貼付け用!$H$2, 0, (COLUMN() - COLUMN($D$26)) * 6)))","v":{"$error":"#N/A"}},{"$f":"IF((OFFSET(結果貼付け用!$H$2, 0, (COLUMN() - COLUMN($D$26)) * 6))=\"\",NA(),(OFFSET(結果貼付け用!$H$2, 0, (COLUMN() - COLUMN($D$26)) * 6)))","v":{"$error":"#N/A"}},{"$f":"IF((OFFSET(結果貼付け用!$H$2, 0, (COLUMN() - COLUMN($D$26)) * 6))=\"\",NA(),(OFFSET(結果貼付け用!$H$2, 0, (COLUMN() - COLUMN($D$26)) * 6)))","v":{"$error":"#N/A"}},{"$f":"IF((OFFSET(結果貼付け用!$H$2, 0, (COLUMN() - COLUMN($D$26)) * 6))=\"\",NA(),(OFFSET(結果貼付け用!$H$2, 0, (COLUMN() - COLUMN($D$26)) * 6)))","v":{"$error":"#N/A"}},{"$f":"IF((OFFSET(結果貼付け用!$H$2, 0, (COLUMN() - COLUMN($D$26)) * 6))=\"\",NA(),(OFFSET(結果貼付け用!$H$2, 0, (COLUMN() - COLUMN($D$26)) * 6)))","v":{"$error":"#N/A"}},{"$f":"IF((OFFSET(結果貼付け用!$H$2, 0, (COLUMN() - COLUMN($D$26)) * 6))=\"\",NA(),(OFFSET(結果貼付け用!$H$2, 0, (COLUMN() - COLUMN($D$26)) * 6)))","v":{"$error":"#N/A"}},{"$f":"IF((OFFSET(結果貼付け用!$H$2, 0, (COLUMN() - COLUMN($D$26)) * 6))=\"\",NA(),(OFFSET(結果貼付け用!$H$2, 0, (COLUMN() - COLUMN($D$26)) * 6)))","v":{"$error":"#N/A"}},{"$f":"IF((OFFSET(結果貼付け用!$H$2, 0, (COLUMN() - COLUMN($D$26)) * 6))=\"\",NA(),(OFFSET(結果貼付け用!$H$2, 0, (COLUMN() - COLUMN($D$26)) * 6)))","v":{"$error":"#N/A"}},{"$f":"IF((OFFSET(結果貼付け用!$H$2, 0, (COLUMN() - COLUMN($D$26)) * 6))=\"\",NA(),(OFFSET(結果貼付け用!$H$2, 0, (COLUMN() - COLUMN($D$26)) * 6)))","v":{"$error":"#N/A"}},{"$f":"IF((OFFSET(結果貼付け用!$H$2, 0, (COLUMN() - COLUMN($D$26)) * 6))=\"\",NA(),(OFFSET(結果貼付け用!$H$2, 0, (COLUMN() - COLUMN($D$26)) * 6)))","v":{"$error":"#N/A"}},{"$f":"IF((OFFSET(結果貼付け用!$H$2, 0, (COLUMN() - COLUMN($D$26)) * 6))=\"\",NA(),(OFFSET(結果貼付け用!$H$2, 0, (COLUMN() - COLUMN($D$26)) * 6)))","v":{"$error":"#N/A"}},{"$f":"IF((OFFSET(結果貼付け用!$H$2, 0, (COLUMN() - COLUMN($D$26)) * 6))=\"\",NA(),(OFFSET(結果貼付け用!$H$2, 0, (COLUMN() - COLUMN($D$26)) * 6)))","v":{"$error":"#N/A"}},{"$f":"IF((OFFSET(結果貼付け用!$H$2, 0, (COLUMN() - COLUMN($D$26)) * 6))=\"\",NA(),(OFFSET(結果貼付け用!$H$2, 0, (COLUMN() - COLUMN($D$26)) * 6)))","v":{"$error":"#N/A"}},{"$f":"IF((OFFSET(結果貼付け用!$H$2, 0, (COLUMN() - COLUMN($D$26)) * 6))=\"\",NA(),(OFFSET(結果貼付け用!$H$2, 0, (COLUMN() - COLUMN($D$26)) * 6)))","v":{"$error":"#N/A"}},{"$f":"IF((OFFSET(結果貼付け用!$H$2, 0, (COLUMN() - COLUMN($D$26)) * 6))=\"\",NA(),(OFFSET(結果貼付け用!$H$2, 0, (COLUMN() - COLUMN($D$26)) * 6)))","v":{"$error":"#N/A"}},{"$f":"IF((OFFSET(結果貼付け用!$H$2, 0, (COLUMN() - COLUMN($D$26)) * 6))=\"\",NA(),(OFFSET(結果貼付け用!$H$2, 0, (COLUMN() - COLUMN($D$26)) * 6)))","v":{"$error":"#N/A"}},{"$f":"IF((OFFSET(結果貼付け用!$H$2, 0, (COLUMN() - COLUMN($D$26)) * 6))=\"\",NA(),(OFFSET(結果貼付け用!$H$2, 0, (COLUMN() - COLUMN($D$26)) * 6)))","v":{"$error":"#N/A"}},{"$f":"IF((OFFSET(結果貼付け用!$H$2, 0, (COLUMN() - COLUMN($D$26)) * 6))=\"\",NA(),(OFFSET(結果貼付け用!$H$2, 0, (COLUMN() - COLUMN($D$26)) * 6)))","v":{"$error":"#N/A"}},{"$f":"IF((OFFSET(結果貼付け用!$H$2, 0, (COLUMN() - COLUMN($D$26)) * 6))=\"\",NA(),(OFFSET(結果貼付け用!$H$2, 0, (COLUMN() - COLUMN($D$26)) * 6)))","v":{"$error":"#N/A"}},{"$f":"IF((OFFSET(結果貼付け用!$H$2, 0, (COLUMN() - COLUMN($D$26)) * 6))=\"\",NA(),(OFFSET(結果貼付け用!$H$2, 0, (COLUMN() - COLUMN($D$26)) * 6)))","v":{"$error":"#N/A"}},{"$f":"IF((OFFSET(結果貼付け用!$H$2, 0, (COLUMN() - COLUMN($D$26)) * 6))=\"\",NA(),(OFFSET(結果貼付け用!$H$2, 0, (COLUMN() - COLUMN($D$26)) * 6)))","v":{"$error":"#N/A"}},{"$f":"IF((OFFSET(結果貼付け用!$H$2, 0, (COLUMN() - COLUMN($D$26)) * 6))=\"\",NA(),(OFFSET(結果貼付け用!$H$2, 0, (COLUMN() - COLUMN($D$26)) * 6)))","v":{"$error":"#N/A"}},{"$f":"IF((OFFSET(結果貼付け用!$H$2, 0, (COLUMN() - COLUMN($D$26)) * 6))=\"\",NA(),(OFFSET(結果貼付け用!$H$2, 0, (COLUMN() - COLUMN($D$26)) * 6)))","v":{"$error":"#N/A"}},{"$f":"IF((OFFSET(結果貼付け用!$H$2, 0, (COLUMN() - COLUMN($D$26)) * 6))=\"\",NA(),(OFFSET(結果貼付け用!$H$2, 0, (COLUMN() - COLUMN($D$26)) * 6)))","v":{"$error":"#N/A"}},{"$f":"IF((OFFSET(結果貼付け用!$H$2, 0, (COLUMN() - COLUMN($D$26)) * 6))=\"\",NA(),(OFFSET(結果貼付け用!$H$2, 0, (COLUMN() - COLUMN($D$26)) * 6)))","v":{"$error":"#N/A"}},{"$f":"IF((OFFSET(結果貼付け用!$H$2, 0, (COLUMN() - COLUMN($D$26)) * 6))=\"\",NA(),(OFFSET(結果貼付け用!$H$2, 0, (COLUMN() - COLUMN($D$26)) * 6)))","v":{"$error":"#N/A"}}]
[null,"労務環境",{"$f":"IF(結果貼付け用!B38=\"\",NA(),結果貼付け用!B38)","v":{"$error":"#N/A"}},{"$f":"IF(OR(OFFSET(結果貼付け用!$H38,0,(COLUMN()-4)*6,1,1)=\"-\", OFFSET(結果貼付け用!$H38,0,(COLUMN()-4)*6,1,1)=\"\"), NA(), OFFSET(結果貼付け用!$H38,0,(COLUMN()-4)*6,1,1))","v":{"$error":"#N/A"}},{"$f":"IF(OR(OFFSET(結果貼付け用!$H38,0,(COLUMN()-4)*6,1,1)=\"-\", OFFSET(結果貼付け用!$H38,0,(COLUMN()-4)*6,1,1)=\"\"), NA(), OFFSET(結果貼付け用!$H38,0,(COLUMN()-4)*6,1,1))","v":{"$error":"#N/A"}},{"$f":"IF(OR(OFFSET(結果貼付け用!$H38,0,(COLUMN()-4)*6,1,1)=\"-\", OFFSET(結果貼付け用!$H38,0,(COLUMN()-4)*6,1,1)=\"\"), NA(), OFFSET(結果貼付け用!$H38,0,(COLUMN()-4)*6,1,1))","v":{"$error":"#N/A"}},{"$f":"IF(OR(OFFSET(結果貼付け用!$H38,0,(COLUMN()-4)*6,1,1)=\"-\", OFFSET(結果貼付け用!$H38,0,(COLUMN()-4)*6,1,1)=\"\"), NA(), OFFSET(結果貼付け用!$H38,0,(COLUMN()-4)*6,1,1))","v":{"$error":"#N/A"}},{"$f":"IF(OR(OFFSET(結果貼付け用!$H38,0,(COLUMN()-4)*6,1,1)=\"-\", OFFSET(結果貼付け用!$H38,0,(COLUMN()-4)*6,1,1)=\"\"), NA(), OFFSET(結果貼付け用!$H38,0,(COLUMN()-4)*6,1,1))","v":{"$error":"#N/A"}},{"$f":"IF(OR(OFFSET(結果貼付け用!$H38,0,(COLUMN()-4)*6,1,1)=\"-\", OFFSET(結果貼付け用!$H38,0,(COLUMN()-4)*6,1,1)=\"\"), NA(), OFFSET(結果貼付け用!$H38,0,(COLUMN()-4)*6,1,1))","v":{"$error":"#N/A"}},{"$f":"IF(OR(OFFSET(結果貼付け用!$H38,0,(COLUMN()-4)*6,1,1)=\"-\", OFFSET(結果貼付け用!$H38,0,(COLUMN()-4)*6,1,1)=\"\"), NA(), OFFSET(結果貼付け用!$H38,0,(COLUMN()-4)*6,1,1))","v":{"$error":"#N/A"}},{"$f":"IF(OR(OFFSET(結果貼付け用!$H38,0,(COLUMN()-4)*6,1,1)=\"-\", OFFSET(結果貼付け用!$H38,0,(COLUMN()-4)*6,1,1)=\"\"), NA(), OFFSET(結果貼付け用!$H38,0,(COLUMN()-4)*6,1,1))","v":{"$error":"#N/A"}},{"$f":"IF(OR(OFFSET(結果貼付け用!$H38,0,(COLUMN()-4)*6,1,1)=\"-\", OFFSET(結果貼付け用!$H38,0,(COLUMN()-4)*6,1,1)=\"\"), NA(), OFFSET(結果貼付け用!$H38,0,(COLUMN()-4)*6,1,1))","v":{"$error":"#N/A"}},{"$f":"IF(OR(OFFSET(結果貼付け用!$H38,0,(COLUMN()-4)*6,1,1)=\"-\", OFFSET(結果貼付け用!$H38,0,(COLUMN()-4)*6,1,1)=\"\"), NA(), OFFSET(結果貼付け用!$H38,0,(COLUMN()-4)*6,1,1))","v":{"$error":"#N/A"}},{"$f":"IF(OR(OFFSET(結果貼付け用!$H38,0,(COLUMN()-4)*6,1,1)=\"-\", OFFSET(結果貼付け用!$H38,0,(COLUMN()-4)*6,1,1)=\"\"), NA(), OFFSET(結果貼付け用!$H38,0,(COLUMN()-4)*6,1,1))","v":{"$error":"#N/A"}},{"$f":"IF(OR(OFFSET(結果貼付け用!$H38,0,(COLUMN()-4)*6,1,1)=\"-\", OFFSET(結果貼付け用!$H38,0,(COLUMN()-4)*6,1,1)=\"\"), NA(), OFFSET(結果貼付け用!$H38,0,(COLUMN()-4)*6,1,1))","v":{"$error":"#N/A"}},{"$f":"IF(OR(OFFSET(結果貼付け用!$H38,0,(COLUMN()-4)*6,1,1)=\"-\", OFFSET(結果貼付け用!$H38,0,(COLUMN()-4)*6,1,1)=\"\"), NA(), OFFSET(結果貼付け用!$H38,0,(COLUMN()-4)*6,1,1))","v":{"$error":"#N/A"}},{"$f":"IF(OR(OFFSET(結果貼付け用!$H38,0,(COLUMN()-4)*6,1,1)=\"-\", OFFSET(結果貼付け用!$H38,0,(COLUMN()-4)*6,1,1)=\"\"), NA(), OFFSET(結果貼付け用!$H38,0,(COLUMN()-4)*6,1,1))","v":{"$error":"#N/A"}},{"$f":"IF(OR(OFFSET(結果貼付け用!$H38,0,(COLUMN()-4)*6,1,1)=\"-\", OFFSET(結果貼付け用!$H38,0,(COLUMN()-4)*6,1,1)=\"\"), NA(), OFFSET(結果貼付け用!$H38,0,(COLUMN()-4)*6,1,1))","v":{"$error":"#N/A"}},{"$f":"IF(OR(OFFSET(結果貼付け用!$H38,0,(COLUMN()-4)*6,1,1)=\"-\", OFFSET(結果貼付け用!$H38,0,(COLUMN()-4)*6,1,1)=\"\"), NA(), OFFSET(結果貼付け用!$H38,0,(COLUMN()-4)*6,1,1))","v":{"$error":"#N/A"}},{"$f":"IF(OR(OFFSET(結果貼付け用!$H38,0,(COLUMN()-4)*6,1,1)=\"-\", OFFSET(結果貼付け用!$H38,0,(COLUMN()-4)*6,1,1)=\"\"), NA(), OFFSET(結果貼付け用!$H38,0,(COLUMN()-4)*6,1,1))","v":{"$error":"#N/A"}},{"$f":"IF(OR(OFFSET(結果貼付け用!$H38,0,(COLUMN()-4)*6,1,1)=\"-\", OFFSET(結果貼付け用!$H38,0,(COLUMN()-4)*6,1,1)=\"\"), NA(), OFFSET(結果貼付け用!$H38,0,(COLUMN()-4)*6,1,1))","v":{"$error":"#N/A"}},{"$f":"IF(OR(OFFSET(結果貼付け用!$H38,0,(COLUMN()-4)*6,1,1)=\"-\", OFFSET(結果貼付け用!$H38,0,(COLUMN()-4)*6,1,1)=\"\"), NA(), OFFSET(結果貼付け用!$H38,0,(COLUMN()-4)*6,1,1))","v":{"$error":"#N/A"}},{"$f":"IF(OR(OFFSET(結果貼付け用!$H38,0,(COLUMN()-4)*6,1,1)=\"-\", OFFSET(結果貼付け用!$H38,0,(COLUMN()-4)*6,1,1)=\"\"), NA(), OFFSET(結果貼付け用!$H38,0,(COLUMN()-4)*6,1,1))","v":{"$error":"#N/A"}},{"$f":"IF(OR(OFFSET(結果貼付け用!$H38,0,(COLUMN()-4)*6,1,1)=\"-\", OFFSET(結果貼付け用!$H38,0,(COLUMN()-4)*6,1,1)=\"\"), NA(), OFFSET(結果貼付け用!$H38,0,(COLUMN()-4)*6,1,1))","v":{"$error":"#N/A"}},{"$f":"IF(OR(OFFSET(結果貼付け用!$H38,0,(COLUMN()-4)*6,1,1)=\"-\", OFFSET(結果貼付け用!$H38,0,(COLUMN()-4)*6,1,1)=\"\"), NA(), OFFSET(結果貼付け用!$H38,0,(COLUMN()-4)*6,1,1))","v":{"$error":"#N/A"}},{"$f":"IF(OR(OFFSET(結果貼付け用!$H38,0,(COLUMN()-4)*6,1,1)=\"-\", OFFSET(結果貼付け用!$H38,0,(COLUMN()-4)*6,1,1)=\"\"), NA(), OFFSET(結果貼付け用!$H38,0,(COLUMN()-4)*6,1,1))","v":{"$error":"#N/A"}},{"$f":"IF(OR(OFFSET(結果貼付け用!$H38,0,(COLUMN()-4)*6,1,1)=\"-\", OFFSET(結果貼付け用!$H38,0,(COLUMN()-4)*6,1,1)=\"\"), NA(), OFFSET(結果貼付け用!$H38,0,(COLUMN()-4)*6,1,1))","v":{"$error":"#N/A"}},{"$f":"IF(OR(OFFSET(結果貼付け用!$H38,0,(COLUMN()-4)*6,1,1)=\"-\", OFFSET(結果貼付け用!$H38,0,(COLUMN()-4)*6,1,1)=\"\"), NA(), OFFSET(結果貼付け用!$H38,0,(COLUMN()-4)*6,1,1))","v":{"$error":"#N/A"}},{"$f":"IF(OR(OFFSET(結果貼付け用!$H38,0,(COLUMN()-4)*6,1,1)=\"-\", OFFSET(結果貼付け用!$H38,0,(COLUMN()-4)*6,1,1)=\"\"), NA(), OFFSET(結果貼付け用!$H38,0,(COLUMN()-4)*6,1,1))","v":{"$error":"#N/A"}},{"$f":"IF(OR(OFFSET(結果貼付け用!$H38,0,(COLUMN()-4)*6,1,1)=\"-\", OFFSET(結果貼付け用!$H38,0,(COLUMN()-4)*6,1,1)=\"\"), NA(), OFFSET(結果貼付け用!$H38,0,(COLUMN()-4)*6,1,1))","v":{"$error":"#N/A"}},{"$f":"IF(OR(OFFSET(結果貼付け用!$H38,0,(COLUMN()-4)*6,1,1)=\"-\", OFFSET(結果貼付け用!$H38,0,(COLUMN()-4)*6,1,1)=\"\"), NA(), OFFSET(結果貼付け用!$H38,0,(COLUMN()-4)*6,1,1))","v":{"$error":"#N/A"}},{"$f":"IF(OR(OFFSET(結果貼付け用!$H38,0,(COLUMN()-4)*6,1,1)=\"-\", OFFSET(結果貼付け用!$H38,0,(COLUMN()-4)*6,1,1)=\"\"), NA(), OFFSET(結果貼付け用!$H38,0,(COLUMN()-4)*6,1,1))","v":{"$error":"#N/A"}}]
[null,"上司の安全配慮意識",{"$f":"IF(結果貼付け用!B39=\"\",NA(),結果貼付け用!B39)","v":{"$error":"#N/A"}},{"$f":"IF(OR(OFFSET(結果貼付け用!$H39,0,(COLUMN()-4)*6,1,1)=\"-\", OFFSET(結果貼付け用!$H39,0,(COLUMN()-4)*6,1,1)=\"\"), NA(), OFFSET(結果貼付け用!$H39,0,(COLUMN()-4)*6,1,1))","v":{"$error":"#N/A"}},{"$f":"IF(OR(OFFSET(結果貼付け用!$H39,0,(COLUMN()-4)*6,1,1)=\"-\", OFFSET(結果貼付け用!$H39,0,(COLUMN()-4)*6,1,1)=\"\"), NA(), OFFSET(結果貼付け用!$H39,0,(COLUMN()-4)*6,1,1))","v":{"$error":"#N/A"}},{"$f":"IF(OR(OFFSET(結果貼付け用!$H39,0,(COLUMN()-4)*6,1,1)=\"-\", OFFSET(結果貼付け用!$H39,0,(COLUMN()-4)*6,1,1)=\"\"), NA(), OFFSET(結果貼付け用!$H39,0,(COLUMN()-4)*6,1,1))","v":{"$error":"#N/A"}},{"$f":"IF(OR(OFFSET(結果貼付け用!$H39,0,(COLUMN()-4)*6,1,1)=\"-\", OFFSET(結果貼付け用!$H39,0,(COLUMN()-4)*6,1,1)=\"\"), NA(), OFFSET(結果貼付け用!$H39,0,(COLUMN()-4)*6,1,1))","v":{"$error":"#N/A"}},{"$f":"IF(OR(OFFSET(結果貼付け用!$H39,0,(COLUMN()-4)*6,1,1)=\"-\", OFFSET(結果貼付け用!$H39,0,(COLUMN()-4)*6,1,1)=\"\"), NA(), OFFSET(結果貼付け用!$H39,0,(COLUMN()-4)*6,1,1))","v":{"$error":"#N/A"}},{"$f":"IF(OR(OFFSET(結果貼付け用!$H39,0,(COLUMN()-4)*6,1,1)=\"-\", OFFSET(結果貼付け用!$H39,0,(COLUMN()-4)*6,1,1)=\"\"), NA(), OFFSET(結果貼付け用!$H39,0,(COLUMN()-4)*6,1,1))","v":{"$error":"#N/A"}},{"$f":"IF(OR(OFFSET(結果貼付け用!$H39,0,(COLUMN()-4)*6,1,1)=\"-\", OFFSET(結果貼付け用!$H39,0,(COLUMN()-4)*6,1,1)=\"\"), NA(), OFFSET(結果貼付け用!$H39,0,(COLUMN()-4)*6,1,1))","v":{"$error":"#N/A"}},{"$f":"IF(OR(OFFSET(結果貼付け用!$H39,0,(COLUMN()-4)*6,1,1)=\"-\", OFFSET(結果貼付け用!$H39,0,(COLUMN()-4)*6,1,1)=\"\"), NA(), OFFSET(結果貼付け用!$H39,0,(COLUMN()-4)*6,1,1))","v":{"$error":"#N/A"}},{"$f":"IF(OR(OFFSET(結果貼付け用!$H39,0,(COLUMN()-4)*6,1,1)=\"-\", OFFSET(結果貼付け用!$H39,0,(COLUMN()-4)*6,1,1)=\"\"), NA(), OFFSET(結果貼付け用!$H39,0,(COLUMN()-4)*6,1,1))","v":{"$error":"#N/A"}},{"$f":"IF(OR(OFFSET(結果貼付け用!$H39,0,(COLUMN()-4)*6,1,1)=\"-\", OFFSET(結果貼付け用!$H39,0,(COLUMN()-4)*6,1,1)=\"\"), NA(), OFFSET(結果貼付け用!$H39,0,(COLUMN()-4)*6,1,1))","v":{"$error":"#N/A"}},{"$f":"IF(OR(OFFSET(結果貼付け用!$H39,0,(COLUMN()-4)*6,1,1)=\"-\", OFFSET(結果貼付け用!$H39,0,(COLUMN()-4)*6,1,1)=\"\"), NA(), OFFSET(結果貼付け用!$H39,0,(COLUMN()-4)*6,1,1))","v":{"$error":"#N/A"}},{"$f":"IF(OR(OFFSET(結果貼付け用!$H39,0,(COLUMN()-4)*6,1,1)=\"-\", OFFSET(結果貼付け用!$H39,0,(COLUMN()-4)*6,1,1)=\"\"), NA(), OFFSET(結果貼付け用!$H39,0,(COLUMN()-4)*6,1,1))","v":{"$error":"#N/A"}},{"$f":"IF(OR(OFFSET(結果貼付け用!$H39,0,(COLUMN()-4)*6,1,1)=\"-\", OFFSET(結果貼付け用!$H39,0,(COLUMN()-4)*6,1,1)=\"\"), NA(), OFFSET(結果貼付け用!$H39,0,(COLUMN()-4)*6,1,1))","v":{"$error":"#N/A"}},{"$f":"IF(OR(OFFSET(結果貼付け用!$H39,0,(COLUMN()-4)*6,1,1)=\"-\", OFFSET(結果貼付け用!$H39,0,(COLUMN()-4)*6,1,1)=\"\"), NA(), OFFSET(結果貼付け用!$H39,0,(COLUMN()-4)*6,1,1))","v":{"$error":"#N/A"}},{"$f":"IF(OR(OFFSET(結果貼付け用!$H39,0,(COLUMN()-4)*6,1,1)=\"-\", OFFSET(結果貼付け用!$H39,0,(COLUMN()-4)*6,1,1)=\"\"), NA(), OFFSET(結果貼付け用!$H39,0,(COLUMN()-4)*6,1,1))","v":{"$error":"#N/A"}},{"$f":"IF(OR(OFFSET(結果貼付け用!$H39,0,(COLUMN()-4)*6,1,1)=\"-\", OFFSET(結果貼付け用!$H39,0,(COLUMN()-4)*6,1,1)=\"\"), NA(), OFFSET(結果貼付け用!$H39,0,(COLUMN()-4)*6,1,1))","v":{"$error":"#N/A"}},{"$f":"IF(OR(OFFSET(結果貼付け用!$H39,0,(COLUMN()-4)*6,1,1)=\"-\", OFFSET(結果貼付け用!$H39,0,(COLUMN()-4)*6,1,1)=\"\"), NA(), OFFSET(結果貼付け用!$H39,0,(COLUMN()-4)*6,1,1))","v":{"$error":"#N/A"}},{"$f":"IF(OR(OFFSET(結果貼付け用!$H39,0,(COLUMN()-4)*6,1,1)=\"-\", OFFSET(結果貼付け用!$H39,0,(COLUMN()-4)*6,1,1)=\"\"), NA(), OFFSET(結果貼付け用!$H39,0,(COLUMN()-4)*6,1,1))","v":{"$error":"#N/A"}},{"$f":"IF(OR(OFFSET(結果貼付け用!$H39,0,(COLUMN()-4)*6,1,1)=\"-\", OFFSET(結果貼付け用!$H39,0,(COLUMN()-4)*6,1,1)=\"\"), NA(), OFFSET(結果貼付け用!$H39,0,(COLUMN()-4)*6,1,1))","v":{"$error":"#N/A"}},{"$f":"IF(OR(OFFSET(結果貼付け用!$H39,0,(COLUMN()-4)*6,1,1)=\"-\", OFFSET(結果貼付け用!$H39,0,(COLUMN()-4)*6,1,1)=\"\"), NA(), OFFSET(結果貼付け用!$H39,0,(COLUMN()-4)*6,1,1))","v":{"$error":"#N/A"}},{"$f":"IF(OR(OFFSET(結果貼付け用!$H39,0,(COLUMN()-4)*6,1,1)=\"-\", OFFSET(結果貼付け用!$H39,0,(COLUMN()-4)*6,1,1)=\"\"), NA(), OFFSET(結果貼付け用!$H39,0,(COLUMN()-4)*6,1,1))","v":{"$error":"#N/A"}},{"$f":"IF(OR(OFFSET(結果貼付け用!$H39,0,(COLUMN()-4)*6,1,1)=\"-\", OFFSET(結果貼付け用!$H39,0,(COLUMN()-4)*6,1,1)=\"\"), NA(), OFFSET(結果貼付け用!$H39,0,(COLUMN()-4)*6,1,1))","v":{"$error":"#N/A"}},{"$f":"IF(OR(OFFSET(結果貼付け用!$H39,0,(COLUMN()-4)*6,1,1)=\"-\", OFFSET(結果貼付け用!$H39,0,(COLUMN()-4)*6,1,1)=\"\"), NA(), OFFSET(結果貼付け用!$H39,0,(COLUMN()-4)*6,1,1))","v":{"$error":"#N/A"}},{"$f":"IF(OR(OFFSET(結果貼付け用!$H39,0,(COLUMN()-4)*6,1,1)=\"-\", OFFSET(結果貼付け用!$H39,0,(COLUMN()-4)*6,1,1)=\"\"), NA(), OFFSET(結果貼付け用!$H39,0,(COLUMN()-4)*6,1,1))","v":{"$error":"#N/A"}},{"$f":"IF(OR(OFFSET(結果貼付け用!$H39,0,(COLUMN()-4)*6,1,1)=\"-\", OFFSET(結果貼付け用!$H39,0,(COLUMN()-4)*6,1,1)=\"\"), NA(), OFFSET(結果貼付け用!$H39,0,(COLUMN()-4)*6,1,1))","v":{"$error":"#N/A"}},{"$f":"IF(OR(OFFSET(結果貼付け用!$H39,0,(COLUMN()-4)*6,1,1)=\"-\", OFFSET(結果貼付け用!$H39,0,(COLUMN()-4)*6,1,1)=\"\"), NA(), OFFSET(結果貼付け用!$H39,0,(COLUMN()-4)*6,1,1))","v":{"$error":"#N/A"}},{"$f":"IF(OR(OFFSET(結果貼付け用!$H39,0,(COLUMN()-4)*6,1,1)=\"-\", OFFSET(結果貼付け用!$H39,0,(COLUMN()-4)*6,1,1)=\"\"), NA(), OFFSET(結果貼付け用!$H39,0,(COLUMN()-4)*6,1,1))","v":{"$error":"#N/A"}},{"$f":"IF(OR(OFFSET(結果貼付け用!$H39,0,(COLUMN()-4)*6,1,1)=\"-\", OFFSET(結果貼付け用!$H39,0,(COLUMN()-4)*6,1,1)=\"\"), NA(), OFFSET(結果貼付け用!$H39,0,(COLUMN()-4)*6,1,1))","v":{"$error":"#N/A"}},{"$f":"IF(OR(OFFSET(結果貼付け用!$H39,0,(COLUMN()-4)*6,1,1)=\"-\", OFFSET(結果貼付け用!$H39,0,(COLUMN()-4)*6,1,1)=\"\"), NA(), OFFSET(結果貼付け用!$H39,0,(COLUMN()-4)*6,1,1))","v":{"$error":"#N/A"}}]
[null,"職場の健康配慮意識",{"$f":"IF(結果貼付け用!B40=\"\",NA(),結果貼付け用!B40)","v":{"$error":"#N/A"}},{"$f":"IF(OR(OFFSET(結果貼付け用!$H40,0,(COLUMN()-4)*6,1,1)=\"-\", OFFSET(結果貼付け用!$H40,0,(COLUMN()-4)*6,1,1)=\"\"), NA(), OFFSET(結果貼付け用!$H40,0,(COLUMN()-4)*6,1,1))","v":{"$error":"#N/A"}},{"$f":"IF(OR(OFFSET(結果貼付け用!$H40,0,(COLUMN()-4)*6,1,1)=\"-\", OFFSET(結果貼付け用!$H40,0,(COLUMN()-4)*6,1,1)=\"\"), NA(), OFFSET(結果貼付け用!$H40,0,(COLUMN()-4)*6,1,1))","v":{"$error":"#N/A"}},{"$f":"IF(OR(OFFSET(結果貼付け用!$H40,0,(COLUMN()-4)*6,1,1)=\"-\", OFFSET(結果貼付け用!$H40,0,(COLUMN()-4)*6,1,1)=\"\"), NA(), OFFSET(結果貼付け用!$H40,0,(COLUMN()-4)*6,1,1))","v":{"$error":"#N/A"}},{"$f":"IF(OR(OFFSET(結果貼付け用!$H40,0,(COLUMN()-4)*6,1,1)=\"-\", OFFSET(結果貼付け用!$H40,0,(COLUMN()-4)*6,1,1)=\"\"), NA(), OFFSET(結果貼付け用!$H40,0,(COLUMN()-4)*6,1,1))","v":{"$error":"#N/A"}},{"$f":"IF(OR(OFFSET(結果貼付け用!$H40,0,(COLUMN()-4)*6,1,1)=\"-\", OFFSET(結果貼付け用!$H40,0,(COLUMN()-4)*6,1,1)=\"\"), NA(), OFFSET(結果貼付け用!$H40,0,(COLUMN()-4)*6,1,1))","v":{"$error":"#N/A"}},{"$f":"IF(OR(OFFSET(結果貼付け用!$H40,0,(COLUMN()-4)*6,1,1)=\"-\", OFFSET(結果貼付け用!$H40,0,(COLUMN()-4)*6,1,1)=\"\"), NA(), OFFSET(結果貼付け用!$H40,0,(COLUMN()-4)*6,1,1))","v":{"$error":"#N/A"}},{"$f":"IF(OR(OFFSET(結果貼付け用!$H40,0,(COLUMN()-4)*6,1,1)=\"-\", OFFSET(結果貼付け用!$H40,0,(COLUMN()-4)*6,1,1)=\"\"), NA(), OFFSET(結果貼付け用!$H40,0,(COLUMN()-4)*6,1,1))","v":{"$error":"#N/A"}},{"$f":"IF(OR(OFFSET(結果貼付け用!$H40,0,(COLUMN()-4)*6,1,1)=\"-\", OFFSET(結果貼付け用!$H40,0,(COLUMN()-4)*6,1,1)=\"\"), NA(), OFFSET(結果貼付け用!$H40,0,(COLUMN()-4)*6,1,1))","v":{"$error":"#N/A"}},{"$f":"IF(OR(OFFSET(結果貼付け用!$H40,0,(COLUMN()-4)*6,1,1)=\"-\", OFFSET(結果貼付け用!$H40,0,(COLUMN()-4)*6,1,1)=\"\"), NA(), OFFSET(結果貼付け用!$H40,0,(COLUMN()-4)*6,1,1))","v":{"$error":"#N/A"}},{"$f":"IF(OR(OFFSET(結果貼付け用!$H40,0,(COLUMN()-4)*6,1,1)=\"-\", OFFSET(結果貼付け用!$H40,0,(COLUMN()-4)*6,1,1)=\"\"), NA(), OFFSET(結果貼付け用!$H40,0,(COLUMN()-4)*6,1,1))","v":{"$error":"#N/A"}},{"$f":"IF(OR(OFFSET(結果貼付け用!$H40,0,(COLUMN()-4)*6,1,1)=\"-\", OFFSET(結果貼付け用!$H40,0,(COLUMN()-4)*6,1,1)=\"\"), NA(), OFFSET(結果貼付け用!$H40,0,(COLUMN()-4)*6,1,1))","v":{"$error":"#N/A"}},{"$f":"IF(OR(OFFSET(結果貼付け用!$H40,0,(COLUMN()-4)*6,1,1)=\"-\", OFFSET(結果貼付け用!$H40,0,(COLUMN()-4)*6,1,1)=\"\"), NA(), OFFSET(結果貼付け用!$H40,0,(COLUMN()-4)*6,1,1))","v":{"$error":"#N/A"}},{"$f":"IF(OR(OFFSET(結果貼付け用!$H40,0,(COLUMN()-4)*6,1,1)=\"-\", OFFSET(結果貼付け用!$H40,0,(COLUMN()-4)*6,1,1)=\"\"), NA(), OFFSET(結果貼付け用!$H40,0,(COLUMN()-4)*6,1,1))","v":{"$error":"#N/A"}},{"$f":"IF(OR(OFFSET(結果貼付け用!$H40,0,(COLUMN()-4)*6,1,1)=\"-\", OFFSET(結果貼付け用!$H40,0,(COLUMN()-4)*6,1,1)=\"\"), NA(), OFFSET(結果貼付け用!$H40,0,(COLUMN()-4)*6,1,1))","v":{"$error":"#N/A"}},{"$f":"IF(OR(OFFSET(結果貼付け用!$H40,0,(COLUMN()-4)*6,1,1)=\"-\", OFFSET(結果貼付け用!$H40,0,(COLUMN()-4)*6,1,1)=\"\"), NA(), OFFSET(結果貼付け用!$H40,0,(COLUMN()-4)*6,1,1))","v":{"$error":"#N/A"}},{"$f":"IF(OR(OFFSET(結果貼付け用!$H40,0,(COLUMN()-4)*6,1,1)=\"-\", OFFSET(結果貼付け用!$H40,0,(COLUMN()-4)*6,1,1)=\"\"), NA(), OFFSET(結果貼付け用!$H40,0,(COLUMN()-4)*6,1,1))","v":{"$error":"#N/A"}},{"$f":"IF(OR(OFFSET(結果貼付け用!$H40,0,(COLUMN()-4)*6,1,1)=\"-\", OFFSET(結果貼付け用!$H40,0,(COLUMN()-4)*6,1,1)=\"\"), NA(), OFFSET(結果貼付け用!$H40,0,(COLUMN()-4)*6,1,1))","v":{"$error":"#N/A"}},{"$f":"IF(OR(OFFSET(結果貼付け用!$H40,0,(COLUMN()-4)*6,1,1)=\"-\", OFFSET(結果貼付け用!$H40,0,(COLUMN()-4)*6,1,1)=\"\"), NA(), OFFSET(結果貼付け用!$H40,0,(COLUMN()-4)*6,1,1))","v":{"$error":"#N/A"}},{"$f":"IF(OR(OFFSET(結果貼付け用!$H40,0,(COLUMN()-4)*6,1,1)=\"-\", OFFSET(結果貼付け用!$H40,0,(COLUMN()-4)*6,1,1)=\"\"), NA(), OFFSET(結果貼付け用!$H40,0,(COLUMN()-4)*6,1,1))","v":{"$error":"#N/A"}},{"$f":"IF(OR(OFFSET(結果貼付け用!$H40,0,(COLUMN()-4)*6,1,1)=\"-\", OFFSET(結果貼付け用!$H40,0,(COLUMN()-4)*6,1,1)=\"\"), NA(), OFFSET(結果貼付け用!$H40,0,(COLUMN()-4)*6,1,1))","v":{"$error":"#N/A"}},{"$f":"IF(OR(OFFSET(結果貼付け用!$H40,0,(COLUMN()-4)*6,1,1)=\"-\", OFFSET(結果貼付け用!$H40,0,(COLUMN()-4)*6,1,1)=\"\"), NA(), OFFSET(結果貼付け用!$H40,0,(COLUMN()-4)*6,1,1))","v":{"$error":"#N/A"}},{"$f":"IF(OR(OFFSET(結果貼付け用!$H40,0,(COLUMN()-4)*6,1,1)=\"-\", OFFSET(結果貼付け用!$H40,0,(COLUMN()-4)*6,1,1)=\"\"), NA(), OFFSET(結果貼付け用!$H40,0,(COLUMN()-4)*6,1,1))","v":{"$error":"#N/A"}},{"$f":"IF(OR(OFFSET(結果貼付け用!$H40,0,(COLUMN()-4)*6,1,1)=\"-\", OFFSET(結果貼付け用!$H40,0,(COLUMN()-4)*6,1,1)=\"\"), NA(), OFFSET(結果貼付け用!$H40,0,(COLUMN()-4)*6,1,1))","v":{"$error":"#N/A"}},{"$f":"IF(OR(OFFSET(結果貼付け用!$H40,0,(COLUMN()-4)*6,1,1)=\"-\", OFFSET(結果貼付け用!$H40,0,(COLUMN()-4)*6,1,1)=\"\"), NA(), OFFSET(結果貼付け用!$H40,0,(COLUMN()-4)*6,1,1))","v":{"$error":"#N/A"}},{"$f":"IF(OR(OFFSET(結果貼付け用!$H40,0,(COLUMN()-4)*6,1,1)=\"-\", OFFSET(結果貼付け用!$H40,0,(COLUMN()-4)*6,1,1)=\"\"), NA(), OFFSET(結果貼付け用!$H40,0,(COLUMN()-4)*6,1,1))","v":{"$error":"#N/A"}},{"$f":"IF(OR(OFFSET(結果貼付け用!$H40,0,(COLUMN()-4)*6,1,1)=\"-\", OFFSET(結果貼付け用!$H40,0,(COLUMN()-4)*6,1,1)=\"\"), NA(), OFFSET(結果貼付け用!$H40,0,(COLUMN()-4)*6,1,1))","v":{"$error":"#N/A"}},{"$f":"IF(OR(OFFSET(結果貼付け用!$H40,0,(COLUMN()-4)*6,1,1)=\"-\", OFFSET(結果貼付け用!$H40,0,(COLUMN()-4)*6,1,1)=\"\"), NA(), OFFSET(結果貼付け用!$H40,0,(COLUMN()-4)*6,1,1))","v":{"$error":"#N/A"}},{"$f":"IF(OR(OFFSET(結果貼付け用!$H40,0,(COLUMN()-4)*6,1,1)=\"-\", OFFSET(結果貼付け用!$H40,0,(COLUMN()-4)*6,1,1)=\"\"), NA(), OFFSET(結果貼付け用!$H40,0,(COLUMN()-4)*6,1,1))","v":{"$error":"#N/A"}},{"$f":"IF(OR(OFFSET(結果貼付け用!$H40,0,(COLUMN()-4)*6,1,1)=\"-\", OFFSET(結果貼付け用!$H40,0,(COLUMN()-4)*6,1,1)=\"\"), NA(), OFFSET(結果貼付け用!$H40,0,(COLUMN()-4)*6,1,1))","v":{"$error":"#N/A"}}]
[null,"職場のコンプライアンス意識",{"$f":"IF(結果貼付け用!B41=\"\",NA(),結果貼付け用!B41)","v":{"$error":"#N/A"}},{"$f":"IF(OR(OFFSET(結果貼付け用!$H41,0,(COLUMN()-4)*6,1,1)=\"-\", OFFSET(結果貼付け用!$H41,0,(COLUMN()-4)*6,1,1)=\"\"), NA(), OFFSET(結果貼付け用!$H41,0,(COLUMN()-4)*6,1,1))","v":{"$error":"#N/A"}},{"$f":"IF(OR(OFFSET(結果貼付け用!$H41,0,(COLUMN()-4)*6,1,1)=\"-\", OFFSET(結果貼付け用!$H41,0,(COLUMN()-4)*6,1,1)=\"\"), NA(), OFFSET(結果貼付け用!$H41,0,(COLUMN()-4)*6,1,1))","v":{"$error":"#N/A"}},{"$f":"IF(OR(OFFSET(結果貼付け用!$H41,0,(COLUMN()-4)*6,1,1)=\"-\", OFFSET(結果貼付け用!$H41,0,(COLUMN()-4)*6,1,1)=\"\"), NA(), OFFSET(結果貼付け用!$H41,0,(COLUMN()-4)*6,1,1))","v":{"$error":"#N/A"}},{"$f":"IF(OR(OFFSET(結果貼付け用!$H41,0,(COLUMN()-4)*6,1,1)=\"-\", OFFSET(結果貼付け用!$H41,0,(COLUMN()-4)*6,1,1)=\"\"), NA(), OFFSET(結果貼付け用!$H41,0,(COLUMN()-4)*6,1,1))","v":{"$error":"#N/A"}},{"$f":"IF(OR(OFFSET(結果貼付け用!$H41,0,(COLUMN()-4)*6,1,1)=\"-\", OFFSET(結果貼付け用!$H41,0,(COLUMN()-4)*6,1,1)=\"\"), NA(), OFFSET(結果貼付け用!$H41,0,(COLUMN()-4)*6,1,1))","v":{"$error":"#N/A"}},{"$f":"IF(OR(OFFSET(結果貼付け用!$H41,0,(COLUMN()-4)*6,1,1)=\"-\", OFFSET(結果貼付け用!$H41,0,(COLUMN()-4)*6,1,1)=\"\"), NA(), OFFSET(結果貼付け用!$H41,0,(COLUMN()-4)*6,1,1))","v":{"$error":"#N/A"}},{"$f":"IF(OR(OFFSET(結果貼付け用!$H41,0,(COLUMN()-4)*6,1,1)=\"-\", OFFSET(結果貼付け用!$H41,0,(COLUMN()-4)*6,1,1)=\"\"), NA(), OFFSET(結果貼付け用!$H41,0,(COLUMN()-4)*6,1,1))","v":{"$error":"#N/A"}},{"$f":"IF(OR(OFFSET(結果貼付け用!$H41,0,(COLUMN()-4)*6,1,1)=\"-\", OFFSET(結果貼付け用!$H41,0,(COLUMN()-4)*6,1,1)=\"\"), NA(), OFFSET(結果貼付け用!$H41,0,(COLUMN()-4)*6,1,1))","v":{"$error":"#N/A"}},{"$f":"IF(OR(OFFSET(結果貼付け用!$H41,0,(COLUMN()-4)*6,1,1)=\"-\", OFFSET(結果貼付け用!$H41,0,(COLUMN()-4)*6,1,1)=\"\"), NA(), OFFSET(結果貼付け用!$H41,0,(COLUMN()-4)*6,1,1))","v":{"$error":"#N/A"}},{"$f":"IF(OR(OFFSET(結果貼付け用!$H41,0,(COLUMN()-4)*6,1,1)=\"-\", OFFSET(結果貼付け用!$H41,0,(COLUMN()-4)*6,1,1)=\"\"), NA(), OFFSET(結果貼付け用!$H41,0,(COLUMN()-4)*6,1,1))","v":{"$error":"#N/A"}},{"$f":"IF(OR(OFFSET(結果貼付け用!$H41,0,(COLUMN()-4)*6,1,1)=\"-\", OFFSET(結果貼付け用!$H41,0,(COLUMN()-4)*6,1,1)=\"\"), NA(), OFFSET(結果貼付け用!$H41,0,(COLUMN()-4)*6,1,1))","v":{"$error":"#N/A"}},{"$f":"IF(OR(OFFSET(結果貼付け用!$H41,0,(COLUMN()-4)*6,1,1)=\"-\", OFFSET(結果貼付け用!$H41,0,(COLUMN()-4)*6,1,1)=\"\"), NA(), OFFSET(結果貼付け用!$H41,0,(COLUMN()-4)*6,1,1))","v":{"$error":"#N/A"}},{"$f":"IF(OR(OFFSET(結果貼付け用!$H41,0,(COLUMN()-4)*6,1,1)=\"-\", OFFSET(結果貼付け用!$H41,0,(COLUMN()-4)*6,1,1)=\"\"), NA(), OFFSET(結果貼付け用!$H41,0,(COLUMN()-4)*6,1,1))","v":{"$error":"#N/A"}},{"$f":"IF(OR(OFFSET(結果貼付け用!$H41,0,(COLUMN()-4)*6,1,1)=\"-\", OFFSET(結果貼付け用!$H41,0,(COLUMN()-4)*6,1,1)=\"\"), NA(), OFFSET(結果貼付け用!$H41,0,(COLUMN()-4)*6,1,1))","v":{"$error":"#N/A"}},{"$f":"IF(OR(OFFSET(結果貼付け用!$H41,0,(COLUMN()-4)*6,1,1)=\"-\", OFFSET(結果貼付け用!$H41,0,(COLUMN()-4)*6,1,1)=\"\"), NA(), OFFSET(結果貼付け用!$H41,0,(COLUMN()-4)*6,1,1))","v":{"$error":"#N/A"}},{"$f":"IF(OR(OFFSET(結果貼付け用!$H41,0,(COLUMN()-4)*6,1,1)=\"-\", OFFSET(結果貼付け用!$H41,0,(COLUMN()-4)*6,1,1)=\"\"), NA(), OFFSET(結果貼付け用!$H41,0,(COLUMN()-4)*6,1,1))","v":{"$error":"#N/A"}},{"$f":"IF(OR(OFFSET(結果貼付け用!$H41,0,(COLUMN()-4)*6,1,1)=\"-\", OFFSET(結果貼付け用!$H41,0,(COLUMN()-4)*6,1,1)=\"\"), NA(), OFFSET(結果貼付け用!$H41,0,(COLUMN()-4)*6,1,1))","v":{"$error":"#N/A"}},{"$f":"IF(OR(OFFSET(結果貼付け用!$H41,0,(COLUMN()-4)*6,1,1)=\"-\", OFFSET(結果貼付け用!$H41,0,(COLUMN()-4)*6,1,1)=\"\"), NA(), OFFSET(結果貼付け用!$H41,0,(COLUMN()-4)*6,1,1))","v":{"$error":"#N/A"}},{"$f":"IF(OR(OFFSET(結果貼付け用!$H41,0,(COLUMN()-4)*6,1,1)=\"-\", OFFSET(結果貼付け用!$H41,0,(COLUMN()-4)*6,1,1)=\"\"), NA(), OFFSET(結果貼付け用!$H41,0,(COLUMN()-4)*6,1,1))","v":{"$error":"#N/A"}},{"$f":"IF(OR(OFFSET(結果貼付け用!$H41,0,(COLUMN()-4)*6,1,1)=\"-\", OFFSET(結果貼付け用!$H41,0,(COLUMN()-4)*6,1,1)=\"\"), NA(), OFFSET(結果貼付け用!$H41,0,(COLUMN()-4)*6,1,1))","v":{"$error":"#N/A"}},{"$f":"IF(OR(OFFSET(結果貼付け用!$H41,0,(COLUMN()-4)*6,1,1)=\"-\", OFFSET(結果貼付け用!$H41,0,(COLUMN()-4)*6,1,1)=\"\"), NA(), OFFSET(結果貼付け用!$H41,0,(COLUMN()-4)*6,1,1))","v":{"$error":"#N/A"}},{"$f":"IF(OR(OFFSET(結果貼付け用!$H41,0,(COLUMN()-4)*6,1,1)=\"-\", OFFSET(結果貼付け用!$H41,0,(COLUMN()-4)*6,1,1)=\"\"), NA(), OFFSET(結果貼付け用!$H41,0,(COLUMN()-4)*6,1,1))","v":{"$error":"#N/A"}},{"$f":"IF(OR(OFFSET(結果貼付け用!$H41,0,(COLUMN()-4)*6,1,1)=\"-\", OFFSET(結果貼付け用!$H41,0,(COLUMN()-4)*6,1,1)=\"\"), NA(), OFFSET(結果貼付け用!$H41,0,(COLUMN()-4)*6,1,1))","v":{"$error":"#N/A"}},{"$f":"IF(OR(OFFSET(結果貼付け用!$H41,0,(COLUMN()-4)*6,1,1)=\"-\", OFFSET(結果貼付け用!$H41,0,(COLUMN()-4)*6,1,1)=\"\"), NA(), OFFSET(結果貼付け用!$H41,0,(COLUMN()-4)*6,1,1))","v":{"$error":"#N/A"}},{"$f":"IF(OR(OFFSET(結果貼付け用!$H41,0,(COLUMN()-4)*6,1,1)=\"-\", OFFSET(結果貼付け用!$H41,0,(COLUMN()-4)*6,1,1)=\"\"), NA(), OFFSET(結果貼付け用!$H41,0,(COLUMN()-4)*6,1,1))","v":{"$error":"#N/A"}},{"$f":"IF(OR(OFFSET(結果貼付け用!$H41,0,(COLUMN()-4)*6,1,1)=\"-\", OFFSET(結果貼付け用!$H41,0,(COLUMN()-4)*6,1,1)=\"\"), NA(), OFFSET(結果貼付け用!$H41,0,(COLUMN()-4)*6,1,1))","v":{"$error":"#N/A"}},{"$f":"IF(OR(OFFSET(結果貼付け用!$H41,0,(COLUMN()-4)*6,1,1)=\"-\", OFFSET(結果貼付け用!$H41,0,(COLUMN()-4)*6,1,1)=\"\"), NA(), OFFSET(結果貼付け用!$H41,0,(COLUMN()-4)*6,1,1))","v":{"$error":"#N/A"}},{"$f":"IF(OR(OFFSET(結果貼付け用!$H41,0,(COLUMN()-4)*6,1,1)=\"-\", OFFSET(結果貼付け用!$H41,0,(COLUMN()-4)*6,1,1)=\"\"), NA(), OFFSET(結果貼付け用!$H41,0,(COLUMN()-4)*6,1,1))","v":{"$error":"#N/A"}},{"$f":"IF(OR(OFFSET(結果貼付け用!$H41,0,(COLUMN()-4)*6,1,1)=\"-\", OFFSET(結果貼付け用!$H41,0,(COLUMN()-4)*6,1,1)=\"\"), NA(), OFFSET(結果貼付け用!$H41,0,(COLUMN()-4)*6,1,1))","v":{"$error":"#N/A"}}]
[]
[]
[]
[]
[]
[]
[]
[]
[]
[]
[]
[]
[]
[]
[]
[]
[]
[]
[]
[]
[null,"実施開始日時",{"$f":"IF(結果貼付け用!B2=\"\",NA(),結果貼付け用!B2)","v":{"$error":"#N/A"}},{"$f":"IF((OFFSET(結果貼付け用!$H$2, 0, (COLUMN() - COLUMN($D$26)) * 6))=\"\",NA(),(OFFSET(結果貼付け用!$H$2, 0, (COLUMN() - COLUMN($D$26)) * 6)))","v":{"$error":"#N/A"}},{"$f":"IF((OFFSET(結果貼付け用!$H$2, 0, (COLUMN() - COLUMN($D$26)) * 6))=\"\",NA(),(OFFSET(結果貼付け用!$H$2, 0, (COLUMN() - COLUMN($D$26)) * 6)))","v":{"$error":"#N/A"}},{"$f":"IF((OFFSET(結果貼付け用!$H$2, 0, (COLUMN() - COLUMN($D$26)) * 6))=\"\",NA(),(OFFSET(結果貼付け用!$H$2, 0, (COLUMN() - COLUMN($D$26)) * 6)))","v":{"$error":"#N/A"}},{"$f":"IF((OFFSET(結果貼付け用!$H$2, 0, (COLUMN() - COLUMN($D$26)) * 6))=\"\",NA(),(OFFSET(結果貼付け用!$H$2, 0, (COLUMN() - COLUMN($D$26)) * 6)))","v":{"$error":"#N/A"}},{"$f":"IF((OFFSET(結果貼付け用!$H$2, 0, (COLUMN() - COLUMN($D$26)) * 6))=\"\",NA(),(OFFSET(結果貼付け用!$H$2, 0, (COLUMN() - COLUMN($D$26)) * 6)))","v":{"$error":"#N/A"}},{"$f":"IF((OFFSET(結果貼付け用!$H$2, 0, (COLUMN() - COLUMN($D$26)) * 6))=\"\",NA(),(OFFSET(結果貼付け用!$H$2, 0, (COLUMN() - COLUMN($D$26)) * 6)))","v":{"$error":"#N/A"}},{"$f":"IF((OFFSET(結果貼付け用!$H$2, 0, (COLUMN() - COLUMN($D$26)) * 6))=\"\",NA(),(OFFSET(結果貼付け用!$H$2, 0, (COLUMN() - COLUMN($D$26)) * 6)))","v":{"$error":"#N/A"}},{"$f":"IF((OFFSET(結果貼付け用!$H$2, 0, (COLUMN() - COLUMN($D$26)) * 6))=\"\",NA(),(OFFSET(結果貼付け用!$H$2, 0, (COLUMN() - COLUMN($D$26)) * 6)))","v":{"$error":"#N/A"}},{"$f":"IF((OFFSET(結果貼付け用!$H$2, 0, (COLUMN() - COLUMN($D$26)) * 6))=\"\",NA(),(OFFSET(結果貼付け用!$H$2, 0, (COLUMN() - COLUMN($D$26)) * 6)))","v":{"$error":"#N/A"}},{"$f":"IF((OFFSET(結果貼付け用!$H$2, 0, (COLUMN() - COLUMN($D$26)) * 6))=\"\",NA(),(OFFSET(結果貼付け用!$H$2, 0, (COLUMN() - COLUMN($D$26)) * 6)))","v":{"$error":"#N/A"}},{"$f":"IF((OFFSET(結果貼付け用!$H$2, 0, (COLUMN() - COLUMN($D$26)) * 6))=\"\",NA(),(OFFSET(結果貼付け用!$H$2, 0, (COLUMN() - COLUMN($D$26)) * 6)))","v":{"$error":"#N/A"}},{"$f":"IF((OFFSET(結果貼付け用!$H$2, 0, (COLUMN() - COLUMN($D$26)) * 6))=\"\",NA(),(OFFSET(結果貼付け用!$H$2, 0, (COLUMN() - COLUMN($D$26)) * 6)))","v":{"$error":"#N/A"}},{"$f":"IF((OFFSET(結果貼付け用!$H$2, 0, (COLUMN() - COLUMN($D$26)) * 6))=\"\",NA(),(OFFSET(結果貼付け用!$H$2, 0, (COLUMN() - COLUMN($D$26)) * 6)))","v":{"$error":"#N/A"}},{"$f":"IF((OFFSET(結果貼付け用!$H$2, 0, (COLUMN() - COLUMN($D$26)) * 6))=\"\",NA(),(OFFSET(結果貼付け用!$H$2, 0, (COLUMN() - COLUMN($D$26)) * 6)))","v":{"$error":"#N/A"}},{"$f":"IF((OFFSET(結果貼付け用!$H$2, 0, (COLUMN() - COLUMN($D$26)) * 6))=\"\",NA(),(OFFSET(結果貼付け用!$H$2, 0, (COLUMN() - COLUMN($D$26)) * 6)))","v":{"$error":"#N/A"}},{"$f":"IF((OFFSET(結果貼付け用!$H$2, 0, (COLUMN() - COLUMN($D$26)) * 6))=\"\",NA(),(OFFSET(結果貼付け用!$H$2, 0, (COLUMN() - COLUMN($D$26)) * 6)))","v":{"$error":"#N/A"}},{"$f":"IF((OFFSET(結果貼付け用!$H$2, 0, (COLUMN() - COLUMN($D$26)) * 6))=\"\",NA(),(OFFSET(結果貼付け用!$H$2, 0, (COLUMN() - COLUMN($D$26)) * 6)))","v":{"$error":"#N/A"}},{"$f":"IF((OFFSET(結果貼付け用!$H$2, 0, (COLUMN() - COLUMN($D$26)) * 6))=\"\",NA(),(OFFSET(結果貼付け用!$H$2, 0, (COLUMN() - COLUMN($D$26)) * 6)))","v":{"$error":"#N/A"}},{"$f":"IF((OFFSET(結果貼付け用!$H$2, 0, (COLUMN() - COLUMN($D$26)) * 6))=\"\",NA(),(OFFSET(結果貼付け用!$H$2, 0, (COLUMN() - COLUMN($D$26)) * 6)))","v":{"$error":"#N/A"}},{"$f":"IF((OFFSET(結果貼付け用!$H$2, 0, (COLUMN() - COLUMN($D$26)) * 6))=\"\",NA(),(OFFSET(結果貼付け用!$H$2, 0, (COLUMN() - COLUMN($D$26)) * 6)))","v":{"$error":"#N/A"}},{"$f":"IF((OFFSET(結果貼付け用!$H$2, 0, (COLUMN() - COLUMN($D$26)) * 6))=\"\",NA(),(OFFSET(結果貼付け用!$H$2, 0, (COLUMN() - COLUMN($D$26)) * 6)))","v":{"$error":"#N/A"}},{"$f":"IF((OFFSET(結果貼付け用!$H$2, 0, (COLUMN() - COLUMN($D$26)) * 6))=\"\",NA(),(OFFSET(結果貼付け用!$H$2, 0, (COLUMN() - COLUMN($D$26)) * 6)))","v":{"$error":"#N/A"}},{"$f":"IF((OFFSET(結果貼付け用!$H$2, 0, (COLUMN() - COLUMN($D$26)) * 6))=\"\",NA(),(OFFSET(結果貼付け用!$H$2, 0, (COLUMN() - COLUMN($D$26)) * 6)))","v":{"$error":"#N/A"}},{"$f":"IF((OFFSET(結果貼付け用!$H$2, 0, (COLUMN() - COLUMN($D$26)) * 6))=\"\",NA(),(OFFSET(結果貼付け用!$H$2, 0, (COLUMN() - COLUMN($D$26)) * 6)))","v":{"$error":"#N/A"}},{"$f":"IF((OFFSET(結果貼付け用!$H$2, 0, (COLUMN() - COLUMN($D$26)) * 6))=\"\",NA(),(OFFSET(結果貼付け用!$H$2, 0, (COLUMN() - COLUMN($D$26)) * 6)))","v":{"$error":"#N/A"}},{"$f":"IF((OFFSET(結果貼付け用!$H$2, 0, (COLUMN() - COLUMN($D$26)) * 6))=\"\",NA(),(OFFSET(結果貼付け用!$H$2, 0, (COLUMN() - COLUMN($D$26)) * 6)))","v":{"$error":"#N/A"}},{"$f":"IF((OFFSET(結果貼付け用!$H$2, 0, (COLUMN() - COLUMN($D$26)) * 6))=\"\",NA(),(OFFSET(結果貼付け用!$H$2, 0, (COLUMN() - COLUMN($D$26)) * 6)))","v":{"$error":"#N/A"}},{"$f":"IF((OFFSET(結果貼付け用!$H$2, 0, (COLUMN() - COLUMN($D$26)) * 6))=\"\",NA(),(OFFSET(結果貼付け用!$H$2, 0, (COLUMN() - COLUMN($D$26)) * 6)))","v":{"$error":"#N/A"}},{"$f":"IF((OFFSET(結果貼付け用!$H$2, 0, (COLUMN() - COLUMN($D$26)) * 6))=\"\",NA(),(OFFSET(結果貼付け用!$H$2, 0, (COLUMN() - COLUMN($D$26)) * 6)))","v":{"$error":"#N/A"}}]
[null,"個人要因",{"$f":"IF(結果貼付け用!B42=\"\",NA(),結果貼付け用!B42)","v":{"$error":"#N/A"}},{"$f":"IF(OR(OFFSET(結果貼付け用!$H42,0,(COLUMN()-4)*6,1,1)=\"-\", OFFSET(結果貼付け用!$H42,0,(COLUMN()-4)*6,1,1)=\"\"), NA(), OFFSET(結果貼付け用!$H42,0,(COLUMN()-4)*6,1,1))","v":{"$error":"#N/A"}},{"$f":"IF(OR(OFFSET(結果貼付け用!$H42,0,(COLUMN()-4)*6,1,1)=\"-\", OFFSET(結果貼付け用!$H42,0,(COLUMN()-4)*6,1,1)=\"\"), NA(), OFFSET(結果貼付け用!$H42,0,(COLUMN()-4)*6,1,1))","v":{"$error":"#N/A"}},{"$f":"IF(OR(OFFSET(結果貼付け用!$H42,0,(COLUMN()-4)*6,1,1)=\"-\", OFFSET(結果貼付け用!$H42,0,(COLUMN()-4)*6,1,1)=\"\"), NA(), OFFSET(結果貼付け用!$H42,0,(COLUMN()-4)*6,1,1))","v":{"$error":"#N/A"}},{"$f":"IF(OR(OFFSET(結果貼付け用!$H42,0,(COLUMN()-4)*6,1,1)=\"-\", OFFSET(結果貼付け用!$H42,0,(COLUMN()-4)*6,1,1)=\"\"), NA(), OFFSET(結果貼付け用!$H42,0,(COLUMN()-4)*6,1,1))","v":{"$error":"#N/A"}},{"$f":"IF(OR(OFFSET(結果貼付け用!$H42,0,(COLUMN()-4)*6,1,1)=\"-\", OFFSET(結果貼付け用!$H42,0,(COLUMN()-4)*6,1,1)=\"\"), NA(), OFFSET(結果貼付け用!$H42,0,(COLUMN()-4)*6,1,1))","v":{"$error":"#N/A"}},{"$f":"IF(OR(OFFSET(結果貼付け用!$H42,0,(COLUMN()-4)*6,1,1)=\"-\", OFFSET(結果貼付け用!$H42,0,(COLUMN()-4)*6,1,1)=\"\"), NA(), OFFSET(結果貼付け用!$H42,0,(COLUMN()-4)*6,1,1))","v":{"$error":"#N/A"}},{"$f":"IF(OR(OFFSET(結果貼付け用!$H42,0,(COLUMN()-4)*6,1,1)=\"-\", OFFSET(結果貼付け用!$H42,0,(COLUMN()-4)*6,1,1)=\"\"), NA(), OFFSET(結果貼付け用!$H42,0,(COLUMN()-4)*6,1,1))","v":{"$error":"#N/A"}},{"$f":"IF(OR(OFFSET(結果貼付け用!$H42,0,(COLUMN()-4)*6,1,1)=\"-\", OFFSET(結果貼付け用!$H42,0,(COLUMN()-4)*6,1,1)=\"\"), NA(), OFFSET(結果貼付け用!$H42,0,(COLUMN()-4)*6,1,1))","v":{"$error":"#N/A"}},{"$f":"IF(OR(OFFSET(結果貼付け用!$H42,0,(COLUMN()-4)*6,1,1)=\"-\", OFFSET(結果貼付け用!$H42,0,(COLUMN()-4)*6,1,1)=\"\"), NA(), OFFSET(結果貼付け用!$H42,0,(COLUMN()-4)*6,1,1))","v":{"$error":"#N/A"}},{"$f":"IF(OR(OFFSET(結果貼付け用!$H42,0,(COLUMN()-4)*6,1,1)=\"-\", OFFSET(結果貼付け用!$H42,0,(COLUMN()-4)*6,1,1)=\"\"), NA(), OFFSET(結果貼付け用!$H42,0,(COLUMN()-4)*6,1,1))","v":{"$error":"#N/A"}},{"$f":"IF(OR(OFFSET(結果貼付け用!$H42,0,(COLUMN()-4)*6,1,1)=\"-\", OFFSET(結果貼付け用!$H42,0,(COLUMN()-4)*6,1,1)=\"\"), NA(), OFFSET(結果貼付け用!$H42,0,(COLUMN()-4)*6,1,1))","v":{"$error":"#N/A"}},{"$f":"IF(OR(OFFSET(結果貼付け用!$H42,0,(COLUMN()-4)*6,1,1)=\"-\", OFFSET(結果貼付け用!$H42,0,(COLUMN()-4)*6,1,1)=\"\"), NA(), OFFSET(結果貼付け用!$H42,0,(COLUMN()-4)*6,1,1))","v":{"$error":"#N/A"}},{"$f":"IF(OR(OFFSET(結果貼付け用!$H42,0,(COLUMN()-4)*6,1,1)=\"-\", OFFSET(結果貼付け用!$H42,0,(COLUMN()-4)*6,1,1)=\"\"), NA(), OFFSET(結果貼付け用!$H42,0,(COLUMN()-4)*6,1,1))","v":{"$error":"#N/A"}},{"$f":"IF(OR(OFFSET(結果貼付け用!$H42,0,(COLUMN()-4)*6,1,1)=\"-\", OFFSET(結果貼付け用!$H42,0,(COLUMN()-4)*6,1,1)=\"\"), NA(), OFFSET(結果貼付け用!$H42,0,(COLUMN()-4)*6,1,1))","v":{"$error":"#N/A"}},{"$f":"IF(OR(OFFSET(結果貼付け用!$H42,0,(COLUMN()-4)*6,1,1)=\"-\", OFFSET(結果貼付け用!$H42,0,(COLUMN()-4)*6,1,1)=\"\"), NA(), OFFSET(結果貼付け用!$H42,0,(COLUMN()-4)*6,1,1))","v":{"$error":"#N/A"}},{"$f":"IF(OR(OFFSET(結果貼付け用!$H42,0,(COLUMN()-4)*6,1,1)=\"-\", OFFSET(結果貼付け用!$H42,0,(COLUMN()-4)*6,1,1)=\"\"), NA(), OFFSET(結果貼付け用!$H42,0,(COLUMN()-4)*6,1,1))","v":{"$error":"#N/A"}},{"$f":"IF(OR(OFFSET(結果貼付け用!$H42,0,(COLUMN()-4)*6,1,1)=\"-\", OFFSET(結果貼付け用!$H42,0,(COLUMN()-4)*6,1,1)=\"\"), NA(), OFFSET(結果貼付け用!$H42,0,(COLUMN()-4)*6,1,1))","v":{"$error":"#N/A"}},{"$f":"IF(OR(OFFSET(結果貼付け用!$H42,0,(COLUMN()-4)*6,1,1)=\"-\", OFFSET(結果貼付け用!$H42,0,(COLUMN()-4)*6,1,1)=\"\"), NA(), OFFSET(結果貼付け用!$H42,0,(COLUMN()-4)*6,1,1))","v":{"$error":"#N/A"}},{"$f":"IF(OR(OFFSET(結果貼付け用!$H42,0,(COLUMN()-4)*6,1,1)=\"-\", OFFSET(結果貼付け用!$H42,0,(COLUMN()-4)*6,1,1)=\"\"), NA(), OFFSET(結果貼付け用!$H42,0,(COLUMN()-4)*6,1,1))","v":{"$error":"#N/A"}},{"$f":"IF(OR(OFFSET(結果貼付け用!$H42,0,(COLUMN()-4)*6,1,1)=\"-\", OFFSET(結果貼付け用!$H42,0,(COLUMN()-4)*6,1,1)=\"\"), NA(), OFFSET(結果貼付け用!$H42,0,(COLUMN()-4)*6,1,1))","v":{"$error":"#N/A"}},{"$f":"IF(OR(OFFSET(結果貼付け用!$H42,0,(COLUMN()-4)*6,1,1)=\"-\", OFFSET(結果貼付け用!$H42,0,(COLUMN()-4)*6,1,1)=\"\"), NA(), OFFSET(結果貼付け用!$H42,0,(COLUMN()-4)*6,1,1))","v":{"$error":"#N/A"}},{"$f":"IF(OR(OFFSET(結果貼付け用!$H42,0,(COLUMN()-4)*6,1,1)=\"-\", OFFSET(結果貼付け用!$H42,0,(COLUMN()-4)*6,1,1)=\"\"), NA(), OFFSET(結果貼付け用!$H42,0,(COLUMN()-4)*6,1,1))","v":{"$error":"#N/A"}},{"$f":"IF(OR(OFFSET(結果貼付け用!$H42,0,(COLUMN()-4)*6,1,1)=\"-\", OFFSET(結果貼付け用!$H42,0,(COLUMN()-4)*6,1,1)=\"\"), NA(), OFFSET(結果貼付け用!$H42,0,(COLUMN()-4)*6,1,1))","v":{"$error":"#N/A"}},{"$f":"IF(OR(OFFSET(結果貼付け用!$H42,0,(COLUMN()-4)*6,1,1)=\"-\", OFFSET(結果貼付け用!$H42,0,(COLUMN()-4)*6,1,1)=\"\"), NA(), OFFSET(結果貼付け用!$H42,0,(COLUMN()-4)*6,1,1))","v":{"$error":"#N/A"}},{"$f":"IF(OR(OFFSET(結果貼付け用!$H42,0,(COLUMN()-4)*6,1,1)=\"-\", OFFSET(結果貼付け用!$H42,0,(COLUMN()-4)*6,1,1)=\"\"), NA(), OFFSET(結果貼付け用!$H42,0,(COLUMN()-4)*6,1,1))","v":{"$error":"#N/A"}},{"$f":"IF(OR(OFFSET(結果貼付け用!$H42,0,(COLUMN()-4)*6,1,1)=\"-\", OFFSET(結果貼付け用!$H42,0,(COLUMN()-4)*6,1,1)=\"\"), NA(), OFFSET(結果貼付け用!$H42,0,(COLUMN()-4)*6,1,1))","v":{"$error":"#N/A"}},{"$f":"IF(OR(OFFSET(結果貼付け用!$H42,0,(COLUMN()-4)*6,1,1)=\"-\", OFFSET(結果貼付け用!$H42,0,(COLUMN()-4)*6,1,1)=\"\"), NA(), OFFSET(結果貼付け用!$H42,0,(COLUMN()-4)*6,1,1))","v":{"$error":"#N/A"}},{"$f":"IF(OR(OFFSET(結果貼付け用!$H42,0,(COLUMN()-4)*6,1,1)=\"-\", OFFSET(結果貼付け用!$H42,0,(COLUMN()-4)*6,1,1)=\"\"), NA(), OFFSET(結果貼付け用!$H42,0,(COLUMN()-4)*6,1,1))","v":{"$error":"#N/A"}},{"$f":"IF(OR(OFFSET(結果貼付け用!$H42,0,(COLUMN()-4)*6,1,1)=\"-\", OFFSET(結果貼付け用!$H42,0,(COLUMN()-4)*6,1,1)=\"\"), NA(), OFFSET(結果貼付け用!$H42,0,(COLUMN()-4)*6,1,1))","v":{"$error":"#N/A"}}]
[null,"組織市民行動",{"$f":"IF(結果貼付け用!B43=\"\",NA(),結果貼付け用!B43)","v":{"$error":"#N/A"}},{"$f":"IF(OR(OFFSET(結果貼付け用!$H43,0,(COLUMN()-4)*6,1,1)=\"-\", OFFSET(結果貼付け用!$H43,0,(COLUMN()-4)*6,1,1)=\"\"), NA(), OFFSET(結果貼付け用!$H43,0,(COLUMN()-4)*6,1,1))","v":{"$error":"#N/A"}},{"$f":"IF(OR(OFFSET(結果貼付け用!$H43,0,(COLUMN()-4)*6,1,1)=\"-\", OFFSET(結果貼付け用!$H43,0,(COLUMN()-4)*6,1,1)=\"\"), NA(), OFFSET(結果貼付け用!$H43,0,(COLUMN()-4)*6,1,1))","v":{"$error":"#N/A"}},{"$f":"IF(OR(OFFSET(結果貼付け用!$H43,0,(COLUMN()-4)*6,1,1)=\"-\", OFFSET(結果貼付け用!$H43,0,(COLUMN()-4)*6,1,1)=\"\"), NA(), OFFSET(結果貼付け用!$H43,0,(COLUMN()-4)*6,1,1))","v":{"$error":"#N/A"}},{"$f":"IF(OR(OFFSET(結果貼付け用!$H43,0,(COLUMN()-4)*6,1,1)=\"-\", OFFSET(結果貼付け用!$H43,0,(COLUMN()-4)*6,1,1)=\"\"), NA(), OFFSET(結果貼付け用!$H43,0,(COLUMN()-4)*6,1,1))","v":{"$error":"#N/A"}},{"$f":"IF(OR(OFFSET(結果貼付け用!$H43,0,(COLUMN()-4)*6,1,1)=\"-\", OFFSET(結果貼付け用!$H43,0,(COLUMN()-4)*6,1,1)=\"\"), NA(), OFFSET(結果貼付け用!$H43,0,(COLUMN()-4)*6,1,1))","v":{"$error":"#N/A"}},{"$f":"IF(OR(OFFSET(結果貼付け用!$H43,0,(COLUMN()-4)*6,1,1)=\"-\", OFFSET(結果貼付け用!$H43,0,(COLUMN()-4)*6,1,1)=\"\"), NA(), OFFSET(結果貼付け用!$H43,0,(COLUMN()-4)*6,1,1))","v":{"$error":"#N/A"}},{"$f":"IF(OR(OFFSET(結果貼付け用!$H43,0,(COLUMN()-4)*6,1,1)=\"-\", OFFSET(結果貼付け用!$H43,0,(COLUMN()-4)*6,1,1)=\"\"), NA(), OFFSET(結果貼付け用!$H43,0,(COLUMN()-4)*6,1,1))","v":{"$error":"#N/A"}},{"$f":"IF(OR(OFFSET(結果貼付け用!$H43,0,(COLUMN()-4)*6,1,1)=\"-\", OFFSET(結果貼付け用!$H43,0,(COLUMN()-4)*6,1,1)=\"\"), NA(), OFFSET(結果貼付け用!$H43,0,(COLUMN()-4)*6,1,1))","v":{"$error":"#N/A"}},{"$f":"IF(OR(OFFSET(結果貼付け用!$H43,0,(COLUMN()-4)*6,1,1)=\"-\", OFFSET(結果貼付け用!$H43,0,(COLUMN()-4)*6,1,1)=\"\"), NA(), OFFSET(結果貼付け用!$H43,0,(COLUMN()-4)*6,1,1))","v":{"$error":"#N/A"}},{"$f":"IF(OR(OFFSET(結果貼付け用!$H43,0,(COLUMN()-4)*6,1,1)=\"-\", OFFSET(結果貼付け用!$H43,0,(COLUMN()-4)*6,1,1)=\"\"), NA(), OFFSET(結果貼付け用!$H43,0,(COLUMN()-4)*6,1,1))","v":{"$error":"#N/A"}},{"$f":"IF(OR(OFFSET(結果貼付け用!$H43,0,(COLUMN()-4)*6,1,1)=\"-\", OFFSET(結果貼付け用!$H43,0,(COLUMN()-4)*6,1,1)=\"\"), NA(), OFFSET(結果貼付け用!$H43,0,(COLUMN()-4)*6,1,1))","v":{"$error":"#N/A"}},{"$f":"IF(OR(OFFSET(結果貼付け用!$H43,0,(COLUMN()-4)*6,1,1)=\"-\", OFFSET(結果貼付け用!$H43,0,(COLUMN()-4)*6,1,1)=\"\"), NA(), OFFSET(結果貼付け用!$H43,0,(COLUMN()-4)*6,1,1))","v":{"$error":"#N/A"}},{"$f":"IF(OR(OFFSET(結果貼付け用!$H43,0,(COLUMN()-4)*6,1,1)=\"-\", OFFSET(結果貼付け用!$H43,0,(COLUMN()-4)*6,1,1)=\"\"), NA(), OFFSET(結果貼付け用!$H43,0,(COLUMN()-4)*6,1,1))","v":{"$error":"#N/A"}},{"$f":"IF(OR(OFFSET(結果貼付け用!$H43,0,(COLUMN()-4)*6,1,1)=\"-\", OFFSET(結果貼付け用!$H43,0,(COLUMN()-4)*6,1,1)=\"\"), NA(), OFFSET(結果貼付け用!$H43,0,(COLUMN()-4)*6,1,1))","v":{"$error":"#N/A"}},{"$f":"IF(OR(OFFSET(結果貼付け用!$H43,0,(COLUMN()-4)*6,1,1)=\"-\", OFFSET(結果貼付け用!$H43,0,(COLUMN()-4)*6,1,1)=\"\"), NA(), OFFSET(結果貼付け用!$H43,0,(COLUMN()-4)*6,1,1))","v":{"$error":"#N/A"}},{"$f":"IF(OR(OFFSET(結果貼付け用!$H43,0,(COLUMN()-4)*6,1,1)=\"-\", OFFSET(結果貼付け用!$H43,0,(COLUMN()-4)*6,1,1)=\"\"), NA(), OFFSET(結果貼付け用!$H43,0,(COLUMN()-4)*6,1,1))","v":{"$error":"#N/A"}},{"$f":"IF(OR(OFFSET(結果貼付け用!$H43,0,(COLUMN()-4)*6,1,1)=\"-\", OFFSET(結果貼付け用!$H43,0,(COLUMN()-4)*6,1,1)=\"\"), NA(), OFFSET(結果貼付け用!$H43,0,(COLUMN()-4)*6,1,1))","v":{"$error":"#N/A"}},{"$f":"IF(OR(OFFSET(結果貼付け用!$H43,0,(COLUMN()-4)*6,1,1)=\"-\", OFFSET(結果貼付け用!$H43,0,(COLUMN()-4)*6,1,1)=\"\"), NA(), OFFSET(結果貼付け用!$H43,0,(COLUMN()-4)*6,1,1))","v":{"$error":"#N/A"}},{"$f":"IF(OR(OFFSET(結果貼付け用!$H43,0,(COLUMN()-4)*6,1,1)=\"-\", OFFSET(結果貼付け用!$H43,0,(COLUMN()-4)*6,1,1)=\"\"), NA(), OFFSET(結果貼付け用!$H43,0,(COLUMN()-4)*6,1,1))","v":{"$error":"#N/A"}},{"$f":"IF(OR(OFFSET(結果貼付け用!$H43,0,(COLUMN()-4)*6,1,1)=\"-\", OFFSET(結果貼付け用!$H43,0,(COLUMN()-4)*6,1,1)=\"\"), NA(), OFFSET(結果貼付け用!$H43,0,(COLUMN()-4)*6,1,1))","v":{"$error":"#N/A"}},{"$f":"IF(OR(OFFSET(結果貼付け用!$H43,0,(COLUMN()-4)*6,1,1)=\"-\", OFFSET(結果貼付け用!$H43,0,(COLUMN()-4)*6,1,1)=\"\"), NA(), OFFSET(結果貼付け用!$H43,0,(COLUMN()-4)*6,1,1))","v":{"$error":"#N/A"}},{"$f":"IF(OR(OFFSET(結果貼付け用!$H43,0,(COLUMN()-4)*6,1,1)=\"-\", OFFSET(結果貼付け用!$H43,0,(COLUMN()-4)*6,1,1)=\"\"), NA(), OFFSET(結果貼付け用!$H43,0,(COLUMN()-4)*6,1,1))","v":{"$error":"#N/A"}},{"$f":"IF(OR(OFFSET(結果貼付け用!$H43,0,(COLUMN()-4)*6,1,1)=\"-\", OFFSET(結果貼付け用!$H43,0,(COLUMN()-4)*6,1,1)=\"\"), NA(), OFFSET(結果貼付け用!$H43,0,(COLUMN()-4)*6,1,1))","v":{"$error":"#N/A"}},{"$f":"IF(OR(OFFSET(結果貼付け用!$H43,0,(COLUMN()-4)*6,1,1)=\"-\", OFFSET(結果貼付け用!$H43,0,(COLUMN()-4)*6,1,1)=\"\"), NA(), OFFSET(結果貼付け用!$H43,0,(COLUMN()-4)*6,1,1))","v":{"$error":"#N/A"}},{"$f":"IF(OR(OFFSET(結果貼付け用!$H43,0,(COLUMN()-4)*6,1,1)=\"-\", OFFSET(結果貼付け用!$H43,0,(COLUMN()-4)*6,1,1)=\"\"), NA(), OFFSET(結果貼付け用!$H43,0,(COLUMN()-4)*6,1,1))","v":{"$error":"#N/A"}},{"$f":"IF(OR(OFFSET(結果貼付け用!$H43,0,(COLUMN()-4)*6,1,1)=\"-\", OFFSET(結果貼付け用!$H43,0,(COLUMN()-4)*6,1,1)=\"\"), NA(), OFFSET(結果貼付け用!$H43,0,(COLUMN()-4)*6,1,1))","v":{"$error":"#N/A"}},{"$f":"IF(OR(OFFSET(結果貼付け用!$H43,0,(COLUMN()-4)*6,1,1)=\"-\", OFFSET(結果貼付け用!$H43,0,(COLUMN()-4)*6,1,1)=\"\"), NA(), OFFSET(結果貼付け用!$H43,0,(COLUMN()-4)*6,1,1))","v":{"$error":"#N/A"}},{"$f":"IF(OR(OFFSET(結果貼付け用!$H43,0,(COLUMN()-4)*6,1,1)=\"-\", OFFSET(結果貼付け用!$H43,0,(COLUMN()-4)*6,1,1)=\"\"), NA(), OFFSET(結果貼付け用!$H43,0,(COLUMN()-4)*6,1,1))","v":{"$error":"#N/A"}},{"$f":"IF(OR(OFFSET(結果貼付け用!$H43,0,(COLUMN()-4)*6,1,1)=\"-\", OFFSET(結果貼付け用!$H43,0,(COLUMN()-4)*6,1,1)=\"\"), NA(), OFFSET(結果貼付け用!$H43,0,(COLUMN()-4)*6,1,1))","v":{"$error":"#N/A"}}]
[null,"改善提案行動",{"$f":"IF(結果貼付け用!B44=\"\",NA(),結果貼付け用!B44)","v":{"$error":"#N/A"}},{"$f":"IF(OR(OFFSET(結果貼付け用!$H44,0,(COLUMN()-4)*6,1,1)=\"-\", OFFSET(結果貼付け用!$H44,0,(COLUMN()-4)*6,1,1)=\"\"), NA(), OFFSET(結果貼付け用!$H44,0,(COLUMN()-4)*6,1,1))","v":{"$error":"#N/A"}},{"$f":"IF(OR(OFFSET(結果貼付け用!$H44,0,(COLUMN()-4)*6,1,1)=\"-\", OFFSET(結果貼付け用!$H44,0,(COLUMN()-4)*6,1,1)=\"\"), NA(), OFFSET(結果貼付け用!$H44,0,(COLUMN()-4)*6,1,1))","v":{"$error":"#N/A"}},{"$f":"IF(OR(OFFSET(結果貼付け用!$H44,0,(COLUMN()-4)*6,1,1)=\"-\", OFFSET(結果貼付け用!$H44,0,(COLUMN()-4)*6,1,1)=\"\"), NA(), OFFSET(結果貼付け用!$H44,0,(COLUMN()-4)*6,1,1))","v":{"$error":"#N/A"}},{"$f":"IF(OR(OFFSET(結果貼付け用!$H44,0,(COLUMN()-4)*6,1,1)=\"-\", OFFSET(結果貼付け用!$H44,0,(COLUMN()-4)*6,1,1)=\"\"), NA(), OFFSET(結果貼付け用!$H44,0,(COLUMN()-4)*6,1,1))","v":{"$error":"#N/A"}},{"$f":"IF(OR(OFFSET(結果貼付け用!$H44,0,(COLUMN()-4)*6,1,1)=\"-\", OFFSET(結果貼付け用!$H44,0,(COLUMN()-4)*6,1,1)=\"\"), NA(), OFFSET(結果貼付け用!$H44,0,(COLUMN()-4)*6,1,1))","v":{"$error":"#N/A"}},{"$f":"IF(OR(OFFSET(結果貼付け用!$H44,0,(COLUMN()-4)*6,1,1)=\"-\", OFFSET(結果貼付け用!$H44,0,(COLUMN()-4)*6,1,1)=\"\"), NA(), OFFSET(結果貼付け用!$H44,0,(COLUMN()-4)*6,1,1))","v":{"$error":"#N/A"}},{"$f":"IF(OR(OFFSET(結果貼付け用!$H44,0,(COLUMN()-4)*6,1,1)=\"-\", OFFSET(結果貼付け用!$H44,0,(COLUMN()-4)*6,1,1)=\"\"), NA(), OFFSET(結果貼付け用!$H44,0,(COLUMN()-4)*6,1,1))","v":{"$error":"#N/A"}},{"$f":"IF(OR(OFFSET(結果貼付け用!$H44,0,(COLUMN()-4)*6,1,1)=\"-\", OFFSET(結果貼付け用!$H44,0,(COLUMN()-4)*6,1,1)=\"\"), NA(), OFFSET(結果貼付け用!$H44,0,(COLUMN()-4)*6,1,1))","v":{"$error":"#N/A"}},{"$f":"IF(OR(OFFSET(結果貼付け用!$H44,0,(COLUMN()-4)*6,1,1)=\"-\", OFFSET(結果貼付け用!$H44,0,(COLUMN()-4)*6,1,1)=\"\"), NA(), OFFSET(結果貼付け用!$H44,0,(COLUMN()-4)*6,1,1))","v":{"$error":"#N/A"}},{"$f":"IF(OR(OFFSET(結果貼付け用!$H44,0,(COLUMN()-4)*6,1,1)=\"-\", OFFSET(結果貼付け用!$H44,0,(COLUMN()-4)*6,1,1)=\"\"), NA(), OFFSET(結果貼付け用!$H44,0,(COLUMN()-4)*6,1,1))","v":{"$error":"#N/A"}},{"$f":"IF(OR(OFFSET(結果貼付け用!$H44,0,(COLUMN()-4)*6,1,1)=\"-\", OFFSET(結果貼付け用!$H44,0,(COLUMN()-4)*6,1,1)=\"\"), NA(), OFFSET(結果貼付け用!$H44,0,(COLUMN()-4)*6,1,1))","v":{"$error":"#N/A"}},{"$f":"IF(OR(OFFSET(結果貼付け用!$H44,0,(COLUMN()-4)*6,1,1)=\"-\", OFFSET(結果貼付け用!$H44,0,(COLUMN()-4)*6,1,1)=\"\"), NA(), OFFSET(結果貼付け用!$H44,0,(COLUMN()-4)*6,1,1))","v":{"$error":"#N/A"}},{"$f":"IF(OR(OFFSET(結果貼付け用!$H44,0,(COLUMN()-4)*6,1,1)=\"-\", OFFSET(結果貼付け用!$H44,0,(COLUMN()-4)*6,1,1)=\"\"), NA(), OFFSET(結果貼付け用!$H44,0,(COLUMN()-4)*6,1,1))","v":{"$error":"#N/A"}},{"$f":"IF(OR(OFFSET(結果貼付け用!$H44,0,(COLUMN()-4)*6,1,1)=\"-\", OFFSET(結果貼付け用!$H44,0,(COLUMN()-4)*6,1,1)=\"\"), NA(), OFFSET(結果貼付け用!$H44,0,(COLUMN()-4)*6,1,1))","v":{"$error":"#N/A"}},{"$f":"IF(OR(OFFSET(結果貼付け用!$H44,0,(COLUMN()-4)*6,1,1)=\"-\", OFFSET(結果貼付け用!$H44,0,(COLUMN()-4)*6,1,1)=\"\"), NA(), OFFSET(結果貼付け用!$H44,0,(COLUMN()-4)*6,1,1))","v":{"$error":"#N/A"}},{"$f":"IF(OR(OFFSET(結果貼付け用!$H44,0,(COLUMN()-4)*6,1,1)=\"-\", OFFSET(結果貼付け用!$H44,0,(COLUMN()-4)*6,1,1)=\"\"), NA(), OFFSET(結果貼付け用!$H44,0,(COLUMN()-4)*6,1,1))","v":{"$error":"#N/A"}},{"$f":"IF(OR(OFFSET(結果貼付け用!$H44,0,(COLUMN()-4)*6,1,1)=\"-\", OFFSET(結果貼付け用!$H44,0,(COLUMN()-4)*6,1,1)=\"\"), NA(), OFFSET(結果貼付け用!$H44,0,(COLUMN()-4)*6,1,1))","v":{"$error":"#N/A"}},{"$f":"IF(OR(OFFSET(結果貼付け用!$H44,0,(COLUMN()-4)*6,1,1)=\"-\", OFFSET(結果貼付け用!$H44,0,(COLUMN()-4)*6,1,1)=\"\"), NA(), OFFSET(結果貼付け用!$H44,0,(COLUMN()-4)*6,1,1))","v":{"$error":"#N/A"}},{"$f":"IF(OR(OFFSET(結果貼付け用!$H44,0,(COLUMN()-4)*6,1,1)=\"-\", OFFSET(結果貼付け用!$H44,0,(COLUMN()-4)*6,1,1)=\"\"), NA(), OFFSET(結果貼付け用!$H44,0,(COLUMN()-4)*6,1,1))","v":{"$error":"#N/A"}},{"$f":"IF(OR(OFFSET(結果貼付け用!$H44,0,(COLUMN()-4)*6,1,1)=\"-\", OFFSET(結果貼付け用!$H44,0,(COLUMN()-4)*6,1,1)=\"\"), NA(), OFFSET(結果貼付け用!$H44,0,(COLUMN()-4)*6,1,1))","v":{"$error":"#N/A"}},{"$f":"IF(OR(OFFSET(結果貼付け用!$H44,0,(COLUMN()-4)*6,1,1)=\"-\", OFFSET(結果貼付け用!$H44,0,(COLUMN()-4)*6,1,1)=\"\"), NA(), OFFSET(結果貼付け用!$H44,0,(COLUMN()-4)*6,1,1))","v":{"$error":"#N/A"}},{"$f":"IF(OR(OFFSET(結果貼付け用!$H44,0,(COLUMN()-4)*6,1,1)=\"-\", OFFSET(結果貼付け用!$H44,0,(COLUMN()-4)*6,1,1)=\"\"), NA(), OFFSET(結果貼付け用!$H44,0,(COLUMN()-4)*6,1,1))","v":{"$error":"#N/A"}},{"$f":"IF(OR(OFFSET(結果貼付け用!$H44,0,(COLUMN()-4)*6,1,1)=\"-\", OFFSET(結果貼付け用!$H44,0,(COLUMN()-4)*6,1,1)=\"\"), NA(), OFFSET(結果貼付け用!$H44,0,(COLUMN()-4)*6,1,1))","v":{"$error":"#N/A"}},{"$f":"IF(OR(OFFSET(結果貼付け用!$H44,0,(COLUMN()-4)*6,1,1)=\"-\", OFFSET(結果貼付け用!$H44,0,(COLUMN()-4)*6,1,1)=\"\"), NA(), OFFSET(結果貼付け用!$H44,0,(COLUMN()-4)*6,1,1))","v":{"$error":"#N/A"}},{"$f":"IF(OR(OFFSET(結果貼付け用!$H44,0,(COLUMN()-4)*6,1,1)=\"-\", OFFSET(結果貼付け用!$H44,0,(COLUMN()-4)*6,1,1)=\"\"), NA(), OFFSET(結果貼付け用!$H44,0,(COLUMN()-4)*6,1,1))","v":{"$error":"#N/A"}},{"$f":"IF(OR(OFFSET(結果貼付け用!$H44,0,(COLUMN()-4)*6,1,1)=\"-\", OFFSET(結果貼付け用!$H44,0,(COLUMN()-4)*6,1,1)=\"\"), NA(), OFFSET(結果貼付け用!$H44,0,(COLUMN()-4)*6,1,1))","v":{"$error":"#N/A"}},{"$f":"IF(OR(OFFSET(結果貼付け用!$H44,0,(COLUMN()-4)*6,1,1)=\"-\", OFFSET(結果貼付け用!$H44,0,(COLUMN()-4)*6,1,1)=\"\"), NA(), OFFSET(結果貼付け用!$H44,0,(COLUMN()-4)*6,1,1))","v":{"$error":"#N/A"}},{"$f":"IF(OR(OFFSET(結果貼付け用!$H44,0,(COLUMN()-4)*6,1,1)=\"-\", OFFSET(結果貼付け用!$H44,0,(COLUMN()-4)*6,1,1)=\"\"), NA(), OFFSET(結果貼付け用!$H44,0,(COLUMN()-4)*6,1,1))","v":{"$error":"#N/A"}},{"$f":"IF(OR(OFFSET(結果貼付け用!$H44,0,(COLUMN()-4)*6,1,1)=\"-\", OFFSET(結果貼付け用!$H44,0,(COLUMN()-4)*6,1,1)=\"\"), NA(), OFFSET(結果貼付け用!$H44,0,(COLUMN()-4)*6,1,1))","v":{"$error":"#N/A"}}]
[null,"セルフ・エフィカシー",{"$f":"IF(結果貼付け用!B45=\"\",NA(),結果貼付け用!B45)","v":{"$error":"#N/A"}},{"$f":"IF(OR(OFFSET(結果貼付け用!$H45,0,(COLUMN()-4)*6,1,1)=\"-\", OFFSET(結果貼付け用!$H45,0,(COLUMN()-4)*6,1,1)=\"\"), NA(), OFFSET(結果貼付け用!$H45,0,(COLUMN()-4)*6,1,1))","v":{"$error":"#N/A"}},{"$f":"IF(OR(OFFSET(結果貼付け用!$H45,0,(COLUMN()-4)*6,1,1)=\"-\", OFFSET(結果貼付け用!$H45,0,(COLUMN()-4)*6,1,1)=\"\"), NA(), OFFSET(結果貼付け用!$H45,0,(COLUMN()-4)*6,1,1))","v":{"$error":"#N/A"}},{"$f":"IF(OR(OFFSET(結果貼付け用!$H45,0,(COLUMN()-4)*6,1,1)=\"-\", OFFSET(結果貼付け用!$H45,0,(COLUMN()-4)*6,1,1)=\"\"), NA(), OFFSET(結果貼付け用!$H45,0,(COLUMN()-4)*6,1,1))","v":{"$error":"#N/A"}},{"$f":"IF(OR(OFFSET(結果貼付け用!$H45,0,(COLUMN()-4)*6,1,1)=\"-\", OFFSET(結果貼付け用!$H45,0,(COLUMN()-4)*6,1,1)=\"\"), NA(), OFFSET(結果貼付け用!$H45,0,(COLUMN()-4)*6,1,1))","v":{"$error":"#N/A"}},{"$f":"IF(OR(OFFSET(結果貼付け用!$H45,0,(COLUMN()-4)*6,1,1)=\"-\", OFFSET(結果貼付け用!$H45,0,(COLUMN()-4)*6,1,1)=\"\"), NA(), OFFSET(結果貼付け用!$H45,0,(COLUMN()-4)*6,1,1))","v":{"$error":"#N/A"}},{"$f":"IF(OR(OFFSET(結果貼付け用!$H45,0,(COLUMN()-4)*6,1,1)=\"-\", OFFSET(結果貼付け用!$H45,0,(COLUMN()-4)*6,1,1)=\"\"), NA(), OFFSET(結果貼付け用!$H45,0,(COLUMN()-4)*6,1,1))","v":{"$error":"#N/A"}},{"$f":"IF(OR(OFFSET(結果貼付け用!$H45,0,(COLUMN()-4)*6,1,1)=\"-\", OFFSET(結果貼付け用!$H45,0,(COLUMN()-4)*6,1,1)=\"\"), NA(), OFFSET(結果貼付け用!$H45,0,(COLUMN()-4)*6,1,1))","v":{"$error":"#N/A"}},{"$f":"IF(OR(OFFSET(結果貼付け用!$H45,0,(COLUMN()-4)*6,1,1)=\"-\", OFFSET(結果貼付け用!$H45,0,(COLUMN()-4)*6,1,1)=\"\"), NA(), OFFSET(結果貼付け用!$H45,0,(COLUMN()-4)*6,1,1))","v":{"$error":"#N/A"}},{"$f":"IF(OR(OFFSET(結果貼付け用!$H45,0,(COLUMN()-4)*6,1,1)=\"-\", OFFSET(結果貼付け用!$H45,0,(COLUMN()-4)*6,1,1)=\"\"), NA(), OFFSET(結果貼付け用!$H45,0,(COLUMN()-4)*6,1,1))","v":{"$error":"#N/A"}},{"$f":"IF(OR(OFFSET(結果貼付け用!$H45,0,(COLUMN()-4)*6,1,1)=\"-\", OFFSET(結果貼付け用!$H45,0,(COLUMN()-4)*6,1,1)=\"\"), NA(), OFFSET(結果貼付け用!$H45,0,(COLUMN()-4)*6,1,1))","v":{"$error":"#N/A"}},{"$f":"IF(OR(OFFSET(結果貼付け用!$H45,0,(COLUMN()-4)*6,1,1)=\"-\", OFFSET(結果貼付け用!$H45,0,(COLUMN()-4)*6,1,1)=\"\"), NA(), OFFSET(結果貼付け用!$H45,0,(COLUMN()-4)*6,1,1))","v":{"$error":"#N/A"}},{"$f":"IF(OR(OFFSET(結果貼付け用!$H45,0,(COLUMN()-4)*6,1,1)=\"-\", OFFSET(結果貼付け用!$H45,0,(COLUMN()-4)*6,1,1)=\"\"), NA(), OFFSET(結果貼付け用!$H45,0,(COLUMN()-4)*6,1,1))","v":{"$error":"#N/A"}},{"$f":"IF(OR(OFFSET(結果貼付け用!$H45,0,(COLUMN()-4)*6,1,1)=\"-\", OFFSET(結果貼付け用!$H45,0,(COLUMN()-4)*6,1,1)=\"\"), NA(), OFFSET(結果貼付け用!$H45,0,(COLUMN()-4)*6,1,1))","v":{"$error":"#N/A"}},{"$f":"IF(OR(OFFSET(結果貼付け用!$H45,0,(COLUMN()-4)*6,1,1)=\"-\", OFFSET(結果貼付け用!$H45,0,(COLUMN()-4)*6,1,1)=\"\"), NA(), OFFSET(結果貼付け用!$H45,0,(COLUMN()-4)*6,1,1))","v":{"$error":"#N/A"}},{"$f":"IF(OR(OFFSET(結果貼付け用!$H45,0,(COLUMN()-4)*6,1,1)=\"-\", OFFSET(結果貼付け用!$H45,0,(COLUMN()-4)*6,1,1)=\"\"), NA(), OFFSET(結果貼付け用!$H45,0,(COLUMN()-4)*6,1,1))","v":{"$error":"#N/A"}},{"$f":"IF(OR(OFFSET(結果貼付け用!$H45,0,(COLUMN()-4)*6,1,1)=\"-\", OFFSET(結果貼付け用!$H45,0,(COLUMN()-4)*6,1,1)=\"\"), NA(), OFFSET(結果貼付け用!$H45,0,(COLUMN()-4)*6,1,1))","v":{"$error":"#N/A"}},{"$f":"IF(OR(OFFSET(結果貼付け用!$H45,0,(COLUMN()-4)*6,1,1)=\"-\", OFFSET(結果貼付け用!$H45,0,(COLUMN()-4)*6,1,1)=\"\"), NA(), OFFSET(結果貼付け用!$H45,0,(COLUMN()-4)*6,1,1))","v":{"$error":"#N/A"}},{"$f":"IF(OR(OFFSET(結果貼付け用!$H45,0,(COLUMN()-4)*6,1,1)=\"-\", OFFSET(結果貼付け用!$H45,0,(COLUMN()-4)*6,1,1)=\"\"), NA(), OFFSET(結果貼付け用!$H45,0,(COLUMN()-4)*6,1,1))","v":{"$error":"#N/A"}},{"$f":"IF(OR(OFFSET(結果貼付け用!$H45,0,(COLUMN()-4)*6,1,1)=\"-\", OFFSET(結果貼付け用!$H45,0,(COLUMN()-4)*6,1,1)=\"\"), NA(), OFFSET(結果貼付け用!$H45,0,(COLUMN()-4)*6,1,1))","v":{"$error":"#N/A"}},{"$f":"IF(OR(OFFSET(結果貼付け用!$H45,0,(COLUMN()-4)*6,1,1)=\"-\", OFFSET(結果貼付け用!$H45,0,(COLUMN()-4)*6,1,1)=\"\"), NA(), OFFSET(結果貼付け用!$H45,0,(COLUMN()-4)*6,1,1))","v":{"$error":"#N/A"}},{"$f":"IF(OR(OFFSET(結果貼付け用!$H45,0,(COLUMN()-4)*6,1,1)=\"-\", OFFSET(結果貼付け用!$H45,0,(COLUMN()-4)*6,1,1)=\"\"), NA(), OFFSET(結果貼付け用!$H45,0,(COLUMN()-4)*6,1,1))","v":{"$error":"#N/A"}},{"$f":"IF(OR(OFFSET(結果貼付け用!$H45,0,(COLUMN()-4)*6,1,1)=\"-\", OFFSET(結果貼付け用!$H45,0,(COLUMN()-4)*6,1,1)=\"\"), NA(), OFFSET(結果貼付け用!$H45,0,(COLUMN()-4)*6,1,1))","v":{"$error":"#N/A"}},{"$f":"IF(OR(OFFSET(結果貼付け用!$H45,0,(COLUMN()-4)*6,1,1)=\"-\", OFFSET(結果貼付け用!$H45,0,(COLUMN()-4)*6,1,1)=\"\"), NA(), OFFSET(結果貼付け用!$H45,0,(COLUMN()-4)*6,1,1))","v":{"$error":"#N/A"}},{"$f":"IF(OR(OFFSET(結果貼付け用!$H45,0,(COLUMN()-4)*6,1,1)=\"-\", OFFSET(結果貼付け用!$H45,0,(COLUMN()-4)*6,1,1)=\"\"), NA(), OFFSET(結果貼付け用!$H45,0,(COLUMN()-4)*6,1,1))","v":{"$error":"#N/A"}},{"$f":"IF(OR(OFFSET(結果貼付け用!$H45,0,(COLUMN()-4)*6,1,1)=\"-\", OFFSET(結果貼付け用!$H45,0,(COLUMN()-4)*6,1,1)=\"\"), NA(), OFFSET(結果貼付け用!$H45,0,(COLUMN()-4)*6,1,1))","v":{"$error":"#N/A"}},{"$f":"IF(OR(OFFSET(結果貼付け用!$H45,0,(COLUMN()-4)*6,1,1)=\"-\", OFFSET(結果貼付け用!$H45,0,(COLUMN()-4)*6,1,1)=\"\"), NA(), OFFSET(結果貼付け用!$H45,0,(COLUMN()-4)*6,1,1))","v":{"$error":"#N/A"}},{"$f":"IF(OR(OFFSET(結果貼付け用!$H45,0,(COLUMN()-4)*6,1,1)=\"-\", OFFSET(結果貼付け用!$H45,0,(COLUMN()-4)*6,1,1)=\"\"), NA(), OFFSET(結果貼付け用!$H45,0,(COLUMN()-4)*6,1,1))","v":{"$error":"#N/A"}},{"$f":"IF(OR(OFFSET(結果貼付け用!$H45,0,(COLUMN()-4)*6,1,1)=\"-\", OFFSET(結果貼付け用!$H45,0,(COLUMN()-4)*6,1,1)=\"\"), NA(), OFFSET(結果貼付け用!$H45,0,(COLUMN()-4)*6,1,1))","v":{"$error":"#N/A"}},{"$f":"IF(OR(OFFSET(結果貼付け用!$H45,0,(COLUMN()-4)*6,1,1)=\"-\", OFFSET(結果貼付け用!$H45,0,(COLUMN()-4)*6,1,1)=\"\"), NA(), OFFSET(結果貼付け用!$H45,0,(COLUMN()-4)*6,1,1))","v":{"$error":"#N/A"}}]

{"sheet":"管理職_各種グラフ表示","index":3,"n_rows":201,"n_cols":32,"rows_kept":201,"cut":false,"hidden":false,"merged":[]}
[]
[]
[]
[]
[]
[]
[]
[]
[]
[]
[]
[]
[]
[]
[]
[]
[]
[]
[]
[null,"実施開始日時",{"$f":"IF(結果貼付け用!B2=\"\",NA(),結果貼付け用!B2)","v":{"$error":"#N/A"}},{"$f":"IF((OFFSET(結果貼付け用!$H$2, 0, (COLUMN() - COLUMN($D$20)) * 6))=\"\",NA(),(OFFSET(結果貼付け用!$H$2, 0, (COLUMN() - COLUMN($D$20)) * 6)))","v":{"$error":"#N/A"}},{"$f":"IF((OFFSET(結果貼付け用!$H$2, 0, (COLUMN() - COLUMN($D$20)) * 6))=\"\",NA(),(OFFSET(結果貼付け用!$H$2, 0, (COLUMN() - COLUMN($D$20)) * 6)))","v":{"$error":"#N/A"}},{"$f":"IF((OFFSET(結果貼付け用!$H$2, 0, (COLUMN() - COLUMN($D$20)) * 6))=\"\",NA(),(OFFSET(結果貼付け用!$H$2, 0, (COLUMN() - COLUMN($D$20)) * 6)))","v":{"$error":"#N/A"}},{"$f":"IF((OFFSET(結果貼付け用!$H$2, 0, (COLUMN() - COLUMN($D$20)) * 6))=\"\",NA(),(OFFSET(結果貼付け用!$H$2, 0, (COLUMN() - COLUMN($D$20)) * 6)))","v":{"$error":"#N/A"}},{"$f":"IF((OFFSET(結果貼付け用!$H$2, 0, (COLUMN() - COLUMN($D$20)) * 6))=\"\",NA(),(OFFSET(結果貼付け用!$H$2, 0, (COLUMN() - COLUMN($D$20)) * 6)))","v":{"$error":"#N/A"}},{"$f":"IF((OFFSET(結果貼付け用!$H$2, 0, (COLUMN() - COLUMN($D$20)) * 6))=\"\",NA(),(OFFSET(結果貼付け用!$H$2, 0, (COLUMN() - COLUMN($D$20)) * 6)))","v":{"$error":"#N/A"}},{"$f":"IF((OFFSET(結果貼付け用!$H$2, 0, (COLUMN() - COLUMN($D$20)) * 6))=\"\",NA(),(OFFSET(結果貼付け用!$H$2, 0, (COLUMN() - COLUMN($D$20)) * 6)))","v":{"$error":"#N/A"}},{"$f":"IF((OFFSET(結果貼付け用!$H$2, 0, (COLUMN() - COLUMN($D$20)) * 6))=\"\",NA(),(OFFSET(結果貼付け用!$H$2, 0, (COLUMN() - COLUMN($D$20)) * 6)))","v":{"$error":"#N/A"}},{"$f":"IF((OFFSET(結果貼付け用!$H$2, 0, (COLUMN() - COLUMN($D$20)) * 6))=\"\",NA(),(OFFSET(結果貼付け用!$H$2, 0, (COLUMN() - COLUMN($D$20)) * 6)))","v":{"$error":"#N/A"}},{"$f":"IF((OFFSET(結果貼付け用!$H$2, 0, (COLUMN() - COLUMN($D$20)) * 6))=\"\",NA(),(OFFSET(結果貼付け用!$H$2, 0, (COLUMN() - COLUMN($D$20)) * 6)))","v":{"$error":"#N/A"}},{"$f":"IF((OFFSET(結果貼付け用!$H$2, 0, (COLUMN() - COLUMN($D$20)) * 6))=\"\",NA(),(OFFSET(結果貼付け用!$H$2, 0, (COLUMN() - COLUMN($D$20)) * 6)))","v":{"$error":"#N/A"}},{"$f":"IF((OFFSET(結果貼付け用!$H$2, 0, (COLUMN() - COLUMN($D$20)) * 6))=\"\",NA(),(OFFSET(結果貼付け用!$H$2, 0, (COLUMN() - COLUMN($D$20)) * 6)))","v":{"$error":"#N/A"}},{"$f":"IF((OFFSET(結果貼付け用!$H$2, 0, (COLUMN() - COLUMN($D$20)) * 6))=\"\",NA(),(OFFSET(結果貼付け用!$H$2, 0, (COLUMN() - COLUMN($D$20)) * 6)))","v":{"$error":"#N/A"}},{"$f":"IF((OFFSET(結果貼付け用!$H$2, 0, (COLUMN() - COLUMN($D$20)) * 6))=\"\",NA(),(OFFSET(結果貼付け用!$H$2, 0, (COLUMN() - COLUMN($D$20)) * 6)))","v":{"$error":"#N/A"}},{"$f":"IF((OFFSET(結果貼付け用!$H$2, 0, (COLUMN() - COLUMN($D$20)) * 6))=\"\",NA(),(OFFSET(結果貼付け用!$H$2, 0, (COLUMN() - COLUMN($D$20)) * 6)))","v":{"$error":"#N/A"}},{"$f":"IF((OFFSET(結果貼付け用!$H$2, 0, (COLUMN() - COLUMN($D$20)) * 6))=\"\",NA(),(OFFSET(結果貼付け用!$H$2, 0, (COLUMN() - COLUMN($D$20)) * 6)))","v":{"$error":"#N/A"}},{"$f":"IF((OFFSET(結果貼付け用!$H$2, 0, (COLUMN() - COLUMN($D$20)) * 6))=\"\",NA(),(OFFSET(結果貼付け用!$H$2, 0, (COLUMN() - COLUMN($D$20)) * 6)))","v":{"$error":"#N/A"}},{"$f":"IF((OFFSET(結果貼付け用!$H$2, 0, (COLUMN() - COLUMN($D$20)) * 6))=\"\",NA(),(OFFSET(結果貼付け用!$H$2, 0, (COLUMN() - COLUMN($D$20)) * 6)))","v":{"$error":"#N/A"}},{"$f":"IF((OFFSET(結果貼付け用!$H$2, 0, (COLUMN() - COLUMN($D$20)) * 6))=\"\",NA(),(OFFSET(結果貼付け用!$H$2, 0, (COLUMN() - COLUMN($D$20)) * 6)))","v":{"$error":"#N/A"}},{"$f":"IF((OFFSET(結果貼付け用!$H$2, 0, (COLUMN() - COLUMN($D$20)) * 6))=\"\",NA(),(OFFSET(結果貼付け用!$H$2, 0, (COLUMN() - COLUMN($D$20)) * 6)))","v":{"$error":"#N/A"}},{"$f":"IF((OFFSET(結果貼付け用!$H$2, 0, (COLUMN() - COLUMN($D$20)) * 6))=\"\",NA(),(OFFSET(結果貼付け用!$H$2, 0, (COLUMN() - COLUMN($D$20)) * 6)))","v":{"$error":"#N/A"}},{"$f":"IF((OFFSET(結果貼付け用!$H$2, 0, (COLUMN() - COLUMN($D$20)) * 6))=\"\",NA(),(OFFSET(結果貼付け用!$H$2, 0, (COLUMN() - COLUMN($D$20)) * 6)))","v":{"$error":"#N/A"}},{"$f":"IF((OFFSET(結果貼付け用!$H$2, 0, (COLUMN() - COLUMN($D$20)) * 6))=\"\",NA(),(OFFSET(結果貼付け用!$H$2, 0, (COLUMN() - COLUMN($D$20)) * 6)))","v":{"$error":"#N/A"}},{"$f":"IF((OFFSET(結果貼付け用!$H$2, 0, (COLUMN() - COLUMN($D$20)) * 6))=\"\",NA(),(OFFSET(結果貼付け用!$H$2, 0, (COLUMN() - COLUMN($D$20)) * 6)))","v":{"$error":"#N/A"}},{"$f":"IF((OFFSET(結果貼付け用!$H$2, 0, (COLUMN() - COLUMN($D$20)) * 6))=\"\",NA(),(OFFSET(結果貼付け用!$H$2, 0, (COLUMN() - COLUMN($D$20)) * 6)))","v":{"$error":"#N/A"}},{"$f":"IF((OFFSET(結果貼付け用!$H$2, 0, (COLUMN() - COLUMN($D$20)) * 6))=\"\",NA(),(OFFSET(結果貼付け用!$H$2, 0, (COLUMN() - COLUMN($D$20)) * 6)))","v":{"$error":"#N/A"}},{"$f":"IF((OFFSET(結果貼付け用!$H$2, 0, (COLUMN() - COLUMN($D$20)) * 6))=\"\",NA(),(OFFSET(結果貼付け用!$H$2, 0, (COLUMN() - COLUMN($D$20)) * 6)))","v":{"$error":"#N/A"}},{"$f":"IF((OFFSET(結果貼付け用!$H$2, 0, (COLUMN() - COLUMN($D$20)) * 6))=\"\",NA(),(OFFSET(結果貼付け用!$H$2, 0, (COLUMN() - COLUMN($D$20)) * 6)))","v":{"$error":"#N/A"}},{"$f":"IF((OFFSET(結果貼付け用!$H$2, 0, (COLUMN() - COLUMN($D$20)) * 6))=\"\",NA(),(OFFSET(結果貼付け用!$H$2, 0, (COLUMN() - COLUMN($D$20)) * 6)))","v":{"$error":"#N/A"}}]
[null,"能力発揮感",{"$f":"IF(OR(OFFSET(結果貼付け用!$F12,0,(COLUMN()-3)*6,1,1)=\"-\",OFFSET(結果貼付け用!$F12,0,(COLUMN()-3)*6,1,1)=\"\"),NA(),(OFFSET(結果貼付け用!$F12,0,(COLUMN()-3)*6,1,1)))","v":{"$error":"#N/A"}},{"$f":"IF(OR(OFFSET(結果貼付け用!$F12,0,(COLUMN()-3)*6,1,1)=\"-\",OFFSET(結果貼付け用!$F12,0,(COLUMN()-3)*6,1,1)=\"\"),NA(),(OFFSET(結果貼付け用!$F12,0,(COLUMN()-3)*6,1,1)))","v":{"$error":"#N/A"}},{"$f":"IF(OR(OFFSET(結果貼付け用!$F12,0,(COLUMN()-3)*6,1,1)=\"-\",OFFSET(結果貼付け用!$F12,0,(COLUMN()-3)*6,1,1)=\"\"),NA(),(OFFSET(結果貼付け用!$F12,0,(COLUMN()-3)*6,1,1)))","v":{"$error":"#N/A"}},{"$f":"IF(OR(OFFSET(結果貼付け用!$F12,0,(COLUMN()-3)*6,1,1)=\"-\",OFFSET(結果貼付け用!$F12,0,(COLUMN()-3)*6,1,1)=\"\"),NA(),(OFFSET(結果貼付け用!$F12,0,(COLUMN()-3)*6,1,1)))","v":{"$error":"#N/A"}},{"$f":"IF(OR(OFFSET(結果貼付け用!$F12,0,(COLUMN()-3)*6,1,1)=\"-\",OFFSET(結果貼付け用!$F12,0,(COLUMN()-3)*6,1,1)=\"\"),NA(),(OFFSET(結果貼付け用!$F12,0,(COLUMN()-3)*6,1,1)))","v":{"$error":"#N/A"}},{"$f":"IF(OR(OFFSET(結果貼付け用!$F12,0,(COLUMN()-3)*6,1,1)=\"-\",OFFSET(結果貼付け用!$F12,0,(COLUMN()-3)*6,1,1)=\"\"),NA(),(OFFSET(結果貼付け用!$F12,0,(COLUMN()-3)*6,1,1)))","v":{"$error":"#N/A"}},{"$f":"IF(OR(OFFSET(結果貼付け用!$F12,0,(COLUMN()-3)*6,1,1)=\"-\",OFFSET(結果貼付け用!$F12,0,(COLUMN()-3)*6,1,1)=\"\"),NA(),(OFFSET(結果貼付け用!$F12,0,(COLUMN()-3)*6,1,1)))","v":{"$error":"#N/A"}},{"$f":"IF(OR(OFFSET(結果貼付け用!$F12,0,(COLUMN()-3)*6,1,1)=\"-\",OFFSET(結果貼付け用!$F12,0,(COLUMN()-3)*6,1,1)=\"\"),NA(),(OFFSET(結果貼付け用!$F12,0,(COLUMN()-3)*6,1,1)))","v":{"$error":"#N/A"}},{"$f":"IF(OR(OFFSET(結果貼付け用!$F12,0,(COLUMN()-3)*6,1,1)=\"-\",OFFSET(結果貼付け用!$F12,0,(COLUMN()-3)*6,1,1)=\"\"),NA(),(OFFSET(結果貼付け用!$F12,0,(COLUMN()-3)*6,1,1)))","v":{"$error":"#N/A"}},{"$f":"IF(OR(OFFSET(結果貼付け用!$F12,0,(COLUMN()-3)*6,1,1)=\"-\",OFFSET(結果貼付け用!$F12,0,(COLUMN()-3)*6,1,1)=\"\"),NA(),(OFFSET(結果貼付け用!$F12,0,(COLUMN()-3)*6,1,1)))","v":{"$error":"#N/A"}},{"$f":"IF(OR(OFFSET(結果貼付け用!$F12,0,(COLUMN()-3)*6,1,1)=\"-\",OFFSET(結果貼付け用!$F12,0,(COLUMN()-3)*6,1,1)=\"\"),NA(),(OFFSET(結果貼付け用!$F12,0,(COLUMN()-3)*6,1,1)))","v":{"$error":"#N/A"}},{"$f":"IF(OR(OFFSET(結果貼付け用!$F12,0,(COLUMN()-3)*6,1,1)=\"-\",OFFSET(結果貼付け用!$F12,0,(COLUMN()-3)*6,1,1)=\"\"),NA(),(OFFSET(結果貼付け用!$F12,0,(COLUMN()-3)*6,1,1)))","v":{"$error":"#N/A"}},{"$f":"IF(OR(OFFSET(結果貼付け用!$F12,0,(COLUMN()-3)*6,1,1)=\"-\",OFFSET(結果貼付け用!$F12,0,(COLUMN()-3)*6,1,1)=\"\"),NA(),(OFFSET(結果貼付け用!$F12,0,(COLUMN()-3)*6,1,1)))","v":{"$error":"#N/A"}},{"$f":"IF(OR(OFFSET(結果貼付け用!$F12,0,(COLUMN()-3)*6,1,1)=\"-\",OFFSET(結果貼付け用!$F12,0,(COLUMN()-3)*6,1,1)=\"\"),NA(),(OFFSET(結果貼付け用!$F12,0,(COLUMN()-3)*6,1,1)))","v":{"$error":"#N/A"}},{"$f":"IF(OR(OFFSET(結果貼付け用!$F12,0,(COLUMN()-3)*6,1,1)=\"-\",OFFSET(結果貼付け用!$F12,0,(COLUMN()-3)*6,1,1)=\"\"),NA(),(OFFSET(結果貼付け用!$F12,0,(COLUMN()-3)*6,1,1)))","v":{"$error":"#N/A"}},{"$f":"IF(OR(OFFSET(結果貼付け用!$F12,0,(COLUMN()-3)*6,1,1)=\"-\",OFFSET(結果貼付け用!$F12,0,(COLUMN()-3)*6,1,1)=\"\"),NA(),(OFFSET(結果貼付け用!$F12,0,(COLUMN()-3)*6,1,1)))","v":{"$error":"#N/A"}},{"$f":"IF(OR(OFFSET(結果貼付け用!$F12,0,(COLUMN()-3)*6,1,1)=\"-\",OFFSET(結果貼付け用!$F12,0,(COLUMN()-3)*6,1,1)=\"\"),NA(),(OFFSET(結果貼付け用!$F12,0,(COLUMN()-3)*6,1,1)))","v":{"$error":"#N/A"}},{"$f":"IF(OR(OFFSET(結果貼付け用!$F12,0,(COLUMN()-3)*6,1,1)=\"-\",OFFSET(結果貼付け用!$F12,0,(COLUMN()-3)*6,1,1)=\"\"),NA(),(OFFSET(結果貼付け用!$F12,0,(COLUMN()-3)*6,1,1)))","v":{"$error":"#N/A"}},{"$f":"IF(OR(OFFSET(結果貼付け用!$F12,0,(COLUMN()-3)*6,1,1)=\"-\",OFFSET(結果貼付け用!$F12,0,(COLUMN()-3)*6,1,1)=\"\"),NA(),(OFFSET(結果貼付け用!$F12,0,(COLUMN()-3)*6,1,1)))","v":{"$error":"#N/A"}},{"$f":"IF(OR(OFFSET(結果貼付け用!$F12,0,(COLUMN()-3)*6,1,1)=\"-\",OFFSET(結果貼付け用!$F12,0,(COLUMN()-3)*6,1,1)=\"\"),NA(),(OFFSET(結果貼付け用!$F12,0,(COLUMN()-3)*6,1,1)))","v":{"$error":"#N/A"}},{"$f":"IF(OR(OFFSET(結果貼付け用!$F12,0,(COLUMN()-3)*6,1,1)=\"-\",OFFSET(結果貼付け用!$F12,0,(COLUMN()-3)*6,1,1)=\"\"),NA(),(OFFSET(結果貼付け用!$F12,0,(COLUMN()-3)*6,1,1)))","v":{"$error":"#N/A"}},{"$f":"IF(OR(OFFSET(結果貼付け用!$F12,0,(COLUMN()-3)*6,1,1)=\"-\",OFFSET(結果貼付け用!$F12,0,(COLUMN()-3)*6,1,1)=\"\"),NA(),(OFFSET(結果貼付け用!$F12,0,(COLUMN()-3)*6,1,1)))","v":{"$error":"#N/A"}},{"$f":"IF(OR(OFFSET(結果貼付け用!$F12,0,(COLUMN()-3)*6,1,1)=\"-\",OFFSET(結果貼付け用!$F12,0,(COLUMN()-3)*6,1,1)=\"\"),NA(),(OFFSET(結果貼付け用!$F12,0,(COLUMN()-3)*6,1,1)))","v":{"$error":"#N/A"}},{"$f":"IF(OR(OFFSET(結果貼付け用!$F12,0,(COLUMN()-3)*6,1,1)=\"-\",OFFSET(結果貼付け用!$F12,0,(COLUMN()-3)*6,1,1)=\"\"),NA(),(OFFSET(結果貼付け用!$F12,0,(COLUMN()-3)*6,1,1)))","v":{"$error":"#N/A"}},{"$f":"IF(OR(OFFSET(結果貼付け用!$F12,0,(COLUMN()-3)*6,1,1)=\"-\",OFFSET(結果貼付け用!$F12,0,(COLUMN()-3)*6,1,1)=\"\"),NA(),(OFFSET(結果貼付け用!$F12,0,(COLUMN()-3)*6,1,1)))","v":{"$error":"#N/A"}},{"$f":"IF(OR(OFFSET(結果貼付け用!$F12,0,(COLUMN()-3)*6,1,1)=\"-\",OFFSET(結果貼付け用!$F12,0,(COLUMN()-3)*6,1,1)=\"\"),NA(),(OFFSET(結果貼付け用!$F12,0,(COLUMN()-3)*6,1,1)))","v":{"$error":"#N/A"}},{"$f":"IF(OR(OFFSET(結果貼付け用!$F12,0,(COLUMN()-3)*6,1,1)=\"-\",OFFSET(結果貼付け用!$F12,0,(COLUMN()-3)*6,1,1)=\"\"),NA(),(OFFSET(結果貼付け用!$F12,0,(COLUMN()-3)*6,1,1)))","v":{"$error":"#N/A"}},{"$f":"IF(OR(OFFSET(結果貼付け用!$F12,0,(COLUMN()-3)*6,1,1)=\"-\",OFFSET(結果貼付け用!$F12,0,(COLUMN()-3)*6,1,1)=\"\"),NA(),(OFFSET(結果貼付け用!$F12,0,(COLUMN()-3)*6,1,1)))","v":{"$error":"#N/A"}},{"$f":"IF(OR(OFFSET(結果貼付け用!$F12,0,(COLUMN()-3)*6,1,1)=\"-\",OFFSET(結果貼付け用!$F12,0,(COLUMN()-3)*6,1,1)=\"\"),NA(),(OFFSET(結果貼付け用!$F12,0,(COLUMN()-3)*6,1,1)))","v":{"$error":"#N/A"}},{"$f":"IF(OR(OFFSET(結果貼付け用!$F12,0,(COLUMN()-3)*6,1,1)=\"-\",OFFSET(結果貼付け用!$F12,0,(COLUMN()-3)*6,1,1)=\"\"),NA(),(OFFSET(結果貼付け用!$F12,0,(COLUMN()-3)*6,1,1)))","v":{"$error":"#N/A"}}]
[null,"職場貢献感",{"$f":"IF(OR(OFFSET(結果貼付け用!$F13,0,(COLUMN()-3)*6,1,1)=\"-\",OFFSET(結果貼付け用!$F13,0,(COLUMN()-3)*6,1,1)=\"\"),NA(),(OFFSET(結果貼付け用!$F13,0,(COLUMN()-3)*6,1,1)))","v":{"$error":"#N/A"}},{"$f":"IF(OR(OFFSET(結果貼付け用!$F13,0,(COLUMN()-3)*6,1,1)=\"-\",OFFSET(結果貼付け用!$F13,0,(COLUMN()-3)*6,1,1)=\"\"),NA(),(OFFSET(結果貼付け用!$F13,0,(COLUMN()-3)*6,1,1)))","v":{"$error":"#N/A"}},{"$f":"IF(OR(OFFSET(結果貼付け用!$F13,0,(COLUMN()-3)*6,1,1)=\"-\",OFFSET(結果貼付け用!$F13,0,(COLUMN()-3)*6,1,1)=\"\"),NA(),(OFFSET(結果貼付け用!$F13,0,(COLUMN()-3)*6,1,1)))","v":{"$error":"#N/A"}},{"$f":"IF(OR(OFFSET(結果貼付け用!$F13,0,(COLUMN()-3)*6,1,1)=\"-\",OFFSET(結果貼付け用!$F13,0,(COLUMN()-3)*6,1,1)=\"\"),NA(),(OFFSET(結果貼付け用!$F13,0,(COLUMN()-3)*6,1,1)))","v":{"$error":"#N/A"}},{"$f":"IF(OR(OFFSET(結果貼付け用!$F13,0,(COLUMN()-3)*6,1,1)=\"-\",OFFSET(結果貼付け用!$F13,0,(COLUMN()-3)*6,1,1)=\"\"),NA(),(OFFSET(結果貼付け用!$F13,0,(COLUMN()-3)*6,1,1)))","v":{"$error":"#N/A"}},{"$f":"IF(OR(OFFSET(結果貼付け用!$F13,0,(COLUMN()-3)*6,1,1)=\"-\",OFFSET(結果貼付け用!$F13,0,(COLUMN()-3)*6,1,1)=\"\"),NA(),(OFFSET(結果貼付け用!$F13,0,(COLUMN()-3)*6,1,1)))","v":{"$error":"#N/A"}},{"$f":"IF(OR(OFFSET(結果貼付け用!$F13,0,(COLUMN()-3)*6,1,1)=\"-\",OFFSET(結果貼付け用!$F13,0,(COLUMN()-3)*6,1,1)=\"\"),NA(),(OFFSET(結果貼付け用!$F13,0,(COLUMN()-3)*6,1,1)))","v":{"$error":"#N/A"}},{"$f":"IF(OR(OFFSET(結果貼付け用!$F13,0,(COLUMN()-3)*6,1,1)=\"-\",OFFSET(結果貼付け用!$F13,0,(COLUMN()-3)*6,1,1)=\"\"),NA(),(OFFSET(結果貼付け用!$F13,0,(COLUMN()-3)*6,1,1)))","v":{"$error":"#N/A"}},{"$f":"IF(OR(OFFSET(結果貼付け用!$F13,0,(COLUMN()-3)*6,1,1)=\"-\",OFFSET(結果貼付け用!$F13,0,(COLUMN()-3)*6,1,1)=\"\"),NA(),(OFFSET(結果貼付け用!$F13,0,(COLUMN()-3)*6,1,1)))","v":{"$error":"#N/A"}},{"$f":"IF(OR(OFFSET(結果貼付け用!$F13,0,(COLUMN()-3)*6,1,1)=\"-\",OFFSET(結果貼付け用!$F13,0,(COLUMN()-3)*6,1,1)=\"\"),NA(),(OFFSET(結果貼付け用!$F13,0,(COLUMN()-3)*6,1,1)))","v":{"$error":"#N/A"}},{"$f":"IF(OR(OFFSET(結果貼付け用!$F13,0,(COLUMN()-3)*6,1,1)=\"-\",OFFSET(結果貼付け用!$F13,0,(COLUMN()-3)*6,1,1)=\"\"),NA(),(OFFSET(結果貼付け用!$F13,0,(COLUMN()-3)*6,1,1)))","v":{"$error":"#N/A"}},{"$f":"IF(OR(OFFSET(結果貼付け用!$F13,0,(COLUMN()-3)*6,1,1)=\"-\",OFFSET(結果貼付け用!$F13,0,(COLUMN()-3)*6,1,1)=\"\"),NA(),(OFFSET(結果貼付け用!$F13,0,(COLUMN()-3)*6,1,1)))","v":{"$error":"#N/A"}},{"$f":"IF(OR(OFFSET(結果貼付け用!$F13,0,(COLUMN()-3)*6,1,1)=\"-\",OFFSET(結果貼付け用!$F13,0,(COLUMN()-3)*6,1,1)=\"\"),NA(),(OFFSET(結果貼付け用!$F13,0,(COLUMN()-3)*6,1,1)))","v":{"$error":"#N/A"}},{"$f":"IF(OR(OFFSET(結果貼付け用!$F13,0,(COLUMN()-3)*6,1,1)=\"-\",OFFSET(結果貼付け用!$F13,0,(COLUMN()-3)*6,1,1)=\"\"),NA(),(OFFSET(結果貼付け用!$F13,0,(COLUMN()-3)*6,1,1)))","v":{"$error":"#N/A"}},{"$f":"IF(OR(OFFSET(結果貼付け用!$F13,0,(COLUMN()-3)*6,1,1)=\"-\",OFFSET(結果貼付け用!$F13,0,(COLUMN()-3)*6,1,1)=\"\"),NA(),(OFFSET(結果貼付け用!$F13,0,(COLUMN()-3)*6,1,1)))","v":{"$error":"#N/A"}},{"$f":"IF(OR(OFFSET(結果貼付け用!$F13,0,(COLUMN()-3)*6,1,1)=\"-\",OFFSET(結果貼付け用!$F13,0,(COLUMN()-3)*6,1,1)=\"\"),NA(),(OFFSET(結果貼付け用!$F13,0,(COLUMN()-3)*6,1,1)))","v":{"$error":"#N/A"}},{"$f":"IF(OR(OFFSET(結果貼付け用!$F13,0,(COLUMN()-3)*6,1,1)=\"-\",OFFSET(結果貼付け用!$F13,0,(COLUMN()-3)*6,1,1)=\"\"),NA(),(OFFSET(結果貼付け用!$F13,0,(COLUMN()-3)*6,1,1)))","v":{"$error":"#N/A"}},{"$f":"IF(OR(OFFSET(結果貼付け用!$F13,0,(COLUMN()-3)*6,1,1)=\"-\",OFFSET(結果貼付け用!$F13,0,(COLUMN()-3)*6,1,1)=\"\"),NA(),(OFFSET(結果貼付け用!$F13,0,(COLUMN()-3)*6,1,1)))","v":{"$error":"#N/A"}},{"$f":"IF(OR(OFFSET(結果貼付け用!$F13,0,(COLUMN()-3)*6,1,1)=\"-\",OFFSET(結果貼付け用!$F13,0,(COLUMN()-3)*6,1,1)=\"\"),NA(),(OFFSET(結果貼付け用!$F13,0,(COLUMN()-3)*6,1,1)))","v":{"$error":"#N/A"}},{"$f":"IF(OR(OFFSET(結果貼付け用!$F13,0,(COLUMN()-3)*6,1,1)=\"-\",OFFSET(結果貼付け用!$F13,0,(COLUMN()-3)*6,1,1)=\"\"),NA(),(OFFSET(結果貼付け用!$F13,0,(COLUMN()-3)*6,1,1)))","v":{"$error":"#N/A"}},{"$f":"IF(OR(OFFSET(結果貼付け用!$F13,0,(COLUMN()-3)*6,1,1)=\"-\",OFFSET(結果貼付け用!$F13,0,(COLUMN()-3)*6,1,1)=\"\"),NA(),(OFFSET(結果貼付け用!$F13,0,(COLUMN()-3)*6,1,1)))","v":{"$error":"#N/A"}},{"$f":"IF(OR(OFFSET(結果貼付け用!$F13,0,(COLUMN()-3)*6,1,1)=\"-\",OFFSET(結果貼付け用!$F13,0,(COLUMN()-3)*6,1,1)=\"\"),NA(),(OFFSET(結果貼付け用!$F13,0,(COLUMN()-3)*6,1,1)))","v":{"$error":"#N/A"}},{"$f":"IF(OR(OFFSET(結果貼付け用!$F13,0,(COLUMN()-3)*6,1,1)=\"-\",OFFSET(結果貼付け用!$F13,0,(COLUMN()-3)*6,1,1)=\"\"),NA(),(OFFSET(結果貼付け用!$F13,0,(COLUMN()-3)*6,1,1)))","v":{"$error":"#N/A"}},{"$f":"IF(OR(OFFSET(結果貼付け用!$F13,0,(COLUMN()-3)*6,1,1)=\"-\",OFFSET(結果貼付け用!$F13,0,(COLUMN()-3)*6,1,1)=\"\"),NA(),(OFFSET(結果貼付け用!$F13,0,(COLUMN()-3)*6,1,1)))","v":{"$error":"#N/A"}},{"$f":"IF(OR(OFFSET(結果貼付け用!$F13,0,(COLUMN()-3)*6,1,1)=\"-\",OFFSET(結果貼付け用!$F13,0,(COLUMN()-3)*6,1,1)=\"\"),NA(),(OFFSET(結果貼付け用!$F13,0,(COLUMN()-3)*6,1,1)))","v":{"$error":"#N/A"}},{"$f":"IF(OR(OFFSET(結果貼付け用!$F13,0,(COLUMN()-3)*6,1,1)=\"-\",OFFSET(結果貼付け用!$F13,0,(COLUMN()-3)*6,1,1)=\"\"),NA(),(OFFSET(結果貼付け用!$F13,0,(COLUMN()-3)*6,1,1)))","v":{"$error":"#N/A"}},{"$f":"IF(OR(OFFSET(結果貼付け用!$F13,0,(COLUMN()-3)*6,1,1)=\"-\",OFFSET(結果貼付け用!$F13,0,(COLUMN()-3)*6,1,1)=\"\"),NA(),(OFFSET(結果貼付け用!$F13,0,(COLUMN()-3)*6,1,1)))","v":{"$error":"#N/A"}},{"$f":"IF(OR(OFFSET(結果貼付け用!$F13,0,(COLUMN()-3)*6,1,1)=\"-\",OFFSET(結果貼付け用!$F13,0,(COLUMN()-3)*6,1,1)=\"\"),NA(),(OFFSET(結果貼付け用!$F13,0,(COLUMN()-3)*6,1,1)))","v":{"$error":"#N/A"}},{"$f":"IF(OR(OFFSET(結果貼付け用!$F13,0,(COLUMN()-3)*6,1,1)=\"-\",OFFSET(結果貼付け用!$F13,0,(COLUMN()-3)*6,1,1)=\"\"),NA(),(OFFSET(結果貼付け用!$F13,0,(COLUMN()-3)*6,1,1)))","v":{"$error":"#N/A"}},{"$f":"IF(OR(OFFSET(結果貼付け用!$F13,0,(COLUMN()-3)*6,1,1)=\"-\",OFFSET(結果貼付け用!$F13,0,(COLUMN()-3)*6,1,1)=\"\"),NA(),(OFFSET(結果貼付け用!$F13,0,(COLUMN()-3)*6,1,1)))","v":{"$error":"#N/A"}}]
[null,"働きがい",{"$f":"IF(OR(OFFSET(結果貼付け用!$F14,0,(COLUMN()-3)*6,1,1)=\"-\",OFFSET(結果貼付け用!$F14,0,(COLUMN()-3)*6,1,1)=\"\"),NA(),(OFFSET(結果貼付け用!$F14,0,(COLUMN()-3)*6,1,1)))","v":{"$error":"#N/A"}},{"$f":"IF(OR(OFFSET(結果貼付け用!$F14,0,(COLUMN()-3)*6,1,1)=\"-\",OFFSET(結果貼付け用!$F14,0,(COLUMN()-3)*6,1,1)=\"\"),NA(),(OFFSET(結果貼付け用!$F14,0,(COLUMN()-3)*6,1,1)))","v":{"$error":"#N/A"}},{"$f":"IF(OR(OFFSET(結果貼付け用!$F14,0,(COLUMN()-3)*6,1,1)=\"-\",OFFSET(結果貼付け用!$F14,0,(COLUMN()-3)*6,1,1)=\"\"),NA(),(OFFSET(結果貼付け用!$F14,0,(COLUMN()-3)*6,1,1)))","v":{"$error":"#N/A"}},{"$f":"IF(OR(OFFSET(結果貼付け用!$F14,0,(COLUMN()-3)*6,1,1)=\"-\",OFFSET(結果貼付け用!$F14,0,(COLUMN()-3)*6,1,1)=\"\"),NA(),(OFFSET(結果貼付け用!$F14,0,(COLUMN()-3)*6,1,1)))","v":{"$error":"#N/A"}},{"$f":"IF(OR(OFFSET(結果貼付け用!$F14,0,(COLUMN()-3)*6,1,1)=\"-\",OFFSET(結果貼付け用!$F14,0,(COLUMN()-3)*6,1,1)=\"\"),NA(),(OFFSET(結果貼付け用!$F14,0,(COLUMN()-3)*6,1,1)))","v":{"$error":"#N/A"}},{"$f":"IF(OR(OFFSET(結果貼付け用!$F14,0,(COLUMN()-3)*6,1,1)=\"-\",OFFSET(結果貼付け用!$F14,0,(COLUMN()-3)*6,1,1)=\"\"),NA(),(OFFSET(結果貼付け用!$F14,0,(COLUMN()-3)*6,1,1)))","v":{"$error":"#N/A"}},{"$f":"IF(OR(OFFSET(結果貼付け用!$F14,0,(COLUMN()-3)*6,1,1)=\"-\",OFFSET(結果貼付け用!$F14,0,(COLUMN()-3)*6,1,1)=\"\"),NA(),(OFFSET(結果貼付け用!$F14,0,(COLUMN()-3)*6,1,1)))","v":{"$error":"#N/A"}},{"$f":"IF(OR(OFFSET(結果貼付け用!$F14,0,(COLUMN()-3)*6,1,1)=\"-\",OFFSET(結果貼付け用!$F14,0,(COLUMN()-3)*6,1,1)=\"\"),NA(),(OFFSET(結果貼付け用!$F14,0,(COLUMN()-3)*6,1,1)))","v":{"$error":"#N/A"}},{"$f":"IF(OR(OFFSET(結果貼付け用!$F14,0,(COLUMN()-3)*6,1,1)=\"-\",OFFSET(結果貼付け用!$F14,0,(COLUMN()-3)*6,1,1)=\"\"),NA(),(OFFSET(結果貼付け用!$F14,0,(COLUMN()-3)*6,1,1)))","v":{"$error":"#N/A"}},{"$f":"IF(OR(OFFSET(結果貼付け用!$F14,0,(COLUMN()-3)*6,1,1)=\"-\",OFFSET(結果貼付け用!$F14,0,(COLUMN()-3)*6,1,1)=\"\"),NA(),(OFFSET(結果貼付け用!$F14,0,(COLUMN()-3)*6,1,1)))","v":{"$error":"#N/A"}},{"$f":"IF(OR(OFFSET(結果貼付け用!$F14,0,(COLUMN()-3)*6,1,1)=\"-\",OFFSET(結果貼付け用!$F14,0,(COLUMN()-3)*6,1,1)=\"\"),NA(),(OFFSET(結果貼付け用!$F14,0,(COLUMN()-3)*6,1,1)))","v":{"$error":"#N/A"}},{"$f":"IF(OR(OFFSET(結果貼付け用!$F14,0,(COLUMN()-3)*6,1,1)=\"-\",OFFSET(結果貼付け用!$F14,0,(COLUMN()-3)*6,1,1)=\"\"),NA(),(OFFSET(結果貼付け用!$F14,0,(COLUMN()-3)*6,1,1)))","v":{"$error":"#N/A"}},{"$f":"IF(OR(OFFSET(結果貼付け用!$F14,0,(COLUMN()-3)*6,1,1)=\"-\",OFFSET(結果貼付け用!$F14,0,(COLUMN()-3)*6,1,1)=\"\"),NA(),(OFFSET(結果貼付け用!$F14,0,(COLUMN()-3)*6,1,1)))","v":{"$error":"#N/A"}},{"$f":"IF(OR(OFFSET(結果貼付け用!$F14,0,(COLUMN()-3)*6,1,1)=\"-\",OFFSET(結果貼付け用!$F14,0,(COLUMN()-3)*6,1,1)=\"\"),NA(),(OFFSET(結果貼付け用!$F14,0,(COLUMN()-3)*6,1,1)))","v":{"$error":"#N/A"}},{"$f":"IF(OR(OFFSET(結果貼付け用!$F14,0,(COLUMN()-3)*6,1,1)=\"-\",OFFSET(結果貼付け用!$F14,0,(COLUMN()-3)*6,1,1)=\"\"),NA(),(OFFSET(結果貼付け用!$F14,0,(COLUMN()-3)*6,1,1)))","v":{"$error":"#N/A"}},{"$f":"IF(OR(OFFSET(結果貼付け用!$F14,0,(COLUMN()-3)*6,1,1)=\"-\",OFFSET(結果貼付け用!$F14,0,(COLUMN()-3)*6,1,1)=\"\"),NA(),(OFFSET(結果貼付け用!$F14,0,(COLUMN()-3)*6,1,1)))","v":{"$error":"#N/A"}},{"$f":"IF(OR(OFFSET(結果貼付け用!$F14,0,(COLUMN()-3)*6,1,1)=\"-\",OFFSET(結果貼付け用!$F14,0,(COLUMN()-3)*6,1,1)=\"\"),NA(),(OFFSET(結果貼付け用!$F14,0,(COLUMN()-3)*6,1,1)))","v":{"$error":"#N/A"}},{"$f":"IF(OR(OFFSET(結果貼付け用!$F14,0,(COLUMN()-3)*6,1,1)=\"-\",OFFSET(結果貼付け用!$F14,0,(COLUMN()-3)*6,1,1)=\"\"),NA(),(OFFSET(結果貼付け用!$F14,0,(COLUMN()-3)*6,1,1)))","v":{"$error":"#N/A"}},{"$f":"IF(OR(OFFSET(結果貼付け用!$F14,0,(COLUMN()-3)*6,1,1)=\"-\",OFFSET(結果貼付け用!$F14,0,(COLUMN()-3)*6,1,1)=\"\"),NA(),(OFFSET(結果貼付け用!$F14,0,(COLUMN()-3)*6,1,1)))","v":{"$error":"#N/A"}},{"$f":"IF(OR(OFFSET(結果貼付け用!$F14,0,(COLUMN()-3)*6,1,1)=\"-\",OFFSET(結果貼付け用!$F14,0,(COLUMN()-3)*6,1,1)=\"\"),NA(),(OFFSET(結果貼付け用!$F14,0,(COLUMN()-3)*6,1,1)))","v":{"$error":"#N/A"}},{"$f":"IF(OR(OFFSET(結果貼付け用!$F14,0,(COLUMN()-3)*6,1,1)=\"-\",OFFSET(結果貼付け用!$F14,0,(COLUMN()-3)*6,1,1)=\"\"),NA(),(OFFSET(結果貼付け用!$F14,0,(COLUMN()-3)*6,1,1)))","v":{"$error":"#N/A"}},{"$f":"IF(OR(OFFSET(結果貼付け用!$F14,0,(COLUMN()-3)*6,1,1)=\"-\",OFFSET(結果貼付け用!$F14,0,(COLUMN()-3)*6,1,1)=\"\"),NA(),(OFFSET(結果貼付け用!$F14,0,(COLUMN()-3)*6,1,1)))","v":{"$error":"#N/A"}},{"$f":"IF(OR(OFFSET(結果貼付け用!$F14,0,(COLUMN()-3)*6,1,1)=\"-\",OFFSET(結果貼付け用!$F14,0,(COLUMN()-3)*6,1,1)=\"\"),NA(),(OFFSET(結果貼付け用!$F14,0,(COLUMN()-3)*6,1,1)))","v":{"$error":"#N/A"}},{"$f":"IF(OR(OFFSET(結果貼付け用!$F14,0,(COLUMN()-3)*6,1,1)=\"-\",OFFSET(結果貼付け用!$F14,0,(COLUMN()-3)*6,1,1)=\"\"),NA(),(OFFSET(結果貼付け用!$F14,0,(COLUMN()-3)*6,1,1)))","v":{"$error":"#N/A"}},{"$f":"IF(OR(OFFSET(結果貼付け用!$F14,0,(COLUMN()-3)*6,1,1)=\"-\",OFFSET(結果貼付け用!$F14,0,(COLUMN()-3)*6,1,1)=\"\"),NA(),(OFFSET(結果貼付け用!$F14,0,(COLUMN()-3)*6,1,1)))","v":{"$error":"#N/A"}},{"$f":"IF(OR(OFFSET(結果貼付け用!$F14,0,(COLUMN()-3)*6,1,1)=\"-\",OFFSET(結果貼付け用!$F14,0,(COLUMN()-3)*6,1,1)=\"\"),NA(),(OFFSET(結果貼付け用!$F14,0,(COLUMN()-3)*6,1,1)))","v":{"$error":"#N/A"}},{"$f":"IF(OR(OFFSET(結果貼付け用!$F14,0,(COLUMN()-3)*6,1,1)=\"-\",OFFSET(結果貼付け用!$F14,0,(COLUMN()-3)*6,1,1)=\"\"),NA(),(OFFSET(結果貼付け用!$F14,0,(COLUMN()-3)*6,1,1)))","v":{"$error":"#N/A"}},{"$f":"IF(OR(OFFSET(結果貼付け用!$F14,0,(COLUMN()-3)*6,1,1)=\"-\",OFFSET(結果貼付け用!$F14,0,(COLUMN()-3)*6,1,1)=\"\"),NA(),(OFFSET(結果貼付け用!$F14,0,(COLUMN()-3)*6,1,1)))","v":{"$error":"#N/A"}},{"$f":"IF(OR(OFFSET(結果貼付け用!$F14,0,(COLUMN()-3)*6,1,1)=\"-\",OFFSET(結果貼付け用!$F14,0,(COLUMN()-3)*6,1,1)=\"\"),NA(),(OFFSET(結果貼付け用!$F14,0,(COLUMN()-3)*6,1,1)))","v":{"$error":"#N/A"}},{"$f":"IF(OR(OFFSET(結果貼付け用!$F14,0,(COLUMN()-3)*6,1,1)=\"-\",OFFSET(結果貼付け用!$F14,0,(COLUMN()-3)*6,1,1)=\"\"),NA(),(OFFSET(結果貼付け用!$F14,0,(COLUMN()-3)*6,1,1)))","v":{"$error":"#N/A"}}]
[null,"目標遂行感",{"$f":"IF(OR(OFFSET(結果貼付け用!$F15,0,(COLUMN()-3)*6,1,1)=\"-\",OFFSET(結果貼付け用!$F15,0,(COLUMN()-3)*6,1,1)=\"\"),NA(),(OFFSET(結果貼付け用!$F15,0,(COLUMN()-3)*6,1,1)))","v":{"$error":"#N/A"}},{"$f":"IF(OR(OFFSET(結果貼付け用!$F15,0,(COLUMN()-3)*6,1,1)=\"-\",OFFSET(結果貼付け用!$F15,0,(COLUMN()-3)*6,1,1)=\"\"),NA(),(OFFSET(結果貼付け用!$F15,0,(COLUMN()-3)*6,1,1)))","v":{"$error":"#N/A"}},{"$f":"IF(OR(OFFSET(結果貼付け用!$F15,0,(COLUMN()-3)*6,1,1)=\"-\",OFFSET(結果貼付け用!$F15,0,(COLUMN()-3)*6,1,1)=\"\"),NA(),(OFFSET(結果貼付け用!$F15,0,(COLUMN()-3)*6,1,1)))","v":{"$error":"#N/A"}},{"$f":"IF(OR(OFFSET(結果貼付け用!$F15,0,(COLUMN()-3)*6,1,1)=\"-\",OFFSET(結果貼付け用!$F15,0,(COLUMN()-3)*6,1,1)=\"\"),NA(),(OFFSET(結果貼付け用!$F15,0,(COLUMN()-3)*6,1,1)))","v":{"$error":"#N/A"}},{"$f":"IF(OR(OFFSET(結果貼付け用!$F15,0,(COLUMN()-3)*6,1,1)=\"-\",OFFSET(結果貼付け用!$F15,0,(COLUMN()-3)*6,1,1)=\"\"),NA(),(OFFSET(結果貼付け用!$F15,0,(COLUMN()-3)*6,1,1)))","v":{"$error":"#N/A"}},{"$f":"IF(OR(OFFSET(結果貼付け用!$F15,0,(COLUMN()-3)*6,1,1)=\"-\",OFFSET(結果貼付け用!$F15,0,(COLUMN()-3)*6,1,1)=\"\"),NA(),(OFFSET(結果貼付け用!$F15,0,(COLUMN()-3)*6,1,1)))","v":{"$error":"#N/A"}},{"$f":"IF(OR(OFFSET(結果貼付け用!$F15,0,(COLUMN()-3)*6,1,1)=\"-\",OFFSET(結果貼付け用!$F15,0,(COLUMN()-3)*6,1,1)=\"\"),NA(),(OFFSET(結果貼付け用!$F15,0,(COLUMN()-3)*6,1,1)))","v":{"$error":"#N/A"}},{"$f":"IF(OR(OFFSET(結果貼付け用!$F15,0,(COLUMN()-3)*6,1,1)=\"-\",OFFSET(結果貼付け用!$F15,0,(COLUMN()-3)*6,1,1)=\"\"),NA(),(OFFSET(結果貼付け用!$F15,0,(COLUMN()-3)*6,1,1)))","v":{"$error":"#N/A"}},{"$f":"IF(OR(OFFSET(結果貼付け用!$F15,0,(COLUMN()-3)*6,1,1)=\"-\",OFFSET(結果貼付け用!$F15,0,(COLUMN()-3)*6,1,1)=\"\"),NA(),(OFFSET(結果貼付け用!$F15,0,(COLUMN()-3)*6,1,1)))","v":{"$error":"#N/A"}},{"$f":"IF(OR(OFFSET(結果貼付け用!$F15,0,(COLUMN()-3)*6,1,1)=\"-\",OFFSET(結果貼付け用!$F15,0,(COLUMN()-3)*6,1,1)=\"\"),NA(),(OFFSET(結果貼付け用!$F15,0,(COLUMN()-3)*6,1,1)))","v":{"$error":"#N/A"}},{"$f":"IF(OR(OFFSET(結果貼付け用!$F15,0,(COLUMN()-3)*6,1,1)=\"-\",OFFSET(結果貼付け用!$F15,0,(COLUMN()-3)*6,1,1)=\"\"),NA(),(OFFSET(結果貼付け用!$F15,0,(COLUMN()-3)*6,1,1)))","v":{"$error":"#N/A"}},{"$f":"IF(OR(OFFSET(結果貼付け用!$F15,0,(COLUMN()-3)*6,1,1)=\"-\",OFFSET(結果貼付け用!$F15,0,(COLUMN()-3)*6,1,1)=\"\"),NA(),(OFFSET(結果貼付け用!$F15,0,(COLUMN()-3)*6,1,1)))","v":{"$error":"#N/A"}},{"$f":"IF(OR(OFFSET(結果貼付け用!$F15,0,(COLUMN()-3)*6,1,1)=\"-\",OFFSET(結果貼付け用!$F15,0,(COLUMN()-3)*6,1,1)=\"\"),NA(),(OFFSET(結果貼付け用!$F15,0,(COLUMN()-3)*6,1,1)))","v":{"$error":"#N/A"}},{"$f":"IF(OR(OFFSET(結果貼付け用!$F15,0,(COLUMN()-3)*6,1,1)=\"-\",OFFSET(結果貼付け用!$F15,0,(COLUMN()-3)*6,1,1)=\"\"),NA(),(OFFSET(結果貼付け用!$F15,0,(COLUMN()-3)*6,1,1)))","v":{"$error":"#N/A"}},{"$f":"IF(OR(OFFSET(結果貼付け用!$F15,0,(COLUMN()-3)*6,1,1)=\"-\",OFFSET(結果貼付け用!$F15,0,(COLUMN()-3)*6,1,1)=\"\"),NA(),(OFFSET(結果貼付け用!$F15,0,(COLUMN()-3)*6,1,1)))","v":{"$error":"#N/A"}},{"$f":"IF(OR(OFFSET(結果貼付け用!$F15,0,(COLUMN()-3)*6,1,1)=\"-\",OFFSET(結果貼付け用!$F15,0,(COLUMN()-3)*6,1,1)=\"\"),NA(),(OFFSET(結果貼付け用!$F15,0,(COLUMN()-3)*6,1,1)))","v":{"$error":"#N/A"}},{"$f":"IF(OR(OFFSET(結果貼付け用!$F15,0,(COLUMN()-3)*6,1,1)=\"-\",OFFSET(結果貼付け用!$F15,0,(COLUMN()-3)*6,1,1)=\"\"),NA(),(OFFSET(結果貼付け用!$F15,0,(COLUMN()-3)*6,1,1)))","v":{"$error":"#N/A"}},{"$f":"IF(OR(OFFSET(結果貼付け用!$F15,0,(COLUMN()-3)*6,1,1)=\"-\",OFFSET(結果貼付け用!$F15,0,(COLUMN()-3)*6,1,1)=\"\"),NA(),(OFFSET(結果貼付け用!$F15,0,(COLUMN()-3)*6,1,1)))","v":{"$error":"#N/A"}},{"$f":"IF(OR(OFFSET(結果貼付け用!$F15,0,(COLUMN()-3)*6,1,1)=\"-\",OFFSET(結果貼付け用!$F15,0,(COLUMN()-3)*6,1,1)=\"\"),NA(),(OFFSET(結果貼付け用!$F15,0,(COLUMN()-3)*6,1,1)))","v":{"$error":"#N/A"}},{"$f":"IF(OR(OFFSET(結果貼付け用!$F15,0,(COLUMN()-3)*6,1,1)=\"-\",OFFSET(結果貼付け用!$F15,0,(COLUMN()-3)*6,1,1)=\"\"),NA(),(OFFSET(結果貼付け用!$F15,0,(COLUMN()-3)*6,1,1)))","v":{"$error":"#N/A"}},{"$f":"IF(OR(OFFSET(結果貼付け用!$F15,0,(COLUMN()-3)*6,1,1)=\"-\",OFFSET(結果貼付け用!$F15,0,(COLUMN()-3)*6,1,1)=\"\"),NA(),(OFFSET(結果貼付け用!$F15,0,(COLUMN()-3)*6,1,1)))","v":{"$error":"#N/A"}},{"$f":"IF(OR(OFFSET(結果貼付け用!$F15,0,(COLUMN()-3)*6,1,1)=\"-\",OFFSET(結果貼付け用!$F15,0,(COLUMN()-3)*6,1,1)=\"\"),NA(),(OFFSET(結果貼付け用!$F15,0,(COLUMN()-3)*6,1,1)))","v":{"$error":"#N/A"}},{"$f":"IF(OR(OFFSET(結果貼付け用!$F15,0,(COLUMN()-3)*6,1,1)=\"-\",OFFSET(結果貼付け用!$F15,0,(COLUMN()-3)*6,1,1)=\"\"),NA(),(OFFSET(結果貼付け用!$F15,0,(COLUMN()-3)*6,1,1)))","v":{"$error":"#N/A"}},{"$f":"IF(OR(OFFSET(結果貼付け用!$F15,0,(COLUMN()-3)*6,1,1)=\"-\",OFFSET(結果貼付け用!$F15,0,(COLUMN()-3)*6,1,1)=\"\"),NA(),(OFFSET(結果貼付け用!$F15,0,(COLUMN()-3)*6,1,1)))","v":{"$error":"#N/A"}},{"$f":"IF(OR(OFFSET(結果貼付け用!$F15,0,(COLUMN()-3)*6,1,1)=\"-\",OFFSET(結果貼付け用!$F15,0,(COLUMN()-3)*6,1,1)=\"\"),NA(),(OFFSET(結果貼付け用!$F15,0,(COLUMN()-3)*6,1,1)))","v":{"$error":"#N/A"}},{"$f":"IF(OR(OFFSET(結果貼付け用!$F15,0,(COLUMN()-3)*6,1,1)=\"-\",OFFSET(結果貼付け用!$F15,0,(COLUMN()-3)*6,1,1)=\"\"),NA(),(OFFSET(結果貼付け用!$F15,0,(COLUMN()-3)*6,1,1)))","v":{"$error":"#N/A"}},{"$f":"IF(OR(OFFSET(結果貼付け用!$F15,0,(COLUMN()-3)*6,1,1)=\"-\",OFFSET(結果貼付け用!$F15,0,(COLUMN()-3)*6,1,1)=\"\"),NA(),(OFFSET(結果貼付け用!$F15,0,(COLUMN()-3)*6,1,1)))","v":{"$error":"#N/A"}},{"$f":"IF(OR(OFFSET(結果貼付け用!$F15,0,(COLUMN()-3)*6,1,1)=\"-\",OFFSET(結果貼付け用!$F15,0,(COLUMN()-3)*6,1,1)=\"\"),NA(),(OFFSET(結果貼付け用!$F15,0,(COLUMN()-3)*6,1,1)))","v":{"$error":"#N/A"}},{"$f":"IF(OR(OFFSET(結果貼付け用!$F15,0,(COLUMN()-3)*6,1,1)=\"-\",OFFSET(結果貼付け用!$F15,0,(COLUMN()-3)*6,1,1)=\"\"),NA(),(OFFSET(結果貼付け用!$F15,0,(COLUMN()-3)*6,1,1)))","v":{"$error":"#N/A"}},{"$f":"IF(OR(OFFSET(結果貼付け用!$F15,0,(COLUMN()-3)*6,1,1)=\"-\",OFFSET(結果貼付け用!$F15,0,(COLUMN()-3)*6,1,1)=\"\"),NA(),(OFFSET(結果貼付け用!$F15,0,(COLUMN()-3)*6,1,1)))","v":{"$error":"#N/A"}}]
[null,"人生における仕事の意味",{"$f":"IF(OR(OFFSET(結果貼付け用!$F16,0,(COLUMN()-3)*6,1,1)=\"-\",OFFSET(結果貼付け用!$F16,0,(COLUMN()-3)*6,1,1)=\"\"),NA(),(OFFSET(結果貼付け用!$F16,0,(COLUMN()-3)*6,1,1)))","v":{"$error":"#N/A"}},{"$f":"IF(OR(OFFSET(結果貼付け用!$F16,0,(COLUMN()-3)*6,1,1)=\"-\",OFFSET(結果貼付け用!$F16,0,(COLUMN()-3)*6,1,1)=\"\"),NA(),(OFFSET(結果貼付け用!$F16,0,(COLUMN()-3)*6,1,1)))","v":{"$error":"#N/A"}},{"$f":"IF(OR(OFFSET(結果貼付け用!$F16,0,(COLUMN()-3)*6,1,1)=\"-\",OFFSET(結果貼付け用!$F16,0,(COLUMN()-3)*6,1,1)=\"\"),NA(),(OFFSET(結果貼付け用!$F16,0,(COLUMN()-3)*6,1,1)))","v":{"$error":"#N/A"}},{"$f":"IF(OR(OFFSET(結果貼付け用!$F16,0,(COLUMN()-3)*6,1,1)=\"-\",OFFSET(結果貼付け用!$F16,0,(COLUMN()-3)*6,1,1)=\"\"),NA(),(OFFSET(結果貼付け用!$F16,0,(COLUMN()-3)*6,1,1)))","v":{"$error":"#N/A"}},{"$f":"IF(OR(OFFSET(結果貼付け用!$F16,0,(COLUMN()-3)*6,1,1)=\"-\",OFFSET(結果貼付け用!$F16,0,(COLUMN()-3)*6,1,1)=\"\"),NA(),(OFFSET(結果貼付け用!$F16,0,(COLUMN()-3)*6,1,1)))","v":{"$error":"#N/A"}},{"$f":"IF(OR(OFFSET(結果貼付け用!$F16,0,(COLUMN()-3)*6,1,1)=\"-\",OFFSET(結果貼付け用!$F16,0,(COLUMN()-3)*6,1,1)=\"\"),NA(),(OFFSET(結果貼付け用!$F16,0,(COLUMN()-3)*6,1,1)))","v":{"$error":"#N/A"}},{"$f":"IF(OR(OFFSET(結果貼付け用!$F16,0,(COLUMN()-3)*6,1,1)=\"-\",OFFSET(結果貼付け用!$F16,0,(COLUMN()-3)*6,1,1)=\"\"),NA(),(OFFSET(結果貼付け用!$F16,0,(COLUMN()-3)*6,1,1)))","v":{"$error":"#N/A"}},{"$f":"IF(OR(OFFSET(結果貼付け用!$F16,0,(COLUMN()-3)*6,1,1)=\"-\",OFFSET(結果貼付け用!$F16,0,(COLUMN()-3)*6,1,1)=\"\"),NA(),(OFFSET(結果貼付け用!$F16,0,(COLUMN()-3)*6,1,1)))","v":{"$error":"#N/A"}},{"$f":"IF(OR(OFFSET(結果貼付け用!$F16,0,(COLUMN()-3)*6,1,1)=\"-\",OFFSET(結果貼付け用!$F16,0,(COLUMN()-3)*6,1,1)=\"\"),NA(),(OFFSET(結果貼付け用!$F16,0,(COLUMN()-3)*6,1,1)))","v":{"$error":"#N/A"}},{"$f":"IF(OR(OFFSET(結果貼付け用!$F16,0,(COLUMN()-3)*6,1,1)=\"-\",OFFSET(結果貼付け用!$F16,0,(COLUMN()-3)*6,1,1)=\"\"),NA(),(OFFSET(結果貼付け用!$F16,0,(COLUMN()-3)*6,1,1)))","v":{"$error":"#N/A"}},{"$f":"IF(OR(OFFSET(結果貼付け用!$F16,0,(COLUMN()-3)*6,1,1)=\"-\",OFFSET(結果貼付け用!$F16,0,(COLUMN()-3)*6,1,1)=\"\"),NA(),(OFFSET(結果貼付け用!$F16,0,(COLUMN()-3)*6,1,1)))","v":{"$error":"#N/A"}},{"$f":"IF(OR(OFFSET(結果貼付け用!$F16,0,(COLUMN()-3)*6,1,1)=\"-\",OFFSET(結果貼付け用!$F16,0,(COLUMN()-3)*6,1,1)=\"\"),NA(),(OFFSET(結果貼付け用!$F16,0,(COLUMN()-3)*6,1,1)))","v":{"$error":"#N/A"}},{"$f":"IF(OR(OFFSET(結果貼付け用!$F16,0,(COLUMN()-3)*6,1,1)=\"-\",OFFSET(結果貼付け用!$F16,0,(COLUMN()-3)*6,1,1)=\"\"),NA(),(OFFSET(結果貼付け用!$F16,0,(COLUMN()-3)*6,1,1)))","v":{"$error":"#N/A"}},{"$f":"IF(OR(OFFSET(結果貼付け用!$F16,0,(COLUMN()-3)*6,1,1)=\"-\",OFFSET(結果貼付け用!$F16,0,(COLUMN()-3)*6,1,1)=\"\"),NA(),(OFFSET(結果貼付け用!$F16,0,(COLUMN()-3)*6,1,1)))","v":{"$error":"#N/A"}},{"$f":"IF(OR(OFFSET(結果貼付け用!$F16,0,(COLUMN()-3)*6,1,1)=\"-\",OFFSET(結果貼付け用!$F16,0,(COLUMN()-3)*6,1,1)=\"\"),NA(),(OFFSET(結果貼付け用!$F16,0,(COLUMN()-3)*6,1,1)))","v":{"$error":"#N/A"}},{"$f":"IF(OR(OFFSET(結果貼付け用!$F16,0,(COLUMN()-3)*6,1,1)=\"-\",OFFSET(結果貼付け用!$F16,0,(COLUMN()-3)*6,1,1)=\"\"),NA(),(OFFSET(結果貼付け用!$F16,0,(COLUMN()-3)*6,1,1)))","v":{"$error":"#N/A"}},{"$f":"IF(OR(OFFSET(結果貼付け用!$F16,0,(COLUMN()-3)*6,1,1)=\"-\",OFFSET(結果貼付け用!$F16,0,(COLUMN()-3)*6,1,1)=\"\"),NA(),(OFFSET(結果貼付け用!$F16,0,(COLUMN()-3)*6,1,1)))","v":{"$error":"#N/A"}},{"$f":"IF(OR(OFFSET(結果貼付け用!$F16,0,(COLUMN()-3)*6,1,1)=\"-\",OFFSET(結果貼付け用!$F16,0,(COLUMN()-3)*6,1,1)=\"\"),NA(),(OFFSET(結果貼付け用!$F16,0,(COLUMN()-3)*6,1,1)))","v":{"$error":"#N/A"}},{"$f":"IF(OR(OFFSET(結果貼付け用!$F16,0,(COLUMN()-3)*6,1,1)=\"-\",OFFSET(結果貼付け用!$F16,0,(COLUMN()-3)*6,1,1)=\"\"),NA(),(OFFSET(結果貼付け用!$F16,0,(COLUMN()-3)*6,1,1)))","v":{"$error":"#N/A"}},{"$f":"IF(OR(OFFSET(結果貼付け用!$F16,0,(COLUMN()-3)*6,1,1)=\"-\",OFFSET(結果貼付け用!$F16,0,(COLUMN()-3)*6,1,1)=\"\"),NA(),(OFFSET(結果貼付け用!$F16,0,(COLUMN()-3)*6,1,1)))","v":{"$error":"#N/A"}},{"$f":"IF(OR(OFFSET(結果貼付け用!$F16,0,(COLUMN()-3)*6,1,1)=\"-\",OFFSET(結果貼付け用!$F16,0,(COLUMN()-3)*6,1,1)=\"\"),NA(),(OFFSET(結果貼付け用!$F16,0,(COLUMN()-3)*6,1,1)))","v":{"$error":"#N/A"}},{"$f":"IF(OR(OFFSET(結果貼付け用!$F16,0,(COLUMN()-3)*6,1,1)=\"-\",OFFSET(結果貼付け用!$F16,0,(COLUMN()-3)*6,1,1)=\"\"),NA(),(OFFSET(結果貼付け用!$F16,0,(COLUMN()-3)*6,1,1)))","v":{"$error":"#N/A"}},{"$f":"IF(OR(OFFSET(結果貼付け用!$F16,0,(COLUMN()-3)*6,1,1)=\"-\",OFFSET(結果貼付け用!$F16,0,(COLUMN()-3)*6,1,1)=\"\"),NA(),(OFFSET(結果貼付け用!$F16,0,(COLUMN()-3)*6,1,1)))","v":{"$error":"#N/A"}},{"$f":"IF(OR(OFFSET(結果貼付け用!$F16,0,(COLUMN()-3)*6,1,1)=\"-\",OFFSET(結果貼付け用!$F16,0,(COLUMN()-3)*6,1,1)=\"\"),NA(),(OFFSET(結果貼付け用!$F16,0,(COLUMN()-3)*6,1,1)))","v":{"$error":"#N/A"}},{"$f":"IF(OR(OFFSET(結果貼付け用!$F16,0,(COLUMN()-3)*6,1,1)=\"-\",OFFSET(結果貼付け用!$F16,0,(COLUMN()-3)*6,1,1)=\"\"),NA(),(OFFSET(結果貼付け用!$F16,0,(COLUMN()-3)*6,1,1)))","v":{"$error":"#N/A"}},{"$f":"IF(OR(OFFSET(結果貼付け用!$F16,0,(COLUMN()-3)*6,1,1)=\"-\",OFFSET(結果貼付け用!$F16,0,(COLUMN()-3)*6,1,1)=\"\"),NA(),(OFFSET(結果貼付け用!$F16,0,(COLUMN()-3)*6,1,1)))","v":{"$error":"#N/A"}},{"$f":"IF(OR(OFFSET(結果貼付け用!$F16,0,(COLUMN()-3)*6,1,1)=\"-\",OFFSET(結果貼付け用!$F16,0,(COLUMN()-3)*6,1,1)=\"\"),NA(),(OFFSET(結果貼付け用!$F16,0,(COLUMN()-3)*6,1,1)))","v":{"$error":"#N/A"}},{"$f":"IF(OR(OFFSET(結果貼付け用!$F16,0,(COLUMN()-3)*6,1,1)=\"-\",OFFSET(結果貼付け用!$F16,0,(COLUMN()-3)*6,1,1)=\"\"),NA(),(OFFSET(結果貼付け用!$F16,0,(COLUMN()-3)*6,1,1)))","v":{"$error":"#N/A"}},{"$f":"IF(OR(OFFSET(結果貼付け用!$F16,0,(COLUMN()-3)*6,1,1)=\"-\",OFFSET(結果貼付け用!$F16,0,(COLUMN()-3)*6,1,1)=\"\"),NA(),(OFFSET(結果貼付け用!$F16,0,(COLUMN()-3)*6,1,1)))","v":{"$error":"#N/A"}},{"$f":"IF(OR(OFFSET(結果貼付け用!$F16,0,(COLUMN()-3)*6,1,1)=\"-\",OFFSET(結果貼付け用!$F16,0,(COLUMN()-3)*6,1,1)=\"\"),NA(),(OFFSET(結果貼付け用!$F16,0,(COLUMN()-3)*6,1,1)))","v":{"$error":"#N/A"}}]
[]
[]
[]
[]
[]
[]
[]
[]
[]
[]
[]
[]
[]
[]
[]
[]
[]
[]
[]
[]
[null,"実施開始日時",{"$f":"IF(結果貼付け用!B2=\"\",NA(),結果貼付け用!B2)","v":{"$error":"#N/A"}},{"$f":"IF((OFFSET(結果貼付け用!$H$2, 0, (COLUMN() - COLUMN($D$20)) * 6))=\"\",NA(),(OFFSET(結果貼付け用!$H$2, 0, (COLUMN() - COLUMN($D$20)) * 6)))","v":{"$error":"#N/A"}},{"$f":"IF((OFFSET(結果貼付け用!$H$2, 0, (COLUMN() - COLUMN($D$20)) * 6))=\"\",NA(),(OFFSET(結果貼付け用!$H$2, 0, (COLUMN() - COLUMN($D$20)) * 6)))","v":{"$error":"#N/A"}},{"$f":"IF((OFFSET(結果貼付け用!$H$2, 0, (COLUMN() - COLUMN($D$20)) * 6))=\"\",NA(),(OFFSET(結果貼付け用!$H$2, 0, (COLUMN() - COLUMN($D$20)) * 6)))","v":{"$error":"#N/A"}},{"$f":"IF((OFFSET(結果貼付け用!$H$2, 0, (COLUMN() - COLUMN($D$20)) * 6))=\"\",NA(),(OFFSET(結果貼付け用!$H$2, 0, (COLUMN() - COLUMN($D$20)) * 6)))","v":{"$error":"#N/A"}},{"$f":"IF((OFFSET(結果貼付け用!$H$2, 0, (COLUMN() - COLUMN($D$20)) * 6))=\"\",NA(),(OFFSET(結果貼付け用!$H$2, 0, (COLUMN() - COLUMN($D$20)) * 6)))","v":{"$error":"#N/A"}},{"$f":"IF((OFFSET(結果貼付け用!$H$2, 0, (COLUMN() - COLUMN($D$20)) * 6))=\"\",NA(),(OFFSET(結果貼付け用!$H$2, 0, (COLUMN() - COLUMN($D$20)) * 6)))","v":{"$error":"#N/A"}},{"$f":"IF((OFFSET(結果貼付け用!$H$2, 0, (COLUMN() - COLUMN($D$20)) * 6))=\"\",NA(),(OFFSET(結果貼付け用!$H$2, 0, (COLUMN() - COLUMN($D$20)) * 6)))","v":{"$error":"#N/A"}},{"$f":"IF((OFFSET(結果貼付け用!$H$2, 0, (COLUMN() - COLUMN($D$20)) * 6))=\"\",NA(),(OFFSET(結果貼付け用!$H$2, 0, (COLUMN() - COLUMN($D$20)) * 6)))","v":{"$error":"#N/A"}},{"$f":"IF((OFFSET(結果貼付け用!$H$2, 0, (COLUMN() - COLUMN($D$20)) * 6))=\"\",NA(),(OFFSET(結果貼付け用!$H$2, 0, (COLUMN() - COLUMN($D$20)) * 6)))","v":{"$error":"#N/A"}},{"$f":"IF((OFFSET(結果貼付け用!$H$2, 0, (COLUMN() - COLUMN($D$20)) * 6))=\"\",NA(),(OFFSET(結果貼付け用!$H$2, 0, (COLUMN() - COLUMN($D$20)) * 6)))","v":{"$error":"#N/A"}},{"$f":"IF((OFFSET(結果貼付け用!$H$2, 0, (COLUMN() - COLUMN($D$20)) * 6))=\"\",NA(),(OFFSET(結果貼付け用!$H$2, 0, (COLUMN() - COLUMN($D$20)) * 6)))","v":{"$error":"#N/A"}},{"$f":"IF((OFFSET(結果貼付け用!$H$2, 0, (COLUMN() - COLUMN($D$20)) * 6))=\"\",NA(),(OFFSET(結果貼付け用!$H$2, 0, (COLUMN() - COLUMN($D$20)) * 6)))","v":{"$error":"#N/A"}},{"$f":"IF((OFFSET(結果貼付け用!$H$2, 0, (COLUMN() - COLUMN($D$20)) * 6))=\"\",NA(),(OFFSET(結果貼付け用!$H$2, 0, (COLUMN() - COLUMN($D$20)) * 6)))","v":{"$error":"#N/A"}},{"$f":"IF((OFFSET(結果貼付け用!$H$2, 0, (COLUMN() - COLUMN($D$20)) * 6))=\"\",NA(),(OFFSET(結果貼付け用!$H$2, 0, (COLUMN() - COLUMN($D$20)) * 6)))","v":{"$error":"#N/A"}},{"$f":"IF((OFFSET(結果貼付け用!$H$2, 0, (COLUMN() - COLUMN($D$20)) * 6))=\"\",NA(),(OFFSET(結果貼付け用!$H$2, 0, (COLUMN() - COLUMN($D$20)) * 6)))","v":{"$error":"#N/A"}},{"$f":"IF((OFFSET(結果貼付け用!$H$2, 0, (COLUMN() - COLUMN($D$20)) * 6))=\"\",NA(),(OFFSET(結果貼付け用!$H$2, 0, (COLUMN() - COLUMN($D$20)) * 6)))","v":{"$error":"#N/A"}},{"$f":"IF((OFFSET(結果貼付け用!$H$2, 0, (COLUMN() - COLUMN($D$20)) * 6))=\"\",NA(),(OFFSET(結果貼付け用!$H$2, 0, (COLUMN() - COLUMN($D$20)) * 6)))","v":{"$error":"#N/A"}},{"$f":"IF((OFFSET(結果貼付け用!$H$2, 0, (COLUMN() - COLUMN($D$20)) * 6))=\"\",NA(),(OFFSET(結果貼付け用!$H$2, 0, (COLUMN() - COLUMN($D$20)) * 6)))","v":{"$error":"#N/A"}},{"$f":"IF((OFFSET(結果貼付け用!$H$2, 0, (COLUMN() - COLUMN($D$20)) * 6))=\"\",NA(),(OFFSET(結果貼付け用!$H$2, 0, (COLUMN() - COLUMN($D$20)) * 6)))","v":{"$error":"#N/A"}},{"$f":"IF(結果貼付け用!W2=\"\",NA(),結果貼付け用!W2)","v":{"$error":"#N/A"}},{"$f":"IF((OFFSET(結果貼付け用!$H$2, 0, (COLUMN() - COLUMN($D$20)) * 6))=\"\",NA(),(OFFSET(結果貼付け用!$H$2, 0, (COLUMN() - COLUMN($D$20)) * 6)))","v":{"$error":"#N/A"}},{"$f":"IF((OFFSET(結果貼付け用!$H$2, 0, (COLUMN() - COLUMN($D$20)) * 6))=\"\",NA(),(OFFSET(結果貼付け用!$H$2, 0, (COLUMN() - COLUMN($D$20)) * 6)))","v":{"$error":"#N/A"}},{"$f":"IF((OFFSET(結果貼付け用!$H$2, 0, (COLUMN() - COLUMN($D$20)) * 6))=\"\",NA(),(OFFSET(結果貼付け用!$H$2, 0, (COLUMN() - COLUMN($D$20)) * 6)))","v":{"$error":"#N/A"}},{"$f":"IF((OFFSET(結果貼付け用!$H$2, 0, (COLUMN() - COLUMN($D$20)) * 6))=\"\",NA(),(OFFSET(結果貼付け用!$H$2, 0, (COLUMN() - COLUMN($D$20)) * 6)))","v":{"$error":"#N/A"}},{"$f":"IF((OFFSET(結果貼付け用!$H$2, 0, (COLUMN() - COLUMN($D$20)) * 6))=\"\",NA(),(OFFSET(結果貼付け用!$H$2, 0, (COLUMN() - COLUMN($D$20)) * 6)))","v":{"$error":"#N/A"}},{"$f":"IF((OFFSET(結果貼付け用!$H$2, 0, (COLUMN() - COLUMN($D$20)) * 6))=\"\",NA(),(OFFSET(結果貼付け用!$H$2, 0, (COLUMN() - COLUMN($D$20)) * 6)))","v":{"$error":"#N/A"}},{"$f":"IF((OFFSET(結果貼付け用!$H$2, 0, (COLUMN() - COLUMN($D$20)) * 6))=\"\",NA(),(OFFSET(結果貼付け用!$H$2, 0, (COLUMN() - COLUMN($D$20)) * 6)))","v":{"$error":"#N/A"}},{"$f":"IF((OFFSET(結果貼付け用!$H$2, 0, (COLUMN() - COLUMN($D$20)) * 6))=\"\",NA(),(OFFSET(結果貼付け用!$H$2, 0, (COLUMN() - COLUMN($D$20)) * 6)))","v":{"$error":"#N/A"}},{"$f":"IF((OFFSET(結果貼付け用!$H$2, 0, (COLUMN() - COLUMN($D$20)) * 6))=\"\",NA(),(OFFSET(結果貼付け用!$H$2, 0, (COLUMN() - COLUMN($D$20)) * 6)))","v":{"$error":"#N/A"}}]
[null,"部下支持",{"$f":"IF(OR(OFFSET(結果貼付け用!$F17,0,(COLUMN()-3)*6,1,1)=\"-\",OFFSET(結果貼付け用!$F17,0,(COLUMN()-3)*6,1,1)=\"\"),NA(),(OFFSET(結果貼付け用!$F17,0,(COLUMN()-3)*6,1,1)))","v":{"$error":"#N/A"}},{"$f":"IF(OR(OFFSET(結果貼付け用!$F17,0,(COLUMN()-3)*6,1,1)=\"-\",OFFSET(結果貼付け用!$F17,0,(COLUMN()-3)*6,1,1)=\"\"),NA(),(OFFSET(結果貼付け用!$F17,0,(COLUMN()-3)*6,1,1)))","v":{"$error":"#N/A"}},{"$f":"IF(OR(OFFSET(結果貼付け用!$F17,0,(COLUMN()-3)*6,1,1)=\"-\",OFFSET(結果貼付け用!$F17,0,(COLUMN()-3)*6,1,1)=\"\"),NA(),(OFFSET(結果貼付け用!$F17,0,(COLUMN()-3)*6,1,1)))","v":{"$error":"#N/A"}},{"$f":"IF(OR(OFFSET(結果貼付け用!$F17,0,(COLUMN()-3)*6,1,1)=\"-\",OFFSET(結果貼付け用!$F17,0,(COLUMN()-3)*6,1,1)=\"\"),NA(),(OFFSET(結果貼付け用!$F17,0,(COLUMN()-3)*6,1,1)))","v":{"$error":"#N/A"}},{"$f":"IF(OR(OFFSET(結果貼付け用!$F17,0,(COLUMN()-3)*6,1,1)=\"-\",OFFSET(結果貼付け用!$F17,0,(COLUMN()-3)*6,1,1)=\"\"),NA(),(OFFSET(結果貼付け用!$F17,0,(COLUMN()-3)*6,1,1)))","v":{"$error":"#N/A"}},{"$f":"IF(OR(OFFSET(結果貼付け用!$F17,0,(COLUMN()-3)*6,1,1)=\"-\",OFFSET(結果貼付け用!$F17,0,(COLUMN()-3)*6,1,1)=\"\"),NA(),(OFFSET(結果貼付け用!$F17,0,(COLUMN()-3)*6,1,1)))","v":{"$error":"#N/A"}},{"$f":"IF(OR(OFFSET(結果貼付け用!$F17,0,(COLUMN()-3)*6,1,1)=\"-\",OFFSET(結果貼付け用!$F17,0,(COLUMN()-3)*6,1,1)=\"\"),NA(),(OFFSET(結果貼付け用!$F17,0,(COLUMN()-3)*6,1,1)))","v":{"$error":"#N/A"}},{"$f":"IF(OR(OFFSET(結果貼付け用!$F17,0,(COLUMN()-3)*6,1,1)=\"-\",OFFSET(結果貼付け用!$F17,0,(COLUMN()-3)*6,1,1)=\"\"),NA(),(OFFSET(結果貼付け用!$F17,0,(COLUMN()-3)*6,1,1)))","v":{"$error":"#N/A"}},{"$f":"IF(OR(OFFSET(結果貼付け用!$F17,0,(COLUMN()-3)*6,1,1)=\"-\",OFFSET(結果貼付け用!$F17,0,(COLUMN()-3)*6,1,1)=\"\"),NA(),(OFFSET(結果貼付け用!$F17,0,(COLUMN()-3)*6,1,1)))","v":{"$error":"#N/A"}},{"$f":"IF(OR(OFFSET(結果貼付け用!$F17,0,(COLUMN()-3)*6,1,1)=\"-\",OFFSET(結果貼付け用!$F17,0,(COLUMN()-3)*6,1,1)=\"\"),NA(),(OFFSET(結果貼付け用!$F17,0,(COLUMN()-3)*6,1,1)))","v":{"$error":"#N/A"}},{"$f":"IF(OR(OFFSET(結果貼付け用!$F17,0,(COLUMN()-3)*6,1,1)=\"-\",OFFSET(結果貼付け用!$F17,0,(COLUMN()-3)*6,1,1)=\"\"),NA(),(OFFSET(結果貼付け用!$F17,0,(COLUMN()-3)*6,1,1)))","v":{"$error":"#N/A"}},{"$f":"IF(OR(OFFSET(結果貼付け用!$F17,0,(COLUMN()-3)*6,1,1)=\"-\",OFFSET(結果貼付け用!$F17,0,(COLUMN()-3)*6,1,1)=\"\"),NA(),(OFFSET(結果貼付け用!$F17,0,(COLUMN()-3)*6,1,1)))","v":{"$error":"#N/A"}},{"$f":"IF(OR(OFFSET(結果貼付け用!$F17,0,(COLUMN()-3)*6,1,1)=\"-\",OFFSET(結果貼付け用!$F17,0,(COLUMN()-3)*6,1,1)=\"\"),NA(),(OFFSET(結果貼付け用!$F17,0,(COLUMN()-3)*6,1,1)))","v":{"$error":"#N/A"}},{"$f":"IF(OR(OFFSET(結果貼付け用!$F17,0,(COLUMN()-3)*6,1,1)=\"-\",OFFSET(結果貼付け用!$F17,0,(COLUMN()-3)*6,1,1)=\"\"),NA(),(OFFSET(結果貼付け用!$F17,0,(COLUMN()-3)*6,1,1)))","v":{"$error":"#N/A"}},{"$f":"IF(OR(OFFSET(結果貼付け用!$F17,0,(COLUMN()-3)*6,1,1)=\"-\",OFFSET(結果貼付け用!$F17,0,(COLUMN()-3)*6,1,1)=\"\"),NA(),(OFFSET(結果貼付け用!$F17,0,(COLUMN()-3)*6,1,1)))","v":{"$error":"#N/A"}},{"$f":"IF(OR(OFFSET(結果貼付け用!$F17,0,(COLUMN()-3)*6,1,1)=\"-\",OFFSET(結果貼付け用!$F17,0,(COLUMN()-3)*6,1,1)=\"\"),NA(),(OFFSET(結果貼付け用!$F17,0,(COLUMN()-3)*6,1,1)))","v":{"$error":"#N/A"}},{"$f":"IF(OR(OFFSET(結果貼付け用!$F17,0,(COLUMN()-3)*6,1,1)=\"-\",OFFSET(結果貼付け用!$F17,0,(COLUMN()-3)*6,1,1)=\"\"),NA(),(OFFSET(結果貼付け用!$F17,0,(COLUMN()-3)*6,1,1)))","v":{"$error":"#N/A"}},{"$f":"IF(OR(OFFSET(結果貼付け用!$F17,0,(COLUMN()-3)*6,1,1)=\"-\",OFFSET(結果貼付け用!$F17,0,(COLUMN()-3)*6,1,1)=\"\"),NA(),(OFFSET(結果貼付け用!$F17,0,(COLUMN()-3)*6,1,1)))","v":{"$error":"#N/A"}},{"$f":"IF(OR(OFFSET(結果貼付け用!$F17,0,(COLUMN()-3)*6,1,1)=\"-\",OFFSET(結果貼付け用!$F17,0,(COLUMN()-3)*6,1,1)=\"\"),NA(),(OFFSET(結果貼付け用!$F17,0,(COLUMN()-3)*6,1,1)))","v":{"$error":"#N/A"}},{"$f":"IF(OR(OFFSET(結果貼付け用!$F17,0,(COLUMN()-3)*6,1,1)=\"-\",OFFSET(結果貼付け用!$F17,0,(COLUMN()-3)*6,1,1)=\"\"),NA(),(OFFSET(結果貼付け用!$F17,0,(COLUMN()-3)*6,1,1)))","v":{"$error":"#N/A"}},{"$f":"IF(OR(OFFSET(結果貼付け用!$F17,0,(COLUMN()-3)*6,1,1)=\"-\",OFFSET(結果貼付け用!$F17,0,(COLUMN()-3)*6,1,1)=\"\"),NA(),(OFFSET(結果貼付け用!$F17,0,(COLUMN()-3)*6,1,1)))","v":{"$error":"#N/A"}},{"$f":"IF(OR(OFFSET(結果貼付け用!$F17,0,(COLUMN()-3)*6,1,1)=\"-\",OFFSET(結果貼付け用!$F17,0,(COLUMN()-3)*6,1,1)=\"\"),NA(),(OFFSET(結果貼付け用!$F17,0,(COLUMN()-3)*6,1,1)))","v":{"$error":"#N/A"}},{"$f":"IF(OR(OFFSET(結果貼付け用!$F17,0,(COLUMN()-3)*6,1,1)=\"-\",OFFSET(結果貼付け用!$F17,0,(COLUMN()-3)*6,1,1)=\"\"),NA(),(OFFSET(結果貼付け用!$F17,0,(COLUMN()-3)*6,1,1)))","v":{"$error":"#N/A"}},{"$f":"IF(OR(OFFSET(結果貼付け用!$F17,0,(COLUMN()-3)*6,1,1)=\"-\",OFFSET(結果貼付け用!$F17,0,(COLUMN()-3)*6,1,1)=\"\"),NA(),(OFFSET(結果貼付け用!$F17,0,(COLUMN()-3)*6,1,1)))","v":{"$error":"#N/A"}},{"$f":"IF(OR(OFFSET(結果貼付け用!$F17,0,(COLUMN()-3)*6,1,1)=\"-\",OFFSET(結果貼付け用!$F17,0,(COLUMN()-3)*6,1,1)=\"\"),NA(),(OFFSET(結果貼付け用!$F17,0,(COLUMN()-3)*6,1,1)))","v":{"$error":"#N/A"}},{"$f":"IF(OR(OFFSET(結果貼付け用!$F17,0,(COLUMN()-3)*6,1,1)=\"-\",OFFSET(結果貼付け用!$F17,0,(COLUMN()-3)*6,1,1)=\"\"),NA(),(OFFSET(結果貼付け用!$F17,0,(COLUMN()-3)*6,1,1)))","v":{"$error":"#N/A"}},{"$f":"IF(OR(OFFSET(結果貼付け用!$F17,0,(COLUMN()-3)*6,1,1)=\"-\",OFFSET(結果貼付け用!$F17,0,(COLUMN()-3)*6,1,1)=\"\"),NA(),(OFFSET(結果貼付け用!$F17,0,(COLUMN()-3)*6,1,1)))","v":{"$error":"#N/A"}},{"$f":"IF(OR(OFFSET(結果貼付け用!$F17,0,(COLUMN()-3)*6,1,1)=\"-\",OFFSET(結果貼付け用!$F17,0,(COLUMN()-3)*6,1,1)=\"\"),NA(),(OFFSET(結果貼付け用!$F17,0,(COLUMN()-3)*6,1,1)))","v":{"$error":"#N/A"}},{"$f":"IF(OR(OFFSET(結果貼付け用!$F17,0,(COLUMN()-3)*6,1,1)=\"-\",OFFSET(結果貼付け用!$F17,0,(COLUMN()-3)*6,1,1)=\"\"),NA(),(OFFSET(結果貼付け用!$F17,0,(COLUMN()-3)*6,1,1)))","v":{"$error":"#N/A"}},{"$f":"IF(OR(OFFSET(結果貼付け用!$F17,0,(COLUMN()-3)*6,1,1)=\"-\",OFFSET(結果貼付け用!$F17,0,(COLUMN()-3)*6,1,1)=\"\"),NA(),(OFFSET(結果貼付け用!$F17,0,(COLUMN()-3)*6,1,1)))","v":{"$error":"#N/A"}}]
[null,"上司からの意見尊重",{"$f":"IF(OR(OFFSET(結果貼付け用!$F18,0,(COLUMN()-3)*6,1,1)=\"-\",OFFSET(結果貼付け用!$F18,0,(COLUMN()-3)*6,1,1)=\"\"),NA(),(OFFSET(結果貼付け用!$F18,0,(COLUMN()-3)*6,1,1)))","v":{"$error":"#N/A"}},{"$f":"IF(OR(OFFSET(結果貼付け用!$F18,0,(COLUMN()-3)*6,1,1)=\"-\",OFFSET(結果貼付け用!$F18,0,(COLUMN()-3)*6,1,1)=\"\"),NA(),(OFFSET(結果貼付け用!$F18,0,(COLUMN()-3)*6,1,1)))","v":{"$error":"#N/A"}},{"$f":"IF(OR(OFFSET(結果貼付け用!$F18,0,(COLUMN()-3)*6,1,1)=\"-\",OFFSET(結果貼付け用!$F18,0,(COLUMN()-3)*6,1,1)=\"\"),NA(),(OFFSET(結果貼付け用!$F18,0,(COLUMN()-3)*6,1,1)))","v":{"$error":"#N/A"}},{"$f":"IF(OR(OFFSET(結果貼付け用!$F18,0,(COLUMN()-3)*6,1,1)=\"-\",OFFSET(結果貼付け用!$F18,0,(COLUMN()-3)*6,1,1)=\"\"),NA(),(OFFSET(結果貼付け用!$F18,0,(COLUMN()-3)*6,1,1)))","v":{"$error":"#N/A"}},{"$f":"IF(OR(OFFSET(結果貼付け用!$F18,0,(COLUMN()-3)*6,1,1)=\"-\",OFFSET(結果貼付け用!$F18,0,(COLUMN()-3)*6,1,1)=\"\"),NA(),(OFFSET(結果貼付け用!$F18,0,(COLUMN()-3)*6,1,1)))","v":{"$error":"#N/A"}},{"$f":"IF(OR(OFFSET(結果貼付け用!$F18,0,(COLUMN()-3)*6,1,1)=\"-\",OFFSET(結果貼付け用!$F18,0,(COLUMN()-3)*6,1,1)=\"\"),NA(),(OFFSET(結果貼付け用!$F18,0,(COLUMN()-3)*6,1,1)))","v":{"$error":"#N/A"}},{"$f":"IF(OR(OFFSET(結果貼付け用!$F18,0,(COLUMN()-3)*6,1,1)=\"-\",OFFSET(結果貼付け用!$F18,0,(COLUMN()-3)*6,1,1)=\"\"),NA(),(OFFSET(結果貼付け用!$F18,0,(COLUMN()-3)*6,1,1)))","v":{"$error":"#N/A"}},{"$f":"IF(OR(OFFSET(結果貼付け用!$F18,0,(COLUMN()-3)*6,1,1)=\"-\",OFFSET(結果貼付け用!$F18,0,(COLUMN()-3)*6,1,1)=\"\"),NA(),(OFFSET(結果貼付け用!$F18,0,(COLUMN()-3)*6,1,1)))","v":{"$error":"#N/A"}},{"$f":"IF(OR(OFFSET(結果貼付け用!$F18,0,(COLUMN()-3)*6,1,1)=\"-\",OFFSET(結果貼付け用!$F18,0,(COLUMN()-3)*6,1,1)=\"\"),NA(),(OFFSET(結果貼付け用!$F18,0,(COLUMN()-3)*6,1,1)))","v":{"$error":"#N/A"}},{"$f":"IF(OR(OFFSET(結果貼付け用!$F18,0,(COLUMN()-3)*6,1,1)=\"-\",OFFSET(結果貼付け用!$F18,0,(COLUMN()-3)*6,1,1)=\"\"),NA(),(OFFSET(結果貼付け用!$F18,0,(COLUMN()-3)*6,1,1)))","v":{"$error":"#N/A"}},{"$f":"IF(OR(OFFSET(結果貼付け用!$F18,0,(COLUMN()-3)*6,1,1)=\"-\",OFFSET(結果貼付け用!$F18,0,(COLUMN()-3)*6,1,1)=\"\"),NA(),(OFFSET(結果貼付け用!$F18,0,(COLUMN()-3)*6,1,1)))","v":{"$error":"#N/A"}},{"$f":"IF(OR(OFFSET(結果貼付け用!$F18,0,(COLUMN()-3)*6,1,1)=\"-\",OFFSET(結果貼付け用!$F18,0,(COLUMN()-3)*6,1,1)=\"\"),NA(),(OFFSET(結果貼付け用!$F18,0,(COLUMN()-3)*6,1,1)))","v":{"$error":"#N/A"}},{"$f":"IF(OR(OFFSET(結果貼付け用!$F18,0,(COLUMN()-3)*6,1,1)=\"-\",OFFSET(結果貼付け用!$F18,0,(COLUMN()-3)*6,1,1)=\"\"),NA(),(OFFSET(結果貼付け用!$F18,0,(COLUMN()-3)*6,1,1)))","v":{"$error":"#N/A"}},{"$f":"IF(OR(OFFSET(結果貼付け用!$F18,0,(COLUMN()-3)*6,1,1)=\"-\",OFFSET(結果貼付け用!$F18,0,(COLUMN()-3)*6,1,1)=\"\"),NA(),(OFFSET(結果貼付け用!$F18,0,(COLUMN()-3)*6,1,1)))","v":{"$error":"#N/A"}},{"$f":"IF(OR(OFFSET(結果貼付け用!$F18,0,(COLUMN()-3)*6,1,1)=\"-\",OFFSET(結果貼付け用!$F18,0,(COLUMN()-3)*6,1,1)=\"\"),NA(),(OFFSET(結果貼付け用!$F18,0,(COLUMN()-3)*6,1,1)))","v":{"$error":"#N/A"}},{"$f":"IF(OR(OFFSET(結果貼付け用!$F18,0,(COLUMN()-3)*6,1,1)=\"-\",OFFSET(結果貼付け用!$F18,0,(COLUMN()-3)*6,1,1)=\"\"),NA(),(OFFSET(結果貼付け用!$F18,0,(COLUMN()-3)*6,1,1)))","v":{"$error":"#N/A"}},{"$f":"IF(OR(OFFSET(結果貼付け用!$F18,0,(COLUMN()-3)*6,1,1)=\"-\",OFFSET(結果貼付け用!$F18,0,(COLUMN()-3)*6,1,1)=\"\"),NA(),(OFFSET(結果貼付け用!$F18,0,(COLUMN()-3)*6,1,1)))","v":{"$error":"#N/A"}},{"$f":"IF(OR(OFFSET(結果貼付け用!$F18,0,(COLUMN()-3)*6,1,1)=\"-\",OFFSET(結果貼付け用!$F18,0,(COLUMN()-3)*6,1,1)=\"\"),NA(),(OFFSET(結果貼付け用!$F18,0,(COLUMN()-3)*6,1,1)))","v":{"$error":"#N/A"}},{"$f":"IF(OR(OFFSET(結果貼付け用!$F18,0,(COLUMN()-3)*6,1,1)=\"-\",OFFSET(結果貼付け用!$F18,0,(COLUMN()-3)*6,1,1)=\"\"),NA(),(OFFSET(結果貼付け用!$F18,0,(COLUMN()-3)*6,1,1)))","v":{"$error":"#N/A"}},{"$f":"IF(OR(OFFSET(結果貼付け用!$F18,0,(COLUMN()-3)*6,1,1)=\"-\",OFFSET(結果貼付け用!$F18,0,(COLUMN()-3)*6,1,1)=\"\"),NA(),(OFFSET(結果貼付け用!$F18,0,(COLUMN()-3)*6,1,1)))","v":{"$error":"#N/A"}},{"$f":"IF(OR(OFFSET(結果貼付け用!$F18,0,(COLUMN()-3)*6,1,1)=\"-\",OFFSET(結果貼付け用!$F18,0,(COLUMN()-3)*6,1,1)=\"\"),NA(),(OFFSET(結果貼付け用!$F18,0,(COLUMN()-3)*6,1,1)))","v":{"$error":"#N/A"}},{"$f":"IF(OR(OFFSET(結果貼付け用!$F18,0,(COLUMN()-3)*6,1,1)=\"-\",OFFSET(結果貼付け用!$F18,0,(COLUMN()-3)*6,1,1)=\"\"),NA(),(OFFSET(結果貼付け用!$F18,0,(COLUMN()-3)*6,1,1)))","v":{"$error":"#N/A"}},{"$f":"IF(OR(OFFSET(結果貼付け用!$F18,0,(COLUMN()-3)*6,1,1)=\"-\",OFFSET(結果貼付け用!$F18,0,(COLUMN()-3)*6,1,1)=\"\"),NA(),(OFFSET(結果貼付け用!$F18,0,(COLUMN()-3)*6,1,1)))","v":{"$error":"#N/A"}},{"$f":"IF(OR(OFFSET(結果貼付け用!$F18,0,(COLUMN()-3)*6,1,1)=\"-\",OFFSET(結果貼付け用!$F18,0,(COLUMN()-3)*6,1,1)=\"\"),NA(),(OFFSET(結果貼付け用!$F18,0,(COLUMN()-3)*6,1,1)))","v":{"$error":"#N/A"}},{"$f":"IF(OR(OFFSET(結果貼付け用!$F18,0,(COLUMN()-3)*6,1,1)=\"-\",OFFSET(結果貼付け用!$F18,0,(COLUMN()-3)*6,1,1)=\"\"),NA(),(OFFSET(結果貼付け用!$F18,0,(COLUMN()-3)*6,1,1)))","v":{"$error":"#N/A"}},{"$f":"IF(OR(OFFSET(結果貼付け用!$F18,0,(COLUMN()-3)*6,1,1)=\"-\",OFFSET(結果貼付け用!$F18,0,(COLUMN()-3)*6,1,1)=\"\"),NA(),(OFFSET(結果貼付け用!$F18,0,(COLUMN()-3)*6,1,1)))","v":{"$error":"#N/A"}},{"$f":"IF(OR(OFFSET(結果貼付け用!$F18,0,(COLUMN()-3)*6,1,1)=\"-\",OFFSET(結果貼付け用!$F18,0,(COLUMN()-3)*6,1,1)=\"\"),NA(),(OFFSET(結果貼付け用!$F18,0,(COLUMN()-3)*6,1,1)))","v":{"$error":"#N/A"}},{"$f":"IF(OR(OFFSET(結果貼付け用!$F18,0,(COLUMN()-3)*6,1,1)=\"-\",OFFSET(結果貼付け用!$F18,0,(COLUMN()-3)*6,1,1)=\"\"),NA(),(OFFSET(結果貼付け用!$F18,0,(COLUMN()-3)*6,1,1)))","v":{"$error":"#N/A"}},{"$f":"IF(OR(OFFSET(結果貼付け用!$F18,0,(COLUMN()-3)*6,1,1)=\"-\",OFFSET(結果貼付け用!$F18,0,(COLUMN()-3)*6,1,1)=\"\"),NA(),(OFFSET(結果貼付け用!$F18,0,(COLUMN()-3)*6,1,1)))","v":{"$error":"#N/A"}},{"$f":"IF(OR(OFFSET(結果貼付け用!$F18,0,(COLUMN()-3)*6,1,1)=\"-\",OFFSET(結果貼付け用!$F18,0,(COLUMN()-3)*6,1,1)=\"\"),NA(),(OFFSET(結果貼付け用!$F18,0,(COLUMN()-3)*6,1,1)))","v":{"$error":"#N/A"}}]
[null,"上司からの強みの引き出し",{"$f":"IF(OR(OFFSET(結果貼付け用!$F19,0,(COLUMN()-3)*6,1,1)=\"-\",OFFSET(結果貼付け用!$F19,0,(COLUMN()-3)*6,1,1)=\"\"),NA(),(OFFSET(結果貼付け用!$F19,0,(COLUMN()-3)*6,1,1)))","v":{"$error":"#N/A"}},{"$f":"IF(OR(OFFSET(結果貼付け用!$F19,0,(COLUMN()-3)*6,1,1)=\"-\",OFFSET(結果貼付け用!$F19,0,(COLUMN()-3)*6,1,1)=\"\"),NA(),(OFFSET(結果貼付け用!$F19,0,(COLUMN()-3)*6,1,1)))","v":{"$error":"#N/A"}},{"$f":"IF(OR(OFFSET(結果貼付け用!$F19,0,(COLUMN()-3)*6,1,1)=\"-\",OFFSET(結果貼付け用!$F19,0,(COLUMN()-3)*6,1,1)=\"\"),NA(),(OFFSET(結果貼付け用!$F19,0,(COLUMN()-3)*6,1,1)))","v":{"$error":"#N/A"}},{"$f":"IF(OR(OFFSET(結果貼付け用!$F19,0,(COLUMN()-3)*6,1,1)=\"-\",OFFSET(結果貼付け用!$F19,0,(COLUMN()-3)*6,1,1)=\"\"),NA(),(OFFSET(結果貼付け用!$F19,0,(COLUMN()-3)*6,1,1)))","v":{"$error":"#N/A"}},{"$f":"IF(OR(OFFSET(結果貼付け用!$F19,0,(COLUMN()-3)*6,1,1)=\"-\",OFFSET(結果貼付け用!$F19,0,(COLUMN()-3)*6,1,1)=\"\"),NA(),(OFFSET(結果貼付け用!$F19,0,(COLUMN()-3)*6,1,1)))","v":{"$error":"#N/A"}},{"$f":"IF(OR(OFFSET(結果貼付け用!$F19,0,(COLUMN()-3)*6,1,1)=\"-\",OFFSET(結果貼付け用!$F19,0,(COLUMN()-3)*6,1,1)=\"\"),NA(),(OFFSET(結果貼付け用!$F19,0,(COLUMN()-3)*6,1,1)))","v":{"$error":"#N/A"}},{"$f":"IF(OR(OFFSET(結果貼付け用!$F19,0,(COLUMN()-3)*6,1,1)=\"-\",OFFSET(結果貼付け用!$F19,0,(COLUMN()-3)*6,1,1)=\"\"),NA(),(OFFSET(結果貼付け用!$F19,0,(COLUMN()-3)*6,1,1)))","v":{"$error":"#N/A"}},{"$f":"IF(OR(OFFSET(結果貼付け用!$F19,0,(COLUMN()-3)*6,1,1)=\"-\",OFFSET(結果貼付け用!$F19,0,(COLUMN()-3)*6,1,1)=\"\"),NA(),(OFFSET(結果貼付け用!$F19,0,(COLUMN()-3)*6,1,1)))","v":{"$error":"#N/A"}},{"$f":"IF(OR(OFFSET(結果貼付け用!$F19,0,(COLUMN()-3)*6,1,1)=\"-\",OFFSET(結果貼付け用!$F19,0,(COLUMN()-3)*6,1,1)=\"\"),NA(),(OFFSET(結果貼付け用!$F19,0,(COLUMN()-3)*6,1,1)))","v":{"$error":"#N/A"}},{"$f":"IF(OR(OFFSET(結果貼付け用!$F19,0,(COLUMN()-3)*6,1,1)=\"-\",OFFSET(結果貼付け用!$F19,0,(COLUMN()-3)*6,1,1)=\"\"),NA(),(OFFSET(結果貼付け用!$F19,0,(COLUMN()-3)*6,1,1)))","v":{"$error":"#N/A"}},{"$f":"IF(OR(OFFSET(結果貼付け用!$F19,0,(COLUMN()-3)*6,1,1)=\"-\",OFFSET(結果貼付け用!$F19,0,(COLUMN()-3)*6,1,1)=\"\"),NA(),(OFFSET(結果貼付け用!$F19,0,(COLUMN()-3)*6,1,1)))","v":{"$error":"#N/A"}},{"$f":"IF(OR(OFFSET(結果貼付け用!$F19,0,(COLUMN()-3)*6,1,1)=\"-\",OFFSET(結果貼付け用!$F19,0,(COLUMN()-3)*6,1,1)=\"\"),NA(),(OFFSET(結果貼付け用!$F19,0,(COLUMN()-3)*6,1,1)))","v":{"$error":"#N/A"}},{"$f":"IF(OR(OFFSET(結果貼付け用!$F19,0,(COLUMN()-3)*6,1,1)=\"-\",OFFSET(結果貼付け用!$F19,0,(COLUMN()-3)*6,1,1)=\"\"),NA(),(OFFSET(結果貼付け用!$F19,0,(COLUMN()-3)*6,1,1)))","v":{"$error":"#N/A"}},{"$f":"IF(OR(OFFSET(結果貼付け用!$F19,0,(COLUMN()-3)*6,1,1)=\"-\",OFFSET(結果貼付け用!$F19,0,(COLUMN()-3)*6,1,1)=\"\"),NA(),(OFFSET(結果貼付け用!$F19,0,(COLUMN()-3)*6,1,1)))","v":{"$error":"#N/A"}},{"$f":"IF(OR(OFFSET(結果貼付け用!$F19,0,(COLUMN()-3)*6,1,1)=\"-\",OFFSET(結果貼付け用!$F19,0,(COLUMN()-3)*6,1,1)=\"\"),NA(),(OFFSET(結果貼付け用!$F19,0,(COLUMN()-3)*6,1,1)))","v":{"$error":"#N/A"}},{"$f":"IF(OR(OFFSET(結果貼付け用!$F19,0,(COLUMN()-3)*6,1,1)=\"-\",OFFSET(結果貼付け用!$F19,0,(COLUMN()-3)*6,1,1)=\"\"),NA(),(OFFSET(結果貼付け用!$F19,0,(COLUMN()-3)*6,1,1)))","v":{"$error":"#N/A"}},{"$f":"IF(OR(OFFSET(結果貼付け用!$F19,0,(COLUMN()-3)*6,1,1)=\"-\",OFFSET(結果貼付け用!$F19,0,(COLUMN()-3)*6,1,1)=\"\"),NA(),(OFFSET(結果貼付け用!$F19,0,(COLUMN()-3)*6,1,1)))","v":{"$error":"#N/A"}},{"$f":"IF(OR(OFFSET(結果貼付け用!$F19,0,(COLUMN()-3)*6,1,1)=\"-\",OFFSET(結果貼付け用!$F19,0,(COLUMN()-3)*6,1,1)=\"\"),NA(),(OFFSET(結果貼付け用!$F19,0,(COLUMN()-3)*6,1,1)))","v":{"$error":"#N/A"}},{"$f":"IF(OR(OFFSET(結果貼付け用!$F19,0,(COLUMN()-3)*6,1,1)=\"-\",OFFSET(結果貼付け用!$F19,0,(COLUMN()-3)*6,1,1)=\"\"),NA(),(OFFSET(結果貼付け用!$F19,0,(COLUMN()-3)*6,1,1)))","v":{"$error":"#N/A"}},{"$f":"IF(OR(OFFSET(結果貼付け用!$F19,0,(COLUMN()-3)*6,1,1)=\"-\",OFFSET(結果貼付け用!$F19,0,(COLUMN()-3)*6,1,1)=\"\"),NA(),(OFFSET(結果貼付け用!$F19,0,(COLUMN()-3)*6,1,1)))","v":{"$error":"#N/A"}},{"$f":"IF(OR(OFFSET(結果貼付け用!$F19,0,(COLUMN()-3)*6,1,1)=\"-\",OFFSET(結果貼付け用!$F19,0,(COLUMN()-3)*6,1,1)=\"\"),NA(),(OFFSET(結果貼付け用!$F19,0,(COLUMN()-3)*6,1,1)))","v":{"$error":"#N/A"}},{"$f":"IF(OR(OFFSET(結果貼付け用!$F19,0,(COLUMN()-3)*6,1,1)=\"-\",OFFSET(結果貼付け用!$F19,0,(COLUMN()-3)*6,1,1)=\"\"),NA(),(OFFSET(結果貼付け用!$F19,0,(COLUMN()-3)*6,1,1)))","v":{"$error":"#N/A"}},{"$f":"IF(OR(OFFSET(結果貼付け用!$F19,0,(COLUMN()-3)*6,1,1)=\"-\",OFFSET(結果貼付け用!$F19,0,(COLUMN()-3)*6,1,1)=\"\"),NA(),(OFFSET(結果貼付け用!$F19,0,(COLUMN()-3)*6,1,1)))","v":{"$error":"#N/A"}},{"$f":"IF(OR(OFFSET(結果貼付け用!$F19,0,(COLUMN()-3)*6,1,1)=\"-\",OFFSET(結果貼付け用!$F19,0,(COLUMN()-3)*6,1,1)=\"\"),NA(),(OFFSET(結果貼付け用!$F19,0,(COLUMN()-3)*6,1,1)))","v":{"$error":"#N/A"}},{"$f":"IF(OR(OFFSET(結果貼付け用!$F19,0,(COLUMN()-3)*6,1,1)=\"-\",OFFSET(結果貼付け用!$F19,0,(COLUMN()-3)*6,1,1)=\"\"),NA(),(OFFSET(結果貼付け用!$F19,0,(COLUMN()-3)*6,1,1)))","v":{"$error":"#N/A"}},{"$f":"IF(OR(OFFSET(結果貼付け用!$F19,0,(COLUMN()-3)*6,1,1)=\"-\",OFFSET(結果貼付け用!$F19,0,(COLUMN()-3)*6,1,1)=\"\"),NA(),(OFFSET(結果貼付け用!$F19,0,(COLUMN()-3)*6,1,1)))","v":{"$error":"#N/A"}},{"$f":"IF(OR(OFFSET(結果貼付け用!$F19,0,(COLUMN()-3)*6,1,1)=\"-\",OFFSET(結果貼付け用!$F19,0,(COLUMN()-3)*6,1,1)=\"\"),NA(),(OFFSET(結果貼付け用!$F19,0,(COLUMN()-3)*6,1,1)))","v":{"$error":"#N/A"}},{"$f":"IF(OR(OFFSET(結果貼付け用!$F19,0,(COLUMN()-3)*6,1,1)=\"-\",OFFSET(結果貼付け用!$F19,0,(COLUMN()-3)*6,1,1)=\"\"),NA(),(OFFSET(結果貼付け用!$F19,0,(COLUMN()-3)*6,1,1)))","v":{"$error":"#N/A"}},{"$f":"IF(OR(OFFSET(結果貼付け用!$F19,0,(COLUMN()-3)*6,1,1)=\"-\",OFFSET(結果貼付け用!$F19,0,(COLUMN()-3)*6,1,1)=\"\"),NA(),(OFFSET(結果貼付け用!$F19,0,(COLUMN()-3)*6,1,1)))","v":{"$error":"#N/A"}},{"$f":"IF(OR(OFFSET(結果貼付け用!$F19,0,(COLUMN()-3)*6,1,1)=\"-\",OFFSET(結果貼付け用!$F19,0,(COLUMN()-3)*6,1,1)=\"\"),NA(),(OFFSET(結果貼付け用!$F19,0,(COLUMN()-3)*6,1,1)))","v":{"$error":"#N/A"}}]
[null,"上司からの動機づけ",{"$f":"IF(OR(OFFSET(結果貼付け用!$F20,0,(COLUMN()-3)*6,1,1)=\"-\",OFFSET(結果貼付け用!$F20,0,(COLUMN()-3)*6,1,1)=\"\"),NA(),(OFFSET(結果貼付け用!$F20,0,(COLUMN()-3)*6,1,1)))","v":{"$error":"#N/A"}},{"$f":"IF(OR(OFFSET(結果貼付け用!$F20,0,(COLUMN()-3)*6,1,1)=\"-\",OFFSET(結果貼付け用!$F20,0,(COLUMN()-3)*6,1,1)=\"\"),NA(),(OFFSET(結果貼付け用!$F20,0,(COLUMN()-3)*6,1,1)))","v":{"$error":"#N/A"}},{"$f":"IF(OR(OFFSET(結果貼付け用!$F20,0,(COLUMN()-3)*6,1,1)=\"-\",OFFSET(結果貼付け用!$F20,0,(COLUMN()-3)*6,1,1)=\"\"),NA(),(OFFSET(結果貼付け用!$F20,0,(COLUMN()-3)*6,1,1)))","v":{"$error":"#N/A"}},{"$f":"IF(OR(OFFSET(結果貼付け用!$F20,0,(COLUMN()-3)*6,1,1)=\"-\",OFFSET(結果貼付け用!$F20,0,(COLUMN()-3)*6,1,1)=\"\"),NA(),(OFFSET(結果貼付け用!$F20,0,(COLUMN()-3)*6,1,1)))","v":{"$error":"#N/A"}},{"$f":"IF(OR(OFFSET(結果貼付け用!$F20,0,(COLUMN()-3)*6,1,1)=\"-\",OFFSET(結果貼付け用!$F20,0,(COLUMN()-3)*6,1,1)=\"\"),NA(),(OFFSET(結果貼付け用!$F20,0,(COLUMN()-3)*6,1,1)))","v":{"$error":"#N/A"}},{"$f":"IF(OR(OFFSET(結果貼付け用!$F20,0,(COLUMN()-3)*6,1,1)=\"-\",OFFSET(結果貼付け用!$F20,0,(COLUMN()-3)*6,1,1)=\"\"),NA(),(OFFSET(結果貼付け用!$F20,0,(COLUMN()-3)*6,1,1)))","v":{"$error":"#N/A"}},{"$f":"IF(OR(OFFSET(結果貼付け用!$F20,0,(COLUMN()-3)*6,1,1)=\"-\",OFFSET(結果貼付け用!$F20,0,(COLUMN()-3)*6,1,1)=\"\"),NA(),(OFFSET(結果貼付け用!$F20,0,(COLUMN()-3)*6,1,1)))","v":{"$error":"#N/A"}},{"$f":"IF(OR(OFFSET(結果貼付け用!$F20,0,(COLUMN()-3)*6,1,1)=\"-\",OFFSET(結果貼付け用!$F20,0,(COLUMN()-3)*6,1,1)=\"\"),NA(),(OFFSET(結果貼付け用!$F20,0,(COLUMN()-3)*6,1,1)))","v":{"$error":"#N/A"}},{"$f":"IF(OR(OFFSET(結果貼付け用!$F20,0,(COLUMN()-3)*6,1,1)=\"-\",OFFSET(結果貼付け用!$F20,0,(COLUMN()-3)*6,1,1)=\"\"),NA(),(OFFSET(結果貼付け用!$F20,0,(COLUMN()-3)*6,1,1)))","v":{"$error":"#N/A"}},{"$f":"IF(OR(OFFSET(結果貼付け用!$F20,0,(COLUMN()-3)*6,1,1)=\"-\",OFFSET(結果貼付け用!$F20,0,(COLUMN()-3)*6,1,1)=\"\"),NA(),(OFFSET(結果貼付け用!$F20,0,(COLUMN()-3)*6,1,1)))","v":{"$error":"#N/A"}},{"$f":"IF(OR(OFFSET(結果貼付け用!$F20,0,(COLUMN()-3)*6,1,1)=\"-\",OFFSET(結果貼付け用!$F20,0,(COLUMN()-3)*6,1,1)=\"\"),NA(),(OFFSET(結果貼付け用!$F20,0,(COLUMN()-3)*6,1,1)))","v":{"$error":"#N/A"}},{"$f":"IF(OR(OFFSET(結果貼付け用!$F20,0,(COLUMN()-3)*6,1,1)=\"-\",OFFSET(結果貼付け用!$F20,0,(COLUMN()-3)*6,1,1)=\"\"),NA(),(OFFSET(結果貼付け用!$F20,0,(COLUMN()-3)*6,1,1)))","v":{"$error":"#N/A"}},{"$f":"IF(OR(OFFSET(結果貼付け用!$F20,0,(COLUMN()-3)*6,1,1)=\"-\",OFFSET(結果貼付け用!$F20,0,(COLUMN()-3)*6,1,1)=\"\"),NA(),(OFFSET(結果貼付け用!$F20,0,(COLUMN()-3)*6,1,1)))","v":{"$error":"#N/A"}},{"$f":"IF(OR(OFFSET(結果貼付け用!$F20,0,(COLUMN()-3)*6,1,1)=\"-\",OFFSET(結果貼付け用!$F20,0,(COLUMN()-3)*6,1,1)=\"\"),NA(),(OFFSET(結果貼付け用!$F20,0,(COLUMN()-3)*6,1,1)))","v":{"$error":"#N/A"}},{"$f":"IF(OR(OFFSET(結果貼付け用!$F20,0,(COLUMN()-3)*6,1,1)=\"-\",OFFSET(結果貼付け用!$F20,0,(COLUMN()-3)*6,1,1)=\"\"),NA(),(OFFSET(結果貼付け用!$F20,0,(COLUMN()-3)*6,1,1)))","v":{"$error":"#N/A"}},{"$f":"IF(OR(OFFSET(結果貼付け用!$F20,0,(COLUMN()-3)*6,1,1)=\"-\",OFFSET(結果貼付け用!$F20,0,(COLUMN()-3)*6,1,1)=\"\"),NA(),(OFFSET(結果貼付け用!$F20,0,(COLUMN()-3)*6,1,1)))","v":{"$error":"#N/A"}},{"$f":"IF(OR(OFFSET(結果貼付け用!$F20,0,(COLUMN()-3)*6,1,1)=\"-\",OFFSET(結果貼付け用!$F20,0,(COLUMN()-3)*6,1,1)=\"\"),NA(),(OFFSET(結果貼付け用!$F20,0,(COLUMN()-3)*6,1,1)))","v":{"$error":"#N/A"}},{"$f":"IF(OR(OFFSET(結果貼付け用!$F20,0,(COLUMN()-3)*6,1,1)=\"-\",OFFSET(結果貼付け用!$F20,0,(COLUMN()-3)*6,1,1)=\"\"),NA(),(OFFSET(結果貼付け用!$F20,0,(COLUMN()-3)*6,1,1)))","v":{"$error":"#N/A"}},{"$f":"IF(OR(OFFSET(結果貼付け用!$F20,0,(COLUMN()-3)*6,1,1)=\"-\",OFFSET(結果貼付け用!$F20,0,(COLUMN()-3)*6,1,1)=\"\"),NA(),(OFFSET(結果貼付け用!$F20,0,(COLUMN()-3)*6,1,1)))","v":{"$error":"#N/A"}},{"$f":"IF(OR(OFFSET(結果貼付け用!$F20,0,(COLUMN()-3)*6,1,1)=\"-\",OFFSET(結果貼付け用!$F20,0,(COLUMN()-3)*6,1,1)=\"\"),NA(),(OFFSET(結果貼付け用!$F20,0,(COLUMN()-3)*6,1,1)))","v":{"$error":"#N/A"}},{"$f":"IF(OR(OFFSET(結果貼付け用!$F20,0,(COLUMN()-3)*6,1,1)=\"-\",OFFSET(結果貼付け用!$F20,0,(COLUMN()-3)*6,1,1)=\"\"),NA(),(OFFSET(結果貼付け用!$F20,0,(COLUMN()-3)*6,1,1)))","v":{"$error":"#N/A"}},{"$f":"IF(OR(OFFSET(結果貼付け用!$F20,0,(COLUMN()-3)*6,1,1)=\"-\",OFFSET(結果貼付け用!$F20,0,(COLUMN()-3)*6,1,1)=\"\"),NA(),(OFFSET(結果貼付け用!$F20,0,(COLUMN()-3)*6,1,1)))","v":{"$error":"#N/A"}},{"$f":"IF(OR(OFFSET(結果貼付け用!$F20,0,(COLUMN()-3)*6,1,1)=\"-\",OFFSET(結果貼付け用!$F20,0,(COLUMN()-3)*6,1,1)=\"\"),NA(),(OFFSET(結果貼付け用!$F20,0,(COLUMN()-3)*6,1,1)))","v":{"$error":"#N/A"}},{"$f":"IF(OR(OFFSET(結果貼付け用!$F20,0,(COLUMN()-3)*6,1,1)=\"-\",OFFSET(結果貼付け用!$F20,0,(COLUMN()-3)*6,1,1)=\"\"),NA(),(OFFSET(結果貼付け用!$F20,0,(COLUMN()-3)*6,1,1)))","v":{"$error":"#N/A"}},{"$f":"IF(OR(OFFSET(結果貼付け用!$F20,0,(COLUMN()-3)*6,1,1)=\"-\",OFFSET(結果貼付け用!$F20,0,(COLUMN()-3)*6,1,1)=\"\"),NA(),(OFFSET(結果貼付け用!$F20,0,(COLUMN()-3)*6,1,1)))","v":{"$error":"#N/A"}},{"$f":"IF(OR(OFFSET(結果貼付け用!$F20,0,(COLUMN()-3)*6,1,1)=\"-\",OFFSET(結果貼付け用!$F20,0,(COLUMN()-3)*6,1,1)=\"\"),NA(),(OFFSET(結果貼付け用!$F20,0,(COLUMN()-3)*6,1,1)))","v":{"$error":"#N/A"}},{"$f":"IF(OR(OFFSET(結果貼付け用!$F20,0,(COLUMN()-3)*6,1,1)=\"-\",OFFSET(結果貼付け用!$F20,0,(COLUMN()-3)*6,1,1)=\"\"),NA(),(OFFSET(結果貼付け用!$F20,0,(COLUMN()-3)*6,1,1)))","v":{"$error":"#N/A"}},{"$f":"IF(OR(OFFSET(結果貼付け用!$F20,0,(COLUMN()-3)*6,1,1)=\"-\",OFFSET(結果貼付け用!$F20,0,(COLUMN()-3)*6,1,1)=\"\"),NA(),(OFFSET(結果貼付け用!$F20,0,(COLUMN()-3)*6,1,1)))","v":{"$error":"#N/A"}},{"$f":"IF(OR(OFFSET(結果貼付け用!$F20,0,(COLUMN()-3)*6,1,1)=\"-\",OFFSET(結果貼付け用!$F20,0,(COLUMN()-3)*6,1,1)=\"\"),NA(),(OFFSET(結果貼付け用!$F20,0,(COLUMN()-3)*6,1,1)))","v":{"$error":"#N/A"}},{"$f":"IF(OR(OFFSET(結果貼付け用!$F20,0,(COLUMN()-3)*6,1,1)=\"-\",OFFSET(結果貼付け用!$F20,0,(COLUMN()-3)*6,1,1)=\"\"),NA(),(OFFSET(結果貼付け用!$F20,0,(COLUMN()-3)*6,1,1)))","v":{"$error":"#N/A"}}]
[null,"上司からの適切な仕事支援",{"$f":"IF(OR(OFFSET(結果貼付け用!$F21,0,(COLUMN()-3)*6,1,1)=\"-\",OFFSET(結果貼付け用!$F21,0,(COLUMN()-3)*6,1,1)=\"\"),NA(),(OFFSET(結果貼付け用!$F21,0,(COLUMN()-3)*6,1,1)))","v":{"$error":"#N/A"}},{"$f":"IF(OR(OFFSET(結果貼付け用!$F21,0,(COLUMN()-3)*6,1,1)=\"-\",OFFSET(結果貼付け用!$F21,0,(COLUMN()-3)*6,1,1)=\"\"),NA(),(OFFSET(結果貼付け用!$F21,0,(COLUMN()-3)*6,1,1)))","v":{"$error":"#N/A"}},{"$f":"IF(OR(OFFSET(結果貼付け用!$F21,0,(COLUMN()-3)*6,1,1)=\"-\",OFFSET(結果貼付け用!$F21,0,(COLUMN()-3)*6,1,1)=\"\"),NA(),(OFFSET(結果貼付け用!$F21,0,(COLUMN()-3)*6,1,1)))","v":{"$error":"#N/A"}},{"$f":"IF(OR(OFFSET(結果貼付け用!$F21,0,(COLUMN()-3)*6,1,1)=\"-\",OFFSET(結果貼付け用!$F21,0,(COLUMN()-3)*6,1,1)=\"\"),NA(),(OFFSET(結果貼付け用!$F21,0,(COLUMN()-3)*6,1,1)))","v":{"$error":"#N/A"}},{"$f":"IF(OR(OFFSET(結果貼付け用!$F21,0,(COLUMN()-3)*6,1,1)=\"-\",OFFSET(結果貼付け用!$F21,0,(COLUMN()-3)*6,1,1)=\"\"),NA(),(OFFSET(結果貼付け用!$F21,0,(COLUMN()-3)*6,1,1)))","v":{"$error":"#N/A"}},{"$f":"IF(OR(OFFSET(結果貼付け用!$F21,0,(COLUMN()-3)*6,1,1)=\"-\",OFFSET(結果貼付け用!$F21,0,(COLUMN()-3)*6,1,1)=\"\"),NA(),(OFFSET(結果貼付け用!$F21,0,(COLUMN()-3)*6,1,1)))","v":{"$error":"#N/A"}},{"$f":"IF(OR(OFFSET(結果貼付け用!$F21,0,(COLUMN()-3)*6,1,1)=\"-\",OFFSET(結果貼付け用!$F21,0,(COLUMN()-3)*6,1,1)=\"\"),NA(),(OFFSET(結果貼付け用!$F21,0,(COLUMN()-3)*6,1,1)))","v":{"$error":"#N/A"}},{"$f":"IF(OR(OFFSET(結果貼付け用!$F21,0,(COLUMN()-3)*6,1,1)=\"-\",OFFSET(結果貼付け用!$F21,0,(COLUMN()-3)*6,1,1)=\"\"),NA(),(OFFSET(結果貼付け用!$F21,0,(COLUMN()-3)*6,1,1)))","v":{"$error":"#N/A"}},{"$f":"IF(OR(OFFSET(結果貼付け用!$F21,0,(COLUMN()-3)*6,1,1)=\"-\",OFFSET(結果貼付け用!$F21,0,(COLUMN()-3)*6,1,1)=\"\"),NA(),(OFFSET(結果貼付け用!$F21,0,(COLUMN()-3)*6,1,1)))","v":{"$error":"#N/A"}},{"$f":"IF(OR(OFFSET(結果貼付け用!$F21,0,(COLUMN()-3)*6,1,1)=\"-\",OFFSET(結果貼付け用!$F21,0,(COLUMN()-3)*6,1,1)=\"\"),NA(),(OFFSET(結果貼付け用!$F21,0,(COLUMN()-3)*6,1,1)))","v":{"$error":"#N/A"}},{"$f":"IF(OR(OFFSET(結果貼付け用!$F21,0,(COLUMN()-3)*6,1,1)=\"-\",OFFSET(結果貼付け用!$F21,0,(COLUMN()-3)*6,1,1)=\"\"),NA(),(OFFSET(結果貼付け用!$F21,0,(COLUMN()-3)*6,1,1)))","v":{"$error":"#N/A"}},{"$f":"IF(OR(OFFSET(結果貼付け用!$F21,0,(COLUMN()-3)*6,1,1)=\"-\",OFFSET(結果貼付け用!$F21,0,(COLUMN()-3)*6,1,1)=\"\"),NA(),(OFFSET(結果貼付け用!$F21,0,(COLUMN()-3)*6,1,1)))","v":{"$error":"#N/A"}},{"$f":"IF(OR(OFFSET(結果貼付け用!$F21,0,(COLUMN()-3)*6,1,1)=\"-\",OFFSET(結果貼付け用!$F21,0,(COLUMN()-3)*6,1,1)=\"\"),NA(),(OFFSET(結果貼付け用!$F21,0,(COLUMN()-3)*6,1,1)))","v":{"$error":"#N/A"}},{"$f":"IF(OR(OFFSET(結果貼付け用!$F21,0,(COLUMN()-3)*6,1,1)=\"-\",OFFSET(結果貼付け用!$F21,0,(COLUMN()-3)*6,1,1)=\"\"),NA(),(OFFSET(結果貼付け用!$F21,0,(COLUMN()-3)*6,1,1)))","v":{"$error":"#N/A"}},{"$f":"IF(OR(OFFSET(結果貼付け用!$F21,0,(COLUMN()-3)*6,1,1)=\"-\",OFFSET(結果貼付け用!$F21,0,(COLUMN()-3)*6,1,1)=\"\"),NA(),(OFFSET(結果貼付け用!$F21,0,(COLUMN()-3)*6,1,1)))","v":{"$error":"#N/A"}},{"$f":"IF(OR(OFFSET(結果貼付け用!$F21,0,(COLUMN()-3)*6,1,1)=\"-\",OFFSET(結果貼付け用!$F21,0,(COLUMN()-3)*6,1,1)=\"\"),NA(),(OFFSET(結果貼付け用!$F21,0,(COLUMN()-3)*6,1,1)))","v":{"$error":"#N/A"}},{"$f":"IF(OR(OFFSET(結果貼付け用!$F21,0,(COLUMN()-3)*6,1,1)=\"-\",OFFSET(結果貼付け用!$F21,0,(COLUMN()-3)*6,1,1)=\"\"),NA(),(OFFSET(結果貼付け用!$F21,0,(COLUMN()-3)*6,1,1)))","v":{"$error":"#N/A"}},{"$f":"IF(OR(OFFSET(結果貼付け用!$F21,0,(COLUMN()-3)*6,1,1)=\"-\",OFFSET(結果貼付け用!$F21,0,(COLUMN()-3)*6,1,1)=\"\"),NA(),(OFFSET(結果貼付け用!$F21,0,(COLUMN()-3)*6,1,1)))","v":{"$error":"#N/A"}},{"$f":"IF(OR(OFFSET(結果貼付け用!$F21,0,(COLUMN()-3)*6,1,1)=\"-\",OFFSET(結果貼付け用!$F21,0,(COLUMN()-3)*6,1,1)=\"\"),NA(),(OFFSET(結果貼付け用!$F21,0,(COLUMN()-3)*6,1,1)))","v":{"$error":"#N/A"}},{"$f":"IF(OR(OFFSET(結果貼付け用!$F21,0,(COLUMN()-3)*6,1,1)=\"-\",OFFSET(結果貼付け用!$F21,0,(COLUMN()-3)*6,1,1)=\"\"),NA(),(OFFSET(結果貼付け用!$F21,0,(COLUMN()-3)*6,1,1)))","v":{"$error":"#N/A"}},{"$f":"IF(OR(OFFSET(結果貼付け用!$F21,0,(COLUMN()-3)*6,1,1)=\"-\",OFFSET(結果貼付け用!$F21,0,(COLUMN()-3)*6,1,1)=\"\"),NA(),(OFFSET(結果貼付け用!$F21,0,(COLUMN()-3)*6,1,1)))","v":{"$error":"#N/A"}},{"$f":"IF(OR(OFFSET(結果貼付け用!$F21,0,(COLUMN()-3)*6,1,1)=\"-\",OFFSET(結果貼付け用!$F21,0,(COLUMN()-3)*6,1,1)=\"\"),NA(),(OFFSET(結果貼付け用!$F21,0,(COLUMN()-3)*6,1,1)))","v":{"$error":"#N/A"}},{"$f":"IF(OR(OFFSET(結果貼付け用!$F21,0,(COLUMN()-3)*6,1,1)=\"-\",OFFSET(結果貼付け用!$F21,0,(COLUMN()-3)*6,1,1)=\"\"),NA(),(OFFSET(結果貼付け用!$F21,0,(COLUMN()-3)*6,1,1)))","v":{"$error":"#N/A"}},{"$f":"IF(OR(OFFSET(結果貼付け用!$F21,0,(COLUMN()-3)*6,1,1)=\"-\",OFFSET(結果貼付け用!$F21,0,(COLUMN()-3)*6,1,1)=\"\"),NA(),(OFFSET(結果貼付け用!$F21,0,(COLUMN()-3)*6,1,1)))","v":{"$error":"#N/A"}},{"$f":"IF(OR(OFFSET(結果貼付け用!$F21,0,(COLUMN()-3)*6,1,1)=\"-\",OFFSET(結果貼付け用!$F21,0,(COLUMN()-3)*6,1,1)=\"\"),NA(),(OFFSET(結果貼付け用!$F21,0,(COLUMN()-3)*6,1,1)))","v":{"$error":"#N/A"}},{"$f":"IF(OR(OFFSET(結果貼付け用!$F21,0,(COLUMN()-3)*6,1,1)=\"-\",OFFSET(結果貼付け用!$F21,0,(COLUMN()-3)*6,1,1)=\"\"),NA(),(OFFSET(結果貼付け用!$F21,0,(COLUMN()-3)*6,1,1)))","v":{"$error":"#N/A"}},{"$f":"IF(OR(OFFSET(結果貼付け用!$F21,0,(COLUMN()-3)*6,1,1)=\"-\",OFFSET(結果貼付け用!$F21,0,(COLUMN()-3)*6,1,1)=\"\"),NA(),(OFFSET(結果貼付け用!$F21,0,(COLUMN()-3)*6,1,1)))","v":{"$error":"#N/A"}},{"$f":"IF(OR(OFFSET(結果貼付け用!$F21,0,(COLUMN()-3)*6,1,1)=\"-\",OFFSET(結果貼付け用!$F21,0,(COLUMN()-3)*6,1,1)=\"\"),NA(),(OFFSET(結果貼付け用!$F21,0,(COLUMN()-3)*6,1,1)))","v":{"$error":"#N/A"}},{"$f":"IF(OR(OFFSET(結果貼付け用!$F21,0,(COLUMN()-3)*6,1,1)=\"-\",OFFSET(結果貼付け用!$F21,0,(COLUMN()-3)*6,1,1)=\"\"),NA(),(OFFSET(結果貼付け用!$F21,0,(COLUMN()-3)*6,1,1)))","v":{"$error":"#N/A"}},{"$f":"IF(OR(OFFSET(結果貼付け用!$F21,0,(COLUMN()-3)*6,1,1)=\"-\",OFFSET(結果貼付け用!$F21,0,(COLUMN()-3)*6,1,1)=\"\"),NA(),(OFFSET(結果貼付け用!$F21,0,(COLUMN()-3)*6,1,1)))","v":{"$error":"#N/A"}}]
[]
[]
[]
[]
[]
[]
[]
[]
[]
[]
[]
[]
[]
[]
[]
[]
[]
[]
[]
[]
[null,"実施開始日時",{"$f":"IF(結果貼付け用!B2=\"\",NA(),結果貼付け用!B2)","v":{"$error":"#N/A"}},{"$f":"IF((OFFSET(結果貼付け用!$H$2, 0, (COLUMN() - COLUMN($D$20)) * 6))=\"\",NA(),(OFFSET(結果貼付け用!$H$2, 0, (COLUMN() - COLUMN($D$20)) * 6)))","v":{"$error":"#N/A"}},{"$f":"IF((OFFSET(結果貼付け用!$H$2, 0, (COLUMN() - COLUMN($D$20)) * 6))=\"\",NA(),(OFFSET(結果貼付け用!$H$2, 0, (COLUMN() - COLUMN($D$20)) * 6)))","v":{"$error":"#N/A"}},{"$f":"IF((OFFSET(結果貼付け用!$H$2, 0, (COLUMN() - COLUMN($D$20)) * 6))=\"\",NA(),(OFFSET(結果貼付け用!$H$2, 0, (COLUMN() - COLUMN($D$20)) * 6)))","v":{"$error":"#N/A"}},{"$f":"IF((OFFSET(結果貼付け用!$H$2, 0, (COLUMN() - COLUMN($D$20)) * 6))=\"\",NA(),(OFFSET(結果貼付け用!$H$2, 0, (COLUMN() - COLUMN($D$20)) * 6)))","v":{"$error":"#N/A"}},{"$f":"IF((OFFSET(結果貼付け用!$H$2, 0, (COLUMN() - COLUMN($D$20)) * 6))=\"\",NA(),(OFFSET(結果貼付け用!$H$2, 0, (COLUMN() - COLUMN($D$20)) * 6)))","v":{"$error":"#N/A"}},{"$f":"IF((OFFSET(結果貼付け用!$H$2, 0, (COLUMN() - COLUMN($D$20)) * 6))=\"\",NA(),(OFFSET(結果貼付け用!$H$2, 0, (COLUMN() - COLUMN($D$20)) * 6)))","v":{"$error":"#N/A"}},{"$f":"IF((OFFSET(結果貼付け用!$H$2, 0, (COLUMN() - COLUMN($D$20)) * 6))=\"\",NA(),(OFFSET(結果貼付け用!$H$2, 0, (COLUMN() - COLUMN($D$20)) * 6)))","v":{"$error":"#N/A"}},{"$f":"IF((OFFSET(結果貼付け用!$H$2, 0, (COLUMN() - COLUMN($D$20)) * 6))=\"\",NA(),(OFFSET(結果貼付け用!$H$2, 0, (COLUMN() - COLUMN($D$20)) * 6)))","v":{"$error":"#N/A"}},{"$f":"IF((OFFSET(結果貼付け用!$H$2, 0, (COLUMN() - COLUMN($D$20)) * 6))=\"\",NA(),(OFFSET(結果貼付け用!$H$2, 0, (COLUMN() - COLUMN($D$20)) * 6)))","v":{"$error":"#N/A"}},{"$f":"IF((OFFSET(結果貼付け用!$H$2, 0, (COLUMN() - COLUMN($D$20)) * 6))=\"\",NA(),(OFFSET(結果貼付け用!$H$2, 0, (COLUMN() - COLUMN($D$20)) * 6)))","v":{"$error":"#N/A"}},{"$f":"IF((OFFSET(結果貼付け用!$H$2, 0, (COLUMN() - COLUMN($D$20)) * 6))=\"\",NA(),(OFFSET(結果貼付け用!$H$2, 0, (COLUMN() - COLUMN($D$20)) * 6)))","v":{"$error":"#N/A"}},{"$f":"IF((OFFSET(結果貼付け用!$H$2, 0, (COLUMN() - COLUMN($D$20)) * 6))=\"\",NA(),(OFFSET(結果貼付け用!$H$2, 0, (COLUMN() - COLUMN($D$20)) * 6)))","v":{"$error":"#N/A"}},{"$f":"IF((OFFSET(結果貼付け用!$H$2, 0, (COLUMN() - COLUMN($D$20)) * 6))=\"\",NA(),(OFFSET(結果貼付け用!$H$2, 0, (COLUMN() - COLUMN($D$20)) * 6)))","v":{"$error":"#N/A"}},{"$f":"IF((OFFSET(結果貼付け用!$H$2, 0, (COLUMN() - COLUMN($D$20)) * 6))=\"\",NA(),(OFFSET(結果貼付け用!$H$2, 0, (COLUMN() - COLUMN($D$20)) * 6)))","v":{"$error":"#N/A"}},{"$f":"IF((OFFSET(結果貼付け用!$H$2, 0, (COLUMN() - COLUMN($D$20)) * 6))=\"\",NA(),(OFFSET(結果貼付け用!$H$2, 0, (COLUMN() - COLUMN($D$20)) * 6)))","v":{"$error":"#N/A"}},{"$f":"IF((OFFSET(結果貼付け用!$H$2, 0, (COLUMN() - COLUMN($D$20)) * 6))=\"\",NA(),(OFFSET(結果貼付け用!$H$2, 0, (COLUMN() - COLUMN($D$20)) * 6)))","v":{"$error":"#N/A"}},{"$f":"IF((OFFSET(結果貼付け用!$H$2, 0, (COLUMN() - COLUMN($D$20)) * 6))=\"\",NA(),(OFFSET(結果貼付け用!$H$2, 0, (COLUMN() - COLUMN($D$20)) * 6)))","v":{"$error":"#N/A"}},{"$f":"IF((OFFSET(結果貼付け用!$H$2, 0, (COLUMN() - COLUMN($D$20)) * 6))=\"\",NA(),(OFFSET(結果貼付け用!$H$2, 0, (COLUMN() - COLUMN($D$20)) * 6)))","v":{"$error":"#N/A"}},{"$f":"IF((OFFSET(結果貼付け用!$H$2, 0, (COLUMN() - COLUMN($D$20)) * 6))=\"\",NA(),(OFFSET(結果貼付け用!$H$2, 0, (COLUMN() - COLUMN($D$20)) * 6)))","v":{"$error":"#N/A"}},{"$f":"IF((OFFSET(結果貼付け用!$H$2, 0, (COLUMN() - COLUMN($D$20)) * 6))=\"\",NA(),(OFFSET(結果貼付け用!$H$2, 0, (COLUMN() - COLUMN($D$20)) * 6)))","v":{"$error":"#N/A"}},{"$f":"IF((OFFSET(結果貼付け用!$H$2, 0, (COLUMN() - COLUMN($D$20)) * 6))=\"\",NA(),(OFFSET(結果貼付け用!$H$2, 0, (COLUMN() - COLUMN($D$20)) * 6)))","v":{"$error":"#N/A"}},{"$f":"IF((OFFSET(結果貼付け用!$H$2, 0, (COLUMN() - COLUMN($D$20)) * 6))=\"\",NA(),(OFFSET(結果貼付け用!$H$2, 0, (COLUMN() - COLUMN($D$20)) * 6)))","v":{"$error":"#N/A"}},{"$f":"IF((OFFSET(結果貼付け用!$H$2, 0, (COLUMN() - COLUMN($D$20)) * 6))=\"\",NA(),(OFFSET(結果貼付け用!$H$2, 0, (COLUMN() - COLUMN($D$20)) * 6)))","v":{"$error":"#N/A"}},{"$f":"IF((OFFSET(結果貼付け用!$H$2, 0, (COLUMN() - COLUMN($D$20)) * 6))=\"\",NA(),(OFFSET(結果貼付け用!$H$2, 0, (COLUMN() - COLUMN($D$20)) * 6)))","v":{"$error":"#N/A"}},{"$f":"IF((OFFSET(結果貼付け用!$H$2, 0, (COLUMN() - COLUMN($D$20)) * 6))=\"\",NA(),(OFFSET(結果貼付け用!$H$2, 0, (COLUMN() - COLUMN($D$20)) * 6)))","v":{"$error":"#N/A"}},{"$f":"IF((OFFSET(結果貼付け用!$H$2, 0, (COLUMN() - COLUMN($D$20)) * 6))=\"\",NA(),(OFFSET(結果貼付け用!$H$2, 0, (COLUMN() - COLUMN($D$20)) * 6)))","v":{"$error":"#N/A"}},{"$f":"IF((OFFSET(結果貼付け用!$H$2, 0, (COLUMN() - COLUMN($D$20)) * 6))=\"\",NA(),(OFFSET(結果貼付け用!$H$2, 0, (COLUMN() - COLUMN($D$20)) * 6)))","v":{"$error":"#N/A"}},{"$f":"IF((OFFSET(結果貼付け用!$H$2, 0, (COLUMN() - COLUMN($D$20)) * 6))=\"\",NA(),(OFFSET(結果貼付け用!$H$2, 0, (COLUMN() - COLUMN($D$20)) * 6)))","v":{"$error":"#N/A"}},{"$f":"IF((OFFSET(結果貼付け用!$H$2, 0, (COLUMN() - COLUMN($D$20)) * 6))=\"\",NA(),(OFFSET(結果貼付け用!$H$2, 0, (COLUMN() - COLUMN($D$20)) * 6)))","v":{"$error":"#N/A"}}]
[null,"業務設計",{"$f":"IF(OR(OFFSET(結果貼付け用!$F22,0,(COLUMN()-3)*6,1,1)=\"-\",OFFSET(結果貼付け用!$F22,0,(COLUMN()-3)*6,1,1)=\"\"),NA(),(OFFSET(結果貼付け用!$F22,0,(COLUMN()-3)*6,1,1)))","v":{"$error":"#N/A"}},{"$f":"IF(OR(OFFSET(結果貼付け用!$F22,0,(COLUMN()-3)*6,1,1)=\"-\",OFFSET(結果貼付け用!$F22,0,(COLUMN()-3)*6,1,1)=\"\"),NA(),(OFFSET(結果貼付け用!$F22,0,(COLUMN()-3)*6,1,1)))","v":{"$error":"#N/A"}},{"$f":"IF(OR(OFFSET(結果貼付け用!$F22,0,(COLUMN()-3)*6,1,1)=\"-\",OFFSET(結果貼付け用!$F22,0,(COLUMN()-3)*6,1,1)=\"\"),NA(),(OFFSET(結果貼付け用!$F22,0,(COLUMN()-3)*6,1,1)))","v":{"$error":"#N/A"}},{"$f":"IF(OR(OFFSET(結果貼付け用!$F22,0,(COLUMN()-3)*6,1,1)=\"-\",OFFSET(結果貼付け用!$F22,0,(COLUMN()-3)*6,1,1)=\"\"),NA(),(OFFSET(結果貼付け用!$F22,0,(COLUMN()-3)*6,1,1)))","v":{"$error":"#N/A"}},{"$f":"IF(OR(OFFSET(結果貼付け用!$F22,0,(COLUMN()-3)*6,1,1)=\"-\",OFFSET(結果貼付け用!$F22,0,(COLUMN()-3)*6,1,1)=\"\"),NA(),(OFFSET(結果貼付け用!$F22,0,(COLUMN()-3)*6,1,1)))","v":{"$error":"#N/A"}},{"$f":"IF(OR(OFFSET(結果貼付け用!$F22,0,(COLUMN()-3)*6,1,1)=\"-\",OFFSET(結果貼付け用!$F22,0,(COLUMN()-3)*6,1,1)=\"\"),NA(),(OFFSET(結果貼付け用!$F22,0,(COLUMN()-3)*6,1,1)))","v":{"$error":"#N/A"}},{"$f":"IF(OR(OFFSET(結果貼付け用!$F22,0,(COLUMN()-3)*6,1,1)=\"-\",OFFSET(結果貼付け用!$F22,0,(COLUMN()-3)*6,1,1)=\"\"),NA(),(OFFSET(結果貼付け用!$F22,0,(COLUMN()-3)*6,1,1)))","v":{"$error":"#N/A"}},{"$f":"IF(OR(OFFSET(結果貼付け用!$F22,0,(COLUMN()-3)*6,1,1)=\"-\",OFFSET(結果貼付け用!$F22,0,(COLUMN()-3)*6,1,1)=\"\"),NA(),(OFFSET(結果貼付け用!$F22,0,(COLUMN()-3)*6,1,1)))","v":{"$error":"#N/A"}},{"$f":"IF(OR(OFFSET(結果貼付け用!$F22,0,(COLUMN()-3)*6,1,1)=\"-\",OFFSET(結果貼付け用!$F22,0,(COLUMN()-3)*6,1,1)=\"\"),NA(),(OFFSET(結果貼付け用!$F22,0,(COLUMN()-3)*6,1,1)))","v":{"$error":"#N/A"}},{"$f":"IF(OR(OFFSET(結果貼付け用!$F22,0,(COLUMN()-3)*6,1,1)=\"-\",OFFSET(結果貼付け用!$F22,0,(COLUMN()-3)*6,1,1)=\"\"),NA(),(OFFSET(結果貼付け用!$F22,0,(COLUMN()-3)*6,1,1)))","v":{"$error":"#N/A"}},{"$f":"IF(OR(OFFSET(結果貼付け用!$F22,0,(COLUMN()-3)*6,1,1)=\"-\",OFFSET(結果貼付け用!$F22,0,(COLUMN()-3)*6,1,1)=\"\"),NA(),(OFFSET(結果貼付け用!$F22,0,(COLUMN()-3)*6,1,1)))","v":{"$error":"#N/A"}},{"$f":"IF(OR(OFFSET(結果貼付け用!$F22,0,(COLUMN()-3)*6,1,1)=\"-\",OFFSET(結果貼付け用!$F22,0,(COLUMN()-3)*6,1,1)=\"\"),NA(),(OFFSET(結果貼付け用!$F22,0,(COLUMN()-3)*6,1,1)))","v":{"$error":"#N/A"}},{"$f":"IF(OR(OFFSET(結果貼付け用!$F22,0,(COLUMN()-3)*6,1,1)=\"-\",OFFSET(結果貼付け用!$F22,0,(COLUMN()-3)*6,1,1)=\"\"),NA(),(OFFSET(結果貼付け用!$F22,0,(COLUMN()-3)*6,1,1)))","v":{"$error":"#N/A"}},{"$f":"IF(OR(OFFSET(結果貼付け用!$F22,0,(COLUMN()-3)*6,1,1)=\"-\",OFFSET(結果貼付け用!$F22,0,(COLUMN()-3)*6,1,1)=\"\"),NA(),(OFFSET(結果貼付け用!$F22,0,(COLUMN()-3)*6,1,1)))","v":{"$error":"#N/A"}},{"$f":"IF(OR(OFFSET(結果貼付け用!$F22,0,(COLUMN()-3)*6,1,1)=\"-\",OFFSET(結果貼付け用!$F22,0,(COLUMN()-3)*6,1,1)=\"\"),NA(),(OFFSET(結果貼付け用!$F22,0,(COLUMN()-3)*6,1,1)))","v":{"$error":"#N/A"}},{"$f":"IF(OR(OFFSET(結果貼付け用!$F22,0,(COLUMN()-3)*6,1,1)=\"-\",OFFSET(結果貼付け用!$F22,0,(COLUMN()-3)*6,1,1)=\"\"),NA(),(OFFSET(結果貼付け用!$F22,0,(COLUMN()-3)*6,1,1)))","v":{"$error":"#N/A"}},{"$f":"IF(OR(OFFSET(結果貼付け用!$F22,0,(COLUMN()-3)*6,1,1)=\"-\",OFFSET(結果貼付け用!$F22,0,(COLUMN()-3)*6,1,1)=\"\"),NA(),(OFFSET(結果貼付け用!$F22,0,(COLUMN()-3)*6,1,1)))","v":{"$error":"#N/A"}},{"$f":"IF(OR(OFFSET(結果貼付け用!$F22,0,(COLUMN()-3)*6,1,1)=\"-\",OFFSET(結果貼付け用!$F22,0,(COLUMN()-3)*6,1,1)=\"\"),NA(),(OFFSET(結果貼付け用!$F22,0,(COLUMN()-3)*6,1,1)))","v":{"$error":"#N/A"}},{"$f":"IF(OR(OFFSET(結果貼付け用!$F22,0,(COLUMN()-3)*6,1,1)=\"-\",OFFSET(結果貼付け用!$F22,0,(COLUMN()-3)*6,1,1)=\"\"),NA(),(OFFSET(結果貼付け用!$F22,0,(COLUMN()-3)*6,1,1)))","v":{"$error":"#N/A"}},{"$f":"IF(OR(OFFSET(結果貼付け用!$F22,0,(COLUMN()-3)*6,1,1)=\"-\",OFFSET(結果貼付け用!$F22,0,(COLUMN()-3)*6,1,1)=\"\"),NA(),(OFFSET(結果貼付け用!$F22,0,(COLUMN()-3)*6,1,1)))","v":{"$error":"#N/A"}},{"$f":"IF(OR(OFFSET(結果貼付け用!$F22,0,(COLUMN()-3)*6,1,1)=\"-\",OFFSET(結果貼付け用!$F22,0,(COLUMN()-3)*6,1,1)=\"\"),NA(),(OFFSET(結果貼付け用!$F22,0,(COLUMN()-3)*6,1,1)))","v":{"$error":"#N/A"}},{"$f":"IF(OR(OFFSET(結果貼付け用!$F22,0,(COLUMN()-3)*6,1,1)=\"-\",OFFSET(結果貼付け用!$F22,0,(COLUMN()-3)*6,1,1)=\"\"),NA(),(OFFSET(結果貼付け用!$F22,0,(COLUMN()-3)*6,1,1)))","v":{"$error":"#N/A"}},{"$f":"IF(OR(OFFSET(結果貼付け用!$F22,0,(COLUMN()-3)*6,1,1)=\"-\",OFFSET(結果貼付け用!$F22,0,(COLUMN()-3)*6,1,1)=\"\"),NA(),(OFFSET(結果貼付け用!$F22,0,(COLUMN()-3)*6,1,1)))","v":{"$error":"#N/A"}},{"$f":"IF(OR(OFFSET(結果貼付け用!$F22,0,(COLUMN()-3)*6,1,1)=\"-\",OFFSET(結果貼付け用!$F22,0,(COLUMN()-3)*6,1,1)=\"\"),NA(),(OFFSET(結果貼付け用!$F22,0,(COLUMN()-3)*6,1,1)))","v":{"$error":"#N/A"}},{"$f":"IF(OR(OFFSET(結果貼付け用!$F22,0,(COLUMN()-3)*6,1,1)=\"-\",OFFSET(結果貼付け用!$F22,0,(COLUMN()-3)*6,1,1)=\"\"),NA(),(OFFSET(結果貼付け用!$F22,0,(COLUMN()-3)*6,1,1)))","v":{"$error":"#N/A"}},{"$f":"IF(OR(OFFSET(結果貼付け用!$F22,0,(COLUMN()-3)*6,1,1)=\"-\",OFFSET(結果貼付け用!$F22,0,(COLUMN()-3)*6,1,1)=\"\"),NA(),(OFFSET(結果貼付け用!$F22,0,(COLUMN()-3)*6,1,1)))","v":{"$error":"#N/A"}},{"$f":"IF(OR(OFFSET(結果貼付け用!$F22,0,(COLUMN()-3)*6,1,1)=\"-\",OFFSET(結果貼付け用!$F22,0,(COLUMN()-3)*6,1,1)=\"\"),NA(),(OFFSET(結果貼付け用!$F22,0,(COLUMN()-3)*6,1,1)))","v":{"$error":"#N/A"}},{"$f":"IF(OR(OFFSET(結果貼付け用!$F22,0,(COLUMN()-3)*6,1,1)=\"-\",OFFSET(結果貼付け用!$F22,0,(COLUMN()-3)*6,1,1)=\"\"),NA(),(OFFSET(結果貼付け用!$F22,0,(COLUMN()-3)*6,1,1)))","v":{"$error":"#N/A"}},{"$f":"IF(OR(OFFSET(結果貼付け用!$F22,0,(COLUMN()-3)*6,1,1)=\"-\",OFFSET(結果貼付け用!$F22,0,(COLUMN()-3)*6,1,1)=\"\"),NA(),(OFFSET(結果貼付け用!$F22,0,(COLUMN()-3)*6,1,1)))","v":{"$error":"#N/A"}},{"$f":"IF(OR(OFFSET(結果貼付け用!$F22,0,(COLUMN()-3)*6,1,1)=\"-\",OFFSET(結果貼付け用!$F22,0,(COLUMN()-3)*6,1,1)=\"\"),NA(),(OFFSET(結果貼付け用!$F22,0,(COLUMN()-3)*6,1,1)))","v":{"$error":"#N/A"}}]
[null,"目標達成意識",{"$f":"IF(OR(OFFSET(結果貼付け用!$F23,0,(COLUMN()-3)*6,1,1)=\"-\",OFFSET(結果貼付け用!$F23,0,(COLUMN()-3)*6,1,1)=\"\"),NA(),(OFFSET(結果貼付け用!$F23,0,(COLUMN()-3)*6,1,1)))","v":{"$error":"#N/A"}},{"$f":"IF(OR(OFFSET(結果貼付け用!$F23,0,(COLUMN()-3)*6,1,1)=\"-\",OFFSET(結果貼付け用!$F23,0,(COLUMN()-3)*6,1,1)=\"\"),NA(),(OFFSET(結果貼付け用!$F23,0,(COLUMN()-3)*6,1,1)))","v":{"$error":"#N/A"}},{"$f":"IF(OR(OFFSET(結果貼付け用!$F23,0,(COLUMN()-3)*6,1,1)=\"-\",OFFSET(結果貼付け用!$F23,0,(COLUMN()-3)*6,1,1)=\"\"),NA(),(OFFSET(結果貼付け用!$F23,0,(COLUMN()-3)*6,1,1)))","v":{"$error":"#N/A"}},{"$f":"IF(OR(OFFSET(結果貼付け用!$F23,0,(COLUMN()-3)*6,1,1)=\"-\",OFFSET(結果貼付け用!$F23,0,(COLUMN()-3)*6,1,1)=\"\"),NA(),(OFFSET(結果貼付け用!$F23,0,(COLUMN()-3)*6,1,1)))","v":{"$error":"#N/A"}},{"$f":"IF(OR(OFFSET(結果貼付け用!$F23,0,(COLUMN()-3)*6,1,1)=\"-\",OFFSET(結果貼付け用!$F23,0,(COLUMN()-3)*6,1,1)=\"\"),NA(),(OFFSET(結果貼付け用!$F23,0,(COLUMN()-3)*6,1,1)))","v":{"$error":"#N/A"}},{"$f":"IF(OR(OFFSET(結果貼付け用!$F23,0,(COLUMN()-3)*6,1,1)=\"-\",OFFSET(結果貼付け用!$F23,0,(COLUMN()-3)*6,1,1)=\"\"),NA(),(OFFSET(結果貼付け用!$F23,0,(COLUMN()-3)*6,1,1)))","v":{"$error":"#N/A"}},{"$f":"IF(OR(OFFSET(結果貼付け用!$F23,0,(COLUMN()-3)*6,1,1)=\"-\",OFFSET(結果貼付け用!$F23,0,(COLUMN()-3)*6,1,1)=\"\"),NA(),(OFFSET(結果貼付け用!$F23,0,(COLUMN()-3)*6,1,1)))","v":{"$error":"#N/A"}},{"$f":"IF(OR(OFFSET(結果貼付け用!$F23,0,(COLUMN()-3)*6,1,1)=\"-\",OFFSET(結果貼付け用!$F23,0,(COLUMN()-3)*6,1,1)=\"\"),NA(),(OFFSET(結果貼付け用!$F23,0,(COLUMN()-3)*6,1,1)))","v":{"$error":"#N/A"}},{"$f":"IF(OR(OFFSET(結果貼付け用!$F23,0,(COLUMN()-3)*6,1,1)=\"-\",OFFSET(結果貼付け用!$F23,0,(COLUMN()-3)*6,1,1)=\"\"),NA(),(OFFSET(結果貼付け用!$F23,0,(COLUMN()-3)*6,1,1)))","v":{"$error":"#N/A"}},{"$f":"IF(OR(OFFSET(結果貼付け用!$F23,0,(COLUMN()-3)*6,1,1)=\"-\",OFFSET(結果貼付け用!$F23,0,(COLUMN()-3)*6,1,1)=\"\"),NA(),(OFFSET(結果貼付け用!$F23,0,(COLUMN()-3)*6,1,1)))","v":{"$error":"#N/A"}},{"$f":"IF(OR(OFFSET(結果貼付け用!$F23,0,(COLUMN()-3)*6,1,1)=\"-\",OFFSET(結果貼付け用!$F23,0,(COLUMN()-3)*6,1,1)=\"\"),NA(),(OFFSET(結果貼付け用!$F23,0,(COLUMN()-3)*6,1,1)))","v":{"$error":"#N/A"}},{"$f":"IF(OR(OFFSET(結果貼付け用!$F23,0,(COLUMN()-3)*6,1,1)=\"-\",OFFSET(結果貼付け用!$F23,0,(COLUMN()-3)*6,1,1)=\"\"),NA(),(OFFSET(結果貼付け用!$F23,0,(COLUMN()-3)*6,1,1)))","v":{"$error":"#N/A"}},{"$f":"IF(OR(OFFSET(結果貼付け用!$F23,0,(COLUMN()-3)*6,1,1)=\"-\",OFFSET(結果貼付け用!$F23,0,(COLUMN()-3)*6,1,1)=\"\"),NA(),(OFFSET(結果貼付け用!$F23,0,(COLUMN()-3)*6,1,1)))","v":{"$error":"#N/A"}},{"$f":"IF(OR(OFFSET(結果貼付け用!$F23,0,(COLUMN()-3)*6,1,1)=\"-\",OFFSET(結果貼付け用!$F23,0,(COLUMN()-3)*6,1,1)=\"\"),NA(),(OFFSET(結果貼付け用!$F23,0,(COLUMN()-3)*6,1,1)))","v":{"$error":"#N/A"}},{"$f":"IF(OR(OFFSET(結果貼付け用!$F23,0,(COLUMN()-3)*6,1,1)=\"-\",OFFSET(結果貼付け用!$F23,0,(COLUMN()-3)*6,1,1)=\"\"),NA(),(OFFSET(結果貼付け用!$F23,0,(COLUMN()-3)*6,1,1)))","v":{"$error":"#N/A"}},{"$f":"IF(OR(OFFSET(結果貼付け用!$F23,0,(COLUMN()-3)*6,1,1)=\"-\",OFFSET(結果貼付け用!$F23,0,(COLUMN()-3)*6,1,1)=\"\"),NA(),(OFFSET(結果貼付け用!$F23,0,(COLUMN()-3)*6,1,1)))","v":{"$error":"#N/A"}},{"$f":"IF(OR(OFFSET(結果貼付け用!$F23,0,(COLUMN()-3)*6,1,1)=\"-\",OFFSET(結果貼付け用!$F23,0,(COLUMN()-3)*6,1,1)=\"\"),NA(),(OFFSET(結果貼付け用!$F23,0,(COLUMN()-3)*6,1,1)))","v":{"$error":"#N/A"}},{"$f":"IF(OR(OFFSET(結果貼付け用!$F23,0,(COLUMN()-3)*6,1,1)=\"-\",OFFSET(結果貼付け用!$F23,0,(COLUMN()-3)*6,1,1)=\"\"),NA(),(OFFSET(結果貼付け用!$F23,0,(COLUMN()-3)*6,1,1)))","v":{"$error":"#N/A"}},{"$f":"IF(OR(OFFSET(結果貼付け用!$F23,0,(COLUMN()-3)*6,1,1)=\"-\",OFFSET(結果貼付け用!$F23,0,(COLUMN()-3)*6,1,1)=\"\"),NA(),(OFFSET(結果貼付け用!$F23,0,(COLUMN()-3)*6,1,1)))","v":{"$error":"#N/A"}},{"$f":"IF(OR(OFFSET(結果貼付け用!$F23,0,(COLUMN()-3)*6,1,1)=\"-\",OFFSET(結果貼付け用!$F23,0,(COLUMN()-3)*6,1,1)=\"\"),NA(),(OFFSET(結果貼付け用!$F23,0,(COLUMN()-3)*6,1,1)))","v":{"$error":"#N/A"}},{"$f":"IF(OR(OFFSET(結果貼付け用!$F23,0,(COLUMN()-3)*6,1,1)=\"-\",OFFSET(結果貼付け用!$F23,0,(COLUMN()-3)*6,1,1)=\"\"),NA(),(OFFSET(結果貼付け用!$F23,0,(COLUMN()-3)*6,1,1)))","v":{"$error":"#N/A"}},{"$f":"IF(OR(OFFSET(結果貼付け用!$F23,0,(COLUMN()-3)*6,1,1)=\"-\",OFFSET(結果貼付け用!$F23,0,(COLUMN()-3)*6,1,1)=\"\"),NA(),(OFFSET(結果貼付け用!$F23,0,(COLUMN()-3)*6,1,1)))","v":{"$error":"#N/A"}},{"$f":"IF(OR(OFFSET(結果貼付け用!$F23,0,(COLUMN()-3)*6,1,1)=\"-\",OFFSET(結果貼付け用!$F23,0,(COLUMN()-3)*6,1,1)=\"\"),NA(),(OFFSET(結果貼付け用!$F23,0,(COLUMN()-3)*6,1,1)))","v":{"$error":"#N/A"}},{"$f":"IF(OR(OFFSET(結果貼付け用!$F23,0,(COLUMN()-3)*6,1,1)=\"-\",OFFSET(結果貼付け用!$F23,0,(COLUMN()-3)*6,1,1)=\"\"),NA(),(OFFSET(結果貼付け用!$F23,0,(COLUMN()-3)*6,1,1)))","v":{"$error":"#N/A"}},{"$f":"IF(OR(OFFSET(結果貼付け用!$F23,0,(COLUMN()-3)*6,1,1)=\"-\",OFFSET(結果貼付け用!$F23,0,(COLUMN()-3)*6,1,1)=\"\"),NA(),(OFFSET(結果貼付け用!$F23,0,(COLUMN()-3)*6,1,1)))","v":{"$error":"#N/A"}},{"$f":"IF(OR(OFFSET(結果貼付け用!$F23,0,(COLUMN()-3)*6,1,1)=\"-\",OFFSET(結果貼付け用!$F23,0,(COLUMN()-3)*6,1,1)=\"\"),NA(),(OFFSET(結果貼付け用!$F23,0,(COLUMN()-3)*6,1,1)))","v":{"$error":"#N/A"}},{"$f":"IF(OR(OFFSET(結果貼付け用!$F23,0,(COLUMN()-3)*6,1,1)=\"-\",OFFSET(結果貼付け用!$F23,0,(COLUMN()-3)*6,1,1)=\"\"),NA(),(OFFSET(結果貼付け用!$F23,0,(COLUMN()-3)*6,1,1)))","v":{"$error":"#N/A"}},{"$f":"IF(OR(OFFSET(結果貼付け用!$F23,0,(COLUMN()-3)*6,1,1)=\"-\",OFFSET(結果貼付け用!$F23,0,(COLUMN()-3)*6,1,1)=\"\"),NA(),(OFFSET(結果貼付け用!$F23,0,(COLUMN()-3)*6,1,1)))","v":{"$error":"#N/A"}},{"$f":"IF(OR(OFFSET(結果貼付け用!$F23,0,(COLUMN()-3)*6,1,1)=\"-\",OFFSET(結果貼付け用!$F23,0,(COLUMN()-3)*6,1,1)=\"\"),NA(),(OFFSET(結果貼付け用!$F23,0,(COLUMN()-3)*6,1,1)))","v":{"$error":"#N/A"}},{"$f":"IF(OR(OFFSET(結果貼付け用!$F23,0,(COLUMN()-3)*6,1,1)=\"-\",OFFSET(結果貼付け用!$F23,0,(COLUMN()-3)*6,1,1)=\"\"),NA(),(OFFSET(結果貼付け用!$F23,0,(COLUMN()-3)*6,1,1)))","v":{"$error":"#N/A"}}]
[null,"ストレッチ目標",{"$f":"IF(OR(OFFSET(結果貼付け用!$F24,0,(COLUMN()-3)*6,1,1)=\"-\",OFFSET(結果貼付け用!$F24,0,(COLUMN()-3)*6,1,1)=\"\"),NA(),(OFFSET(結果貼付け用!$F24,0,(COLUMN()-3)*6,1,1)))","v":{"$error":"#N/A"}},{"$f":"IF(OR(OFFSET(結果貼付け用!$F24,0,(COLUMN()-3)*6,1,1)=\"-\",OFFSET(結果貼付け用!$F24,0,(COLUMN()-3)*6,1,1)=\"\"),NA(),(OFFSET(結果貼付け用!$F24,0,(COLUMN()-3)*6,1,1)))","v":{"$error":"#N/A"}},{"$f":"IF(OR(OFFSET(結果貼付け用!$F24,0,(COLUMN()-3)*6,1,1)=\"-\",OFFSET(結果貼付け用!$F24,0,(COLUMN()-3)*6,1,1)=\"\"),NA(),(OFFSET(結果貼付け用!$F24,0,(COLUMN()-3)*6,1,1)))","v":{"$error":"#N/A"}},{"$f":"IF(OR(OFFSET(結果貼付け用!$F24,0,(COLUMN()-3)*6,1,1)=\"-\",OFFSET(結果貼付け用!$F24,0,(COLUMN()-3)*6,1,1)=\"\"),NA(),(OFFSET(結果貼付け用!$F24,0,(COLUMN()-3)*6,1,1)))","v":{"$error":"#N/A"}},{"$f":"IF(OR(OFFSET(結果貼付け用!$F24,0,(COLUMN()-3)*6,1,1)=\"-\",OFFSET(結果貼付け用!$F24,0,(COLUMN()-3)*6,1,1)=\"\"),NA(),(OFFSET(結果貼付け用!$F24,0,(COLUMN()-3)*6,1,1)))","v":{"$error":"#N/A"}},{"$f":"IF(OR(OFFSET(結果貼付け用!$F24,0,(COLUMN()-3)*6,1,1)=\"-\",OFFSET(結果貼付け用!$F24,0,(COLUMN()-3)*6,1,1)=\"\"),NA(),(OFFSET(結果貼付け用!$F24,0,(COLUMN()-3)*6,1,1)))","v":{"$error":"#N/A"}},{"$f":"IF(OR(OFFSET(結果貼付け用!$F24,0,(COLUMN()-3)*6,1,1)=\"-\",OFFSET(結果貼付け用!$F24,0,(COLUMN()-3)*6,1,1)=\"\"),NA(),(OFFSET(結果貼付け用!$F24,0,(COLUMN()-3)*6,1,1)))","v":{"$error":"#N/A"}},{"$f":"IF(OR(OFFSET(結果貼付け用!$F24,0,(COLUMN()-3)*6,1,1)=\"-\",OFFSET(結果貼付け用!$F24,0,(COLUMN()-3)*6,1,1)=\"\"),NA(),(OFFSET(結果貼付け用!$F24,0,(COLUMN()-3)*6,1,1)))","v":{"$error":"#N/A"}},{"$f":"IF(OR(OFFSET(結果貼付け用!$F24,0,(COLUMN()-3)*6,1,1)=\"-\",OFFSET(結果貼付け用!$F24,0,(COLUMN()-3)*6,1,1)=\"\"),NA(),(OFFSET(結果貼付け用!$F24,0,(COLUMN()-3)*6,1,1)))","v":{"$error":"#N/A"}},{"$f":"IF(OR(OFFSET(結果貼付け用!$F24,0,(COLUMN()-3)*6,1,1)=\"-\",OFFSET(結果貼付け用!$F24,0,(COLUMN()-3)*6,1,1)=\"\"),NA(),(OFFSET(結果貼付け用!$F24,0,(COLUMN()-3)*6,1,1)))","v":{"$error":"#N/A"}},{"$f":"IF(OR(OFFSET(結果貼付け用!$F24,0,(COLUMN()-3)*6,1,1)=\"-\",OFFSET(結果貼付け用!$F24,0,(COLUMN()-3)*6,1,1)=\"\"),NA(),(OFFSET(結果貼付け用!$F24,0,(COLUMN()-3)*6,1,1)))","v":{"$error":"#N/A"}},{"$f":"IF(OR(OFFSET(結果貼付け用!$F24,0,(COLUMN()-3)*6,1,1)=\"-\",OFFSET(結果貼付け用!$F24,0,(COLUMN()-3)*6,1,1)=\"\"),NA(),(OFFSET(結果貼付け用!$F24,0,(COLUMN()-3)*6,1,1)))","v":{"$error":"#N/A"}},{"$f":"IF(OR(OFFSET(結果貼付け用!$F24,0,(COLUMN()-3)*6,1,1)=\"-\",OFFSET(結果貼付け用!$F24,0,(COLUMN()-3)*6,1,1)=\"\"),NA(),(OFFSET(結果貼付け用!$F24,0,(COLUMN()-3)*6,1,1)))","v":{"$error":"#N/A"}},{"$f":"IF(OR(OFFSET(結果貼付け用!$F24,0,(COLUMN()-3)*6,1,1)=\"-\",OFFSET(結果貼付け用!$F24,0,(COLUMN()-3)*6,1,1)=\"\"),NA(),(OFFSET(結果貼付け用!$F24,0,(COLUMN()-3)*6,1,1)))","v":{"$error":"#N/A"}},{"$f":"IF(OR(OFFSET(結果貼付け用!$F24,0,(COLUMN()-3)*6,1,1)=\"-\",OFFSET(結果貼付け用!$F24,0,(COLUMN()-3)*6,1,1)=\"\"),NA(),(OFFSET(結果貼付け用!$F24,0,(COLUMN()-3)*6,1,1)))","v":{"$error":"#N/A"}},{"$f":"IF(OR(OFFSET(結果貼付け用!$F24,0,(COLUMN()-3)*6,1,1)=\"-\",OFFSET(結果貼付け用!$F24,0,(COLUMN()-3)*6,1,1)=\"\"),NA(),(OFFSET(結果貼付け用!$F24,0,(COLUMN()-3)*6,1,1)))","v":{"$error":"#N/A"}},{"$f":"IF(OR(OFFSET(結果貼付け用!$F24,0,(COLUMN()-3)*6,1,1)=\"-\",OFFSET(結果貼付け用!$F24,0,(COLUMN()-3)*6,1,1)=\"\"),NA(),(OFFSET(結果貼付け用!$F24,0,(COLUMN()-3)*6,1,1)))","v":{"$error":"#N/A"}},{"$f":"IF(OR(OFFSET(結果貼付け用!$F24,0,(COLUMN()-3)*6,1,1)=\"-\",OFFSET(結果貼付け用!$F24,0,(COLUMN()-3)*6,1,1)=\"\"),NA(),(OFFSET(結果貼付け用!$F24,0,(COLUMN()-3)*6,1,1)))","v":{"$error":"#N/A"}},{"$f":"IF(OR(OFFSET(結果貼付け用!$F24,0,(COLUMN()-3)*6,1,1)=\"-\",OFFSET(結果貼付け用!$F24,0,(COLUMN()-3)*6,1,1)=\"\"),NA(),(OFFSET(結果貼付け用!$F24,0,(COLUMN()-3)*6,1,1)))","v":{"$error":"#N/A"}},{"$f":"IF(OR(OFFSET(結果貼付け用!$F24,0,(COLUMN()-3)*6,1,1)=\"-\",OFFSET(結果貼付け用!$F24,0,(COLUMN()-3)*6,1,1)=\"\"),NA(),(OFFSET(結果貼付け用!$F24,0,(COLUMN()-3)*6,1,1)))","v":{"$error":"#N/A"}},{"$f":"IF(OR(OFFSET(結果貼付け用!$F24,0,(COLUMN()-3)*6,1,1)=\"-\",OFFSET(結果貼付け用!$F24,0,(COLUMN()-3)*6,1,1)=\"\"),NA(),(OFFSET(結果貼付け用!$F24,0,(COLUMN()-3)*6,1,1)))","v":{"$error":"#N/A"}},{"$f":"IF(OR(OFFSET(結果貼付け用!$F24,0,(COLUMN()-3)*6,1,1)=\"-\",OFFSET(結果貼付け用!$F24,0,(COLUMN()-3)*6,1,1)=\"\"),NA(),(OFFSET(結果貼付け用!$F24,0,(COLUMN()-3)*6,1,1)))","v":{"$error":"#N/A"}},{"$f":"IF(OR(OFFSET(結果貼付け用!$F24,0,(COLUMN()-3)*6,1,1)=\"-\",OFFSET(結果貼付け用!$F24,0,(COLUMN()-3)*6,1,1)=\"\"),NA(),(OFFSET(結果貼付け用!$F24,0,(COLUMN()-3)*6,1,1)))","v":{"$error":"#N/A"}},{"$f":"IF(OR(OFFSET(結果貼付け用!$F24,0,(COLUMN()-3)*6,1,1)=\"-\",OFFSET(結果貼付け用!$F24,0,(COLUMN()-3)*6,1,1)=\"\"),NA(),(OFFSET(結果貼付け用!$F24,0,(COLUMN()-3)*6,1,1)))","v":{"$error":"#N/A"}},{"$f":"IF(OR(OFFSET(結果貼付け用!$F24,0,(COLUMN()-3)*6,1,1)=\"-\",OFFSET(結果貼付け用!$F24,0,(COLUMN()-3)*6,1,1)=\"\"),NA(),(OFFSET(結果貼付け用!$F24,0,(COLUMN()-3)*6,1,1)))","v":{"$error":"#N/A"}},{"$f":"IF(OR(OFFSET(結果貼付け用!$F24,0,(COLUMN()-3)*6,1,1)=\"-\",OFFSET(結果貼付け用!$F24,0,(COLUMN()-3)*6,1,1)=\"\"),NA(),(OFFSET(結果貼付け用!$F24,0,(COLUMN()-3)*6,1,1)))","v":{"$error":"#N/A"}},{"$f":"IF(OR(OFFSET(結果貼付け用!$F24,0,(COLUMN()-3)*6,1,1)=\"-\",OFFSET(結果貼付け用!$F24,0,(COLUMN()-3)*6,1,1)=\"\"),NA(),(OFFSET(結果貼付け用!$F24,0,(COLUMN()-3)*6,1,1)))","v":{"$error":"#N/A"}},{"$f":"IF(OR(OFFSET(結果貼付け用!$F24,0,(COLUMN()-3)*6,1,1)=\"-\",OFFSET(結果貼付け用!$F24,0,(COLUMN()-3)*6,1,1)=\"\"),NA(),(OFFSET(結果貼付け用!$F24,0,(COLUMN()-3)*6,1,1)))","v":{"$error":"#N/A"}},{"$f":"IF(OR(OFFSET(結果貼付け用!$F24,0,(COLUMN()-3)*6,1,1)=\"-\",OFFSET(結果貼付け用!$F24,0,(COLUMN()-3)*6,1,1)=\"\"),NA(),(OFFSET(結果貼付け用!$F24,0,(COLUMN()-3)*6,1,1)))","v":{"$error":"#N/A"}},{"$f":"IF(OR(OFFSET(結果貼付け用!$F24,0,(COLUMN()-3)*6,1,1)=\"-\",OFFSET(結果貼付け用!$F24,0,(COLUMN()-3)*6,1,1)=\"\"),NA(),(OFFSET(結果貼付け用!$F24,0,(COLUMN()-3)*6,1,1)))","v":{"$error":"#N/A"}}]
[null,"協働必要性",{"$f":"IF(OR(OFFSET(結果貼付け用!$F25,0,(COLUMN()-3)*6,1,1)=\"-\",OFFSET(結果貼付け用!$F25,0,(COLUMN()-3)*6,1,1)=\"\"),NA(),(OFFSET(結果貼付け用!$F25,0,(COLUMN()-3)*6,1,1)))","v":{"$error":"#N/A"}},{"$f":"IF(OR(OFFSET(結果貼付け用!$F25,0,(COLUMN()-3)*6,1,1)=\"-\",OFFSET(結果貼付け用!$F25,0,(COLUMN()-3)*6,1,1)=\"\"),NA(),(OFFSET(結果貼付け用!$F25,0,(COLUMN()-3)*6,1,1)))","v":{"$error":"#N/A"}},{"$f":"IF(OR(OFFSET(結果貼付け用!$F25,0,(COLUMN()-3)*6,1,1)=\"-\",OFFSET(結果貼付け用!$F25,0,(COLUMN()-3)*6,1,1)=\"\"),NA(),(OFFSET(結果貼付け用!$F25,0,(COLUMN()-3)*6,1,1)))","v":{"$error":"#N/A"}},{"$f":"IF(OR(OFFSET(結果貼付け用!$F25,0,(COLUMN()-3)*6,1,1)=\"-\",OFFSET(結果貼付け用!$F25,0,(COLUMN()-3)*6,1,1)=\"\"),NA(),(OFFSET(結果貼付け用!$F25,0,(COLUMN()-3)*6,1,1)))","v":{"$error":"#N/A"}},{"$f":"IF(OR(OFFSET(結果貼付け用!$F25,0,(COLUMN()-3)*6,1,1)=\"-\",OFFSET(結果貼付け用!$F25,0,(COLUMN()-3)*6,1,1)=\"\"),NA(),(OFFSET(結果貼付け用!$F25,0,(COLUMN()-3)*6,1,1)))","v":{"$error":"#N/A"}},{"$f":"IF(OR(OFFSET(結果貼付け用!$F25,0,(COLUMN()-3)*6,1,1)=\"-\",OFFSET(結果貼付け用!$F25,0,(COLUMN()-3)*6,1,1)=\"\"),NA(),(OFFSET(結果貼付け用!$F25,0,(COLUMN()-3)*6,1,1)))","v":{"$error":"#N/A"}},{"$f":"IF(OR(OFFSET(結果貼付け用!$F25,0,(COLUMN()-3)*6,1,1)=\"-\",OFFSET(結果貼付け用!$F25,0,(COLUMN()-3)*6,1,1)=\"\"),NA(),(OFFSET(結果貼付け用!$F25,0,(COLUMN()-3)*6,1,1)))","v":{"$error":"#N/A"}},{"$f":"IF(OR(OFFSET(結果貼付け用!$F25,0,(COLUMN()-3)*6,1,1)=\"-\",OFFSET(結果貼付け用!$F25,0,(COLUMN()-3)*6,1,1)=\"\"),NA(),(OFFSET(結果貼付け用!$F25,0,(COLUMN()-3)*6,1,1)))","v":{"$error":"#N/A"}},{"$f":"IF(OR(OFFSET(結果貼付け用!$F25,0,(COLUMN()-3)*6,1,1)=\"-\",OFFSET(結果貼付け用!$F25,0,(COLUMN()-3)*6,1,1)=\"\"),NA(),(OFFSET(結果貼付け用!$F25,0,(COLUMN()-3)*6,1,1)))","v":{"$error":"#N/A"}},{"$f":"IF(OR(OFFSET(結果貼付け用!$F25,0,(COLUMN()-3)*6,1,1)=\"-\",OFFSET(結果貼付け用!$F25,0,(COLUMN()-3)*6,1,1)=\"\"),NA(),(OFFSET(結果貼付け用!$F25,0,(COLUMN()-3)*6,1,1)))","v":{"$error":"#N/A"}},{"$f":"IF(OR(OFFSET(結果貼付け用!$F25,0,(COLUMN()-3)*6,1,1)=\"-\",OFFSET(結果貼付け用!$F25,0,(COLUMN()-3)*6,1,1)=\"\"),NA(),(OFFSET(結果貼付け用!$F25,0,(COLUMN()-3)*6,1,1)))","v":{"$error":"#N/A"}},{"$f":"IF(OR(OFFSET(結果貼付け用!$F25,0,(COLUMN()-3)*6,1,1)=\"-\",OFFSET(結果貼付け用!$F25,0,(COLUMN()-3)*6,1,1)=\"\"),NA(),(OFFSET(結果貼付け用!$F25,0,(COLUMN()-3)*6,1,1)))","v":{"$error":"#N/A"}},{"$f":"IF(OR(OFFSET(結果貼付け用!$F25,0,(COLUMN()-3)*6,1,1)=\"-\",OFFSET(結果貼付け用!$F25,0,(COLUMN()-3)*6,1,1)=\"\"),NA(),(OFFSET(結果貼付け用!$F25,0,(COLUMN()-3)*6,1,1)))","v":{"$error":"#N/A"}},{"$f":"IF(OR(OFFSET(結果貼付け用!$F25,0,(COLUMN()-3)*6,1,1)=\"-\",OFFSET(結果貼付け用!$F25,0,(COLUMN()-3)*6,1,1)=\"\"),NA(),(OFFSET(結果貼付け用!$F25,0,(COLUMN()-3)*6,1,1)))","v":{"$error":"#N/A"}},{"$f":"IF(OR(OFFSET(結果貼付け用!$F25,0,(COLUMN()-3)*6,1,1)=\"-\",OFFSET(結果貼付け用!$F25,0,(COLUMN()-3)*6,1,1)=\"\"),NA(),(OFFSET(結果貼付け用!$F25,0,(COLUMN()-3)*6,1,1)))","v":{"$error":"#N/A"}},{"$f":"IF(OR(OFFSET(結果貼付け用!$F25,0,(COLUMN()-3)*6,1,1)=\"-\",OFFSET(結果貼付け用!$F25,0,(COLUMN()-3)*6,1,1)=\"\"),NA(),(OFFSET(結果貼付け用!$F25,0,(COLUMN()-3)*6,1,1)))","v":{"$error":"#N/A"}},{"$f":"IF(OR(OFFSET(結果貼付け用!$F25,0,(COLUMN()-3)*6,1,1)=\"-\",OFFSET(結果貼付け用!$F25,0,(COLUMN()-3)*6,1,1)=\"\"),NA(),(OFFSET(結果貼付け用!$F25,0,(COLUMN()-3)*6,1,1)))","v":{"$error":"#N/A"}},{"$f":"IF(OR(OFFSET(結果貼付け用!$F25,0,(COLUMN()-3)*6,1,1)=\"-\",OFFSET(結果貼付け用!$F25,0,(COLUMN()-3)*6,1,1)=\"\"),NA(),(OFFSET(結果貼付け用!$F25,0,(COLUMN()-3)*6,1,1)))","v":{"$error":"#N/A"}},{"$f":"IF(OR(OFFSET(結果貼付け用!$F25,0,(COLUMN()-3)*6,1,1)=\"-\",OFFSET(結果貼付け用!$F25,0,(COLUMN()-3)*6,1,1)=\"\"),NA(),(OFFSET(結果貼付け用!$F25,0,(COLUMN()-3)*6,1,1)))","v":{"$error":"#N/A"}},{"$f":"IF(OR(OFFSET(結果貼付け用!$F25,0,(COLUMN()-3)*6,1,1)=\"-\",OFFSET(結果貼付け用!$F25,0,(COLUMN()-3)*6,1,1)=\"\"),NA(),(OFFSET(結果貼付け用!$F25,0,(COLUMN()-3)*6,1,1)))","v":{"$error":"#N/A"}},{"$f":"IF(OR(OFFSET(結果貼付け用!$F25,0,(COLUMN()-3)*6,1,1)=\"-\",OFFSET(結果貼付け用!$F25,0,(COLUMN()-3)*6,1,1)=\"\"),NA(),(OFFSET(結果貼付け用!$F25,0,(COLUMN()-3)*6,1,1)))","v":{"$error":"#N/A"}},{"$f":"IF(OR(OFFSET(結果貼付け用!$F25,0,(COLUMN()-3)*6,1,1)=\"-\",OFFSET(結果貼付け用!$F25,0,(COLUMN()-3)*6,1,1)=\"\"),NA(),(OFFSET(結果貼付け用!$F25,0,(COLUMN()-3)*6,1,1)))","v":{"$error":"#N/A"}},{"$f":"IF(OR(OFFSET(結果貼付け用!$F25,0,(COLUMN()-3)*6,1,1)=\"-\",OFFSET(結果貼付け用!$F25,0,(COLUMN()-3)*6,1,1)=\"\"),NA(),(OFFSET(結果貼付け用!$F25,0,(COLUMN()-3)*6,1,1)))","v":{"$error":"#N/A"}},{"$f":"IF(OR(OFFSET(結果貼付け用!$F25,0,(COLUMN()-3)*6,1,1)=\"-\",OFFSET(結果貼付け用!$F25,0,(COLUMN()-3)*6,1,1)=\"\"),NA(),(OFFSET(結果貼付け用!$F25,0,(COLUMN()-3)*6,1,1)))","v":{"$error":"#N/A"}},{"$f":"IF(OR(OFFSET(結果貼付け用!$F25,0,(COLUMN()-3)*6,1,1)=\"-\",OFFSET(結果貼付け用!$F25,0,(COLUMN()-3)*6,1,1)=\"\"),NA(),(OFFSET(結果貼付け用!$F25,0,(COLUMN()-3)*6,1,1)))","v":{"$error":"#N/A"}},{"$f":"IF(OR(OFFSET(結果貼付け用!$F25,0,(COLUMN()-3)*6,1,1)=\"-\",OFFSET(結果貼付け用!$F25,0,(COLUMN()-3)*6,1,1)=\"\"),NA(),(OFFSET(結果貼付け用!$F25,0,(COLUMN()-3)*6,1,1)))","v":{"$error":"#N/A"}},{"$f":"IF(OR(OFFSET(結果貼付け用!$F25,0,(COLUMN()-3)*6,1,1)=\"-\",OFFSET(結果貼付け用!$F25,0,(COLUMN()-3)*6,1,1)=\"\"),NA(),(OFFSET(結果貼付け用!$F25,0,(COLUMN()-3)*6,1,1)))","v":{"$error":"#N/A"}},{"$f":"IF(OR(OFFSET(結果貼付け用!$F25,0,(COLUMN()-3)*6,1,1)=\"-\",OFFSET(結果貼付け用!$F25,0,(COLUMN()-3)*6,1,1)=\"\"),NA(),(OFFSET(結果貼付け用!$F25,0,(COLUMN()-3)*6,1,1)))","v":{"$error":"#N/A"}},{"$f":"IF(OR(OFFSET(結果貼付け用!$F25,0,(COLUMN()-3)*6,1,1)=\"-\",OFFSET(結果貼付け用!$F25,0,(COLUMN()-3)*6,1,1)=\"\"),NA(),(OFFSET(結果貼付け用!$F25,0,(COLUMN()-3)*6,1,1)))","v":{"$error":"#N/A"}},{"$f":"IF(OR(OFFSET(結果貼付け用!$F25,0,(COLUMN()-3)*6,1,1)=\"-\",OFFSET(結果貼付け用!$F25,0,(COLUMN()-3)*6,1,1)=\"\"),NA(),(OFFSET(結果貼付け用!$F25,0,(COLUMN()-3)*6,1,1)))","v":{"$error":"#N/A"}}]
[]
[]
[]
[]
[]
[]
[]
[]
[]
[]
[]
[]
[]
[]
[]
[]
[]
[]
[]
[]
[null,"実施開始日時",{"$f":"IF(結果貼付け用!B2=\"\",NA(),結果貼付け用!B2)","v":{"$error":"#N/A"}},{"$f":"IF((OFFSET(結果貼付け用!$H$2, 0, (COLUMN() - COLUMN($D$20)) * 6))=\"\",NA(),(OFFSET(結果貼付け用!$H$2, 0, (COLUMN() - COLUMN($D$20)) * 6)))","v":{"$error":"#N/A"}},{"$f":"IF((OFFSET(結果貼付け用!$H$2, 0, (COLUMN() - COLUMN($D$20)) * 6))=\"\",NA(),(OFFSET(結果貼付け用!$H$2, 0, (COLUMN() - COLUMN($D$20)) * 6)))","v":{"$error":"#N/A"}},{"$f":"IF((OFFSET(結果貼付け用!$H$2, 0, (COLUMN() - COLUMN($D$20)) * 6))=\"\",NA(),(OFFSET(結果貼付け用!$H$2, 0, (COLUMN() - COLUMN($D$20)) * 6)))","v":{"$error":"#N/A"}},{"$f":"IF((OFFSET(結果貼付け用!$H$2, 0, (COLUMN() - COLUMN($D$20)) * 6))=\"\",NA(),(OFFSET(結果貼付け用!$H$2, 0, (COLUMN() - COLUMN($D$20)) * 6)))","v":{"$error":"#N/A"}},{"$f":"IF((OFFSET(結果貼付け用!$H$2, 0, (COLUMN() - COLUMN($D$20)) * 6))=\"\",NA(),(OFFSET(結果貼付け用!$H$2, 0, (COLUMN() - COLUMN($D$20)) * 6)))","v":{"$error":"#N/A"}},{"$f":"IF((OFFSET(結果貼付け用!$H$2, 0, (COLUMN() - COLUMN($D$20)) * 6))=\"\",NA(),(OFFSET(結果貼付け用!$H$2, 0, (COLUMN() - COLUMN($D$20)) * 6)))","v":{"$error":"#N/A"}},{"$f":"IF((OFFSET(結果貼付け用!$H$2, 0, (COLUMN() - COLUMN($D$20)) * 6))=\"\",NA(),(OFFSET(結果貼付け用!$H$2, 0, (COLUMN() - COLUMN($D$20)) * 6)))","v":{"$error":"#N/A"}},{"$f":"IF((OFFSET(結果貼付け用!$H$2, 0, (COLUMN() - COLUMN($D$20)) * 6))=\"\",NA(),(OFFSET(結果貼付け用!$H$2, 0, (COLUMN() - COLUMN($D$20)) * 6)))","v":{"$error":"#N/A"}},{"$f":"IF((OFFSET(結果貼付け用!$H$2, 0, (COLUMN() - COLUMN($D$20)) * 6))=\"\",NA(),(OFFSET(結果貼付け用!$H$2, 0, (COLUMN() - COLUMN($D$20)) * 6)))","v":{"$error":"#N/A"}},{"$f":"IF((OFFSET(結果貼付け用!$H$2, 0, (COLUMN() - COLUMN($D$20)) * 6))=\"\",NA(),(OFFSET(結果貼付け用!$H$2, 0, (COLUMN() - COLUMN($D$20)) * 6)))","v":{"$error":"#N/A"}},{"$f":"IF((OFFSET(結果貼付け用!$H$2, 0, (COLUMN() - COLUMN($D$20)) * 6))=\"\",NA(),(OFFSET(結果貼付け用!$H$2, 0, (COLUMN() - COLUMN($D$20)) * 6)))","v":{"$error":"#N/A"}},{"$f":"IF((OFFSET(結果貼付け用!$H$2, 0, (COLUMN() - COLUMN($D$20)) * 6))=\"\",NA(),(OFFSET(結果貼付け用!$H$2, 0, (COLUMN() - COLUMN($D$20)) * 6)))","v":{"$error":"#N/A"}},{"$f":"IF((OFFSET(結果貼付け用!$H$2, 0, (COLUMN() - COLUMN($D$20)) * 6))=\"\",NA(),(OFFSET(結果貼付け用!$H$2, 0, (COLUMN() - COLUMN($D$20)) * 6)))","v":{"$error":"#N/A"}},{"$f":"IF((OFFSET(結果貼付け用!$H$2, 0, (COLUMN() - COLUMN($D$20)) * 6))=\"\",NA(),(OFFSET(結果貼付け用!$H$2, 0, (COLUMN() - COLUMN($D$20)) * 6)))","v":{"$error":"#N/A"}},{"$f":"IF((OFFSET(結果貼付け用!$H$2, 0, (COLUMN() - COLUMN($D$20)) * 6))=\"\",NA(),(OFFSET(結果貼付け用!$H$2, 0, (COLUMN() - COLUMN($D$20)) * 6)))","v":{"$error":"#N/A"}},{"$f":"IF((OFFSET(結果貼付け用!$H$2, 0, (COLUMN() - COLUMN($D$20)) * 6))=\"\",NA(),(OFFSET(結果貼付け用!$H$2, 0, (COLUMN() - COLUMN($D$20)) * 6)))","v":{"$error":"#N/A"}},{"$f":"IF((OFFSET(結果貼付け用!$H$2, 0, (COLUMN() - COLUMN($D$20)) * 6))=\"\",NA(),(OFFSET(結果貼付け用!$H$2, 0, (COLUMN() - COLUMN($D$20)) * 6)))","v":{"$error":"#N/A"}},{"$f":"IF((OFFSET(結果貼付け用!$H$2, 0, (COLUMN() - COLUMN($D$20)) * 6))=\"\",NA(),(OFFSET(結果貼付け用!$H$2, 0, (COLUMN() - COLUMN($D$20)) * 6)))","v":{"$error":"#N/A"}},{"$f":"IF((OFFSET(結果貼付け用!$H$2, 0, (COLUMN() - COLUMN($D$20)) * 6))=\"\",NA(),(OFFSET(結果貼付け用!$H$2, 0, (COLUMN() - COLUMN($D$20)) * 6)))","v":{"$error":"#N/A"}},{"$f":"IF((OFFSET(結果貼付け用!$H$2, 0, (COLUMN() - COLUMN($D$20)) * 6))=\"\",NA(),(OFFSET(結果貼付け用!$H$2, 0, (COLUMN() - COLUMN($D$20)) * 6)))","v":{"$error":"#N/A"}},{"$f":"IF((OFFSET(結果貼付け用!$H$2, 0, (COLUMN() - COLUMN($D$20)) * 6))=\"\",NA(),(OFFSET(結果貼付け用!$H$2, 0, (COLUMN() - COLUMN($D$20)) * 6)))","v":{"$error":"#N/A"}},{"$f":"IF((OFFSET(結果貼付け用!$H$2, 0, (COLUMN() - COLUMN($D$20)) * 6))=\"\",NA(),(OFFSET(結果貼付け用!$H$2, 0, (COLUMN() - COLUMN($D$20)) * 6)))","v":{"$error":"#N/A"}},{"$f":"IF((OFFSET(結果貼付け用!$H$2, 0, (COLUMN() - COLUMN($D$20)) * 6))=\"\",NA(),(OFFSET(結果貼付け用!$H$2, 0, (COLUMN() - COLUMN($D$20)) * 6)))","v":{"$error":"#N/A"}},{"$f":"IF((OFFSET(結果貼付け用!$H$2, 0, (COLUMN() - COLUMN($D$20)) * 6))=\"\",NA(),(OFFSET(結果貼付け用!$H$2, 0, (COLUMN() - COLUMN($D$20)) * 6)))","v":{"$error":"#N/A"}},{"$f":"IF((OFFSET(結果貼付け用!$H$2, 0, (COLUMN() - COLUMN($D$20)) * 6))=\"\",NA(),(OFFSET(結果貼付け用!$H$2, 0, (COLUMN() - COLUMN($D$20)) * 6)))","v":{"$error":"#N/A"}},{"$f":"IF((OFFSET(結果貼付け用!$H$2, 0, (COLUMN() - COLUMN($D$20)) * 6))=\"\",NA(),(OFFSET(結果貼付け用!$H$2, 0, (COLUMN() - COLUMN($D$20)) * 6)))","v":{"$error":"#N/A"}},{"$f":"IF((OFFSET(結果貼付け用!$H$2, 0, (COLUMN() - COLUMN($D$20)) * 6))=\"\",NA(),(OFFSET(結果貼付け用!$H$2, 0, (COLUMN() - COLUMN($D$20)) * 6)))","v":{"$error":"#N/A"}},{"$f":"IF((OFFSET(結果貼付け用!$H$2, 0, (COLUMN() - COLUMN($D$20)) * 6))=\"\",NA(),(OFFSET(結果貼付け用!$H$2, 0, (COLUMN() - COLUMN($D$20)) * 6)))","v":{"$error":"#N/A"}},{"$f":"IF((OFFSET(結果貼付け用!$H$2, 0, (COLUMN() - COLUMN($D$20)) * 6))=\"\",NA(),(OFFSET(結果貼付け用!$H$2, 0, (COLUMN() - COLUMN($D$20)) * 6)))","v":{"$error":"#N/A"}}]
[null,"仕事状況",{"$f":"IF(OR(OFFSET(結果貼付け用!$F26,0,(COLUMN()-3)*6,1,1)=\"-\",OFFSET(結果貼付け用!$F26,0,(COLUMN()-3)*6,1,1)=\"\"),NA(),(OFFSET(結果貼付け用!$F26,0,(COLUMN()-3)*6,1,1)))","v":{"$error":"#N/A"}},{"$f":"IF(OR(OFFSET(結果貼付け用!$F26,0,(COLUMN()-3)*6,1,1)=\"-\",OFFSET(結果貼付け用!$F26,0,(COLUMN()-3)*6,1,1)=\"\"),NA(),(OFFSET(結果貼付け用!$F26,0,(COLUMN()-3)*6,1,1)))","v":{"$error":"#N/A"}},{"$f":"IF(OR(OFFSET(結果貼付け用!$F26,0,(COLUMN()-3)*6,1,1)=\"-\",OFFSET(結果貼付け用!$F26,0,(COLUMN()-3)*6,1,1)=\"\"),NA(),(OFFSET(結果貼付け用!$F26,0,(COLUMN()-3)*6,1,1)))","v":{"$error":"#N/A"}},{"$f":"IF(OR(OFFSET(結果貼付け用!$F26,0,(COLUMN()-3)*6,1,1)=\"-\",OFFSET(結果貼付け用!$F26,0,(COLUMN()-3)*6,1,1)=\"\"),NA(),(OFFSET(結果貼付け用!$F26,0,(COLUMN()-3)*6,1,1)))","v":{"$error":"#N/A"}},{"$f":"IF(OR(OFFSET(結果貼付け用!$F26,0,(COLUMN()-3)*6,1,1)=\"-\",OFFSET(結果貼付け用!$F26,0,(COLUMN()-3)*6,1,1)=\"\"),NA(),(OFFSET(結果貼付け用!$F26,0,(COLUMN()-3)*6,1,1)))","v":{"$error":"#N/A"}},{"$f":"IF(OR(OFFSET(結果貼付け用!$F26,0,(COLUMN()-3)*6,1,1)=\"-\",OFFSET(結果貼付け用!$F26,0,(COLUMN()-3)*6,1,1)=\"\"),NA(),(OFFSET(結果貼付け用!$F26,0,(COLUMN()-3)*6,1,1)))","v":{"$error":"#N/A"}},{"$f":"IF(OR(OFFSET(結果貼付け用!$F26,0,(COLUMN()-3)*6,1,1)=\"-\",OFFSET(結果貼付け用!$F26,0,(COLUMN()-3)*6,1,1)=\"\"),NA(),(OFFSET(結果貼付け用!$F26,0,(COLUMN()-3)*6,1,1)))","v":{"$error":"#N/A"}},{"$f":"IF(OR(OFFSET(結果貼付け用!$F26,0,(COLUMN()-3)*6,1,1)=\"-\",OFFSET(結果貼付け用!$F26,0,(COLUMN()-3)*6,1,1)=\"\"),NA(),(OFFSET(結果貼付け用!$F26,0,(COLUMN()-3)*6,1,1)))","v":{"$error":"#N/A"}},{"$f":"IF(OR(OFFSET(結果貼付け用!$F26,0,(COLUMN()-3)*6,1,1)=\"-\",OFFSET(結果貼付け用!$F26,0,(COLUMN()-3)*6,1,1)=\"\"),NA(),(OFFSET(結果貼付け用!$F26,0,(COLUMN()-3)*6,1,1)))","v":{"$error":"#N/A"}},{"$f":"IF(OR(OFFSET(結果貼付け用!$F26,0,(COLUMN()-3)*6,1,1)=\"-\",OFFSET(結果貼付け用!$F26,0,(COLUMN()-3)*6,1,1)=\"\"),NA(),(OFFSET(結果貼付け用!$F26,0,(COLUMN()-3)*6,1,1)))","v":{"$error":"#N/A"}},{"$f":"IF(OR(OFFSET(結果貼付け用!$F26,0,(COLUMN()-3)*6,1,1)=\"-\",OFFSET(結果貼付け用!$F26,0,(COLUMN()-3)*6,1,1)=\"\"),NA(),(OFFSET(結果貼付け用!$F26,0,(COLUMN()-3)*6,1,1)))","v":{"$error":"#N/A"}},{"$f":"IF(OR(OFFSET(結果貼付け用!$F26,0,(COLUMN()-3)*6,1,1)=\"-\",OFFSET(結果貼付け用!$F26,0,(COLUMN()-3)*6,1,1)=\"\"),NA(),(OFFSET(結果貼付け用!$F26,0,(COLUMN()-3)*6,1,1)))","v":{"$error":"#N/A"}},{"$f":"IF(OR(OFFSET(結果貼付け用!$F26,0,(COLUMN()-3)*6,1,1)=\"-\",OFFSET(結果貼付け用!$F26,0,(COLUMN()-3)*6,1,1)=\"\"),NA(),(OFFSET(結果貼付け用!$F26,0,(COLUMN()-3)*6,1,1)))","v":{"$error":"#N/A"}},{"$f":"IF(OR(OFFSET(結果貼付け用!$F26,0,(COLUMN()-3)*6,1,1)=\"-\",OFFSET(結果貼付け用!$F26,0,(COLUMN()-3)*6,1,1)=\"\"),NA(),(OFFSET(結果貼付け用!$F26,0,(COLUMN()-3)*6,1,1)))","v":{"$error":"#N/A"}},{"$f":"IF(OR(OFFSET(結果貼付け用!$F26,0,(COLUMN()-3)*6,1,1)=\"-\",OFFSET(結果貼付け用!$F26,0,(COLUMN()-3)*6,1,1)=\"\"),NA(),(OFFSET(結果貼付け用!$F26,0,(COLUMN()-3)*6,1,1)))","v":{"$error":"#N/A"}},{"$f":"IF(OR(OFFSET(結果貼付け用!$F26,0,(COLUMN()-3)*6,1,1)=\"-\",OFFSET(結果貼付け用!$F26,0,(COLUMN()-3)*6,1,1)=\"\"),NA(),(OFFSET(結果貼付け用!$F26,0,(COLUMN()-3)*6,1,1)))","v":{"$error":"#N/A"}},{"$f":"IF(OR(OFFSET(結果貼付け用!$F26,0,(COLUMN()-3)*6,1,1)=\"-\",OFFSET(結果貼付け用!$F26,0,(COLUMN()-3)*6,1,1)=\"\"),NA(),(OFFSET(結果貼付け用!$F26,0,(COLUMN()-3)*6,1,1)))","v":{"$error":"#N/A"}},{"$f":"IF(OR(OFFSET(結果貼付け用!$F26,0,(COLUMN()-3)*6,1,1)=\"-\",OFFSET(結果貼付け用!$F26,0,(COLUMN()-3)*6,1,1)=\"\"),NA(),(OFFSET(結果貼付け用!$F26,0,(COLUMN()-3)*6,1,1)))","v":{"$error":"#N/A"}},{"$f":"IF(OR(OFFSET(結果貼付け用!$F26,0,(COLUMN()-3)*6,1,1)=\"-\",OFFSET(結果貼付け用!$F26,0,(COLUMN()-3)*6,1,1)=\"\"),NA(),(OFFSET(結果貼付け用!$F26,0,(COLUMN()-3)*6,1,1)))","v":{"$error":"#N/A"}},{"$f":"IF(OR(OFFSET(結果貼付け用!$F26,0,(COLUMN()-3)*6,1,1)=\"-\",OFFSET(結果貼付け用!$F26,0,(COLUMN()-3)*6,1,1)=\"\"),NA(),(OFFSET(結果貼付け用!$F26,0,(COLUMN()-3)*6,1,1)))","v":{"$error":"#N/A"}},{"$f":"IF(OR(OFFSET(結果貼付け用!$F26,0,(COLUMN()-3)*6,1,1)=\"-\",OFFSET(結果貼付け用!$F26,0,(COLUMN()-3)*6,1,1)=\"\"),NA(),(OFFSET(結果貼付け用!$F26,0,(COLUMN()-3)*6,1,1)))","v":{"$error":"#N/A"}},{"$f":"IF(OR(OFFSET(結果貼付け用!$F26,0,(COLUMN()-3)*6,1,1)=\"-\",OFFSET(結果貼付け用!$F26,0,(COLUMN()-3)*6,1,1)=\"\"),NA(),(OFFSET(結果貼付け用!$F26,0,(COLUMN()-3)*6,1,1)))","v":{"$error":"#N/A"}},{"$f":"IF(OR(OFFSET(結果貼付け用!$F26,0,(COLUMN()-3)*6,1,1)=\"-\",OFFSET(結果貼付け用!$F26,0,(COLUMN()-3)*6,1,1)=\"\"),NA(),(OFFSET(結果貼付け用!$F26,0,(COLUMN()-3)*6,1,1)))","v":{"$error":"#N/A"}},{"$f":"IF(OR(OFFSET(結果貼付け用!$F26,0,(COLUMN()-3)*6,1,1)=\"-\",OFFSET(結果貼付け用!$F26,0,(COLUMN()-3)*6,1,1)=\"\"),NA(),(OFFSET(結果貼付け用!$F26,0,(COLUMN()-3)*6,1,1)))","v":{"$error":"#N/A"}},{"$f":"IF(OR(OFFSET(結果貼付け用!$F26,0,(COLUMN()-3)*6,1,1)=\"-\",OFFSET(結果貼付け用!$F26,0,(COLUMN()-3)*6,1,1)=\"\"),NA(),(OFFSET(結果貼付け用!$F26,0,(COLUMN()-3)*6,1,1)))","v":{"$error":"#N/A"}},{"$f":"IF(OR(OFFSET(結果貼付け用!$F26,0,(COLUMN()-3)*6,1,1)=\"-\",OFFSET(結果貼付け用!$F26,0,(COLUMN()-3)*6,1,1)=\"\"),NA(),(OFFSET(結果貼付け用!$F26,0,(COLUMN()-3)*6,1,1)))","v":{"$error":"#N/A"}},{"$f":"IF(OR(OFFSET(結果貼付け用!$F26,0,(COLUMN()-3)*6,1,1)=\"-\",OFFSET(結果貼付け用!$F26,0,(COLUMN()-3)*6,1,1)=\"\"),NA(),(OFFSET(結果貼付け用!$F26,0,(COLUMN()-3)*6,1,1)))","v":{"$error":"#N/A"}},{"$f":"IF(OR(OFFSET(結果貼付け用!$F26,0,(COLUMN()-3)*6,1,1)=\"-\",OFFSET(結果貼付け用!$F26,0,(COLUMN()-3)*6,1,1)=\"\"),NA(),(OFFSET(結果貼付け用!$F26,0,(COLUMN()-3)*6,1,1)))","v":{"$error":"#N/A"}},{"$f":"IF(OR(OFFSET(結果貼付け用!$F26,0,(COLUMN()-3)*6,1,1)=\"-\",OFFSET(結果貼付け用!$F26,0,(COLUMN()-3)*6,1,1)=\"\"),NA(),(OFFSET(結果貼付け用!$F26,0,(COLUMN()-3)*6,1,1)))","v":{"$error":"#N/A"}},{"$f":"IF(OR(OFFSET(結果貼付け用!$F26,0,(COLUMN()-3)*6,1,1)=\"-\",OFFSET(結果貼付け用!$F26,0,(COLUMN()-3)*6,1,1)=\"\"),NA(),(OFFSET(結果貼付け用!$F26,0,(COLUMN()-3)*6,1,1)))","v":{"$error":"#N/A"}}]
[null,"十分な休息",{"$f":"IF(OR(OFFSET(結果貼付け用!$F27,0,(COLUMN()-3)*6,1,1)=\"-\",OFFSET(結果貼付け用!$F27,0,(COLUMN()-3)*6,1,1)=\"\"),NA(),(OFFSET(結果貼付け用!$F27,0,(COLUMN()-3)*6,1,1)))","v":{"$error":"#N/A"}},{"$f":"IF(OR(OFFSET(結果貼付け用!$F27,0,(COLUMN()-3)*6,1,1)=\"-\",OFFSET(結果貼付け用!$F27,0,(COLUMN()-3)*6,1,1)=\"\"),NA(),(OFFSET(結果貼付け用!$F27,0,(COLUMN()-3)*6,1,1)))","v":{"$error":"#N/A"}},{"$f":"IF(OR(OFFSET(結果貼付け用!$F27,0,(COLUMN()-3)*6,1,1)=\"-\",OFFSET(結果貼付け用!$F27,0,(COLUMN()-3)*6,1,1)=\"\"),NA(),(OFFSET(結果貼付け用!$F27,0,(COLUMN()-3)*6,1,1)))","v":{"$error":"#N/A"}},{"$f":"IF(OR(OFFSET(結果貼付け用!$F27,0,(COLUMN()-3)*6,1,1)=\"-\",OFFSET(結果貼付け用!$F27,0,(COLUMN()-3)*6,1,1)=\"\"),NA(),(OFFSET(結果貼付け用!$F27,0,(COLUMN()-3)*6,1,1)))","v":{"$error":"#N/A"}},{"$f":"IF(OR(OFFSET(結果貼付け用!$F27,0,(COLUMN()-3)*6,1,1)=\"-\",OFFSET(結果貼付け用!$F27,0,(COLUMN()-3)*6,1,1)=\"\"),NA(),(OFFSET(結果貼付け用!$F27,0,(COLUMN()-3)*6,1,1)))","v":{"$error":"#N/A"}},{"$f":"IF(OR(OFFSET(結果貼付け用!$F27,0,(COLUMN()-3)*6,1,1)=\"-\",OFFSET(結果貼付け用!$F27,0,(COLUMN()-3)*6,1,1)=\"\"),NA(),(OFFSET(結果貼付け用!$F27,0,(COLUMN()-3)*6,1,1)))","v":{"$error":"#N/A"}},{"$f":"IF(OR(OFFSET(結果貼付け用!$F27,0,(COLUMN()-3)*6,1,1)=\"-\",OFFSET(結果貼付け用!$F27,0,(COLUMN()-3)*6,1,1)=\"\"),NA(),(OFFSET(結果貼付け用!$F27,0,(COLUMN()-3)*6,1,1)))","v":{"$error":"#N/A"}},{"$f":"IF(OR(OFFSET(結果貼付け用!$F27,0,(COLUMN()-3)*6,1,1)=\"-\",OFFSET(結果貼付け用!$F27,0,(COLUMN()-3)*6,1,1)=\"\"),NA(),(OFFSET(結果貼付け用!$F27,0,(COLUMN()-3)*6,1,1)))","v":{"$error":"#N/A"}},{"$f":"IF(OR(OFFSET(結果貼付け用!$F27,0,(COLUMN()-3)*6,1,1)=\"-\",OFFSET(結果貼付け用!$F27,0,(COLUMN()-3)*6,1,1)=\"\"),NA(),(OFFSET(結果貼付け用!$F27,0,(COLUMN()-3)*6,1,1)))","v":{"$error":"#N/A"}},{"$f":"IF(OR(OFFSET(結果貼付け用!$F27,0,(COLUMN()-3)*6,1,1)=\"-\",OFFSET(結果貼付け用!$F27,0,(COLUMN()-3)*6,1,1)=\"\"),NA(),(OFFSET(結果貼付け用!$F27,0,(COLUMN()-3)*6,1,1)))","v":{"$error":"#N/A"}},{"$f":"IF(OR(OFFSET(結果貼付け用!$F27,0,(COLUMN()-3)*6,1,1)=\"-\",OFFSET(結果貼付け用!$F27,0,(COLUMN()-3)*6,1,1)=\"\"),NA(),(OFFSET(結果貼付け用!$F27,0,(COLUMN()-3)*6,1,1)))","v":{"$error":"#N/A"}},{"$f":"IF(OR(OFFSET(結果貼付け用!$F27,0,(COLUMN()-3)*6,1,1)=\"-\",OFFSET(結果貼付け用!$F27,0,(COLUMN()-3)*6,1,1)=\"\"),NA(),(OFFSET(結果貼付け用!$F27,0,(COLUMN()-3)*6,1,1)))","v":{"$error":"#N/A"}},{"$f":"IF(OR(OFFSET(結果貼付け用!$F27,0,(COLUMN()-3)*6,1,1)=\"-\",OFFSET(結果貼付け用!$F27,0,(COLUMN()-3)*6,1,1)=\"\"),NA(),(OFFSET(結果貼付け用!$F27,0,(COLUMN()-3)*6,1,1)))","v":{"$error":"#N/A"}},{"$f":"IF(OR(OFFSET(結果貼付け用!$F27,0,(COLUMN()-3)*6,1,1)=\"-\",OFFSET(結果貼付け用!$F27,0,(COLUMN()-3)*6,1,1)=\"\"),NA(),(OFFSET(結果貼付け用!$F27,0,(COLUMN()-3)*6,1,1)))","v":{"$error":"#N/A"}},{"$f":"IF(OR(OFFSET(結果貼付け用!$F27,0,(COLUMN()-3)*6,1,1)=\"-\",OFFSET(結果貼付け用!$F27,0,(COLUMN()-3)*6,1,1)=\"\"),NA(),(OFFSET(結果貼付け用!$F27,0,(COLUMN()-3)*6,1,1)))","v":{"$error":"#N/A"}},{"$f":"IF(OR(OFFSET(結果貼付け用!$F27,0,(COLUMN()-3)*6,1,1)=\"-\",OFFSET(結果貼付け用!$F27,0,(COLUMN()-3)*6,1,1)=\"\"),NA(),(OFFSET(結果貼付け用!$F27,0,(COLUMN()-3)*6,1,1)))","v":{"$error":"#N/A"}},{"$f":"IF(OR(OFFSET(結果貼付け用!$F27,0,(COLUMN()-3)*6,1,1)=\"-\",OFFSET(結果貼付け用!$F27,0,(COLUMN()-3)*6,1,1)=\"\"),NA(),(OFFSET(結果貼付け用!$F27,0,(COLUMN()-3)*6,1,1)))","v":{"$error":"#N/A"}},{"$f":"IF(OR(OFFSET(結果貼付け用!$F27,0,(COLUMN()-3)*6,1,1)=\"-\",OFFSET(結果貼付け用!$F27,0,(COLUMN()-3)*6,1,1)=\"\"),NA(),(OFFSET(結果貼付け用!$F27,0,(COLUMN()-3)*6,1,1)))","v":{"$error":"#N/A"}},{"$f":"IF(OR(OFFSET(結果貼付け用!$F27,0,(COLUMN()-3)*6,1,1)=\"-\",OFFSET(結果貼付け用!$F27,0,(COLUMN()-3)*6,1,1)=\"\"),NA(),(OFFSET(結果貼付け用!$F27,0,(COLUMN()-3)*6,1,1)))","v":{"$error":"#N/A"}},{"$f":"IF(OR(OFFSET(結果貼付け用!$F27,0,(COLUMN()-3)*6,1,1)=\"-\",OFFSET(結果貼付け用!$F27,0,(COLUMN()-3)*6,1,1)=\"\"),NA(),(OFFSET(結果貼付け用!$F27,0,(COLUMN()-3)*6,1,1)))","v":{"$error":"#N/A"}},{"$f":"IF(OR(OFFSET(結果貼付け用!$F27,0,(COLUMN()-3)*6,1,1)=\"-\",OFFSET(結果貼付け用!$F27,0,(COLUMN()-3)*6,1,1)=\"\"),NA(),(OFFSET(結果貼付け用!$F27,0,(COLUMN()-3)*6,1,1)))","v":{"$error":"#N/A"}},{"$f":"IF(OR(OFFSET(結果貼付け用!$F27,0,(COLUMN()-3)*6,1,1)=\"-\",OFFSET(結果貼付け用!$F27,0,(COLUMN()-3)*6,1,1)=\"\"),NA(),(OFFSET(結果貼付け用!$F27,0,(COLUMN()-3)*6,1,1)))","v":{"$error":"#N/A"}},{"$f":"IF(OR(OFFSET(結果貼付け用!$F27,0,(COLUMN()-3)*6,1,1)=\"-\",OFFSET(結果貼付け用!$F27,0,(COLUMN()-3)*6,1,1)=\"\"),NA(),(OFFSET(結果貼付け用!$F27,0,(COLUMN()-3)*6,1,1)))","v":{"$error":"#N/A"}},{"$f":"IF(OR(OFFSET(結果貼付け用!$F27,0,(COLUMN()-3)*6,1,1)=\"-\",OFFSET(結果貼付け用!$F27,0,(COLUMN()-3)*6,1,1)=\"\"),NA(),(OFFSET(結果貼付け用!$F27,0,(COLUMN()-3)*6,1,1)))","v":{"$error":"#N/A"}},{"$f":"IF(OR(OFFSET(結果貼付け用!$F27,0,(COLUMN()-3)*6,1,1)=\"-\",OFFSET(結果貼付け用!$F27,0,(COLUMN()-3)*6,1,1)=\"\"),NA(),(OFFSET(結果貼付け用!$F27,0,(COLUMN()-3)*6,1,1)))","v":{"$error":"#N/A"}},{"$f":"IF(OR(OFFSET(結果貼付け用!$F27,0,(COLUMN()-3)*6,1,1)=\"-\",OFFSET(結果貼付け用!$F27,0,(COLUMN()-3)*6,1,1)=\"\"),NA(),(OFFSET(結果貼付け用!$F27,0,(COLUMN()-3)*6,1,1)))","v":{"$error":"#N/A"}},{"$f":"IF(OR(OFFSET(結果貼付け用!$F27,0,(COLUMN()-3)*6,1,1)=\"-\",OFFSET(結果貼付け用!$F27,0,(COLUMN()-3)*6,1,1)=\"\"),NA(),(OFFSET(結果貼付け用!$F27,0,(COLUMN()-3)*6,1,1)))","v":{"$error":"#N/A"}},{"$f":"IF(OR(OFFSET(結果貼付け用!$F27,0,(COLUMN()-3)*6,1,1)=\"-\",OFFSET(結果貼付け用!$F27,0,(COLUMN()-3)*6,1,1)=\"\"),NA(),(OFFSET(結果貼付け用!$F27,0,(COLUMN()-3)*6,1,1)))","v":{"$error":"#N/A"}},{"$f":"IF(OR(OFFSET(結果貼付け用!$F27,0,(COLUMN()-3)*6,1,1)=\"-\",OFFSET(結果貼付け用!$F27,0,(COLUMN()-3)*6,1,1)=\"\"),NA(),(OFFSET(結果貼付け用!$F27,0,(COLUMN()-3)*6,1,1)))","v":{"$error":"#N/A"}},{"$f":"IF(OR(OFFSET(結果貼付け用!$F27,0,(COLUMN()-3)*6,1,1)=\"-\",OFFSET(結果貼付け用!$F27,0,(COLUMN()-3)*6,1,1)=\"\"),NA(),(OFFSET(結果貼付け用!$F27,0,(COLUMN()-3)*6,1,1)))","v":{"$error":"#N/A"}}]
[null,"仕事時間の適切感",{"$f":"IF(OR(OFFSET(結果貼付け用!$F28,0,(COLUMN()-3)*6,1,1)=\"-\",OFFSET(結果貼付け用!$F28,0,(COLUMN()-3)*6,1,1)=\"\"),NA(),(OFFSET(結果貼付け用!$F28,0,(COLUMN()-3)*6,1,1)))","v":{"$error":"#N/A"}},{"$f":"IF(OR(OFFSET(結果貼付け用!$F28,0,(COLUMN()-3)*6,1,1)=\"-\",OFFSET(結果貼付け用!$F28,0,(COLUMN()-3)*6,1,1)=\"\"),NA(),(OFFSET(結果貼付け用!$F28,0,(COLUMN()-3)*6,1,1)))","v":{"$error":"#N/A"}},{"$f":"IF(OR(OFFSET(結果貼付け用!$F28,0,(COLUMN()-3)*6,1,1)=\"-\",OFFSET(結果貼付け用!$F28,0,(COLUMN()-3)*6,1,1)=\"\"),NA(),(OFFSET(結果貼付け用!$F28,0,(COLUMN()-3)*6,1,1)))","v":{"$error":"#N/A"}},{"$f":"IF(OR(OFFSET(結果貼付け用!$F28,0,(COLUMN()-3)*6,1,1)=\"-\",OFFSET(結果貼付け用!$F28,0,(COLUMN()-3)*6,1,1)=\"\"),NA(),(OFFSET(結果貼付け用!$F28,0,(COLUMN()-3)*6,1,1)))","v":{"$error":"#N/A"}},{"$f":"IF(OR(OFFSET(結果貼付け用!$F28,0,(COLUMN()-3)*6,1,1)=\"-\",OFFSET(結果貼付け用!$F28,0,(COLUMN()-3)*6,1,1)=\"\"),NA(),(OFFSET(結果貼付け用!$F28,0,(COLUMN()-3)*6,1,1)))","v":{"$error":"#N/A"}},{"$f":"IF(OR(OFFSET(結果貼付け用!$F28,0,(COLUMN()-3)*6,1,1)=\"-\",OFFSET(結果貼付け用!$F28,0,(COLUMN()-3)*6,1,1)=\"\"),NA(),(OFFSET(結果貼付け用!$F28,0,(COLUMN()-3)*6,1,1)))","v":{"$error":"#N/A"}},{"$f":"IF(OR(OFFSET(結果貼付け用!$F28,0,(COLUMN()-3)*6,1,1)=\"-\",OFFSET(結果貼付け用!$F28,0,(COLUMN()-3)*6,1,1)=\"\"),NA(),(OFFSET(結果貼付け用!$F28,0,(COLUMN()-3)*6,1,1)))","v":{"$error":"#N/A"}},{"$f":"IF(OR(OFFSET(結果貼付け用!$F28,0,(COLUMN()-3)*6,1,1)=\"-\",OFFSET(結果貼付け用!$F28,0,(COLUMN()-3)*6,1,1)=\"\"),NA(),(OFFSET(結果貼付け用!$F28,0,(COLUMN()-3)*6,1,1)))","v":{"$error":"#N/A"}},{"$f":"IF(OR(OFFSET(結果貼付け用!$F28,0,(COLUMN()-3)*6,1,1)=\"-\",OFFSET(結果貼付け用!$F28,0,(COLUMN()-3)*6,1,1)=\"\"),NA(),(OFFSET(結果貼付け用!$F28,0,(COLUMN()-3)*6,1,1)))","v":{"$error":"#N/A"}},{"$f":"IF(OR(OFFSET(結果貼付け用!$F28,0,(COLUMN()-3)*6,1,1)=\"-\",OFFSET(結果貼付け用!$F28,0,(COLUMN()-3)*6,1,1)=\"\"),NA(),(OFFSET(結果貼付け用!$F28,0,(COLUMN()-3)*6,1,1)))","v":{"$error":"#N/A"}},{"$f":"IF(OR(OFFSET(結果貼付け用!$F28,0,(COLUMN()-3)*6,1,1)=\"-\",OFFSET(結果貼付け用!$F28,0,(COLUMN()-3)*6,1,1)=\"\"),NA(),(OFFSET(結果貼付け用!$F28,0,(COLUMN()-3)*6,1,1)))","v":{"$error":"#N/A"}},{"$f":"IF(OR(OFFSET(結果貼付け用!$F28,0,(COLUMN()-3)*6,1,1)=\"-\",OFFSET(結果貼付け用!$F28,0,(COLUMN()-3)*6,1,1)=\"\"),NA(),(OFFSET(結果貼付け用!$F28,0,(COLUMN()-3)*6,1,1)))","v":{"$error":"#N/A"}},{"$f":"IF(OR(OFFSET(結果貼付け用!$F28,0,(COLUMN()-3)*6,1,1)=\"-\",OFFSET(結果貼付け用!$F28,0,(COLUMN()-3)*6,1,1)=\"\"),NA(),(OFFSET(結果貼付け用!$F28,0,(COLUMN()-3)*6,1,1)))","v":{"$error":"#N/A"}},{"$f":"IF(OR(OFFSET(結果貼付け用!$F28,0,(COLUMN()-3)*6,1,1)=\"-\",OFFSET(結果貼付け用!$F28,0,(COLUMN()-3)*6,1,1)=\"\"),NA(),(OFFSET(結果貼付け用!$F28,0,(COLUMN()-3)*6,1,1)))","v":{"$error":"#N/A"}},{"$f":"IF(OR(OFFSET(結果貼付け用!$F28,0,(COLUMN()-3)*6,1,1)=\"-\",OFFSET(結果貼付け用!$F28,0,(COLUMN()-3)*6,1,1)=\"\"),NA(),(OFFSET(結果貼付け用!$F28,0,(COLUMN()-3)*6,1,1)))","v":{"$error":"#N/A"}},{"$f":"IF(OR(OFFSET(結果貼付け用!$F28,0,(COLUMN()-3)*6,1,1)=\"-\",OFFSET(結果貼付け用!$F28,0,(COLUMN()-3)*6,1,1)=\"\"),NA(),(OFFSET(結果貼付け用!$F28,0,(COLUMN()-3)*6,1,1)))","v":{"$error":"#N/A"}},{"$f":"IF(OR(OFFSET(結果貼付け用!$F28,0,(COLUMN()-3)*6,1,1)=\"-\",OFFSET(結果貼付け用!$F28,0,(COLUMN()-3)*6,1,1)=\"\"),NA(),(OFFSET(結果貼付け用!$F28,0,(COLUMN()-3)*6,1,1)))","v":{"$error":"#N/A"}},{"$f":"IF(OR(OFFSET(結果貼付け用!$F28,0,(COLUMN()-3)*6,1,1)=\"-\",OFFSET(結果貼付け用!$F28,0,(COLUMN()-3)*6,1,1)=\"\"),NA(),(OFFSET(結果貼付け用!$F28,0,(COLUMN()-3)*6,1,1)))","v":{"$error":"#N/A"}},{"$f":"IF(OR(OFFSET(結果貼付け用!$F28,0,(COLUMN()-3)*6,1,1)=\"-\",OFFSET(結果貼付け用!$F28,0,(COLUMN()-3)*6,1,1)=\"\"),NA(),(OFFSET(結果貼付け用!$F28,0,(COLUMN()-3)*6,1,1)))","v":{"$error":"#N/A"}},{"$f":"IF(OR(OFFSET(結果貼付け用!$F28,0,(COLUMN()-3)*6,1,1)=\"-\",OFFSET(結果貼付け用!$F28,0,(COLUMN()-3)*6,1,1)=\"\"),NA(),(OFFSET(結果貼付け用!$F28,0,(COLUMN()-3)*6,1,1)))","v":{"$error":"#N/A"}},{"$f":"IF(OR(OFFSET(結果貼付け用!$F28,0,(COLUMN()-3)*6,1,1)=\"-\",OFFSET(結果貼付け用!$F28,0,(COLUMN()-3)*6,1,1)=\"\"),NA(),(OFFSET(結果貼付け用!$F28,0,(COLUMN()-3)*6,1,1)))","v":{"$error":"#N/A"}},{"$f":"IF(OR(OFFSET(結果貼付け用!$F28,0,(COLUMN()-3)*6,1,1)=\"-\",OFFSET(結果貼付け用!$F28,0,(COLUMN()-3)*6,1,1)=\"\"),NA(),(OFFSET(結果貼付け用!$F28,0,(COLUMN()-3)*6,1,1)))","v":{"$error":"#N/A"}},{"$f":"IF(OR(OFFSET(結果貼付け用!$F28,0,(COLUMN()-3)*6,1,1)=\"-\",OFFSET(結果貼付け用!$F28,0,(COLUMN()-3)*6,1,1)=\"\"),NA(),(OFFSET(結果貼付け用!$F28,0,(COLUMN()-3)*6,1,1)))","v":{"$error":"#N/A"}},{"$f":"IF(OR(OFFSET(結果貼付け用!$F28,0,(COLUMN()-3)*6,1,1)=\"-\",OFFSET(結果貼付け用!$F28,0,(COLUMN()-3)*6,1,1)=\"\"),NA(),(OFFSET(結果貼付け用!$F28,0,(COLUMN()-3)*6,1,1)))","v":{"$error":"#N/A"}},{"$f":"IF(OR(OFFSET(結果貼付け用!$F28,0,(COLUMN()-3)*6,1,1)=\"-\",OFFSET(結果貼付け用!$F28,0,(COLUMN()-3)*6,1,1)=\"\"),NA(),(OFFSET(結果貼付け用!$F28,0,(COLUMN()-3)*6,1,1)))","v":{"$error":"#N/A"}},{"$f":"IF(OR(OFFSET(結果貼付け用!$F28,0,(COLUMN()-3)*6,1,1)=\"-\",OFFSET(結果貼付け用!$F28,0,(COLUMN()-3)*6,1,1)=\"\"),NA(),(OFFSET(結果貼付け用!$F28,0,(COLUMN()-3)*6,1,1)))","v":{"$error":"#N/A"}},{"$f":"IF(OR(OFFSET(結果貼付け用!$F28,0,(COLUMN()-3)*6,1,1)=\"-\",OFFSET(結果貼付け用!$F28,0,(COLUMN()-3)*6,1,1)=\"\"),NA(),(OFFSET(結果貼付け用!$F28,0,(COLUMN()-3)*6,1,1)))","v":{"$error":"#N/A"}},{"$f":"IF(OR(OFFSET(結果貼付け用!$F28,0,(COLUMN()-3)*6,1,1)=\"-\",OFFSET(結果貼付け用!$F28,0,(COLUMN()-3)*6,1,1)=\"\"),NA(),(OFFSET(結果貼付け用!$F28,0,(COLUMN()-3)*6,1,1)))","v":{"$error":"#N/A"}},{"$f":"IF(OR(OFFSET(結果貼付け用!$F28,0,(COLUMN()-3)*6,1,1)=\"-\",OFFSET(結果貼付け用!$F28,0,(COLUMN()-3)*6,1,1)=\"\"),NA(),(OFFSET(結果貼付け用!$F28,0,(COLUMN()-3)*6,1,1)))","v":{"$error":"#N/A"}},{"$f":"IF(OR(OFFSET(結果貼付け用!$F28,0,(COLUMN()-3)*6,1,1)=\"-\",OFFSET(結果貼付け用!$F28,0,(COLUMN()-3)*6,1,1)=\"\"),NA(),(OFFSET(結果貼付け用!$F28,0,(COLUMN()-3)*6,1,1)))","v":{"$error":"#N/A"}}]
[null,"役割明確性",{"$f":"IF(OR(OFFSET(結果貼付け用!$F29,0,(COLUMN()-3)*6,1,1)=\"-\",OFFSET(結果貼付け用!$F29,0,(COLUMN()-3)*6,1,1)=\"\"),NA(),(OFFSET(結果貼付け用!$F29,0,(COLUMN()-3)*6,1,1)))","v":{"$error":"#N/A"}},{"$f":"IF(OR(OFFSET(結果貼付け用!$F29,0,(COLUMN()-3)*6,1,1)=\"-\",OFFSET(結果貼付け用!$F29,0,(COLUMN()-3)*6,1,1)=\"\"),NA(),(OFFSET(結果貼付け用!$F29,0,(COLUMN()-3)*6,1,1)))","v":{"$error":"#N/A"}},{"$f":"IF(OR(OFFSET(結果貼付け用!$F29,0,(COLUMN()-3)*6,1,1)=\"-\",OFFSET(結果貼付け用!$F29,0,(COLUMN()-3)*6,1,1)=\"\"),NA(),(OFFSET(結果貼付け用!$F29,0,(COLUMN()-3)*6,1,1)))","v":{"$error":"#N/A"}},{"$f":"IF(OR(OFFSET(結果貼付け用!$F29,0,(COLUMN()-3)*6,1,1)=\"-\",OFFSET(結果貼付け用!$F29,0,(COLUMN()-3)*6,1,1)=\"\"),NA(),(OFFSET(結果貼付け用!$F29,0,(COLUMN()-3)*6,1,1)))","v":{"$error":"#N/A"}},{"$f":"IF(OR(OFFSET(結果貼付け用!$F29,0,(COLUMN()-3)*6,1,1)=\"-\",OFFSET(結果貼付け用!$F29,0,(COLUMN()-3)*6,1,1)=\"\"),NA(),(OFFSET(結果貼付け用!$F29,0,(COLUMN()-3)*6,1,1)))","v":{"$error":"#N/A"}},{"$f":"IF(OR(OFFSET(結果貼付け用!$F29,0,(COLUMN()-3)*6,1,1)=\"-\",OFFSET(結果貼付け用!$F29,0,(COLUMN()-3)*6,1,1)=\"\"),NA(),(OFFSET(結果貼付け用!$F29,0,(COLUMN()-3)*6,1,1)))","v":{"$error":"#N/A"}},{"$f":"IF(OR(OFFSET(結果貼付け用!$F29,0,(COLUMN()-3)*6,1,1)=\"-\",OFFSET(結果貼付け用!$F29,0,(COLUMN()-3)*6,1,1)=\"\"),NA(),(OFFSET(結果貼付け用!$F29,0,(COLUMN()-3)*6,1,1)))","v":{"$error":"#N/A"}},{"$f":"IF(OR(OFFSET(結果貼付け用!$F29,0,(COLUMN()-3)*6,1,1)=\"-\",OFFSET(結果貼付け用!$F29,0,(COLUMN()-3)*6,1,1)=\"\"),NA(),(OFFSET(結果貼付け用!$F29,0,(COLUMN()-3)*6,1,1)))","v":{"$error":"#N/A"}},{"$f":"IF(OR(OFFSET(結果貼付け用!$F29,0,(COLUMN()-3)*6,1,1)=\"-\",OFFSET(結果貼付け用!$F29,0,(COLUMN()-3)*6,1,1)=\"\"),NA(),(OFFSET(結果貼付け用!$F29,0,(COLUMN()-3)*6,1,1)))","v":{"$error":"#N/A"}},{"$f":"IF(OR(OFFSET(結果貼付け用!$F29,0,(COLUMN()-3)*6,1,1)=\"-\",OFFSET(結果貼付け用!$F29,0,(COLUMN()-3)*6,1,1)=\"\"),NA(),(OFFSET(結果貼付け用!$F29,0,(COLUMN()-3)*6,1,1)))","v":{"$error":"#N/A"}},{"$f":"IF(OR(OFFSET(結果貼付け用!$F29,0,(COLUMN()-3)*6,1,1)=\"-\",OFFSET(結果貼付け用!$F29,0,(COLUMN()-3)*6,1,1)=\"\"),NA(),(OFFSET(結果貼付け用!$F29,0,(COLUMN()-3)*6,1,1)))","v":{"$error":"#N/A"}},{"$f":"IF(OR(OFFSET(結果貼付け用!$F29,0,(COLUMN()-3)*6,1,1)=\"-\",OFFSET(結果貼付け用!$F29,0,(COLUMN()-3)*6,1,1)=\"\"),NA(),(OFFSET(結果貼付け用!$F29,0,(COLUMN()-3)*6,1,1)))","v":{"$error":"#N/A"}},{"$f":"IF(OR(OFFSET(結果貼付け用!$F29,0,(COLUMN()-3)*6,1,1)=\"-\",OFFSET(結果貼付け用!$F29,0,(COLUMN()-3)*6,1,1)=\"\"),NA(),(OFFSET(結果貼付け用!$F29,0,(COLUMN()-3)*6,1,1)))","v":{"$error":"#N/A"}},{"$f":"IF(OR(OFFSET(結果貼付け用!$F29,0,(COLUMN()-3)*6,1,1)=\"-\",OFFSET(結果貼付け用!$F29,0,(COLUMN()-3)*6,1,1)=\"\"),NA(),(OFFSET(結果貼付け用!$F29,0,(COLUMN()-3)*6,1,1)))","v":{"$error":"#N/A"}},{"$f":"IF(OR(OFFSET(結果貼付け用!$F29,0,(COLUMN()-3)*6,1,1)=\"-\",OFFSET(結果貼付け用!$F29,0,(COLUMN()-3)*6,1,1)=\"\"),NA(),(OFFSET(結果貼付け用!$F29,0,(COLUMN()-3)*6,1,1)))","v":{"$error":"#N/A"}},{"$f":"IF(OR(OFFSET(結果貼付け用!$F29,0,(COLUMN()-3)*6,1,1)=\"-\",OFFSET(結果貼付け用!$F29,0,(COLUMN()-3)*6,1,1)=\"\"),NA(),(OFFSET(結果貼付け用!$F29,0,(COLUMN()-3)*6,1,1)))","v":{"$error":"#N/A"}},{"$f":"IF(OR(OFFSET(結果貼付け用!$F29,0,(COLUMN()-3)*6,1,1)=\"-\",OFFSET(結果貼付け用!$F29,0,(COLUMN()-3)*6,1,1)=\"\"),NA(),(OFFSET(結果貼付け用!$F29,0,(COLUMN()-3)*6,1,1)))","v":{"$error":"#N/A"}},{"$f":"IF(OR(OFFSET(結果貼付け用!$F29,0,(COLUMN()-3)*6,1,1)=\"-\",OFFSET(結果貼付け用!$F29,0,(COLUMN()-3)*6,1,1)=\"\"),NA(),(OFFSET(結果貼付け用!$F29,0,(COLUMN()-3)*6,1,1)))","v":{"$error":"#N/A"}},{"$f":"IF(OR(OFFSET(結果貼付け用!$F29,0,(COLUMN()-3)*6,1,1)=\"-\",OFFSET(結果貼付け用!$F29,0,(COLUMN()-3)*6,1,1)=\"\"),NA(),(OFFSET(結果貼付け用!$F29,0,(COLUMN()-3)*6,1,1)))","v":{"$error":"#N/A"}},{"$f":"IF(OR(OFFSET(結果貼付け用!$F29,0,(COLUMN()-3)*6,1,1)=\"-\",OFFSET(結果貼付け用!$F29,0,(COLUMN()-3)*6,1,1)=\"\"),NA(),(OFFSET(結果貼付け用!$F29,0,(COLUMN()-3)*6,1,1)))","v":{"$error":"#N/A"}},{"$f":"IF(OR(OFFSET(結果貼付け用!$F29,0,(COLUMN()-3)*6,1,1)=\"-\",OFFSET(結果貼付け用!$F29,0,(COLUMN()-3)*6,1,1)=\"\"),NA(),(OFFSET(結果貼付け用!$F29,0,(COLUMN()-3)*6,1,1)))","v":{"$error":"#N/A"}},{"$f":"IF(OR(OFFSET(結果貼付け用!$F29,0,(COLUMN()-3)*6,1,1)=\"-\",OFFSET(結果貼付け用!$F29,0,(COLUMN()-3)*6,1,1)=\"\"),NA(),(OFFSET(結果貼付け用!$F29,0,(COLUMN()-3)*6,1,1)))","v":{"$error":"#N/A"}},{"$f":"IF(OR(OFFSET(結果貼付け用!$F29,0,(COLUMN()-3)*6,1,1)=\"-\",OFFSET(結果貼付け用!$F29,0,(COLUMN()-3)*6,1,1)=\"\"),NA(),(OFFSET(結果貼付け用!$F29,0,(COLUMN()-3)*6,1,1)))","v":{"$error":"#N/A"}},{"$f":"IF(OR(OFFSET(結果貼付け用!$F29,0,(COLUMN()-3)*6,1,1)=\"-\",OFFSET(結果貼付け用!$F29,0,(COLUMN()-3)*6,1,1)=\"\"),NA(),(OFFSET(結果貼付け用!$F29,0,(COLUMN()-3)*6,1,1)))","v":{"$error":"#N/A"}},{"$f":"IF(OR(OFFSET(結果貼付け用!$F29,0,(COLUMN()-3)*6,1,1)=\"-\",OFFSET(結果貼付け用!$F29,0,(COLUMN()-3)*6,1,1)=\"\"),NA(),(OFFSET(結果貼付け用!$F29,0,(COLUMN()-3)*6,1,1)))","v":{"$error":"#N/A"}},{"$f":"IF(OR(OFFSET(結果貼付け用!$F29,0,(COLUMN()-3)*6,1,1)=\"-\",OFFSET(結果貼付け用!$F29,0,(COLUMN()-3)*6,1,1)=\"\"),NA(),(OFFSET(結果貼付け用!$F29,0,(COLUMN()-3)*6,1,1)))","v":{"$error":"#N/A"}},{"$f":"IF(OR(OFFSET(結果貼付け用!$F29,0,(COLUMN()-3)*6,1,1)=\"-\",OFFSET(結果貼付け用!$F29,0,(COLUMN()-3)*6,1,1)=\"\"),NA(),(OFFSET(結果貼付け用!$F29,0,(COLUMN()-3)*6,1,1)))","v":{"$error":"#N/A"}},{"$f":"IF(OR(OFFSET(結果貼付け用!$F29,0,(COLUMN()-3)*6,1,1)=\"-\",OFFSET(結果貼付け用!$F29,0,(COLUMN()-3)*6,1,1)=\"\"),NA(),(OFFSET(結果貼付け用!$F29,0,(COLUMN()-3)*6,1,1)))","v":{"$error":"#N/A"}},{"$f":"IF(OR(OFFSET(結果貼付け用!$F29,0,(COLUMN()-3)*6,1,1)=\"-\",OFFSET(結果貼付け用!$F29,0,(COLUMN()-3)*6,1,1)=\"\"),NA(),(OFFSET(結果貼付け用!$F29,0,(COLUMN()-3)*6,1,1)))","v":{"$error":"#N/A"}},{"$f":"IF(OR(OFFSET(結果貼付け用!$F29,0,(COLUMN()-3)*6,1,1)=\"-\",OFFSET(結果貼付け用!$F29,0,(COLUMN()-3)*6,1,1)=\"\"),NA(),(OFFSET(結果貼付け用!$F29,0,(COLUMN()-3)*6,1,1)))","v":{"$error":"#N/A"}}]
[]
[]
[]
[]
[]
[]
[]
[]
[]
[]
[]
[]
[]
[]
[]
[]
[]
[]
[]
[]
[null,"実施開始日時",{"$f":"IF(結果貼付け用!B2=\"\",NA(),結果貼付け用!B2)","v":{"$error":"#N/A"}},{"$f":"IF((OFFSET(結果貼付け用!$H$2, 0, (COLUMN() - COLUMN($D$20)) * 6))=\"\",NA(),(OFFSET(結果貼付け用!$H$2, 0, (COLUMN() - COLUMN($D$20)) * 6)))","v":{"$error":"#N/A"}},{"$f":"IF((OFFSET(結果貼付け用!$H$2, 0, (COLUMN() - COLUMN($D$20)) * 6))=\"\",NA(),(OFFSET(結果貼付け用!$H$2, 0, (COLUMN() - COLUMN($D$20)) * 6)))","v":{"$error":"#N/A"}},{"$f":"IF((OFFSET(結果貼付け用!$H$2, 0, (COLUMN() - COLUMN($D$20)) * 6))=\"\",NA(),(OFFSET(結果貼付け用!$H$2, 0, (COLUMN() - COLUMN($D$20)) * 6)))","v":{"$error":"#N/A"}},{"$f":"IF((OFFSET(結果貼付け用!$H$2, 0, (COLUMN() - COLUMN($D$20)) * 6))=\"\",NA(),(OFFSET(結果貼付け用!$H$2, 0, (COLUMN() - COLUMN($D$20)) * 6)))","v":{"$error":"#N/A"}},{"$f":"IF((OFFSET(結果貼付け用!$H$2, 0, (COLUMN() - COLUMN($D$20)) * 6))=\"\",NA(),(OFFSET(結果貼付け用!$H$2, 0, (COLUMN() - COLUMN($D$20)) * 6)))","v":{"$error":"#N/A"}},{"$f":"IF((OFFSET(結果貼付け用!$H$2, 0, (COLUMN() - COLUMN($D$20)) * 6))=\"\",NA(),(OFFSET(結果貼付け用!$H$2, 0, (COLUMN() - COLUMN($D$20)) * 6)))","v":{"$error":"#N/A"}},{"$f":"IF((OFFSET(結果貼付け用!$H$2, 0, (COLUMN() - COLUMN($D$20)) * 6))=\"\",NA(),(OFFSET(結果貼付け用!$H$2, 0, (COLUMN() - COLUMN($D$20)) * 6)))","v":{"$error":"#N/A"}},{"$f":"IF((OFFSET(結果貼付け用!$H$2, 0, (COLUMN() - COLUMN($D$20)) * 6))=\"\",NA(),(OFFSET(結果貼付け用!$H$2, 0, (COLUMN() - COLUMN($D$20)) * 6)))","v":{"$error":"#N/A"}},{"$f":"IF((OFFSET(結果貼付け用!$H$2, 0, (COLUMN() - COLUMN($D$20)) * 6))=\"\",NA(),(OFFSET(結果貼付け用!$H$2, 0, (COLUMN() - COLUMN($D$20)) * 6)))","v":{"$error":"#N/A"}},{"$f":"IF((OFFSET(結果貼付け用!$H$2, 0, (COLUMN() - COLUMN($D$20)) * 6))=\"\",NA(),(OFFSET(結果貼付け用!$H$2, 0, (COLUMN() - COLUMN($D$20)) * 6)))","v":{"$error":"#N/A"}},{"$f":"IF((OFFSET(結果貼付け用!$H$2, 0, (COLUMN() - COLUMN($D$20)) * 6))=\"\",NA(),(OFFSET(結果貼付け用!$H$2, 0, (COLUMN() - COLUMN($D$20)) * 6)))","v":{"$error":"#N/A"}},{"$f":"IF((OFFSET(結果貼付け用!$H$2, 0, (COLUMN() - COLUMN($D$20)) * 6))=\"\",NA(),(OFFSET(結果貼付け用!$H$2, 0, (COLUMN() - COLUMN($D$20)) * 6)))","v":{"$error":"#N/A"}},{"$f":"IF((OFFSET(結果貼付け用!$H$2, 0, (COLUMN() - COLUMN($D$20)) * 6))=\"\",NA(),(OFFSET(結果貼付け用!$H$2, 0, (COLUMN() - COLUMN($D$20)) * 6)))","v":{"$error":"#N/A"}},{"$f":"IF((OFFSET(結果貼付け用!$H$2, 0, (COLUMN() - COLUMN($D$20)) * 6))=\"\",NA(),(OFFSET(結果貼付け用!$H$2, 0, (COLUMN() - COLUMN($D$20)) * 6)))","v":{"$error":"#N/A"}},{"$f":"IF((OFFSET(結果貼付け用!$H$2, 0, (COLUMN() - COLUMN($D$20)) * 6))=\"\",NA(),(OFFSET(結果貼付け用!$H$2, 0, (COLUMN() - COLUMN($D$20)) * 6)))","v":{"$error":"#N/A"}},{"$f":"IF((OFFSET(結果貼付け用!$H$2, 0, (COLUMN() - COLUMN($D$20)) * 6))=\"\",NA(),(OFFSET(結果貼付け用!$H$2, 0, (COLUMN() - COLUMN($D$20)) * 6)))","v":{"$error":"#N/A"}},{"$f":"IF((OFFSET(結果貼付け用!$H$2, 0, (COLUMN() - COLUMN($D$20)) * 6))=\"\",NA(),(OFFSET(結果貼付け用!$H$2, 0, (COLUMN() - COLUMN($D$20)) * 6)))","v":{"$error":"#N/A"}},{"$f":"IF((OFFSET(結果貼付け用!$H$2, 0, (COLUMN() - COLUMN($D$20)) * 6))=\"\",NA(),(OFFSET(結果貼付け用!$H$2, 0, (COLUMN() - COLUMN($D$20)) * 6)))","v":{"$error":"#N/A"}},{"$f":"IF((OFFSET(結果貼付け用!$H$2, 0, (COLUMN() - COLUMN($D$20)) * 6))=\"\",NA(),(OFFSET(結果貼付け用!$H$2, 0, (COLUMN() - COLUMN($D$20)) * 6)))","v":{"$error":"#N/A"}},{"$f":"IF((OFFSET(結果貼付け用!$H$2, 0, (COLUMN() - COLUMN($D$20)) * 6))=\"\",NA(),(OFFSET(結果貼付け用!$H$2, 0, (COLUMN() - COLUMN($D$20)) * 6)))","v":{"$error":"#N/A"}},{"$f":"IF((OFFSET(結果貼付け用!$H$2, 0, (COLUMN() - COLUMN($D$20)) * 6))=\"\",NA(),(OFFSET(結果貼付け用!$H$2, 0, (COLUMN() - COLUMN($D$20)) * 6)))","v":{"$error":"#N/A"}},{"$f":"IF((OFFSET(結果貼付け用!$H$2, 0, (COLUMN() - COLUMN($D$20)) * 6))=\"\",NA(),(OFFSET(結果貼付け用!$H$2, 0, (COLUMN() - COLUMN($D$20)) * 6)))","v":{"$error":"#N/A"}},{"$f":"IF((OFFSET(結果貼付け用!$H$2, 0, (COLUMN() - COLUMN($D$20)) * 6))=\"\",NA(),(OFFSET(結果貼付け用!$H$2, 0, (COLUMN() - COLUMN($D$20)) * 6)))","v":{"$error":"#N/A"}},{"$f":"IF((OFFSET(結果貼付け用!$H$2, 0, (COLUMN() - COLUMN($D$20)) * 6))=\"\",NA(),(OFFSET(結果貼付け用!$H$2, 0, (COLUMN() - COLUMN($D$20)) * 6)))","v":{"$error":"#N/A"}},{"$f":"IF((OFFSET(結果貼付け用!$H$2, 0, (COLUMN() - COLUMN($D$20)) * 6))=\"\",NA(),(OFFSET(結果貼付け用!$H$2, 0, (COLUMN() - COLUMN($D$20)) * 6)))","v":{"$error":"#N/A"}},{"$f":"IF((OFFSET(結果貼付け用!$H$2, 0, (COLUMN() - COLUMN($D$20)) * 6))=\"\",NA(),(OFFSET(結果貼付け用!$H$2, 0, (COLUMN() - COLUMN($D$20)) * 6)))","v":{"$error":"#N/A"}},{"$f":"IF((OFFSET(結果貼付け用!$H$2, 0, (COLUMN() - COLUMN($D$20)) * 6))=\"\",NA(),(OFFSET(結果貼付け用!$H$2, 0, (COLUMN() - COLUMN($D$20)) * 6)))","v":{"$error":"#N/A"}},{"$f":"IF((OFFSET(結果貼付け用!$H$2, 0, (COLUMN() - COLUMN($D$20)) * 6))=\"\",NA(),(OFFSET(結果貼付け用!$H$2, 0, (COLUMN() - COLUMN($D$20)) * 6)))","v":{"$error":"#N/A"}},{"$f":"IF((OFFSET(結果貼付け用!$H$2, 0, (COLUMN() - COLUMN($D$20)) * 6))=\"\",NA(),(OFFSET(結果貼付け用!$H$2, 0, (COLUMN() - COLUMN($D$20)) * 6)))","v":{"$error":"#N/A"}}]
[null,"職場風土",{"$f":"IF(OR(OFFSET(結果貼付け用!$F30,0,(COLUMN()-3)*6,1,1)=\"-\",OFFSET(結果貼付け用!$F30,0,(COLUMN()-3)*6,1,1)=\"\"),NA(),(OFFSET(結果貼付け用!$F30,0,(COLUMN()-3)*6,1,1)))","v":{"$error":"#N/A"}},{"$f":"IF(OR(OFFSET(結果貼付け用!$F30,0,(COLUMN()-3)*6,1,1)=\"-\",OFFSET(結果貼付け用!$F30,0,(COLUMN()-3)*6,1,1)=\"\"),NA(),(OFFSET(結果貼付け用!$F30,0,(COLUMN()-3)*6,1,1)))","v":{"$error":"#N/A"}},{"$f":"IF(OR(OFFSET(結果貼付け用!$F30,0,(COLUMN()-3)*6,1,1)=\"-\",OFFSET(結果貼付け用!$F30,0,(COLUMN()-3)*6,1,1)=\"\"),NA(),(OFFSET(結果貼付け用!$F30,0,(COLUMN()-3)*6,1,1)))","v":{"$error":"#N/A"}},{"$f":"IF(OR(OFFSET(結果貼付け用!$F30,0,(COLUMN()-3)*6,1,1)=\"-\",OFFSET(結果貼付け用!$F30,0,(COLUMN()-3)*6,1,1)=\"\"),NA(),(OFFSET(結果貼付け用!$F30,0,(COLUMN()-3)*6,1,1)))","v":{"$error":"#N/A"}},{"$f":"IF(OR(OFFSET(結果貼付け用!$F30,0,(COLUMN()-3)*6,1,1)=\"-\",OFFSET(結果貼付け用!$F30,0,(COLUMN()-3)*6,1,1)=\"\"),NA(),(OFFSET(結果貼付け用!$F30,0,(COLUMN()-3)*6,1,1)))","v":{"$error":"#N/A"}},{"$f":"IF(OR(OFFSET(結果貼付け用!$F30,0,(COLUMN()-3)*6,1,1)=\"-\",OFFSET(結果貼付け用!$F30,0,(COLUMN()-3)*6,1,1)=\"\"),NA(),(OFFSET(結果貼付け用!$F30,0,(COLUMN()-3)*6,1,1)))","v":{"$error":"#N/A"}},{"$f":"IF(OR(OFFSET(結果貼付け用!$F30,0,(COLUMN()-3)*6,1,1)=\"-\",OFFSET(結果貼付け用!$F30,0,(COLUMN()-3)*6,1,1)=\"\"),NA(),(OFFSET(結果貼付け用!$F30,0,(COLUMN()-3)*6,1,1)))","v":{"$error":"#N/A"}},{"$f":"IF(OR(OFFSET(結果貼付け用!$F30,0,(COLUMN()-3)*6,1,1)=\"-\",OFFSET(結果貼付け用!$F30,0,(COLUMN()-3)*6,1,1)=\"\"),NA(),(OFFSET(結果貼付け用!$F30,0,(COLUMN()-3)*6,1,1)))","v":{"$error":"#N/A"}},{"$f":"IF(OR(OFFSET(結果貼付け用!$F30,0,(COLUMN()-3)*6,1,1)=\"-\",OFFSET(結果貼付け用!$F30,0,(COLUMN()-3)*6,1,1)=\"\"),NA(),(OFFSET(結果貼付け用!$F30,0,(COLUMN()-3)*6,1,1)))","v":{"$error":"#N/A"}},{"$f":"IF(OR(OFFSET(結果貼付け用!$F30,0,(COLUMN()-3)*6,1,1)=\"-\",OFFSET(結果貼付け用!$F30,0,(COLUMN()-3)*6,1,1)=\"\"),NA(),(OFFSET(結果貼付け用!$F30,0,(COLUMN()-3)*6,1,1)))","v":{"$error":"#N/A"}},{"$f":"IF(OR(OFFSET(結果貼付け用!$F30,0,(COLUMN()-3)*6,1,1)=\"-\",OFFSET(結果貼付け用!$F30,0,(COLUMN()-3)*6,1,1)=\"\"),NA(),(OFFSET(結果貼付け用!$F30,0,(COLUMN()-3)*6,1,1)))","v":{"$error":"#N/A"}},{"$f":"IF(OR(OFFSET(結果貼付け用!$F30,0,(COLUMN()-3)*6,1,1)=\"-\",OFFSET(結果貼付け用!$F30,0,(COLUMN()-3)*6,1,1)=\"\"),NA(),(OFFSET(結果貼付け用!$F30,0,(COLUMN()-3)*6,1,1)))","v":{"$error":"#N/A"}},{"$f":"IF(OR(OFFSET(結果貼付け用!$F30,0,(COLUMN()-3)*6,1,1)=\"-\",OFFSET(結果貼付け用!$F30,0,(COLUMN()-3)*6,1,1)=\"\"),NA(),(OFFSET(結果貼付け用!$F30,0,(COLUMN()-3)*6,1,1)))","v":{"$error":"#N/A"}},{"$f":"IF(OR(OFFSET(結果貼付け用!$F30,0,(COLUMN()-3)*6,1,1)=\"-\",OFFSET(結果貼付け用!$F30,0,(COLUMN()-3)*6,1,1)=\"\"),NA(),(OFFSET(結果貼付け用!$F30,0,(COLUMN()-3)*6,1,1)))","v":{"$error":"#N/A"}},{"$f":"IF(OR(OFFSET(結果貼付け用!$F30,0,(COLUMN()-3)*6,1,1)=\"-\",OFFSET(結果貼付け用!$F30,0,(COLUMN()-3)*6,1,1)=\"\"),NA(),(OFFSET(結果貼付け用!$F30,0,(COLUMN()-3)*6,1,1)))","v":{"$error":"#N/A"}},{"$f":"IF(OR(OFFSET(結果貼付け用!$F30,0,(COLUMN()-3)*6,1,1)=\"-\",OFFSET(結果貼付け用!$F30,0,(COLUMN()-3)*6,1,1)=\"\"),NA(),(OFFSET(結果貼付け用!$F30,0,(COLUMN()-3)*6,1,1)))","v":{"$error":"#N/A"}},{"$f":"IF(OR(OFFSET(結果貼付け用!$F30,0,(COLUMN()-3)*6,1,1)=\"-\",OFFSET(結果貼付け用!$F30,0,(COLUMN()-3)*6,1,1)=\"\"),NA(),(OFFSET(結果貼付け用!$F30,0,(COLUMN()-3)*6,1,1)))","v":{"$error":"#N/A"}},{"$f":"IF(OR(OFFSET(結果貼付け用!$F30,0,(COLUMN()-3)*6,1,1)=\"-\",OFFSET(結果貼付け用!$F30,0,(COLUMN()-3)*6,1,1)=\"\"),NA(),(OFFSET(結果貼付け用!$F30,0,(COLUMN()-3)*6,1,1)))","v":{"$error":"#N/A"}},{"$f":"IF(OR(OFFSET(結果貼付け用!$F30,0,(COLUMN()-3)*6,1,1)=\"-\",OFFSET(結果貼付け用!$F30,0,(COLUMN()-3)*6,1,1)=\"\"),NA(),(OFFSET(結果貼付け用!$F30,0,(COLUMN()-3)*6,1,1)))","v":{"$error":"#N/A"}},{"$f":"IF(OR(OFFSET(結果貼付け用!$F30,0,(COLUMN()-3)*6,1,1)=\"-\",OFFSET(結果貼付け用!$F30,0,(COLUMN()-3)*6,1,1)=\"\"),NA(),(OFFSET(結果貼付け用!$F30,0,(COLUMN()-3)*6,1,1)))","v":{"$error":"#N/A"}},{"$f":"IF(OR(OFFSET(結果貼付け用!$F30,0,(COLUMN()-3)*6,1,1)=\"-\",OFFSET(結果貼付け用!$F30,0,(COLUMN()-3)*6,1,1)=\"\"),NA(),(OFFSET(結果貼付け用!$F30,0,(COLUMN()-3)*6,1,1)))","v":{"$error":"#N/A"}},{"$f":"IF(OR(OFFSET(結果貼付け用!$F30,0,(COLUMN()-3)*6,1,1)=\"-\",OFFSET(結果貼付け用!$F30,0,(COLUMN()-3)*6,1,1)=\"\"),NA(),(OFFSET(結果貼付け用!$F30,0,(COLUMN()-3)*6,1,1)))","v":{"$error":"#N/A"}},{"$f":"IF(OR(OFFSET(結果貼付け用!$F30,0,(COLUMN()-3)*6,1,1)=\"-\",OFFSET(結果貼付け用!$F30,0,(COLUMN()-3)*6,1,1)=\"\"),NA(),(OFFSET(結果貼付け用!$F30,0,(COLUMN()-3)*6,1,1)))","v":{"$error":"#N/A"}},{"$f":"IF(OR(OFFSET(結果貼付け用!$F30,0,(COLUMN()-3)*6,1,1)=\"-\",OFFSET(結果貼付け用!$F30,0,(COLUMN()-3)*6,1,1)=\"\"),NA(),(OFFSET(結果貼付け用!$F30,0,(COLUMN()-3)*6,1,1)))","v":{"$error":"#N/A"}},{"$f":"IF(OR(OFFSET(結果貼付け用!$F30,0,(COLUMN()-3)*6,1,1)=\"-\",OFFSET(結果貼付け用!$F30,0,(COLUMN()-3)*6,1,1)=\"\"),NA(),(OFFSET(結果貼付け用!$F30,0,(COLUMN()-3)*6,1,1)))","v":{"$error":"#N/A"}},{"$f":"IF(OR(OFFSET(結果貼付け用!$F30,0,(COLUMN()-3)*6,1,1)=\"-\",OFFSET(結果貼付け用!$F30,0,(COLUMN()-3)*6,1,1)=\"\"),NA(),(OFFSET(結果貼付け用!$F30,0,(COLUMN()-3)*6,1,1)))","v":{"$error":"#N/A"}},{"$f":"IF(OR(OFFSET(結果貼付け用!$F30,0,(COLUMN()-3)*6,1,1)=\"-\",OFFSET(結果貼付け用!$F30,0,(COLUMN()-3)*6,1,1)=\"\"),NA(),(OFFSET(結果貼付け用!$F30,0,(COLUMN()-3)*6,1,1)))","v":{"$error":"#N/A"}},{"$f":"IF(OR(OFFSET(結果貼付け用!$F30,0,(COLUMN()-3)*6,1,1)=\"-\",OFFSET(結果貼付け用!$F30,0,(COLUMN()-3)*6,1,1)=\"\"),NA(),(OFFSET(結果貼付け用!$F30,0,(COLUMN()-3)*6,1,1)))","v":{"$error":"#N/A"}},{"$f":"IF(OR(OFFSET(結果貼付け用!$F30,0,(COLUMN()-3)*6,1,1)=\"-\",OFFSET(結果貼付け用!$F30,0,(COLUMN()-3)*6,1,1)=\"\"),NA(),(OFFSET(結果貼付け用!$F30,0,(COLUMN()-3)*6,1,1)))","v":{"$error":"#N/A"}},{"$f":"IF(OR(OFFSET(結果貼付け用!$F30,0,(COLUMN()-3)*6,1,1)=\"-\",OFFSET(結果貼付け用!$F30,0,(COLUMN()-3)*6,1,1)=\"\"),NA(),(OFFSET(結果貼付け用!$F30,0,(COLUMN()-3)*6,1,1)))","v":{"$error":"#N/A"}}]
[null,"仕事の相互助言",{"$f":"IF(OR(OFFSET(結果貼付け用!$F31,0,(COLUMN()-3)*6,1,1)=\"-\",OFFSET(結果貼付け用!$F31,0,(COLUMN()-3)*6,1,1)=\"\"),NA(),(OFFSET(結果貼付け用!$F31,0,(COLUMN()-3)*6,1,1)))","v":{"$error":"#N/A"}},{"$f":"IF(OR(OFFSET(結果貼付け用!$F31,0,(COLUMN()-3)*6,1,1)=\"-\",OFFSET(結果貼付け用!$F31,0,(COLUMN()-3)*6,1,1)=\"\"),NA(),(OFFSET(結果貼付け用!$F31,0,(COLUMN()-3)*6,1,1)))","v":{"$error":"#N/A"}},{"$f":"IF(OR(OFFSET(結果貼付け用!$F31,0,(COLUMN()-3)*6,1,1)=\"-\",OFFSET(結果貼付け用!$F31,0,(COLUMN()-3)*6,1,1)=\"\"),NA(),(OFFSET(結果貼付け用!$F31,0,(COLUMN()-3)*6,1,1)))","v":{"$error":"#N/A"}},{"$f":"IF(OR(OFFSET(結果貼付け用!$F31,0,(COLUMN()-3)*6,1,1)=\"-\",OFFSET(結果貼付け用!$F31,0,(COLUMN()-3)*6,1,1)=\"\"),NA(),(OFFSET(結果貼付け用!$F31,0,(COLUMN()-3)*6,1,1)))","v":{"$error":"#N/A"}},{"$f":"IF(OR(OFFSET(結果貼付け用!$F31,0,(COLUMN()-3)*6,1,1)=\"-\",OFFSET(結果貼付け用!$F31,0,(COLUMN()-3)*6,1,1)=\"\"),NA(),(OFFSET(結果貼付け用!$F31,0,(COLUMN()-3)*6,1,1)))","v":{"$error":"#N/A"}},{"$f":"IF(OR(OFFSET(結果貼付け用!$F31,0,(COLUMN()-3)*6,1,1)=\"-\",OFFSET(結果貼付け用!$F31,0,(COLUMN()-3)*6,1,1)=\"\"),NA(),(OFFSET(結果貼付け用!$F31,0,(COLUMN()-3)*6,1,1)))","v":{"$error":"#N/A"}},{"$f":"IF(OR(OFFSET(結果貼付け用!$F31,0,(COLUMN()-3)*6,1,1)=\"-\",OFFSET(結果貼付け用!$F31,0,(COLUMN()-3)*6,1,1)=\"\"),NA(),(OFFSET(結果貼付け用!$F31,0,(COLUMN()-3)*6,1,1)))","v":{"$error":"#N/A"}},{"$f":"IF(OR(OFFSET(結果貼付け用!$F31,0,(COLUMN()-3)*6,1,1)=\"-\",OFFSET(結果貼付け用!$F31,0,(COLUMN()-3)*6,1,1)=\"\"),NA(),(OFFSET(結果貼付け用!$F31,0,(COLUMN()-3)*6,1,1)))","v":{"$error":"#N/A"}},{"$f":"IF(OR(OFFSET(結果貼付け用!$F31,0,(COLUMN()-3)*6,1,1)=\"-\",OFFSET(結果貼付け用!$F31,0,(COLUMN()-3)*6,1,1)=\"\"),NA(),(OFFSET(結果貼付け用!$F31,0,(COLUMN()-3)*6,1,1)))","v":{"$error":"#N/A"}},{"$f":"IF(OR(OFFSET(結果貼付け用!$F31,0,(COLUMN()-3)*6,1,1)=\"-\",OFFSET(結果貼付け用!$F31,0,(COLUMN()-3)*6,1,1)=\"\"),NA(),(OFFSET(結果貼付け用!$F31,0,(COLUMN()-3)*6,1,1)))","v":{"$error":"#N/A"}},{"$f":"IF(OR(OFFSET(結果貼付け用!$F31,0,(COLUMN()-3)*6,1,1)=\"-\",OFFSET(結果貼付け用!$F31,0,(COLUMN()-3)*6,1,1)=\"\"),NA(),(OFFSET(結果貼付け用!$F31,0,(COLUMN()-3)*6,1,1)))","v":{"$error":"#N/A"}},{"$f":"IF(OR(OFFSET(結果貼付け用!$F31,0,(COLUMN()-3)*6,1,1)=\"-\",OFFSET(結果貼付け用!$F31,0,(COLUMN()-3)*6,1,1)=\"\"),NA(),(OFFSET(結果貼付け用!$F31,0,(COLUMN()-3)*6,1,1)))","v":{"$error":"#N/A"}},{"$f":"IF(OR(OFFSET(結果貼付け用!$F31,0,(COLUMN()-3)*6,1,1)=\"-\",OFFSET(結果貼付け用!$F31,0,(COLUMN()-3)*6,1,1)=\"\"),NA(),(OFFSET(結果貼付け用!$F31,0,(COLUMN()-3)*6,1,1)))","v":{"$error":"#N/A"}},{"$f":"IF(OR(OFFSET(結果貼付け用!$F31,0,(COLUMN()-3)*6,1,1)=\"-\",OFFSET(結果貼付け用!$F31,0,(COLUMN()-3)*6,1,1)=\"\"),NA(),(OFFSET(結果貼付け用!$F31,0,(COLUMN()-3)*6,1,1)))","v":{"$error":"#N/A"}},{"$f":"IF(OR(OFFSET(結果貼付け用!$F31,0,(COLUMN()-3)*6,1,1)=\"-\",OFFSET(結果貼付け用!$F31,0,(COLUMN()-3)*6,1,1)=\"\"),NA(),(OFFSET(結果貼付け用!$F31,0,(COLUMN()-3)*6,1,1)))","v":{"$error":"#N/A"}},{"$f":"IF(OR(OFFSET(結果貼付け用!$F31,0,(COLUMN()-3)*6,1,1)=\"-\",OFFSET(結果貼付け用!$F31,0,(COLUMN()-3)*6,1,1)=\"\"),NA(),(OFFSET(結果貼付け用!$F31,0,(COLUMN()-3)*6,1,1)))","v":{"$error":"#N/A"}},{"$f":"IF(OR(OFFSET(結果貼付け用!$F31,0,(COLUMN()-3)*6,1,1)=\"-\",OFFSET(結果貼付け用!$F31,0,(COLUMN()-3)*6,1,1)=\"\"),NA(),(OFFSET(結果貼付け用!$F31,0,(COLUMN()-3)*6,1,1)))","v":{"$error":"#N/A"}},{"$f":"IF(OR(OFFSET(結果貼付け用!$F31,0,(COLUMN()-3)*6,1,1)=\"-\",OFFSET(結果貼付け用!$F31,0,(COLUMN()-3)*6,1,1)=\"\"),NA(),(OFFSET(結果貼付け用!$F31,0,(COLUMN()-3)*6,1,1)))","v":{"$error":"#N/A"}},{"$f":"IF(OR(OFFSET(結果貼付け用!$F31,0,(COLUMN()-3)*6,1,1)=\"-\",OFFSET(結果貼付け用!$F31,0,(COLUMN()-3)*6,1,1)=\"\"),NA(),(OFFSET(結果貼付け用!$F31,0,(COLUMN()-3)*6,1,1)))","v":{"$error":"#N/A"}},{"$f":"IF(OR(OFFSET(結果貼付け用!$F31,0,(COLUMN()-3)*6,1,1)=\"-\",OFFSET(結果貼付け用!$F31,0,(COLUMN()-3)*6,1,1)=\"\"),NA(),(OFFSET(結果貼付け用!$F31,0,(COLUMN()-3)*6,1,1)))","v":{"$error":"#N/A"}},{"$f":"IF(OR(OFFSET(結果貼付け用!$F31,0,(COLUMN()-3)*6,1,1)=\"-\",OFFSET(結果貼付け用!$F31,0,(COLUMN()-3)*6,1,1)=\"\"),NA(),(OFFSET(結果貼付け用!$F31,0,(COLUMN()-3)*6,1,1)))","v":{"$error":"#N/A"}},{"$f":"IF(OR(OFFSET(結果貼付け用!$F31,0,(COLUMN()-3)*6,1,1)=\"-\",OFFSET(結果貼付け用!$F31,0,(COLUMN()-3)*6,1,1)=\"\"),NA(),(OFFSET(結果貼付け用!$F31,0,(COLUMN()-3)*6,1,1)))","v":{"$error":"#N/A"}},{"$f":"IF(OR(OFFSET(結果貼付け用!$F31,0,(COLUMN()-3)*6,1,1)=\"-\",OFFSET(結果貼付け用!$F31,0,(COLUMN()-3)*6,1,1)=\"\"),NA(),(OFFSET(結果貼付け用!$F31,0,(COLUMN()-3)*6,1,1)))","v":{"$error":"#N/A"}},{"$f":"IF(OR(OFFSET(結果貼付け用!$F31,0,(COLUMN()-3)*6,1,1)=\"-\",OFFSET(結果貼付け用!$F31,0,(COLUMN()-3)*6,1,1)=\"\"),NA(),(OFFSET(結果貼付け用!$F31,0,(COLUMN()-3)*6,1,1)))","v":{"$error":"#N/A"}},{"$f":"IF(OR(OFFSET(結果貼付け用!$F31,0,(COLUMN()-3)*6,1,1)=\"-\",OFFSET(結果貼付け用!$F31,0,(COLUMN()-3)*6,1,1)=\"\"),NA(),(OFFSET(結果貼付け用!$F31,0,(COLUMN()-3)*6,1,1)))","v":{"$error":"#N/A"}},{"$f":"IF(OR(OFFSET(結果貼付け用!$F31,0,(COLUMN()-3)*6,1,1)=\"-\",OFFSET(結果貼付け用!$F31,0,(COLUMN()-3)*6,1,1)=\"\"),NA(),(OFFSET(結果貼付け用!$F31,0,(COLUMN()-3)*6,1,1)))","v":{"$error":"#N/A"}},{"$f":"IF(OR(OFFSET(結果貼付け用!$F31,0,(COLUMN()-3)*6,1,1)=\"-\",OFFSET(結果貼付け用!$F31,0,(COLUMN()-3)*6,1,1)=\"\"),NA(),(OFFSET(結果貼付け用!$F31,0,(COLUMN()-3)*6,1,1)))","v":{"$error":"#N/A"}},{"$f":"IF(OR(OFFSET(結果貼付け用!$F31,0,(COLUMN()-3)*6,1,1)=\"-\",OFFSET(結果貼付け用!$F31,0,(COLUMN()-3)*6,1,1)=\"\"),NA(),(OFFSET(結果貼付け用!$F31,0,(COLUMN()-3)*6,1,1)))","v":{"$error":"#N/A"}},{"$f":"IF(OR(OFFSET(結果貼付け用!$F31,0,(COLUMN()-3)*6,1,1)=\"-\",OFFSET(結果貼付け用!$F31,0,(COLUMN()-3)*6,1,1)=\"\"),NA(),(OFFSET(結果貼付け用!$F31,0,(COLUMN()-3)*6,1,1)))","v":{"$error":"#N/A"}},{"$f":"IF(OR(OFFSET(結果貼付け用!$F31,0,(COLUMN()-3)*6,1,1)=\"-\",OFFSET(結果貼付け用!$F31,0,(COLUMN()-3)*6,1,1)=\"\"),NA(),(OFFSET(結果貼付け用!$F31,0,(COLUMN()-3)*6,1,1)))","v":{"$error":"#N/A"}}]
[null,"職場の人間関係の良さ",{"$f":"IF(OR(OFFSET(結果貼付け用!$F32,0,(COLUMN()-3)*6,1,1)=\"-\",OFFSET(結果貼付け用!$F32,0,(COLUMN()-3)*6,1,1)=\"\"),NA(),(OFFSET(結果貼付け用!$F32,0,(COLUMN()-3)*6,1,1)))","v":{"$error":"#N/A"}},{"$f":"IF(OR(OFFSET(結果貼付け用!$F32,0,(COLUMN()-3)*6,1,1)=\"-\",OFFSET(結果貼付け用!$F32,0,(COLUMN()-3)*6,1,1)=\"\"),NA(),(OFFSET(結果貼付け用!$F32,0,(COLUMN()-3)*6,1,1)))","v":{"$error":"#N/A"}},{"$f":"IF(OR(OFFSET(結果貼付け用!$F32,0,(COLUMN()-3)*6,1,1)=\"-\",OFFSET(結果貼付け用!$F32,0,(COLUMN()-3)*6,1,1)=\"\"),NA(),(OFFSET(結果貼付け用!$F32,0,(COLUMN()-3)*6,1,1)))","v":{"$error":"#N/A"}},{"$f":"IF(OR(OFFSET(結果貼付け用!$F32,0,(COLUMN()-3)*6,1,1)=\"-\",OFFSET(結果貼付け用!$F32,0,(COLUMN()-3)*6,1,1)=\"\"),NA(),(OFFSET(結果貼付け用!$F32,0,(COLUMN()-3)*6,1,1)))","v":{"$error":"#N/A"}},{"$f":"IF(OR(OFFSET(結果貼付け用!$F32,0,(COLUMN()-3)*6,1,1)=\"-\",OFFSET(結果貼付け用!$F32,0,(COLUMN()-3)*6,1,1)=\"\"),NA(),(OFFSET(結果貼付け用!$F32,0,(COLUMN()-3)*6,1,1)))","v":{"$error":"#N/A"}},{"$f":"IF(OR(OFFSET(結果貼付け用!$F32,0,(COLUMN()-3)*6,1,1)=\"-\",OFFSET(結果貼付け用!$F32,0,(COLUMN()-3)*6,1,1)=\"\"),NA(),(OFFSET(結果貼付け用!$F32,0,(COLUMN()-3)*6,1,1)))","v":{"$error":"#N/A"}},{"$f":"IF(OR(OFFSET(結果貼付け用!$F32,0,(COLUMN()-3)*6,1,1)=\"-\",OFFSET(結果貼付け用!$F32,0,(COLUMN()-3)*6,1,1)=\"\"),NA(),(OFFSET(結果貼付け用!$F32,0,(COLUMN()-3)*6,1,1)))","v":{"$error":"#N/A"}},{"$f":"IF(OR(OFFSET(結果貼付け用!$F32,0,(COLUMN()-3)*6,1,1)=\"-\",OFFSET(結果貼付け用!$F32,0,(COLUMN()-3)*6,1,1)=\"\"),NA(),(OFFSET(結果貼付け用!$F32,0,(COLUMN()-3)*6,1,1)))","v":{"$error":"#N/A"}},{"$f":"IF(OR(OFFSET(結果貼付け用!$F32,0,(COLUMN()-3)*6,1,1)=\"-\",OFFSET(結果貼付け用!$F32,0,(COLUMN()-3)*6,1,1)=\"\"),NA(),(OFFSET(結果貼付け用!$F32,0,(COLUMN()-3)*6,1,1)))","v":{"$error":"#N/A"}},{"$f":"IF(OR(OFFSET(結果貼付け用!$F32,0,(COLUMN()-3)*6,1,1)=\"-\",OFFSET(結果貼付け用!$F32,0,(COLUMN()-3)*6,1,1)=\"\"),NA(),(OFFSET(結果貼付け用!$F32,0,(COLUMN()-3)*6,1,1)))","v":{"$error":"#N/A"}},{"$f":"IF(OR(OFFSET(結果貼付け用!$F32,0,(COLUMN()-3)*6,1,1)=\"-\",OFFSET(結果貼付け用!$F32,0,(COLUMN()-3)*6,1,1)=\"\"),NA(),(OFFSET(結果貼付け用!$F32,0,(COLUMN()-3)*6,1,1)))","v":{"$error":"#N/A"}},{"$f":"IF(OR(OFFSET(結果貼付け用!$F32,0,(COLUMN()-3)*6,1,1)=\"-\",OFFSET(結果貼付け用!$F32,0,(COLUMN()-3)*6,1,1)=\"\"),NA(),(OFFSET(結果貼付け用!$F32,0,(COLUMN()-3)*6,1,1)))","v":{"$error":"#N/A"}},{"$f":"IF(OR(OFFSET(結果貼付け用!$F32,0,(COLUMN()-3)*6,1,1)=\"-\",OFFSET(結果貼付け用!$F32,0,(COLUMN()-3)*6,1,1)=\"\"),NA(),(OFFSET(結果貼付け用!$F32,0,(COLUMN()-3)*6,1,1)))","v":{"$error":"#N/A"}},{"$f":"IF(OR(OFFSET(結果貼付け用!$F32,0,(COLUMN()-3)*6,1,1)=\"-\",OFFSET(結果貼付け用!$F32,0,(COLUMN()-3)*6,1,1)=\"\"),NA(),(OFFSET(結果貼付け用!$F32,0,(COLUMN()-3)*6,1,1)))","v":{"$error":"#N/A"}},{"$f":"IF(OR(OFFSET(結果貼付け用!$F32,0,(COLUMN()-3)*6,1,1)=\"-\",OFFSET(結果貼付け用!$F32,0,(COLUMN()-3)*6,1,1)=\"\"),NA(),(OFFSET(結果貼付け用!$F32,0,(COLUMN()-3)*6,1,1)))","v":{"$error":"#N/A"}},{"$f":"IF(OR(OFFSET(結果貼付け用!$F32,0,(COLUMN()-3)*6,1,1)=\"-\",OFFSET(結果貼付け用!$F32,0,(COLUMN()-3)*6,1,1)=\"\"),NA(),(OFFSET(結果貼付け用!$F32,0,(COLUMN()-3)*6,1,1)))","v":{"$error":"#N/A"}},{"$f":"IF(OR(OFFSET(結果貼付け用!$F32,0,(COLUMN()-3)*6,1,1)=\"-\",OFFSET(結果貼付け用!$F32,0,(COLUMN()-3)*6,1,1)=\"\"),NA(),(OFFSET(結果貼付け用!$F32,0,(COLUMN()-3)*6,1,1)))","v":{"$error":"#N/A"}},{"$f":"IF(OR(OFFSET(結果貼付け用!$F32,0,(COLUMN()-3)*6,1,1)=\"-\",OFFSET(結果貼付け用!$F32,0,(COLUMN()-3)*6,1,1)=\"\"),NA(),(OFFSET(結果貼付け用!$F32,0,(COLUMN()-3)*6,1,1)))","v":{"$error":"#N/A"}},{"$f":"IF(OR(OFFSET(結果貼付け用!$F32,0,(COLUMN()-3)*6,1,1)=\"-\",OFFSET(結果貼付け用!$F32,0,(COLUMN()-3)*6,1,1)=\"\"),NA(),(OFFSET(結果貼付け用!$F32,0,(COLUMN()-3)*6,1,1)))","v":{"$error":"#N/A"}},{"$f":"IF(OR(OFFSET(結果貼付け用!$F32,0,(COLUMN()-3)*6,1,1)=\"-\",OFFSET(結果貼付け用!$F32,0,(COLUMN()-3)*6,1,1)=\"\"),NA(),(OFFSET(結果貼付け用!$F32,0,(COLUMN()-3)*6,1,1)))","v":{"$error":"#N/A"}},{"$f":"IF(OR(OFFSET(結果貼付け用!$F32,0,(COLUMN()-3)*6,1,1)=\"-\",OFFSET(結果貼付け用!$F32,0,(COLUMN()-3)*6,1,1)=\"\"),NA(),(OFFSET(結果貼付け用!$F32,0,(COLUMN()-3)*6,1,1)))","v":{"$error":"#N/A"}},{"$f":"IF(OR(OFFSET(結果貼付け用!$F32,0,(COLUMN()-3)*6,1,1)=\"-\",OFFSET(結果貼付け用!$F32,0,(COLUMN()-3)*6,1,1)=\"\"),NA(),(OFFSET(結果貼付け用!$F32,0,(COLUMN()-3)*6,1,1)))","v":{"$error":"#N/A"}},{"$f":"IF(OR(OFFSET(結果貼付け用!$F32,0,(COLUMN()-3)*6,1,1)=\"-\",OFFSET(結果貼付け用!$F32,0,(COLUMN()-3)*6,1,1)=\"\"),NA(),(OFFSET(結果貼付け用!$F32,0,(COLUMN()-3)*6,1,1)))","v":{"$error":"#N/A"}},{"$f":"IF(OR(OFFSET(結果貼付け用!$F32,0,(COLUMN()-3)*6,1,1)=\"-\",OFFSET(結果貼付け用!$F32,0,(COLUMN()-3)*6,1,1)=\"\"),NA(),(OFFSET(結果貼付け用!$F32,0,(COLUMN()-3)*6,1,1)))","v":{"$error":"#N/A"}},{"$f":"IF(OR(OFFSET(結果貼付け用!$F32,0,(COLUMN()-3)*6,1,1)=\"-\",OFFSET(結果貼付け用!$F32,0,(COLUMN()-3)*6,1,1)=\"\"),NA(),(OFFSET(結果貼付け用!$F32,0,(COLUMN()-3)*6,1,1)))","v":{"$error":"#N/A"}},{"$f":"IF(OR(OFFSET(結果貼付け用!$F32,0,(COLUMN()-3)*6,1,1)=\"-\",OFFSET(結果貼付け用!$F32,0,(COLUMN()-3)*6,1,1)=\"\"),NA(),(OFFSET(結果貼付け用!$F32,0,(COLUMN()-3)*6,1,1)))","v":{"$error":"#N/A"}},{"$f":"IF(OR(OFFSET(結果貼付け用!$F32,0,(COLUMN()-3)*6,1,1)=\"-\",OFFSET(結果貼付け用!$F32,0,(COLUMN()-3)*6,1,1)=\"\"),NA(),(OFFSET(結果貼付け用!$F32,0,(COLUMN()-3)*6,1,1)))","v":{"$error":"#N/A"}},{"$f":"IF(OR(OFFSET(結果貼付け用!$F32,0,(COLUMN()-3)*6,1,1)=\"-\",OFFSET(結果貼付け用!$F32,0,(COLUMN()-3)*6,1,1)=\"\"),NA(),(OFFSET(結果貼付け用!$F32,0,(COLUMN()-3)*6,1,1)))","v":{"$error":"#N/A"}},{"$f":"IF(OR(OFFSET(結果貼付け用!$F32,0,(COLUMN()-3)*6,1,1)=\"-\",OFFSET(結果貼付け用!$F32,0,(COLUMN()-3)*6,1,1)=\"\"),NA(),(OFFSET(結果貼付け用!$F32,0,(COLUMN()-3)*6,1,1)))","v":{"$error":"#N/A"}},{"$f":"IF(OR(OFFSET(結果貼付け用!$F32,0,(COLUMN()-3)*6,1,1)=\"-\",OFFSET(結果貼付け用!$F32,0,(COLUMN()-3)*6,1,1)=\"\"),NA(),(OFFSET(結果貼付け用!$F32,0,(COLUMN()-3)*6,1,1)))","v":{"$error":"#N/A"}}]
[null,"職場の心理的安全性",{"$f":"IF(OR(OFFSET(結果貼付け用!$F33,0,(COLUMN()-3)*6,1,1)=\"-\",OFFSET(結果貼付け用!$F33,0,(COLUMN()-3)*6,1,1)=\"\"),NA(),(OFFSET(結果貼付け用!$F33,0,(COLUMN()-3)*6,1,1)))","v":{"$error":"#N/A"}},{"$f":"IF(OR(OFFSET(結果貼付け用!$F33,0,(COLUMN()-3)*6,1,1)=\"-\",OFFSET(結果貼付け用!$F33,0,(COLUMN()-3)*6,1,1)=\"\"),NA(),(OFFSET(結果貼付け用!$F33,0,(COLUMN()-3)*6,1,1)))","v":{"$error":"#N/A"}},{"$f":"IF(OR(OFFSET(結果貼付け用!$F33,0,(COLUMN()-3)*6,1,1)=\"-\",OFFSET(結果貼付け用!$F33,0,(COLUMN()-3)*6,1,1)=\"\"),NA(),(OFFSET(結果貼付け用!$F33,0,(COLUMN()-3)*6,1,1)))","v":{"$error":"#N/A"}},{"$f":"IF(OR(OFFSET(結果貼付け用!$F33,0,(COLUMN()-3)*6,1,1)=\"-\",OFFSET(結果貼付け用!$F33,0,(COLUMN()-3)*6,1,1)=\"\"),NA(),(OFFSET(結果貼付け用!$F33,0,(COLUMN()-3)*6,1,1)))","v":{"$error":"#N/A"}},{"$f":"IF(OR(OFFSET(結果貼付け用!$F33,0,(COLUMN()-3)*6,1,1)=\"-\",OFFSET(結果貼付け用!$F33,0,(COLUMN()-3)*6,1,1)=\"\"),NA(),(OFFSET(結果貼付け用!$F33,0,(COLUMN()-3)*6,1,1)))","v":{"$error":"#N/A"}},{"$f":"IF(OR(OFFSET(結果貼付け用!$F33,0,(COLUMN()-3)*6,1,1)=\"-\",OFFSET(結果貼付け用!$F33,0,(COLUMN()-3)*6,1,1)=\"\"),NA(),(OFFSET(結果貼付け用!$F33,0,(COLUMN()-3)*6,1,1)))","v":{"$error":"#N/A"}},{"$f":"IF(OR(OFFSET(結果貼付け用!$F33,0,(COLUMN()-3)*6,1,1)=\"-\",OFFSET(結果貼付け用!$F33,0,(COLUMN()-3)*6,1,1)=\"\"),NA(),(OFFSET(結果貼付け用!$F33,0,(COLUMN()-3)*6,1,1)))","v":{"$error":"#N/A"}},{"$f":"IF(OR(OFFSET(結果貼付け用!$F33,0,(COLUMN()-3)*6,1,1)=\"-\",OFFSET(結果貼付け用!$F33,0,(COLUMN()-3)*6,1,1)=\"\"),NA(),(OFFSET(結果貼付け用!$F33,0,(COLUMN()-3)*6,1,1)))","v":{"$error":"#N/A"}},{"$f":"IF(OR(OFFSET(結果貼付け用!$F33,0,(COLUMN()-3)*6,1,1)=\"-\",OFFSET(結果貼付け用!$F33,0,(COLUMN()-3)*6,1,1)=\"\"),NA(),(OFFSET(結果貼付け用!$F33,0,(COLUMN()-3)*6,1,1)))","v":{"$error":"#N/A"}},{"$f":"IF(OR(OFFSET(結果貼付け用!$F33,0,(COLUMN()-3)*6,1,1)=\"-\",OFFSET(結果貼付け用!$F33,0,(COLUMN()-3)*6,1,1)=\"\"),NA(),(OFFSET(結果貼付け用!$F33,0,(COLUMN()-3)*6,1,1)))","v":{"$error":"#N/A"}},{"$f":"IF(OR(OFFSET(結果貼付け用!$F33,0,(COLUMN()-3)*6,1,1)=\"-\",OFFSET(結果貼付け用!$F33,0,(COLUMN()-3)*6,1,1)=\"\"),NA(),(OFFSET(結果貼付け用!$F33,0,(COLUMN()-3)*6,1,1)))","v":{"$error":"#N/A"}},{"$f":"IF(OR(OFFSET(結果貼付け用!$F33,0,(COLUMN()-3)*6,1,1)=\"-\",OFFSET(結果貼付け用!$F33,0,(COLUMN()-3)*6,1,1)=\"\"),NA(),(OFFSET(結果貼付け用!$F33,0,(COLUMN()-3)*6,1,1)))","v":{"$error":"#N/A"}},{"$f":"IF(OR(OFFSET(結果貼付け用!$F33,0,(COLUMN()-3)*6,1,1)=\"-\",OFFSET(結果貼付け用!$F33,0,(COLUMN()-3)*6,1,1)=\"\"),NA(),(OFFSET(結果貼付け用!$F33,0,(COLUMN()-3)*6,1,1)))","v":{"$error":"#N/A"}},{"$f":"IF(OR(OFFSET(結果貼付け用!$F33,0,(COLUMN()-3)*6,1,1)=\"-\",OFFSET(結果貼付け用!$F33,0,(COLUMN()-3)*6,1,1)=\"\"),NA(),(OFFSET(結果貼付け用!$F33,0,(COLUMN()-3)*6,1,1)))","v":{"$error":"#N/A"}},{"$f":"IF(OR(OFFSET(結果貼付け用!$F33,0,(COLUMN()-3)*6,1,1)=\"-\",OFFSET(結果貼付け用!$F33,0,(COLUMN()-3)*6,1,1)=\"\"),NA(),(OFFSET(結果貼付け用!$F33,0,(COLUMN()-3)*6,1,1)))","v":{"$error":"#N/A"}},{"$f":"IF(OR(OFFSET(結果貼付け用!$F33,0,(COLUMN()-3)*6,1,1)=\"-\",OFFSET(結果貼付け用!$F33,0,(COLUMN()-3)*6,1,1)=\"\"),NA(),(OFFSET(結果貼付け用!$F33,0,(COLUMN()-3)*6,1,1)))","v":{"$error":"#N/A"}},{"$f":"IF(OR(OFFSET(結果貼付け用!$F33,0,(COLUMN()-3)*6,1,1)=\"-\",OFFSET(結果貼付け用!$F33,0,(COLUMN()-3)*6,1,1)=\"\"),NA(),(OFFSET(結果貼付け用!$F33,0,(COLUMN()-3)*6,1,1)))","v":{"$error":"#N/A"}},{"$f":"IF(OR(OFFSET(結果貼付け用!$F33,0,(COLUMN()-3)*6,1,1)=\"-\",OFFSET(結果貼付け用!$F33,0,(COLUMN()-3)*6,1,1)=\"\"),NA(),(OFFSET(結果貼付け用!$F33,0,(COLUMN()-3)*6,1,1)))","v":{"$error":"#N/A"}},{"$f":"IF(OR(OFFSET(結果貼付け用!$F33,0,(COLUMN()-3)*6,1,1)=\"-\",OFFSET(結果貼付け用!$F33,0,(COLUMN()-3)*6,1,1)=\"\"),NA(),(OFFSET(結果貼付け用!$F33,0,(COLUMN()-3)*6,1,1)))","v":{"$error":"#N/A"}},{"$f":"IF(OR(OFFSET(結果貼付け用!$F33,0,(COLUMN()-3)*6,1,1)=\"-\",OFFSET(結果貼付け用!$F33,0,(COLUMN()-3)*6,1,1)=\"\"),NA(),(OFFSET(結果貼付け用!$F33,0,(COLUMN()-3)*6,1,1)))","v":{"$error":"#N/A"}},{"$f":"IF(OR(OFFSET(結果貼付け用!$F33,0,(COLUMN()-3)*6,1,1)=\"-\",OFFSET(結果貼付け用!$F33,0,(COLUMN()-3)*6,1,1)=\"\"),NA(),(OFFSET(結果貼付け用!$F33,0,(COLUMN()-3)*6,1,1)))","v":{"$error":"#N/A"}},{"$f":"IF(OR(OFFSET(結果貼付け用!$F33,0,(COLUMN()-3)*6,1,1)=\"-\",OFFSET(結果貼付け用!$F33,0,(COLUMN()-3)*6,1,1)=\"\"),NA(),(OFFSET(結果貼付け用!$F33,0,(COLUMN()-3)*6,1,1)))","v":{"$error":"#N/A"}},{"$f":"IF(OR(OFFSET(結果貼付け用!$F33,0,(COLUMN()-3)*6,1,1)=\"-\",OFFSET(結果貼付け用!$F33,0,(COLUMN()-3)*6,1,1)=\"\"),NA(),(OFFSET(結果貼付け用!$F33,0,(COLUMN()-3)*6,1,1)))","v":{"$error":"#N/A"}},{"$f":"IF(OR(OFFSET(結果貼付け用!$F33,0,(COLUMN()-3)*6,1,1)=\"-\",OFFSET(結果貼付け用!$F33,0,(COLUMN()-3)*6,1,1)=\"\"),NA(),(OFFSET(結果貼付け用!$F33,0,(COLUMN()-3)*6,1,1)))","v":{"$error":"#N/A"}},{"$f":"IF(OR(OFFSET(結果貼付け用!$F33,0,(COLUMN()-3)*6,1,1)=\"-\",OFFSET(結果貼付け用!$F33,0,(COLUMN()-3)*6,1,1)=\"\"),NA(),(OFFSET(結果貼付け用!$F33,0,(COLUMN()-3)*6,1,1)))","v":{"$error":"#N/A"}},{"$f":"IF(OR(OFFSET(結果貼付け用!$F33,0,(COLUMN()-3)*6,1,1)=\"-\",OFFSET(結果貼付け用!$F33,0,(COLUMN()-3)*6,1,1)=\"\"),NA(),(OFFSET(結果貼付け用!$F33,0,(COLUMN()-3)*6,1,1)))","v":{"$error":"#N/A"}},{"$f":"IF(OR(OFFSET(結果貼付け用!$F33,0,(COLUMN()-3)*6,1,1)=\"-\",OFFSET(結果貼付け用!$F33,0,(COLUMN()-3)*6,1,1)=\"\"),NA(),(OFFSET(結果貼付け用!$F33,0,(COLUMN()-3)*6,1,1)))","v":{"$error":"#N/A"}},{"$f":"IF(OR(OFFSET(結果貼付け用!$F33,0,(COLUMN()-3)*6,1,1)=\"-\",OFFSET(結果貼付け用!$F33,0,(COLUMN()-3)*6,1,1)=\"\"),NA(),(OFFSET(結果貼付け用!$F33,0,(COLUMN()-3)*6,1,1)))","v":{"$error":"#N/A"}},{"$f":"IF(OR(OFFSET(結果貼付け用!$F33,0,(COLUMN()-3)*6,1,1)=\"-\",OFFSET(結果貼付け用!$F33,0,(COLUMN()-3)*6,1,1)=\"\"),NA(),(OFFSET(結果貼付け用!$F33,0,(COLUMN()-3)*6,1,1)))","v":{"$error":"#N/A"}},{"$f":"IF(OR(OFFSET(結果貼付け用!$F33,0,(COLUMN()-3)*6,1,1)=\"-\",OFFSET(結果貼付け用!$F33,0,(COLUMN()-3)*6,1,1)=\"\"),NA(),(OFFSET(結果貼付け用!$F33,0,(COLUMN()-3)*6,1,1)))","v":{"$error":"#N/A"}}]
[]
[]
[]
[]
[]
[]
[]
[]
[]
[]
[]
[]
[]
[]
[]
[]
[]
[]
[]
[]
[null,"実施開始日時",{"$f":"IF(結果貼付け用!B2=\"\",NA(),結果貼付け用!B2)","v":{"$error":"#N/A"}},{"$f":"IF((OFFSET(結果貼付け用!$H$2, 0, (COLUMN() - COLUMN($D$20)) * 6))=\"\",NA(),(OFFSET(結果貼付け用!$H$2, 0, (COLUMN() - COLUMN($D$20)) * 6)))","v":{"$error":"#N/A"}},{"$f":"IF((OFFSET(結果貼付け用!$H$2, 0, (COLUMN() - COLUMN($D$20)) * 6))=\"\",NA(),(OFFSET(結果貼付け用!$H$2, 0, (COLUMN() - COLUMN($D$20)) * 6)))","v":{"$error":"#N/A"}},{"$f":"IF((OFFSET(結果貼付け用!$H$2, 0, (COLUMN() - COLUMN($D$20)) * 6))=\"\",NA(),(OFFSET(結果貼付け用!$H$2, 0, (COLUMN() - COLUMN($D$20)) * 6)))","v":{"$error":"#N/A"}},{"$f":"IF((OFFSET(結果貼付け用!$H$2, 0, (COLUMN() - COLUMN($D$20)) * 6))=\"\",NA(),(OFFSET(結果貼付け用!$H$2, 0, (COLUMN() - COLUMN($D$20)) * 6)))","v":{"$error":"#N/A"}},{"$f":"IF((OFFSET(結果貼付け用!$H$2, 0, (COLUMN() - COLUMN($D$20)) * 6))=\"\",NA(),(OFFSET(結果貼付け用!$H$2, 0, (COLUMN() - COLUMN($D$20)) * 6)))","v":{"$error":"#N/A"}},{"$f":"IF((OFFSET(結果貼付け用!$H$2, 0, (COLUMN() - COLUMN($D$20)) * 6))=\"\",NA(),(OFFSET(結果貼付け用!$H$2, 0, (COLUMN() - COLUMN($D$20)) * 6)))","v":{"$error":"#N/A"}},{"$f":"IF((OFFSET(結果貼付け用!$H$2, 0, (COLUMN() - COLUMN($D$20)) * 6))=\"\",NA(),(OFFSET(結果貼付け用!$H$2, 0, (COLUMN() - COLUMN($D$20)) * 6)))","v":{"$error":"#N/A"}},{"$f":"IF((OFFSET(結果貼付け用!$H$2, 0, (COLUMN() - COLUMN($D$20)) * 6))=\"\",NA(),(OFFSET(結果貼付け用!$H$2, 0, (COLUMN() - COLUMN($D$20)) * 6)))","v":{"$error":"#N/A"}},{"$f":"IF((OFFSET(結果貼付け用!$H$2, 0, (COLUMN() - COLUMN($D$20)) * 6))=\"\",NA(),(OFFSET(結果貼付け用!$H$2, 0, (COLUMN() - COLUMN($D$20)) * 6)))","v":{"$error":"#N/A"}},{"$f":"IF((OFFSET(結果貼付け用!$H$2, 0, (COLUMN() - COLUMN($D$20)) * 6))=\"\",NA(),(OFFSET(結果貼付け用!$H$2, 0, (COLUMN() - COLUMN($D$20)) * 6)))","v":{"$error":"#N/A"}},{"$f":"IF((OFFSET(結果貼付け用!$H$2, 0, (COLUMN() - COLUMN($D$20)) * 6))=\"\",NA(),(OFFSET(結果貼付け用!$H$2, 0, (COLUMN() - COLUMN($D$20)) * 6)))","v":{"$error":"#N/A"}},{"$f":"IF((OFFSET(結果貼付け用!$H$2, 0, (COLUMN() - COLUMN($D$20)) * 6))=\"\",NA(),(OFFSET(結果貼付け用!$H$2, 0, (COLUMN() - COLUMN($D$20)) * 6)))","v":{"$error":"#N/A"}},{"$f":"IF((OFFSET(結果貼付け用!$H$2, 0, (COLUMN() - COLUMN($D$20)) * 6))=\"\",NA(),(OFFSET(結果貼付け用!$H$2, 0, (COLUMN() - COLUMN($D$20)) * 6)))","v":{"$error":"#N/A"}},{"$f":"IF((OFFSET(結果貼付け用!$H$2, 0, (COLUMN() - COLUMN($D$20)) * 6))=\"\",NA(),(OFFSET(結果貼付け用!$H$2, 0, (COLUMN() - COLUMN($D$20)) * 6)))","v":{"$error":"#N/A"}},{"$f":"IF((OFFSET(結果貼付け用!$H$2, 0, (COLUMN() - COLUMN($D$20)) * 6))=\"\",NA(),(OFFSET(結果貼付け用!$H$2, 0, (COLUMN() - COLUMN($D$20)) * 6)))","v":{"$error":"#N/A"}},{"$f":"IF((OFFSET(結果貼付け用!$H$2, 0, (COLUMN() - COLUMN($D$20)) * 6))=\"\",NA(),(OFFSET(結果貼付け用!$H$2, 0, (COLUMN() - COLUMN($D$20)) * 6)))","v":{"$error":"#N/A"}},{"$f":"IF((OFFSET(結果貼付け用!$H$2, 0, (COLUMN() - COLUMN($D$20)) * 6))=\"\",NA(),(OFFSET(結果貼付け用!$H$2, 0, (COLUMN() - COLUMN($D$20)) * 6)))","v":{"$error":"#N/A"}},{"$f":"IF((OFFSET(結果貼付け用!$H$2, 0, (COLUMN() - COLUMN($D$20)) * 6))=\"\",NA(),(OFFSET(結果貼付け用!$H$2, 0, (COLUMN() - COLUMN($D$20)) * 6)))","v":{"$error":"#N/A"}},{"$f":"IF((OFFSET(結果貼付け用!$H$2, 0, (COLUMN() - COLUMN($D$20)) * 6))=\"\",NA(),(OFFSET(結果貼付け用!$H$2, 0, (COLUMN() - COLUMN($D$20)) * 6)))","v":{"$error":"#N/A"}},{"$f":"IF((OFFSET(結果貼付け用!$H$2, 0, (COLUMN() - COLUMN($D$20)) * 6))=\"\",NA(),(OFFSET(結果貼付け用!$H$2, 0, (COLUMN() - COLUMN($D$20)) * 6)))","v":{"$error":"#N/A"}},{"$f":"IF((OFFSET(結果貼付け用!$H$2, 0, (COLUMN() - COLUMN($D$20)) * 6))=\"\",NA(),(OFFSET(結果貼付け用!$H$2, 0, (COLUMN() - COLUMN($D$20)) * 6)))","v":{"$error":"#N/A"}},{"$f":"IF((OFFSET(結果貼付け用!$H$2, 0, (COLUMN() - COLUMN($D$20)) * 6))=\"\",NA(),(OFFSET(結果貼付け用!$H$2, 0, (COLUMN() - COLUMN($D$20)) * 6)))","v":{"$error":"#N/A"}},{"$f":"IF((OFFSET(結果貼付け用!$H$2, 0, (COLUMN() - COLUMN($D$20)) * 6))=\"\",NA(),(OFFSET(結果貼付け用!$H$2, 0, (COLUMN() - COLUMN($D$20)) * 6)))","v":{"$error":"#N/A"}},{"$f":"IF((OFFSET(結果貼付け用!$H$2, 0, (COLUMN() - COLUMN($D$20)) * 6))=\"\",NA(),(OFFSET(結果貼付け用!$H$2, 0, (COLUMN() - COLUMN($D$20)) * 6)))","v":{"$error":"#N/A"}},{"$f":"IF((OFFSET(結果貼付け用!$H$2, 0, (COLUMN() - COLUMN($D$20)) * 6))=\"\",NA(),(OFFSET(結果貼付け用!$H$2, 0, (COLUMN() - COLUMN($D$20)) * 6)))","v":{"$error":"#N/A"}},{"$f":"IF((OFFSET(結果貼付け用!$H$2, 0, (COLUMN() - COLUMN($D$20)) * 6))=\"\",NA(),(OFFSET(結果貼付け用!$H$2, 0, (COLUMN() - COLUMN($D$20)) * 6)))","v":{"$error":"#N/A"}},{"$f":"IF((OFFSET(結果貼付け用!$H$2, 0, (COLUMN() - COLUMN($D$20)) * 6))=\"\",NA(),(OFFSET(結果貼付け用!$H$2, 0, (COLUMN() - COLUMN($D$20)) * 6)))","v":{"$error":"#N/A"}},{"$f":"IF((OFFSET(結果貼付け用!$H$2, 0, (COLUMN() - COLUMN($D$20)) * 6))=\"\",NA(),(OFFSET(結果貼付け用!$H$2, 0, (COLUMN() - COLUMN($D$20)) * 6)))","v":{"$error":"#N/A"}},{"$f":"IF((OFFSET(結果貼付け用!$H$2, 0, (COLUMN() - COLUMN($D$20)) * 6))=\"\",NA(),(OFFSET(結果貼付け用!$H$2, 0, (COLUMN() - COLUMN($D$20)) * 6)))","v":{"$error":"#N/A"}}]
[null,"人事施策",{"$f":"IF(OR(OFFSET(結果貼付け用!$F34,0,(COLUMN()-3)*6,1,1)=\"-\",OFFSET(結果貼付け用!$F34,0,(COLUMN()-3)*6,1,1)=\"\"),NA(),(OFFSET(結果貼付け用!$F34,0,(COLUMN()-3)*6,1,1)))","v":{"$error":"#N/A"}},{"$f":"IF(OR(OFFSET(結果貼付け用!$F34,0,(COLUMN()-3)*6,1,1)=\"-\",OFFSET(結果貼付け用!$F34,0,(COLUMN()-3)*6,1,1)=\"\"),NA(),(OFFSET(結果貼付け用!$F34,0,(COLUMN()-3)*6,1,1)))","v":{"$error":"#N/A"}},{"$f":"IF(OR(OFFSET(結果貼付け用!$F34,0,(COLUMN()-3)*6,1,1)=\"-\",OFFSET(結果貼付け用!$F34,0,(COLUMN()-3)*6,1,1)=\"\"),NA(),(OFFSET(結果貼付け用!$F34,0,(COLUMN()-3)*6,1,1)))","v":{"$error":"#N/A"}},{"$f":"IF(OR(OFFSET(結果貼付け用!$F34,0,(COLUMN()-3)*6,1,1)=\"-\",OFFSET(結果貼付け用!$F34,0,(COLUMN()-3)*6,1,1)=\"\"),NA(),(OFFSET(結果貼付け用!$F34,0,(COLUMN()-3)*6,1,1)))","v":{"$error":"#N/A"}},{"$f":"IF(OR(OFFSET(結果貼付け用!$F34,0,(COLUMN()-3)*6,1,1)=\"-\",OFFSET(結果貼付け用!$F34,0,(COLUMN()-3)*6,1,1)=\"\"),NA(),(OFFSET(結果貼付け用!$F34,0,(COLUMN()-3)*6,1,1)))","v":{"$error":"#N/A"}},{"$f":"IF(OR(OFFSET(結果貼付け用!$F34,0,(COLUMN()-3)*6,1,1)=\"-\",OFFSET(結果貼付け用!$F34,0,(COLUMN()-3)*6,1,1)=\"\"),NA(),(OFFSET(結果貼付け用!$F34,0,(COLUMN()-3)*6,1,1)))","v":{"$error":"#N/A"}},{"$f":"IF(OR(OFFSET(結果貼付け用!$F34,0,(COLUMN()-3)*6,1,1)=\"-\",OFFSET(結果貼付け用!$F34,0,(COLUMN()-3)*6,1,1)=\"\"),NA(),(OFFSET(結果貼付け用!$F34,0,(COLUMN()-3)*6,1,1)))","v":{"$error":"#N/A"}},{"$f":"IF(OR(OFFSET(結果貼付け用!$F34,0,(COLUMN()-3)*6,1,1)=\"-\",OFFSET(結果貼付け用!$F34,0,(COLUMN()-3)*6,1,1)=\"\"),NA(),(OFFSET(結果貼付け用!$F34,0,(COLUMN()-3)*6,1,1)))","v":{"$error":"#N/A"}},{"$f":"IF(OR(OFFSET(結果貼付け用!$F34,0,(COLUMN()-3)*6,1,1)=\"-\",OFFSET(結果貼付け用!$F34,0,(COLUMN()-3)*6,1,1)=\"\"),NA(),(OFFSET(結果貼付け用!$F34,0,(COLUMN()-3)*6,1,1)))","v":{"$error":"#N/A"}},{"$f":"IF(OR(OFFSET(結果貼付け用!$F34,0,(COLUMN()-3)*6,1,1)=\"-\",OFFSET(結果貼付け用!$F34,0,(COLUMN()-3)*6,1,1)=\"\"),NA(),(OFFSET(結果貼付け用!$F34,0,(COLUMN()-3)*6,1,1)))","v":{"$error":"#N/A"}},{"$f":"IF(OR(OFFSET(結果貼付け用!$F34,0,(COLUMN()-3)*6,1,1)=\"-\",OFFSET(結果貼付け用!$F34,0,(COLUMN()-3)*6,1,1)=\"\"),NA(),(OFFSET(結果貼付け用!$F34,0,(COLUMN()-3)*6,1,1)))","v":{"$error":"#N/A"}},{"$f":"IF(OR(OFFSET(結果貼付け用!$F34,0,(COLUMN()-3)*6,1,1)=\"-\",OFFSET(結果貼付け用!$F34,0,(COLUMN()-3)*6,1,1)=\"\"),NA(),(OFFSET(結果貼付け用!$F34,0,(COLUMN()-3)*6,1,1)))","v":{"$error":"#N/A"}},{"$f":"IF(OR(OFFSET(結果貼付け用!$F34,0,(COLUMN()-3)*6,1,1)=\"-\",OFFSET(結果貼付け用!$F34,0,(COLUMN()-3)*6,1,1)=\"\"),NA(),(OFFSET(結果貼付け用!$F34,0,(COLUMN()-3)*6,1,1)))","v":{"$error":"#N/A"}},{"$f":"IF(OR(OFFSET(結果貼付け用!$F34,0,(COLUMN()-3)*6,1,1)=\"-\",OFFSET(結果貼付け用!$F34,0,(COLUMN()-3)*6,1,1)=\"\"),NA(),(OFFSET(結果貼付け用!$F34,0,(COLUMN()-3)*6,1,1)))","v":{"$error":"#N/A"}},{"$f":"IF(OR(OFFSET(結果貼付け用!$F34,0,(COLUMN()-3)*6,1,1)=\"-\",OFFSET(結果貼付け用!$F34,0,(COLUMN()-3)*6,1,1)=\"\"),NA(),(OFFSET(結果貼付け用!$F34,0,(COLUMN()-3)*6,1,1)))","v":{"$error":"#N/A"}},{"$f":"IF(OR(OFFSET(結果貼付け用!$F34,0,(COLUMN()-3)*6,1,1)=\"-\",OFFSET(結果貼付け用!$F34,0,(COLUMN()-3)*6,1,1)=\"\"),NA(),(OFFSET(結果貼付け用!$F34,0,(COLUMN()-3)*6,1,1)))","v":{"$error":"#N/A"}},{"$f":"IF(OR(OFFSET(結果貼付け用!$F34,0,(COLUMN()-3)*6,1,1)=\"-\",OFFSET(結果貼付け用!$F34,0,(COLUMN()-3)*6,1,1)=\"\"),NA(),(OFFSET(結果貼付け用!$F34,0,(COLUMN()-3)*6,1,1)))","v":{"$error":"#N/A"}},{"$f":"IF(OR(OFFSET(結果貼付け用!$F34,0,(COLUMN()-3)*6,1,1)=\"-\",OFFSET(結果貼付け用!$F34,0,(COLUMN()-3)*6,1,1)=\"\"),NA(),(OFFSET(結果貼付け用!$F34,0,(COLUMN()-3)*6,1,1)))","v":{"$error":"#N/A"}},{"$f":"IF(OR(OFFSET(結果貼付け用!$F34,0,(COLUMN()-3)*6,1,1)=\"-\",OFFSET(結果貼付け用!$F34,0,(COLUMN()-3)*6,1,1)=\"\"),NA(),(OFFSET(結果貼付け用!$F34,0,(COLUMN()-3)*6,1,1)))","v":{"$error":"#N/A"}},{"$f":"IF(OR(OFFSET(結果貼付け用!$F34,0,(COLUMN()-3)*6,1,1)=\"-\",OFFSET(結果貼付け用!$F34,0,(COLUMN()-3)*6,1,1)=\"\"),NA(),(OFFSET(結果貼付け用!$F34,0,(COLUMN()-3)*6,1,1)))","v":{"$error":"#N/A"}},{"$f":"IF(OR(OFFSET(結果貼付け用!$F34,0,(COLUMN()-3)*6,1,1)=\"-\",OFFSET(結果貼付け用!$F34,0,(COLUMN()-3)*6,1,1)=\"\"),NA(),(OFFSET(結果貼付け用!$F34,0,(COLUMN()-3)*6,1,1)))","v":{"$error":"#N/A"}},{"$f":"IF(OR(OFFSET(結果貼付け用!$F34,0,(COLUMN()-3)*6,1,1)=\"-\",OFFSET(結果貼付け用!$F34,0,(COLUMN()-3)*6,1,1)=\"\"),NA(),(OFFSET(結果貼付け用!$F34,0,(COLUMN()-3)*6,1,1)))","v":{"$error":"#N/A"}},{"$f":"IF(OR(OFFSET(結果貼付け用!$F34,0,(COLUMN()-3)*6,1,1)=\"-\",OFFSET(結果貼付け用!$F34,0,(COLUMN()-3)*6,1,1)=\"\"),NA(),(OFFSET(結果貼付け用!$F34,0,(COLUMN()-3)*6,1,1)))","v":{"$error":"#N/A"}},{"$f":"IF(OR(OFFSET(結果貼付け用!$F34,0,(COLUMN()-3)*6,1,1)=\"-\",OFFSET(結果貼付け用!$F34,0,(COLUMN()-3)*6,1,1)=\"\"),NA(),(OFFSET(結果貼付け用!$F34,0,(COLUMN()-3)*6,1,1)))","v":{"$error":"#N/A"}},{"$f":"IF(OR(OFFSET(結果貼付け用!$F34,0,(COLUMN()-3)*6,1,1)=\"-\",OFFSET(結果貼付け用!$F34,0,(COLUMN()-3)*6,1,1)=\"\"),NA(),(OFFSET(結果貼付け用!$F34,0,(COLUMN()-3)*6,1,1)))","v":{"$error":"#N/A"}},{"$f":"IF(OR(OFFSET(結果貼付け用!$F34,0,(COLUMN()-3)*6,1,1)=\"-\",OFFSET(結果貼付け用!$F34,0,(COLUMN()-3)*6,1,1)=\"\"),NA(),(OFFSET(結果貼付け用!$F34,0,(COLUMN()-3)*6,1,1)))","v":{"$error":"#N/A"}},{"$f":"IF(OR(OFFSET(結果貼付け用!$F34,0,(COLUMN()-3)*6,1,1)=\"-\",OFFSET(結果貼付け用!$F34,0,(COLUMN()-3)*6,1,1)=\"\"),NA(),(OFFSET(結果貼付け用!$F34,0,(COLUMN()-3)*6,1,1)))","v":{"$error":"#N/A"}},{"$f":"IF(OR(OFFSET(結果貼付け用!$F34,0,(COLUMN()-3)*6,1,1)=\"-\",OFFSET(結果貼付け用!$F34,0,(COLUMN()-3)*6,1,1)=\"\"),NA(),(OFFSET(結果貼付け用!$F34,0,(COLUMN()-3)*6,1,1)))","v":{"$error":"#N/A"}},{"$f":"IF(OR(OFFSET(結果貼付け用!$F34,0,(COLUMN()-3)*6,1,1)=\"-\",OFFSET(結果貼付け用!$F34,0,(COLUMN()-3)*6,1,1)=\"\"),NA(),(OFFSET(結果貼付け用!$F34,0,(COLUMN()-3)*6,1,1)))","v":{"$error":"#N/A"}},{"$f":"IF(OR(OFFSET(結果貼付け用!$F34,0,(COLUMN()-3)*6,1,1)=\"-\",OFFSET(結果貼付け用!$F34,0,(COLUMN()-3)*6,1,1)=\"\"),NA(),(OFFSET(結果貼付け用!$F34,0,(COLUMN()-3)*6,1,1)))","v":{"$error":"#N/A"}}]
[null,"人事評価の透明性",{"$f":"IF(OR(OFFSET(結果貼付け用!$F35,0,(COLUMN()-3)*6,1,1)=\"-\",OFFSET(結果貼付け用!$F35,0,(COLUMN()-3)*6,1,1)=\"\"),NA(),(OFFSET(結果貼付け用!$F35,0,(COLUMN()-3)*6,1,1)))","v":{"$error":"#N/A"}},{"$f":"IF(OR(OFFSET(結果貼付け用!$F35,0,(COLUMN()-3)*6,1,1)=\"-\",OFFSET(結果貼付け用!$F35,0,(COLUMN()-3)*6,1,1)=\"\"),NA(),(OFFSET(結果貼付け用!$F35,0,(COLUMN()-3)*6,1,1)))","v":{"$error":"#N/A"}},{"$f":"IF(OR(OFFSET(結果貼付け用!$F35,0,(COLUMN()-3)*6,1,1)=\"-\",OFFSET(結果貼付け用!$F35,0,(COLUMN()-3)*6,1,1)=\"\"),NA(),(OFFSET(結果貼付け用!$F35,0,(COLUMN()-3)*6,1,1)))","v":{"$error":"#N/A"}},{"$f":"IF(OR(OFFSET(結果貼付け用!$F35,0,(COLUMN()-3)*6,1,1)=\"-\",OFFSET(結果貼付け用!$F35,0,(COLUMN()-3)*6,1,1)=\"\"),NA(),(OFFSET(結果貼付け用!$F35,0,(COLUMN()-3)*6,1,1)))","v":{"$error":"#N/A"}},{"$f":"IF(OR(OFFSET(結果貼付け用!$F35,0,(COLUMN()-3)*6,1,1)=\"-\",OFFSET(結果貼付け用!$F35,0,(COLUMN()-3)*6,1,1)=\"\"),NA(),(OFFSET(結果貼付け用!$F35,0,(COLUMN()-3)*6,1,1)))","v":{"$error":"#N/A"}},{"$f":"IF(OR(OFFSET(結果貼付け用!$F35,0,(COLUMN()-3)*6,1,1)=\"-\",OFFSET(結果貼付け用!$F35,0,(COLUMN()-3)*6,1,1)=\"\"),NA(),(OFFSET(結果貼付け用!$F35,0,(COLUMN()-3)*6,1,1)))","v":{"$error":"#N/A"}},{"$f":"IF(OR(OFFSET(結果貼付け用!$F35,0,(COLUMN()-3)*6,1,1)=\"-\",OFFSET(結果貼付け用!$F35,0,(COLUMN()-3)*6,1,1)=\"\"),NA(),(OFFSET(結果貼付け用!$F35,0,(COLUMN()-3)*6,1,1)))","v":{"$error":"#N/A"}},{"$f":"IF(OR(OFFSET(結果貼付け用!$F35,0,(COLUMN()-3)*6,1,1)=\"-\",OFFSET(結果貼付け用!$F35,0,(COLUMN()-3)*6,1,1)=\"\"),NA(),(OFFSET(結果貼付け用!$F35,0,(COLUMN()-3)*6,1,1)))","v":{"$error":"#N/A"}},{"$f":"IF(OR(OFFSET(結果貼付け用!$F35,0,(COLUMN()-3)*6,1,1)=\"-\",OFFSET(結果貼付け用!$F35,0,(COLUMN()-3)*6,1,1)=\"\"),NA(),(OFFSET(結果貼付け用!$F35,0,(COLUMN()-3)*6,1,1)))","v":{"$error":"#N/A"}},{"$f":"IF(OR(OFFSET(結果貼付け用!$F35,0,(COLUMN()-3)*6,1,1)=\"-\",OFFSET(結果貼付け用!$F35,0,(COLUMN()-3)*6,1,1)=\"\"),NA(),(OFFSET(結果貼付け用!$F35,0,(COLUMN()-3)*6,1,1)))","v":{"$error":"#N/A"}},{"$f":"IF(OR(OFFSET(結果貼付け用!$F35,0,(COLUMN()-3)*6,1,1)=\"-\",OFFSET(結果貼付け用!$F35,0,(COLUMN()-3)*6,1,1)=\"\"),NA(),(OFFSET(結果貼付け用!$F35,0,(COLUMN()-3)*6,1,1)))","v":{"$error":"#N/A"}},{"$f":"IF(OR(OFFSET(結果貼付け用!$F35,0,(COLUMN()-3)*6,1,1)=\"-\",OFFSET(結果貼付け用!$F35,0,(COLUMN()-3)*6,1,1)=\"\"),NA(),(OFFSET(結果貼付け用!$F35,0,(COLUMN()-3)*6,1,1)))","v":{"$error":"#N/A"}},{"$f":"IF(OR(OFFSET(結果貼付け用!$F35,0,(COLUMN()-3)*6,1,1)=\"-\",OFFSET(結果貼付け用!$F35,0,(COLUMN()-3)*6,1,1)=\"\"),NA(),(OFFSET(結果貼付け用!$F35,0,(COLUMN()-3)*6,1,1)))","v":{"$error":"#N/A"}},{"$f":"IF(OR(OFFSET(結果貼付け用!$F35,0,(COLUMN()-3)*6,1,1)=\"-\",OFFSET(結果貼付け用!$F35,0,(COLUMN()-3)*6,1,1)=\"\"),NA(),(OFFSET(結果貼付け用!$F35,0,(COLUMN()-3)*6,1,1)))","v":{"$error":"#N/A"}},{"$f":"IF(OR(OFFSET(結果貼付け用!$F35,0,(COLUMN()-3)*6,1,1)=\"-\",OFFSET(結果貼付け用!$F35,0,(COLUMN()-3)*6,1,1)=\"\"),NA(),(OFFSET(結果貼付け用!$F35,0,(COLUMN()-3)*6,1,1)))","v":{"$error":"#N/A"}},{"$f":"IF(OR(OFFSET(結果貼付け用!$F35,0,(COLUMN()-3)*6,1,1)=\"-\",OFFSET(結果貼付け用!$F35,0,(COLUMN()-3)*6,1,1)=\"\"),NA(),(OFFSET(結果貼付け用!$F35,0,(COLUMN()-3)*6,1,1)))","v":{"$error":"#N/A"}},{"$f":"IF(OR(OFFSET(結果貼付け用!$F35,0,(COLUMN()-3)*6,1,1)=\"-\",OFFSET(結果貼付け用!$F35,0,(COLUMN()-3)*6,1,1)=\"\"),NA(),(OFFSET(結果貼付け用!$F35,0,(COLUMN()-3)*6,1,1)))","v":{"$error":"#N/A"}},{"$f":"IF(OR(OFFSET(結果貼付け用!$F35,0,(COLUMN()-3)*6,1,1)=\"-\",OFFSET(結果貼付け用!$F35,0,(COLUMN()-3)*6,1,1)=\"\"),NA(),(OFFSET(結果貼付け用!$F35,0,(COLUMN()-3)*6,1,1)))","v":{"$error":"#N/A"}},{"$f":"IF(OR(OFFSET(結果貼付け用!$F35,0,(COLUMN()-3)*6,1,1)=\"-\",OFFSET(結果貼付け用!$F35,0,(COLUMN()-3)*6,1,1)=\"\"),NA(),(OFFSET(結果貼付け用!$F35,0,(COLUMN()-3)*6,1,1)))","v":{"$error":"#N/A"}},{"$f":"IF(OR(OFFSET(結果貼付け用!$F35,0,(COLUMN()-3)*6,1,1)=\"-\",OFFSET(結果貼付け用!$F35,0,(COLUMN()-3)*6,1,1)=\"\"),NA(),(OFFSET(結果貼付け用!$F35,0,(COLUMN()-3)*6,1,1)))","v":{"$error":"#N/A"}},{"$f":"IF(OR(OFFSET(結果貼付け用!$F35,0,(COLUMN()-3)*6,1,1)=\"-\",OFFSET(結果貼付け用!$F35,0,(COLUMN()-3)*6,1,1)=\"\"),NA(),(OFFSET(結果貼付け用!$F35,0,(COLUMN()-3)*6,1,1)))","v":{"$error":"#N/A"}},{"$f":"IF(OR(OFFSET(結果貼付け用!$F35,0,(COLUMN()-3)*6,1,1)=\"-\",OFFSET(結果貼付け用!$F35,0,(COLUMN()-3)*6,1,1)=\"\"),NA(),(OFFSET(結果貼付け用!$F35,0,(COLUMN()-3)*6,1,1)))","v":{"$error":"#N/A"}},{"$f":"IF(OR(OFFSET(結果貼付け用!$F35,0,(COLUMN()-3)*6,1,1)=\"-\",OFFSET(結果貼付け用!$F35,0,(COLUMN()-3)*6,1,1)=\"\"),NA(),(OFFSET(結果貼付け用!$F35,0,(COLUMN()-3)*6,1,1)))","v":{"$error":"#N/A"}},{"$f":"IF(OR(OFFSET(結果貼付け用!$F35,0,(COLUMN()-3)*6,1,1)=\"-\",OFFSET(結果貼付け用!$F35,0,(COLUMN()-3)*6,1,1)=\"\"),NA(),(OFFSET(結果貼付け用!$F35,0,(COLUMN()-3)*6,1,1)))","v":{"$error":"#N/A"}},{"$f":"IF(OR(OFFSET(結果貼付け用!$F35,0,(COLUMN()-3)*6,1,1)=\"-\",OFFSET(結果貼付け用!$F35,0,(COLUMN()-3)*6,1,1)=\"\"),NA(),(OFFSET(結果貼付け用!$F35,0,(COLUMN()-3)*6,1,1)))","v":{"$error":"#N/A"}},{"$f":"IF(OR(OFFSET(結果貼付け用!$F35,0,(COLUMN()-3)*6,1,1)=\"-\",OFFSET(結果貼付け用!$F35,0,(COLUMN()-3)*6,1,1)=\"\"),NA(),(OFFSET(結果貼付け用!$F35,0,(COLUMN()-3)*6,1,1)))","v":{"$error":"#N/A"}},{"$f":"IF(OR(OFFSET(結果貼付け用!$F35,0,(COLUMN()-3)*6,1,1)=\"-\",OFFSET(結果貼付け用!$F35,0,(COLUMN()-3)*6,1,1)=\"\"),NA(),(OFFSET(結果貼付け用!$F35,0,(COLUMN()-3)*6,1,1)))","v":{"$error":"#N/A"}},{"$f":"IF(OR(OFFSET(結果貼付け用!$F35,0,(COLUMN()-3)*6,1,1)=\"-\",OFFSET(結果貼付け用!$F35,0,(COLUMN()-3)*6,1,1)=\"\"),NA(),(OFFSET(結果貼付け用!$F35,0,(COLUMN()-3)*6,1,1)))","v":{"$error":"#N/A"}},{"$f":"IF(OR(OFFSET(結果貼付け用!$F35,0,(COLUMN()-3)*6,1,1)=\"-\",OFFSET(結果貼付け用!$F35,0,(COLUMN()-3)*6,1,1)=\"\"),NA(),(OFFSET(結果貼付け用!$F35,0,(COLUMN()-3)*6,1,1)))","v":{"$error":"#N/A"}},{"$f":"IF(OR(OFFSET(結果貼付け用!$F35,0,(COLUMN()-3)*6,1,1)=\"-\",OFFSET(結果貼付け用!$F35,0,(COLUMN()-3)*6,1,1)=\"\"),NA(),(OFFSET(結果貼付け用!$F35,0,(COLUMN()-3)*6,1,1)))","v":{"$error":"#N/A"}}]
[null,"適切な人材確保",{"$f":"IF(OR(OFFSET(結果貼付け用!$F36,0,(COLUMN()-3)*6,1,1)=\"-\",OFFSET(結果貼付け用!$F36,0,(COLUMN()-3)*6,1,1)=\"\"),NA(),(OFFSET(結果貼付け用!$F36,0,(COLUMN()-3)*6,1,1)))","v":{"$error":"#N/A"}},{"$f":"IF(OR(OFFSET(結果貼付け用!$F36,0,(COLUMN()-3)*6,1,1)=\"-\",OFFSET(結果貼付け用!$F36,0,(COLUMN()-3)*6,1,1)=\"\"),NA(),(OFFSET(結果貼付け用!$F36,0,(COLUMN()-3)*6,1,1)))","v":{"$error":"#N/A"}},{"$f":"IF(OR(OFFSET(結果貼付け用!$F36,0,(COLUMN()-3)*6,1,1)=\"-\",OFFSET(結果貼付け用!$F36,0,(COLUMN()-3)*6,1,1)=\"\"),NA(),(OFFSET(結果貼付け用!$F36,0,(COLUMN()-3)*6,1,1)))","v":{"$error":"#N/A"}},{"$f":"IF(OR(OFFSET(結果貼付け用!$F36,0,(COLUMN()-3)*6,1,1)=\"-\",OFFSET(結果貼付け用!$F36,0,(COLUMN()-3)*6,1,1)=\"\"),NA(),(OFFSET(結果貼付け用!$F36,0,(COLUMN()-3)*6,1,1)))","v":{"$error":"#N/A"}},{"$f":"IF(OR(OFFSET(結果貼付け用!$F36,0,(COLUMN()-3)*6,1,1)=\"-\",OFFSET(結果貼付け用!$F36,0,(COLUMN()-3)*6,1,1)=\"\"),NA(),(OFFSET(結果貼付け用!$F36,0,(COLUMN()-3)*6,1,1)))","v":{"$error":"#N/A"}},{"$f":"IF(OR(OFFSET(結果貼付け用!$F36,0,(COLUMN()-3)*6,1,1)=\"-\",OFFSET(結果貼付け用!$F36,0,(COLUMN()-3)*6,1,1)=\"\"),NA(),(OFFSET(結果貼付け用!$F36,0,(COLUMN()-3)*6,1,1)))","v":{"$error":"#N/A"}},{"$f":"IF(OR(OFFSET(結果貼付け用!$F36,0,(COLUMN()-3)*6,1,1)=\"-\",OFFSET(結果貼付け用!$F36,0,(COLUMN()-3)*6,1,1)=\"\"),NA(),(OFFSET(結果貼付け用!$F36,0,(COLUMN()-3)*6,1,1)))","v":{"$error":"#N/A"}},{"$f":"IF(OR(OFFSET(結果貼付け用!$F36,0,(COLUMN()-3)*6,1,1)=\"-\",OFFSET(結果貼付け用!$F36,0,(COLUMN()-3)*6,1,1)=\"\"),NA(),(OFFSET(結果貼付け用!$F36,0,(COLUMN()-3)*6,1,1)))","v":{"$error":"#N/A"}},{"$f":"IF(OR(OFFSET(結果貼付け用!$F36,0,(COLUMN()-3)*6,1,1)=\"-\",OFFSET(結果貼付け用!$F36,0,(COLUMN()-3)*6,1,1)=\"\"),NA(),(OFFSET(結果貼付け用!$F36,0,(COLUMN()-3)*6,1,1)))","v":{"$error":"#N/A"}},{"$f":"IF(OR(OFFSET(結果貼付け用!$F36,0,(COLUMN()-3)*6,1,1)=\"-\",OFFSET(結果貼付け用!$F36,0,(COLUMN()-3)*6,1,1)=\"\"),NA(),(OFFSET(結果貼付け用!$F36,0,(COLUMN()-3)*6,1,1)))","v":{"$error":"#N/A"}},{"$f":"IF(OR(OFFSET(結果貼付け用!$F36,0,(COLUMN()-3)*6,1,1)=\"-\",OFFSET(結果貼付け用!$F36,0,(COLUMN()-3)*6,1,1)=\"\"),NA(),(OFFSET(結果貼付け用!$F36,0,(COLUMN()-3)*6,1,1)))","v":{"$error":"#N/A"}},{"$f":"IF(OR(OFFSET(結果貼付け用!$F36,0,(COLUMN()-3)*6,1,1)=\"-\",OFFSET(結果貼付け用!$F36,0,(COLUMN()-3)*6,1,1)=\"\"),NA(),(OFFSET(結果貼付け用!$F36,0,(COLUMN()-3)*6,1,1)))","v":{"$error":"#N/A"}},{"$f":"IF(OR(OFFSET(結果貼付け用!$F36,0,(COLUMN()-3)*6,1,1)=\"-\",OFFSET(結果貼付け用!$F36,0,(COLUMN()-3)*6,1,1)=\"\"),NA(),(OFFSET(結果貼付け用!$F36,0,(COLUMN()-3)*6,1,1)))","v":{"$error":"#N/A"}},{"$f":"IF(OR(OFFSET(結果貼付け用!$F36,0,(COLUMN()-3)*6,1,1)=\"-\",OFFSET(結果貼付け用!$F36,0,(COLUMN()-3)*6,1,1)=\"\"),NA(),(OFFSET(結果貼付け用!$F36,0,(COLUMN()-3)*6,1,1)))","v":{"$error":"#N/A"}},{"$f":"IF(OR(OFFSET(結果貼付け用!$F36,0,(COLUMN()-3)*6,1,1)=\"-\",OFFSET(結果貼付け用!$F36,0,(COLUMN()-3)*6,1,1)=\"\"),NA(),(OFFSET(結果貼付け用!$F36,0,(COLUMN()-3)*6,1,1)))","v":{"$error":"#N/A"}},{"$f":"IF(OR(OFFSET(結果貼付け用!$F36,0,(COLUMN()-3)*6,1,1)=\"-\",OFFSET(結果貼付け用!$F36,0,(COLUMN()-3)*6,1,1)=\"\"),NA(),(OFFSET(結果貼付け用!$F36,0,(COLUMN()-3)*6,1,1)))","v":{"$error":"#N/A"}},{"$f":"IF(OR(OFFSET(結果貼付け用!$F36,0,(COLUMN()-3)*6,1,1)=\"-\",OFFSET(結果貼付け用!$F36,0,(COLUMN()-3)*6,1,1)=\"\"),NA(),(OFFSET(結果貼付け用!$F36,0,(COLUMN()-3)*6,1,1)))","v":{"$error":"#N/A"}},{"$f":"IF(OR(OFFSET(結果貼付け用!$F36,0,(COLUMN()-3)*6,1,1)=\"-\",OFFSET(結果貼付け用!$F36,0,(COLUMN()-3)*6,1,1)=\"\"),NA(),(OFFSET(結果貼付け用!$F36,0,(COLUMN()-3)*6,1,1)))","v":{"$error":"#N/A"}},{"$f":"IF(OR(OFFSET(結果貼付け用!$F36,0,(COLUMN()-3)*6,1,1)=\"-\",OFFSET(結果貼付け用!$F36,0,(COLUMN()-3)*6,1,1)=\"\"),NA(),(OFFSET(結果貼付け用!$F36,0,(COLUMN()-3)*6,1,1)))","v":{"$error":"#N/A"}},{"$f":"IF(OR(OFFSET(結果貼付け用!$F36,0,(COLUMN()-3)*6,1,1)=\"-\",OFFSET(結果貼付け用!$F36,0,(COLUMN()-3)*6,1,1)=\"\"),NA(),(OFFSET(結果貼付け用!$F36,0,(COLUMN()-3)*6,1,1)))","v":{"$error":"#N/A"}},{"$f":"IF(OR(OFFSET(結果貼付け用!$F36,0,(COLUMN()-3)*6,1,1)=\"-\",OFFSET(結果貼付け用!$F36,0,(COLUMN()-3)*6,1,1)=\"\"),NA(),(OFFSET(結果貼付け用!$F36,0,(COLUMN()-3)*6,1,1)))","v":{"$error":"#N/A"}},{"$f":"IF(OR(OFFSET(結果貼付け用!$F36,0,(COLUMN()-3)*6,1,1)=\"-\",OFFSET(結果貼付け用!$F36,0,(COLUMN()-3)*6,1,1)=\"\"),NA(),(OFFSET(結果貼付け用!$F36,0,(COLUMN()-3)*6,1,1)))","v":{"$error":"#N/A"}},{"$f":"IF(OR(OFFSET(結果貼付け用!$F36,0,(COLUMN()-3)*6,1,1)=\"-\",OFFSET(結果貼付け用!$F36,0,(COLUMN()-3)*6,1,1)=\"\"),NA(),(OFFSET(結果貼付け用!$F36,0,(COLUMN()-3)*6,1,1)))","v":{"$error":"#N/A"}},{"$f":"IF(OR(OFFSET(結果貼付け用!$F36,0,(COLUMN()-3)*6,1,1)=\"-\",OFFSET(結果貼付け用!$F36,0,(COLUMN()-3)*6,1,1)=\"\"),NA(),(OFFSET(結果貼付け用!$F36,0,(COLUMN()-3)*6,1,1)))","v":{"$error":"#N/A"}},{"$f":"IF(OR(OFFSET(結果貼付け用!$F36,0,(COLUMN()-3)*6,1,1)=\"-\",OFFSET(結果貼付け用!$F36,0,(COLUMN()-3)*6,1,1)=\"\"),NA(),(OFFSET(結果貼付け用!$F36,0,(COLUMN()-3)*6,1,1)))","v":{"$error":"#N/A"}},{"$f":"IF(OR(OFFSET(結果貼付け用!$F36,0,(COLUMN()-3)*6,1,1)=\"-\",OFFSET(結果貼付け用!$F36,0,(COLUMN()-3)*6,1,1)=\"\"),NA(),(OFFSET(結果貼付け用!$F36,0,(COLUMN()-3)*6,1,1)))","v":{"$error":"#N/A"}},{"$f":"IF(OR(OFFSET(結果貼付け用!$F36,0,(COLUMN()-3)*6,1,1)=\"-\",OFFSET(結果貼付け用!$F36,0,(COLUMN()-3)*6,1,1)=\"\"),NA(),(OFFSET(結果貼付け用!$F36,0,(COLUMN()-3)*6,1,1)))","v":{"$error":"#N/A"}},{"$f":"IF(OR(OFFSET(結果貼付け用!$F36,0,(COLUMN()-3)*6,1,1)=\"-\",OFFSET(結果貼付け用!$F36,0,(COLUMN()-3)*6,1,1)=\"\"),NA(),(OFFSET(結果貼付け用!$F36,0,(COLUMN()-3)*6,1,1)))","v":{"$error":"#N/A"}},{"$f":"IF(OR(OFFSET(結果貼付け用!$F36,0,(COLUMN()-3)*6,1,1)=\"-\",OFFSET(結果貼付け用!$F36,0,(COLUMN()-3)*6,1,1)=\"\"),NA(),(OFFSET(結果貼付け用!$F36,0,(COLUMN()-3)*6,1,1)))","v":{"$error":"#N/A"}},{"$f":"IF(OR(OFFSET(結果貼付け用!$F36,0,(COLUMN()-3)*6,1,1)=\"-\",OFFSET(結果貼付け用!$F36,0,(COLUMN()-3)*6,1,1)=\"\"),NA(),(OFFSET(結果貼付け用!$F36,0,(COLUMN()-3)*6,1,1)))","v":{"$error":"#N/A"}}]
[null,"教育の充実",{"$f":"IF(OR(OFFSET(結果貼付け用!$F37,0,(COLUMN()-3)*6,1,1)=\"-\",OFFSET(結果貼付け用!$F37,0,(COLUMN()-3)*6,1,1)=\"\"),NA(),(OFFSET(結果貼付け用!$F37,0,(COLUMN()-3)*6,1,1)))","v":{"$error":"#N/A"}},{"$f":"IF(OR(OFFSET(結果貼付け用!$F37,0,(COLUMN()-3)*6,1,1)=\"-\",OFFSET(結果貼付け用!$F37,0,(COLUMN()-3)*6,1,1)=\"\"),NA(),(OFFSET(結果貼付け用!$F37,0,(COLUMN()-3)*6,1,1)))","v":{"$error":"#N/A"}},{"$f":"IF(OR(OFFSET(結果貼付け用!$F37,0,(COLUMN()-3)*6,1,1)=\"-\",OFFSET(結果貼付け用!$F37,0,(COLUMN()-3)*6,1,1)=\"\"),NA(),(OFFSET(結果貼付け用!$F37,0,(COLUMN()-3)*6,1,1)))","v":{"$error":"#N/A"}},{"$f":"IF(OR(OFFSET(結果貼付け用!$F37,0,(COLUMN()-3)*6,1,1)=\"-\",OFFSET(結果貼付け用!$F37,0,(COLUMN()-3)*6,1,1)=\"\"),NA(),(OFFSET(結果貼付け用!$F37,0,(COLUMN()-3)*6,1,1)))","v":{"$error":"#N/A"}},{"$f":"IF(OR(OFFSET(結果貼付け用!$F37,0,(COLUMN()-3)*6,1,1)=\"-\",OFFSET(結果貼付け用!$F37,0,(COLUMN()-3)*6,1,1)=\"\"),NA(),(OFFSET(結果貼付け用!$F37,0,(COLUMN()-3)*6,1,1)))","v":{"$error":"#N/A"}},{"$f":"IF(OR(OFFSET(結果貼付け用!$F37,0,(COLUMN()-3)*6,1,1)=\"-\",OFFSET(結果貼付け用!$F37,0,(COLUMN()-3)*6,1,1)=\"\"),NA(),(OFFSET(結果貼付け用!$F37,0,(COLUMN()-3)*6,1,1)))","v":{"$error":"#N/A"}},{"$f":"IF(OR(OFFSET(結果貼付け用!$F37,0,(COLUMN()-3)*6,1,1)=\"-\",OFFSET(結果貼付け用!$F37,0,(COLUMN()-3)*6,1,1)=\"\"),NA(),(OFFSET(結果貼付け用!$F37,0,(COLUMN()-3)*6,1,1)))","v":{"$error":"#N/A"}},{"$f":"IF(OR(OFFSET(結果貼付け用!$F37,0,(COLUMN()-3)*6,1,1)=\"-\",OFFSET(結果貼付け用!$F37,0,(COLUMN()-3)*6,1,1)=\"\"),NA(),(OFFSET(結果貼付け用!$F37,0,(COLUMN()-3)*6,1,1)))","v":{"$error":"#N/A"}},{"$f":"IF(OR(OFFSET(結果貼付け用!$F37,0,(COLUMN()-3)*6,1,1)=\"-\",OFFSET(結果貼付け用!$F37,0,(COLUMN()-3)*6,1,1)=\"\"),NA(),(OFFSET(結果貼付け用!$F37,0,(COLUMN()-3)*6,1,1)))","v":{"$error":"#N/A"}},{"$f":"IF(OR(OFFSET(結果貼付け用!$F37,0,(COLUMN()-3)*6,1,1)=\"-\",OFFSET(結果貼付け用!$F37,0,(COLUMN()-3)*6,1,1)=\"\"),NA(),(OFFSET(結果貼付け用!$F37,0,(COLUMN()-3)*6,1,1)))","v":{"$error":"#N/A"}},{"$f":"IF(OR(OFFSET(結果貼付け用!$F37,0,(COLUMN()-3)*6,1,1)=\"-\",OFFSET(結果貼付け用!$F37,0,(COLUMN()-3)*6,1,1)=\"\"),NA(),(OFFSET(結果貼付け用!$F37,0,(COLUMN()-3)*6,1,1)))","v":{"$error":"#N/A"}},{"$f":"IF(OR(OFFSET(結果貼付け用!$F37,0,(COLUMN()-3)*6,1,1)=\"-\",OFFSET(結果貼付け用!$F37,0,(COLUMN()-3)*6,1,1)=\"\"),NA(),(OFFSET(結果貼付け用!$F37,0,(COLUMN()-3)*6,1,1)))","v":{"$error":"#N/A"}},{"$f":"IF(OR(OFFSET(結果貼付け用!$F37,0,(COLUMN()-3)*6,1,1)=\"-\",OFFSET(結果貼付け用!$F37,0,(COLUMN()-3)*6,1,1)=\"\"),NA(),(OFFSET(結果貼付け用!$F37,0,(COLUMN()-3)*6,1,1)))","v":{"$error":"#N/A"}},{"$f":"IF(OR(OFFSET(結果貼付け用!$F37,0,(COLUMN()-3)*6,1,1)=\"-\",OFFSET(結果貼付け用!$F37,0,(COLUMN()-3)*6,1,1)=\"\"),NA(),(OFFSET(結果貼付け用!$F37,0,(COLUMN()-3)*6,1,1)))","v":{"$error":"#N/A"}},{"$f":"IF(OR(OFFSET(結果貼付け用!$F37,0,(COLUMN()-3)*6,1,1)=\"-\",OFFSET(結果貼付け用!$F37,0,(COLUMN()-3)*6,1,1)=\"\"),NA(),(OFFSET(結果貼付け用!$F37,0,(COLUMN()-3)*6,1,1)))","v":{"$error":"#N/A"}},{"$f":"IF(OR(OFFSET(結果貼付け用!$F37,0,(COLUMN()-3)*6,1,1)=\"-\",OFFSET(結果貼付け用!$F37,0,(COLUMN()-3)*6,1,1)=\"\"),NA(),(OFFSET(結果貼付け用!$F37,0,(COLUMN()-3)*6,1,1)))","v":{"$error":"#N/A"}},{"$f":"IF(OR(OFFSET(結果貼付け用!$F37,0,(COLUMN()-3)*6,1,1)=\"-\",OFFSET(結果貼付け用!$F37,0,(COLUMN()-3)*6,1,1)=\"\"),NA(),(OFFSET(結果貼付け用!$F37,0,(COLUMN()-3)*6,1,1)))","v":{"$error":"#N/A"}},{"$f":"IF(OR(OFFSET(結果貼付け用!$F37,0,(COLUMN()-3)*6,1,1)=\"-\",OFFSET(結果貼付け用!$F37,0,(COLUMN()-3)*6,1,1)=\"\"),NA(),(OFFSET(結果貼付け用!$F37,0,(COLUMN()-3)*6,1,1)))","v":{"$error":"#N/A"}},{"$f":"IF(OR(OFFSET(結果貼付け用!$F37,0,(COLUMN()-3)*6,1,1)=\"-\",OFFSET(結果貼付け用!$F37,0,(COLUMN()-3)*6,1,1)=\"\"),NA(),(OFFSET(結果貼付け用!$F37,0,(COLUMN()-3)*6,1,1)))","v":{"$error":"#N/A"}},{"$f":"IF(OR(OFFSET(結果貼付け用!$F37,0,(COLUMN()-3)*6,1,1)=\"-\",OFFSET(結果貼付け用!$F37,0,(COLUMN()-3)*6,1,1)=\"\"),NA(),(OFFSET(結果貼付け用!$F37,0,(COLUMN()-3)*6,1,1)))","v":{"$error":"#N/A"}},{"$f":"IF(OR(OFFSET(結果貼付け用!$F37,0,(COLUMN()-3)*6,1,1)=\"-\",OFFSET(結果貼付け用!$F37,0,(COLUMN()-3)*6,1,1)=\"\"),NA(),(OFFSET(結果貼付け用!$F37,0,(COLUMN()-3)*6,1,1)))","v":{"$error":"#N/A"}},{"$f":"IF(OR(OFFSET(結果貼付け用!$F37,0,(COLUMN()-3)*6,1,1)=\"-\",OFFSET(結果貼付け用!$F37,0,(COLUMN()-3)*6,1,1)=\"\"),NA(),(OFFSET(結果貼付け用!$F37,0,(COLUMN()-3)*6,1,1)))","v":{"$error":"#N/A"}},{"$f":"IF(OR(OFFSET(結果貼付け用!$F37,0,(COLUMN()-3)*6,1,1)=\"-\",OFFSET(結果貼付け用!$F37,0,(COLUMN()-3)*6,1,1)=\"\"),NA(),(OFFSET(結果貼付け用!$F37,0,(COLUMN()-3)*6,1,1)))","v":{"$error":"#N/A"}},{"$f":"IF(OR(OFFSET(結果貼付け用!$F37,0,(COLUMN()-3)*6,1,1)=\"-\",OFFSET(結果貼付け用!$F37,0,(COLUMN()-3)*6,1,1)=\"\"),NA(),(OFFSET(結果貼付け用!$F37,0,(COLUMN()-3)*6,1,1)))","v":{"$error":"#N/A"}},{"$f":"IF(OR(OFFSET(結果貼付け用!$F37,0,(COLUMN()-3)*6,1,1)=\"-\",OFFSET(結果貼付け用!$F37,0,(COLUMN()-3)*6,1,1)=\"\"),NA(),(OFFSET(結果貼付け用!$F37,0,(COLUMN()-3)*6,1,1)))","v":{"$error":"#N/A"}},{"$f":"IF(OR(OFFSET(結果貼付け用!$F37,0,(COLUMN()-3)*6,1,1)=\"-\",OFFSET(結果貼付け用!$F37,0,(COLUMN()-3)*6,1,1)=\"\"),NA(),(OFFSET(結果貼付け用!$F37,0,(COLUMN()-3)*6,1,1)))","v":{"$error":"#N/A"}},{"$f":"IF(OR(OFFSET(結果貼付け用!$F37,0,(COLUMN()-3)*6,1,1)=\"-\",OFFSET(結果貼付け用!$F37,0,(COLUMN()-3)*6,1,1)=\"\"),NA(),(OFFSET(結果貼付け用!$F37,0,(COLUMN()-3)*6,1,1)))","v":{"$error":"#N/A"}},{"$f":"IF(OR(OFFSET(結果貼付け用!$F37,0,(COLUMN()-3)*6,1,1)=\"-\",OFFSET(結果貼付け用!$F37,0,(COLUMN()-3)*6,1,1)=\"\"),NA(),(OFFSET(結果貼付け用!$F37,0,(COLUMN()-3)*6,1,1)))","v":{"$error":"#N/A"}},{"$f":"IF(OR(OFFSET(結果貼付け用!$F37,0,(COLUMN()-3)*6,1,1)=\"-\",OFFSET(結果貼付け用!$F37,0,(COLUMN()-3)*6,1,1)=\"\"),NA(),(OFFSET(結果貼付け用!$F37,0,(COLUMN()-3)*6,1,1)))","v":{"$error":"#N/A"}},{"$f":"IF(OR(OFFSET(結果貼付け用!$F37,0,(COLUMN()-3)*6,1,1)=\"-\",OFFSET(結果貼付け用!$F37,0,(COLUMN()-3)*6,1,1)=\"\"),NA(),(OFFSET(結果貼付け用!$F37,0,(COLUMN()-3)*6,1,1)))","v":{"$error":"#N/A"}}]
[]
[]
[]
[]
[]
[]
[]
[]
[]
[]
[]
[]
[]
[]
[]
[]
[]
[]
[]
[]
[null,"実施開始日時",{"$f":"IF(結果貼付け用!B2=\"\",NA(),結果貼付け用!B2)","v":{"$error":"#N/A"}},{"$f":"IF((OFFSET(結果貼付け用!$H$2, 0, (COLUMN() - COLUMN($D$20)) * 6))=\"\",NA(),(OFFSET(結果貼付け用!$H$2, 0, (COLUMN() - COLUMN($D$20)) * 6)))","v":{"$error":"#N/A"}},{"$f":"IF((OFFSET(結果貼付け用!$H$2, 0, (COLUMN() - COLUMN($D$20)) * 6))=\"\",NA(),(OFFSET(結果貼付け用!$H$2, 0, (COLUMN() - COLUMN($D$20)) * 6)))","v":{"$error":"#N/A"}},{"$f":"IF((OFFSET(結果貼付け用!$H$2, 0, (COLUMN() - COLUMN($D$20)) * 6))=\"\",NA(),(OFFSET(結果貼付け用!$H$2, 0, (COLUMN() - COLUMN($D$20)) * 6)))","v":{"$error":"#N/A"}},{"$f":"IF((OFFSET(結果貼付け用!$H$2, 0, (COLUMN() - COLUMN($D$20)) * 6))=\"\",NA(),(OFFSET(結果貼付け用!$H$2, 0, (COLUMN() - COLUMN($D$20)) * 6)))","v":{"$error":"#N/A"}},{"$f":"IF((OFFSET(結果貼付け用!$H$2, 0, (COLUMN() - COLUMN($D$20)) * 6))=\"\",NA(),(OFFSET(結果貼付け用!$H$2, 0, (COLUMN() - COLUMN($D$20)) * 6)))","v":{"$error":"#N/A"}},{"$f":"IF((OFFSET(結果貼付け用!$H$2, 0, (COLUMN() - COLUMN($D$20)) * 6))=\"\",NA(),(OFFSET(結果貼付け用!$H$2, 0, (COLUMN() - COLUMN($D$20)) * 6)))","v":{"$error":"#N/A"}},{"$f":"IF((OFFSET(結果貼付け用!$H$2, 0, (COLUMN() - COLUMN($D$20)) * 6))=\"\",NA(),(OFFSET(結果貼付け用!$H$2, 0, (COLUMN() - COLUMN($D$20)) * 6)))","v":{"$error":"#N/A"}},{"$f":"IF((OFFSET(結果貼付け用!$H$2, 0, (COLUMN() - COLUMN($D$20)) * 6))=\"\",NA(),(OFFSET(結果貼付け用!$H$2, 0, (COLUMN() - COLUMN($D$20)) * 6)))","v":{"$error":"#N/A"}},{"$f":"IF((OFFSET(結果貼付け用!$H$2, 0, (COLUMN() - COLUMN($D$20)) * 6))=\"\",NA(),(OFFSET(結果貼付け用!$H$2, 0, (COLUMN() - COLUMN($D$20)) * 6)))","v":{"$error":"#N/A"}},{"$f":"IF((OFFSET(結果貼付け用!$H$2, 0, (COLUMN() - COLUMN($D$20)) * 6))=\"\",NA(),(OFFSET(結果貼付け用!$H$2, 0, (COLUMN() - COLUMN($D$20)) * 6)))","v":{"$error":"#N/A"}},{"$f":"IF((OFFSET(結果貼付け用!$H$2, 0, (COLUMN() - COLUMN($D$20)) * 6))=\"\",NA(),(OFFSET(結果貼付け用!$H$2, 0, (COLUMN() - COLUMN($D$20)) * 6)))","v":{"$error":"#N/A"}},{"$f":"IF((OFFSET(結果貼付け用!$H$2, 0, (COLUMN() - COLUMN($D$20)) * 6))=\"\",NA(),(OFFSET(結果貼付け用!$H$2, 0, (COLUMN() - COLUMN($D$20)) * 6)))","v":{"$error":"#N/A"}},{"$f":"IF((OFFSET(結果貼付け用!$H$2, 0, (COLUMN() - COLUMN($D$20)) * 6))=\"\",NA(),(OFFSET(結果貼付け用!$H$2, 0, (COLUMN() - COLUMN($D$20)) * 6)))","v":{"$error":"#N/A"}},{"$f":"IF((OFFSET(結果貼付け用!$H$2, 0, (COLUMN() - COLUMN($D$20)) * 6))=\"\",NA(),(OFFSET(結果貼付け用!$H$2, 0, (COLUMN() - COLUMN($D$20)) * 6)))","v":{"$error":"#N/A"}},{"$f":"IF((OFFSET(結果貼付け用!$H$2, 0, (COLUMN() - COLUMN($D$20)) * 6))=\"\",NA(),(OFFSET(結果貼付け用!$H$2, 0, (COLUMN() - COLUMN($D$20)) * 6)))","v":{"$error":"#N/A"}},{"$f":"IF((OFFSET(結果貼付け用!$H$2, 0, (COLUMN() - COLUMN($D$20)) * 6))=\"\",NA(),(OFFSET(結果貼付け用!$H$2, 0, (COLUMN() - COLUMN($D$20)) * 6)))","v":{"$error":"#N/A"}},{"$f":"IF((OFFSET(結果貼付け用!$H$2, 0, (COLUMN() - COLUMN($D$20)) * 6))=\"\",NA(),(OFFSET(結果貼付け用!$H$2, 0, (COLUMN() - COLUMN($D$20)) * 6)))","v":{"$error":"#N/A"}},{"$f":"IF((OFFSET(結果貼付け用!$H$2, 0, (COLUMN() - COLUMN($D$20)) * 6))=\"\",NA(),(OFFSET(結果貼付け用!$H$2, 0, (COLUMN() - COLUMN($D$20)) * 6)))","v":{"$error":"#N/A"}},{"$f":"IF((OFFSET(結果貼付け用!$H$2, 0, (COLUMN() - COLUMN($D$20)) * 6))=\"\",NA(),(OFFSET(結果貼付け用!$H$2, 0, (COLUMN() - COLUMN($D$20)) * 6)))","v":{"$error":"#N/A"}},{"$f":"IF((OFFSET(結果貼付け用!$H$2, 0, (COLUMN() - COLUMN($D$20)) * 6))=\"\",NA(),(OFFSET(結果貼付け用!$H$2, 0, (COLUMN() - COLUMN($D$20)) * 6)))","v":{"$error":"#N/A"}},{"$f":"IF((OFFSET(結果貼付け用!$H$2, 0, (COLUMN() - COLUMN($D$20)) * 6))=\"\",NA(),(OFFSET(結果貼付け用!$H$2, 0, (COLUMN() - COLUMN($D$20)) * 6)))","v":{"$error":"#N/A"}},{"$f":"IF((OFFSET(結果貼付け用!$H$2, 0, (COLUMN() - COLUMN($D$20)) * 6))=\"\",NA(),(OFFSET(結果貼付け用!$H$2, 0, (COLUMN() - COLUMN($D$20)) * 6)))","v":{"$error":"#N/A"}},{"$f":"IF((OFFSET(結果貼付け用!$H$2, 0, (COLUMN() - COLUMN($D$20)) * 6))=\"\",NA(),(OFFSET(結果貼付け用!$H$2, 0, (COLUMN() - COLUMN($D$20)) * 6)))","v":{"$error":"#N/A"}},{"$f":"IF((OFFSET(結果貼付け用!$H$2, 0, (COLUMN() - COLUMN($D$20)) * 6))=\"\",NA(),(OFFSET(結果貼付け用!$H$2, 0, (COLUMN() - COLUMN($D$20)) * 6)))","v":{"$error":"#N/A"}},{"$f":"IF((OFFSET(結果貼付け用!$H$2, 0, (COLUMN() - COLUMN($D$20)) * 6))=\"\",NA(),(OFFSET(結果貼付け用!$H$2, 0, (COLUMN() - COLUMN($D$20)) * 6)))","v":{"$error":"#N/A"}},{"$f":"IF((OFFSET(結果貼付け用!$H$2, 0, (COLUMN() - COLUMN($D$20)) * 6))=\"\",NA(),(OFFSET(結果貼付け用!$H$2, 0, (COLUMN() - COLUMN($D$20)) * 6)))","v":{"$error":"#N/A"}},{"$f":"IF((OFFSET(結果貼付け用!$H$2, 0, (COLUMN() - COLUMN($D$20)) * 6))=\"\",NA(),(OFFSET(結果貼付け用!$H$2, 0, (COLUMN() - COLUMN($D$20)) * 6)))","v":{"$error":"#N/A"}},{"$f":"IF((OFFSET(結果貼付け用!$H$2, 0, (COLUMN() - COLUMN($D$20)) * 6))=\"\",NA(),(OFFSET(結果貼付け用!$H$2, 0, (COLUMN() - COLUMN($D$20)) * 6)))","v":{"$error":"#N/A"}},{"$f":"IF((OFFSET(結果貼付け用!$H$2, 0, (COLUMN() - COLUMN($D$20)) * 6))=\"\",NA(),(OFFSET(結果貼付け用!$H$2, 0, (COLUMN() - COLUMN($D$20)) * 6)))","v":{"$error":"#N/A"}}]
[null,"労務環境",{"$f":"IF(OR(OFFSET(結果貼付け用!$F38,0,(COLUMN()-3)*6,1,1)=\"-\",OFFSET(結果貼付け用!$F38,0,(COLUMN()-3)*6,1,1)=\"\"),NA(),(OFFSET(結果貼付け用!$F38,0,(COLUMN()-3)*6,1,1)))","v":{"$error":"#N/A"}},{"$f":"IF(OR(OFFSET(結果貼付け用!$F38,0,(COLUMN()-3)*6,1,1)=\"-\",OFFSET(結果貼付け用!$F38,0,(COLUMN()-3)*6,1,1)=\"\"),NA(),(OFFSET(結果貼付け用!$F38,0,(COLUMN()-3)*6,1,1)))","v":{"$error":"#N/A"}},{"$f":"IF(OR(OFFSET(結果貼付け用!$F38,0,(COLUMN()-3)*6,1,1)=\"-\",OFFSET(結果貼付け用!$F38,0,(COLUMN()-3)*6,1,1)=\"\"),NA(),(OFFSET(結果貼付け用!$F38,0,(COLUMN()-3)*6,1,1)))","v":{"$error":"#N/A"}},{"$f":"IF(OR(OFFSET(結果貼付け用!$F38,0,(COLUMN()-3)*6,1,1)=\"-\",OFFSET(結果貼付け用!$F38,0,(COLUMN()-3)*6,1,1)=\"\"),NA(),(OFFSET(結果貼付け用!$F38,0,(COLUMN()-3)*6,1,1)))","v":{"$error":"#N/A"}},{"$f":"IF(OR(OFFSET(結果貼付け用!$F38,0,(COLUMN()-3)*6,1,1)=\"-\",OFFSET(結果貼付け用!$F38,0,(COLUMN()-3)*6,1,1)=\"\"),NA(),(OFFSET(結果貼付け用!$F38,0,(COLUMN()-3)*6,1,1)))","v":{"$error":"#N/A"}},{"$f":"IF(OR(OFFSET(結果貼付け用!$F38,0,(COLUMN()-3)*6,1,1)=\"-\",OFFSET(結果貼付け用!$F38,0,(COLUMN()-3)*6,1,1)=\"\"),NA(),(OFFSET(結果貼付け用!$F38,0,(COLUMN()-3)*6,1,1)))","v":{"$error":"#N/A"}},{"$f":"IF(OR(OFFSET(結果貼付け用!$F38,0,(COLUMN()-3)*6,1,1)=\"-\",OFFSET(結果貼付け用!$F38,0,(COLUMN()-3)*6,1,1)=\"\"),NA(),(OFFSET(結果貼付け用!$F38,0,(COLUMN()-3)*6,1,1)))","v":{"$error":"#N/A"}},{"$f":"IF(OR(OFFSET(結果貼付け用!$F38,0,(COLUMN()-3)*6,1,1)=\"-\",OFFSET(結果貼付け用!$F38,0,(COLUMN()-3)*6,1,1)=\"\"),NA(),(OFFSET(結果貼付け用!$F38,0,(COLUMN()-3)*6,1,1)))","v":{"$error":"#N/A"}},{"$f":"IF(OR(OFFSET(結果貼付け用!$F38,0,(COLUMN()-3)*6,1,1)=\"-\",OFFSET(結果貼付け用!$F38,0,(COLUMN()-3)*6,1,1)=\"\"),NA(),(OFFSET(結果貼付け用!$F38,0,(COLUMN()-3)*6,1,1)))","v":{"$error":"#N/A"}},{"$f":"IF(OR(OFFSET(結果貼付け用!$F38,0,(COLUMN()-3)*6,1,1)=\"-\",OFFSET(結果貼付け用!$F38,0,(COLUMN()-3)*6,1,1)=\"\"),NA(),(OFFSET(結果貼付け用!$F38,0,(COLUMN()-3)*6,1,1)))","v":{"$error":"#N/A"}},{"$f":"IF(OR(OFFSET(結果貼付け用!$F38,0,(COLUMN()-3)*6,1,1)=\"-\",OFFSET(結果貼付け用!$F38,0,(COLUMN()-3)*6,1,1)=\"\"),NA(),(OFFSET(結果貼付け用!$F38,0,(COLUMN()-3)*6,1,1)))","v":{"$error":"#N/A"}},{"$f":"IF(OR(OFFSET(結果貼付け用!$F38,0,(COLUMN()-3)*6,1,1)=\"-\",OFFSET(結果貼付け用!$F38,0,(COLUMN()-3)*6,1,1)=\"\"),NA(),(OFFSET(結果貼付け用!$F38,0,(COLUMN()-3)*6,1,1)))","v":{"$error":"#N/A"}},{"$f":"IF(OR(OFFSET(結果貼付け用!$F38,0,(COLUMN()-3)*6,1,1)=\"-\",OFFSET(結果貼付け用!$F38,0,(COLUMN()-3)*6,1,1)=\"\"),NA(),(OFFSET(結果貼付け用!$F38,0,(COLUMN()-3)*6,1,1)))","v":{"$error":"#N/A"}},{"$f":"IF(OR(OFFSET(結果貼付け用!$F38,0,(COLUMN()-3)*6,1,1)=\"-\",OFFSET(結果貼付け用!$F38,0,(COLUMN()-3)*6,1,1)=\"\"),NA(),(OFFSET(結果貼付け用!$F38,0,(COLUMN()-3)*6,1,1)))","v":{"$error":"#N/A"}},{"$f":"IF(OR(OFFSET(結果貼付け用!$F38,0,(COLUMN()-3)*6,1,1)=\"-\",OFFSET(結果貼付け用!$F38,0,(COLUMN()-3)*6,1,1)=\"\"),NA(),(OFFSET(結果貼付け用!$F38,0,(COLUMN()-3)*6,1,1)))","v":{"$error":"#N/A"}},{"$f":"IF(OR(OFFSET(結果貼付け用!$F38,0,(COLUMN()-3)*6,1,1)=\"-\",OFFSET(結果貼付け用!$F38,0,(COLUMN()-3)*6,1,1)=\"\"),NA(),(OFFSET(結果貼付け用!$F38,0,(COLUMN()-3)*6,1,1)))","v":{"$error":"#N/A"}},{"$f":"IF(OR(OFFSET(結果貼付け用!$F38,0,(COLUMN()-3)*6,1,1)=\"-\",OFFSET(結果貼付け用!$F38,0,(COLUMN()-3)*6,1,1)=\"\"),NA(),(OFFSET(結果貼付け用!$F38,0,(COLUMN()-3)*6,1,1)))","v":{"$error":"#N/A"}},{"$f":"IF(OR(OFFSET(結果貼付け用!$F38,0,(COLUMN()-3)*6,1,1)=\"-\",OFFSET(結果貼付け用!$F38,0,(COLUMN()-3)*6,1,1)=\"\"),NA(),(OFFSET(結果貼付け用!$F38,0,(COLUMN()-3)*6,1,1)))","v":{"$error":"#N/A"}},{"$f":"IF(OR(OFFSET(結果貼付け用!$F38,0,(COLUMN()-3)*6,1,1)=\"-\",OFFSET(結果貼付け用!$F38,0,(COLUMN()-3)*6,1,1)=\"\"),NA(),(OFFSET(結果貼付け用!$F38,0,(COLUMN()-3)*6,1,1)))","v":{"$error":"#N/A"}},{"$f":"IF(OR(OFFSET(結果貼付け用!$F38,0,(COLUMN()-3)*6,1,1)=\"-\",OFFSET(結果貼付け用!$F38,0,(COLUMN()-3)*6,1,1)=\"\"),NA(),(OFFSET(結果貼付け用!$F38,0,(COLUMN()-3)*6,1,1)))","v":{"$error":"#N/A"}},{"$f":"IF(OR(OFFSET(結果貼付け用!$F38,0,(COLUMN()-3)*6,1,1)=\"-\",OFFSET(結果貼付け用!$F38,0,(COLUMN()-3)*6,1,1)=\"\"),NA(),(OFFSET(結果貼付け用!$F38,0,(COLUMN()-3)*6,1,1)))","v":{"$error":"#N/A"}},{"$f":"IF(OR(OFFSET(結果貼付け用!$F38,0,(COLUMN()-3)*6,1,1)=\"-\",OFFSET(結果貼付け用!$F38,0,(COLUMN()-3)*6,1,1)=\"\"),NA(),(OFFSET(結果貼付け用!$F38,0,(COLUMN()-3)*6,1,1)))","v":{"$error":"#N/A"}},{"$f":"IF(OR(OFFSET(結果貼付け用!$F38,0,(COLUMN()-3)*6,1,1)=\"-\",OFFSET(結果貼付け用!$F38,0,(COLUMN()-3)*6,1,1)=\"\"),NA(),(OFFSET(結果貼付け用!$F38,0,(COLUMN()-3)*6,1,1)))","v":{"$error":"#N/A"}},{"$f":"IF(OR(OFFSET(結果貼付け用!$F38,0,(COLUMN()-3)*6,1,1)=\"-\",OFFSET(結果貼付け用!$F38,0,(COLUMN()-3)*6,1,1)=\"\"),NA(),(OFFSET(結果貼付け用!$F38,0,(COLUMN()-3)*6,1,1)))","v":{"$error":"#N/A"}},{"$f":"IF(OR(OFFSET(結果貼付け用!$F38,0,(COLUMN()-3)*6,1,1)=\"-\",OFFSET(結果貼付け用!$F38,0,(COLUMN()-3)*6,1,1)=\"\"),NA(),(OFFSET(結果貼付け用!$F38,0,(COLUMN()-3)*6,1,1)))","v":{"$error":"#N/A"}},{"$f":"IF(OR(OFFSET(結果貼付け用!$F38,0,(COLUMN()-3)*6,1,1)=\"-\",OFFSET(結果貼付け用!$F38,0,(COLUMN()-3)*6,1,1)=\"\"),NA(),(OFFSET(結果貼付け用!$F38,0,(COLUMN()-3)*6,1,1)))","v":{"$error":"#N/A"}},{"$f":"IF(OR(OFFSET(結果貼付け用!$F38,0,(COLUMN()-3)*6,1,1)=\"-\",OFFSET(結果貼付け用!$F38,0,(COLUMN()-3)*6,1,1)=\"\"),NA(),(OFFSET(結果貼付け用!$F38,0,(COLUMN()-3)*6,1,1)))","v":{"$error":"#N/A"}},{"$f":"IF(OR(OFFSET(結果貼付け用!$F38,0,(COLUMN()-3)*6,1,1)=\"-\",OFFSET(結果貼付け用!$F38,0,(COLUMN()-3)*6,1,1)=\"\"),NA(),(OFFSET(結果貼付け用!$F38,0,(COLUMN()-3)*6,1,1)))","v":{"$error":"#N/A"}},{"$f":"IF(OR(OFFSET(結果貼付け用!$F38,0,(COLUMN()-3)*6,1,1)=\"-\",OFFSET(結果貼付け用!$F38,0,(COLUMN()-3)*6,1,1)=\"\"),NA(),(OFFSET(結果貼付け用!$F38,0,(COLUMN()-3)*6,1,1)))","v":{"$error":"#N/A"}},{"$f":"IF(OR(OFFSET(結果貼付け用!$F38,0,(COLUMN()-3)*6,1,1)=\"-\",OFFSET(結果貼付け用!$F38,0,(COLUMN()-3)*6,1,1)=\"\"),NA(),(OFFSET(結果貼付け用!$F38,0,(COLUMN()-3)*6,1,1)))","v":{"$error":"#N/A"}}]
[null,"上司の安全配慮意識",{"$f":"IF(OR(OFFSET(結果貼付け用!$F39,0,(COLUMN()-3)*6,1,1)=\"-\",OFFSET(結果貼付け用!$F39,0,(COLUMN()-3)*6,1,1)=\"\"),NA(),(OFFSET(結果貼付け用!$F39,0,(COLUMN()-3)*6,1,1)))","v":{"$error":"#N/A"}},{"$f":"IF(OR(OFFSET(結果貼付け用!$F39,0,(COLUMN()-3)*6,1,1)=\"-\",OFFSET(結果貼付け用!$F39,0,(COLUMN()-3)*6,1,1)=\"\"),NA(),(OFFSET(結果貼付け用!$F39,0,(COLUMN()-3)*6,1,1)))","v":{"$error":"#N/A"}},{"$f":"IF(OR(OFFSET(結果貼付け用!$F39,0,(COLUMN()-3)*6,1,1)=\"-\",OFFSET(結果貼付け用!$F39,0,(COLUMN()-3)*6,1,1)=\"\"),NA(),(OFFSET(結果貼付け用!$F39,0,(COLUMN()-3)*6,1,1)))","v":{"$error":"#N/A"}},{"$f":"IF(OR(OFFSET(結果貼付け用!$F39,0,(COLUMN()-3)*6,1,1)=\"-\",OFFSET(結果貼付け用!$F39,0,(COLUMN()-3)*6,1,1)=\"\"),NA(),(OFFSET(結果貼付け用!$F39,0,(COLUMN()-3)*6,1,1)))","v":{"$error":"#N/A"}},{"$f":"IF(OR(OFFSET(結果貼付け用!$F39,0,(COLUMN()-3)*6,1,1)=\"-\",OFFSET(結果貼付け用!$F39,0,(COLUMN()-3)*6,1,1)=\"\"),NA(),(OFFSET(結果貼付け用!$F39,0,(COLUMN()-3)*6,1,1)))","v":{"$error":"#N/A"}},{"$f":"IF(OR(OFFSET(結果貼付け用!$F39,0,(COLUMN()-3)*6,1,1)=\"-\",OFFSET(結果貼付け用!$F39,0,(COLUMN()-3)*6,1,1)=\"\"),NA(),(OFFSET(結果貼付け用!$F39,0,(COLUMN()-3)*6,1,1)))","v":{"$error":"#N/A"}},{"$f":"IF(OR(OFFSET(結果貼付け用!$F39,0,(COLUMN()-3)*6,1,1)=\"-\",OFFSET(結果貼付け用!$F39,0,(COLUMN()-3)*6,1,1)=\"\"),NA(),(OFFSET(結果貼付け用!$F39,0,(COLUMN()-3)*6,1,1)))","v":{"$error":"#N/A"}},{"$f":"IF(OR(OFFSET(結果貼付け用!$F39,0,(COLUMN()-3)*6,1,1)=\"-\",OFFSET(結果貼付け用!$F39,0,(COLUMN()-3)*6,1,1)=\"\"),NA(),(OFFSET(結果貼付け用!$F39,0,(COLUMN()-3)*6,1,1)))","v":{"$error":"#N/A"}},{"$f":"IF(OR(OFFSET(結果貼付け用!$F39,0,(COLUMN()-3)*6,1,1)=\"-\",OFFSET(結果貼付け用!$F39,0,(COLUMN()-3)*6,1,1)=\"\"),NA(),(OFFSET(結果貼付け用!$F39,0,(COLUMN()-3)*6,1,1)))","v":{"$error":"#N/A"}},{"$f":"IF(OR(OFFSET(結果貼付け用!$F39,0,(COLUMN()-3)*6,1,1)=\"-\",OFFSET(結果貼付け用!$F39,0,(COLUMN()-3)*6,1,1)=\"\"),NA(),(OFFSET(結果貼付け用!$F39,0,(COLUMN()-3)*6,1,1)))","v":{"$error":"#N/A"}},{"$f":"IF(OR(OFFSET(結果貼付け用!$F39,0,(COLUMN()-3)*6,1,1)=\"-\",OFFSET(結果貼付け用!$F39,0,(COLUMN()-3)*6,1,1)=\"\"),NA(),(OFFSET(結果貼付け用!$F39,0,(COLUMN()-3)*6,1,1)))","v":{"$error":"#N/A"}},{"$f":"IF(OR(OFFSET(結果貼付け用!$F39,0,(COLUMN()-3)*6,1,1)=\"-\",OFFSET(結果貼付け用!$F39,0,(COLUMN()-3)*6,1,1)=\"\"),NA(),(OFFSET(結果貼付け用!$F39,0,(COLUMN()-3)*6,1,1)))","v":{"$error":"#N/A"}},{"$f":"IF(OR(OFFSET(結果貼付け用!$F39,0,(COLUMN()-3)*6,1,1)=\"-\",OFFSET(結果貼付け用!$F39,0,(COLUMN()-3)*6,1,1)=\"\"),NA(),(OFFSET(結果貼付け用!$F39,0,(COLUMN()-3)*6,1,1)))","v":{"$error":"#N/A"}},{"$f":"IF(OR(OFFSET(結果貼付け用!$F39,0,(COLUMN()-3)*6,1,1)=\"-\",OFFSET(結果貼付け用!$F39,0,(COLUMN()-3)*6,1,1)=\"\"),NA(),(OFFSET(結果貼付け用!$F39,0,(COLUMN()-3)*6,1,1)))","v":{"$error":"#N/A"}},{"$f":"IF(OR(OFFSET(結果貼付け用!$F39,0,(COLUMN()-3)*6,1,1)=\"-\",OFFSET(結果貼付け用!$F39,0,(COLUMN()-3)*6,1,1)=\"\"),NA(),(OFFSET(結果貼付け用!$F39,0,(COLUMN()-3)*6,1,1)))","v":{"$error":"#N/A"}},{"$f":"IF(OR(OFFSET(結果貼付け用!$F39,0,(COLUMN()-3)*6,1,1)=\"-\",OFFSET(結果貼付け用!$F39,0,(COLUMN()-3)*6,1,1)=\"\"),NA(),(OFFSET(結果貼付け用!$F39,0,(COLUMN()-3)*6,1,1)))","v":{"$error":"#N/A"}},{"$f":"IF(OR(OFFSET(結果貼付け用!$F39,0,(COLUMN()-3)*6,1,1)=\"-\",OFFSET(結果貼付け用!$F39,0,(COLUMN()-3)*6,1,1)=\"\"),NA(),(OFFSET(結果貼付け用!$F39,0,(COLUMN()-3)*6,1,1)))","v":{"$error":"#N/A"}},{"$f":"IF(OR(OFFSET(結果貼付け用!$F39,0,(COLUMN()-3)*6,1,1)=\"-\",OFFSET(結果貼付け用!$F39,0,(COLUMN()-3)*6,1,1)=\"\"),NA(),(OFFSET(結果貼付け用!$F39,0,(COLUMN()-3)*6,1,1)))","v":{"$error":"#N/A"}},{"$f":"IF(OR(OFFSET(結果貼付け用!$F39,0,(COLUMN()-3)*6,1,1)=\"-\",OFFSET(結果貼付け用!$F39,0,(COLUMN()-3)*6,1,1)=\"\"),NA(),(OFFSET(結果貼付け用!$F39,0,(COLUMN()-3)*6,1,1)))","v":{"$error":"#N/A"}},{"$f":"IF(OR(OFFSET(結果貼付け用!$F39,0,(COLUMN()-3)*6,1,1)=\"-\",OFFSET(結果貼付け用!$F39,0,(COLUMN()-3)*6,1,1)=\"\"),NA(),(OFFSET(結果貼付け用!$F39,0,(COLUMN()-3)*6,1,1)))","v":{"$error":"#N/A"}},{"$f":"IF(OR(OFFSET(結果貼付け用!$F39,0,(COLUMN()-3)*6,1,1)=\"-\",OFFSET(結果貼付け用!$F39,0,(COLUMN()-3)*6,1,1)=\"\"),NA(),(OFFSET(結果貼付け用!$F39,0,(COLUMN()-3)*6,1,1)))","v":{"$error":"#N/A"}},{"$f":"IF(OR(OFFSET(結果貼付け用!$F39,0,(COLUMN()-3)*6,1,1)=\"-\",OFFSET(結果貼付け用!$F39,0,(COLUMN()-3)*6,1,1)=\"\"),NA(),(OFFSET(結果貼付け用!$F39,0,(COLUMN()-3)*6,1,1)))","v":{"$error":"#N/A"}},{"$f":"IF(OR(OFFSET(結果貼付け用!$F39,0,(COLUMN()-3)*6,1,1)=\"-\",OFFSET(結果貼付け用!$F39,0,(COLUMN()-3)*6,1,1)=\"\"),NA(),(OFFSET(結果貼付け用!$F39,0,(COLUMN()-3)*6,1,1)))","v":{"$error":"#N/A"}},{"$f":"IF(OR(OFFSET(結果貼付け用!$F39,0,(COLUMN()-3)*6,1,1)=\"-\",OFFSET(結果貼付け用!$F39,0,(COLUMN()-3)*6,1,1)=\"\"),NA(),(OFFSET(結果貼付け用!$F39,0,(COLUMN()-3)*6,1,1)))","v":{"$error":"#N/A"}},{"$f":"IF(OR(OFFSET(結果貼付け用!$F39,0,(COLUMN()-3)*6,1,1)=\"-\",OFFSET(結果貼付け用!$F39,0,(COLUMN()-3)*6,1,1)=\"\"),NA(),(OFFSET(結果貼付け用!$F39,0,(COLUMN()-3)*6,1,1)))","v":{"$error":"#N/A"}},{"$f":"IF(OR(OFFSET(結果貼付け用!$F39,0,(COLUMN()-3)*6,1,1)=\"-\",OFFSET(結果貼付け用!$F39,0,(COLUMN()-3)*6,1,1)=\"\"),NA(),(OFFSET(結果貼付け用!$F39,0,(COLUMN()-3)*6,1,1)))","v":{"$error":"#N/A"}},{"$f":"IF(OR(OFFSET(結果貼付け用!$F39,0,(COLUMN()-3)*6,1,1)=\"-\",OFFSET(結果貼付け用!$F39,0,(COLUMN()-3)*6,1,1)=\"\"),NA(),(OFFSET(結果貼付け用!$F39,0,(COLUMN()-3)*6,1,1)))","v":{"$error":"#N/A"}},{"$f":"IF(OR(OFFSET(結果貼付け用!$F39,0,(COLUMN()-3)*6,1,1)=\"-\",OFFSET(結果貼付け用!$F39,0,(COLUMN()-3)*6,1,1)=\"\"),NA(),(OFFSET(結果貼付け用!$F39,0,(COLUMN()-3)*6,1,1)))","v":{"$error":"#N/A"}},{"$f":"IF(OR(OFFSET(結果貼付け用!$F39,0,(COLUMN()-3)*6,1,1)=\"-\",OFFSET(結果貼付け用!$F39,0,(COLUMN()-3)*6,1,1)=\"\"),NA(),(OFFSET(結果貼付け用!$F39,0,(COLUMN()-3)*6,1,1)))","v":{"$error":"#N/A"}},{"$f":"IF(OR(OFFSET(結果貼付け用!$F39,0,(COLUMN()-3)*6,1,1)=\"-\",OFFSET(結果貼付け用!$F39,0,(COLUMN()-3)*6,1,1)=\"\"),NA(),(OFFSET(結果貼付け用!$F39,0,(COLUMN()-3)*6,1,1)))","v":{"$error":"#N/A"}}]
[null,"職場の健康配慮意識",{"$f":"IF(OR(OFFSET(結果貼付け用!$F40,0,(COLUMN()-3)*6,1,1)=\"-\",OFFSET(結果貼付け用!$F40,0,(COLUMN()-3)*6,1,1)=\"\"),NA(),(OFFSET(結果貼付け用!$F40,0,(COLUMN()-3)*6,1,1)))","v":{"$error":"#N/A"}},{"$f":"IF(OR(OFFSET(結果貼付け用!$F40,0,(COLUMN()-3)*6,1,1)=\"-\",OFFSET(結果貼付け用!$F40,0,(COLUMN()-3)*6,1,1)=\"\"),NA(),(OFFSET(結果貼付け用!$F40,0,(COLUMN()-3)*6,1,1)))","v":{"$error":"#N/A"}},{"$f":"IF(OR(OFFSET(結果貼付け用!$F40,0,(COLUMN()-3)*6,1,1)=\"-\",OFFSET(結果貼付け用!$F40,0,(COLUMN()-3)*6,1,1)=\"\"),NA(),(OFFSET(結果貼付け用!$F40,0,(COLUMN()-3)*6,1,1)))","v":{"$error":"#N/A"}},{"$f":"IF(OR(OFFSET(結果貼付け用!$F40,0,(COLUMN()-3)*6,1,1)=\"-\",OFFSET(結果貼付け用!$F40,0,(COLUMN()-3)*6,1,1)=\"\"),NA(),(OFFSET(結果貼付け用!$F40,0,(COLUMN()-3)*6,1,1)))","v":{"$error":"#N/A"}},{"$f":"IF(OR(OFFSET(結果貼付け用!$F40,0,(COLUMN()-3)*6,1,1)=\"-\",OFFSET(結果貼付け用!$F40,0,(COLUMN()-3)*6,1,1)=\"\"),NA(),(OFFSET(結果貼付け用!$F40,0,(COLUMN()-3)*6,1,1)))","v":{"$error":"#N/A"}},{"$f":"IF(OR(OFFSET(結果貼付け用!$F40,0,(COLUMN()-3)*6,1,1)=\"-\",OFFSET(結果貼付け用!$F40,0,(COLUMN()-3)*6,1,1)=\"\"),NA(),(OFFSET(結果貼付け用!$F40,0,(COLUMN()-3)*6,1,1)))","v":{"$error":"#N/A"}},{"$f":"IF(OR(OFFSET(結果貼付け用!$F40,0,(COLUMN()-3)*6,1,1)=\"-\",OFFSET(結果貼付け用!$F40,0,(COLUMN()-3)*6,1,1)=\"\"),NA(),(OFFSET(結果貼付け用!$F40,0,(COLUMN()-3)*6,1,1)))","v":{"$error":"#N/A"}},{"$f":"IF(OR(OFFSET(結果貼付け用!$F40,0,(COLUMN()-3)*6,1,1)=\"-\",OFFSET(結果貼付け用!$F40,0,(COLUMN()-3)*6,1,1)=\"\"),NA(),(OFFSET(結果貼付け用!$F40,0,(COLUMN()-3)*6,1,1)))","v":{"$error":"#N/A"}},{"$f":"IF(OR(OFFSET(結果貼付け用!$F40,0,(COLUMN()-3)*6,1,1)=\"-\",OFFSET(結果貼付け用!$F40,0,(COLUMN()-3)*6,1,1)=\"\"),NA(),(OFFSET(結果貼付け用!$F40,0,(COLUMN()-3)*6,1,1)))","v":{"$error":"#N/A"}},{"$f":"IF(OR(OFFSET(結果貼付け用!$F40,0,(COLUMN()-3)*6,1,1)=\"-\",OFFSET(結果貼付け用!$F40,0,(COLUMN()-3)*6,1,1)=\"\"),NA(),(OFFSET(結果貼付け用!$F40,0,(COLUMN()-3)*6,1,1)))","v":{"$error":"#N/A"}},{"$f":"IF(OR(OFFSET(結果貼付け用!$F40,0,(COLUMN()-3)*6,1,1)=\"-\",OFFSET(結果貼付け用!$F40,0,(COLUMN()-3)*6,1,1)=\"\"),NA(),(OFFSET(結果貼付け用!$F40,0,(COLUMN()-3)*6,1,1)))","v":{"$error":"#N/A"}},{"$f":"IF(OR(OFFSET(結果貼付け用!$F40,0,(COLUMN()-3)*6,1,1)=\"-\",OFFSET(結果貼付け用!$F40,0,(COLUMN()-3)*6,1,1)=\"\"),NA(),(OFFSET(結果貼付け用!$F40,0,(COLUMN()-3)*6,1,1)))","v":{"$error":"#N/A"}},{"$f":"IF(OR(OFFSET(結果貼付け用!$F40,0,(COLUMN()-3)*6,1,1)=\"-\",OFFSET(結果貼付け用!$F40,0,(COLUMN()-3)*6,1,1)=\"\"),NA(),(OFFSET(結果貼付け用!$F40,0,(COLUMN()-3)*6,1,1)))","v":{"$error":"#N/A"}},{"$f":"IF(OR(OFFSET(結果貼付け用!$F40,0,(COLUMN()-3)*6,1,1)=\"-\",OFFSET(結果貼付け用!$F40,0,(COLUMN()-3)*6,1,1)=\"\"),NA(),(OFFSET(結果貼付け用!$F40,0,(COLUMN()-3)*6,1,1)))","v":{"$error":"#N/A"}},{"$f":"IF(OR(OFFSET(結果貼付け用!$F40,0,(COLUMN()-3)*6,1,1)=\"-\",OFFSET(結果貼付け用!$F40,0,(COLUMN()-3)*6,1,1)=\"\"),NA(),(OFFSET(結果貼付け用!$F40,0,(COLUMN()-3)*6,1,1)))","v":{"$error":"#N/A"}},{"$f":"IF(OR(OFFSET(結果貼付け用!$F40,0,(COLUMN()-3)*6,1,1)=\"-\",OFFSET(結果貼付け用!$F40,0,(COLUMN()-3)*6,1,1)=\"\"),NA(),(OFFSET(結果貼付け用!$F40,0,(COLUMN()-3)*6,1,1)))","v":{"$error":"#N/A"}},{"$f":"IF(OR(OFFSET(結果貼付け用!$F40,0,(COLUMN()-3)*6,1,1)=\"-\",OFFSET(結果貼付け用!$F40,0,(COLUMN()-3)*6,1,1)=\"\"),NA(),(OFFSET(結果貼付け用!$F40,0,(COLUMN()-3)*6,1,1)))","v":{"$error":"#N/A"}},{"$f":"IF(OR(OFFSET(結果貼付け用!$F40,0,(COLUMN()-3)*6,1,1)=\"-\",OFFSET(結果貼付け用!$F40,0,(COLUMN()-3)*6,1,1)=\"\"),NA(),(OFFSET(結果貼付け用!$F40,0,(COLUMN()-3)*6,1,1)))","v":{"$error":"#N/A"}},{"$f":"IF(OR(OFFSET(結果貼付け用!$F40,0,(COLUMN()-3)*6,1,1)=\"-\",OFFSET(結果貼付け用!$F40,0,(COLUMN()-3)*6,1,1)=\"\"),NA(),(OFFSET(結果貼付け用!$F40,0,(COLUMN()-3)*6,1,1)))","v":{"$error":"#N/A"}},{"$f":"IF(OR(OFFSET(結果貼付け用!$F40,0,(COLUMN()-3)*6,1,1)=\"-\",OFFSET(結果貼付け用!$F40,0,(COLUMN()-3)*6,1,1)=\"\"),NA(),(OFFSET(結果貼付け用!$F40,0,(COLUMN()-3)*6,1,1)))","v":{"$error":"#N/A"}},{"$f":"IF(OR(OFFSET(結果貼付け用!$F40,0,(COLUMN()-3)*6,1,1)=\"-\",OFFSET(結果貼付け用!$F40,0,(COLUMN()-3)*6,1,1)=\"\"),NA(),(OFFSET(結果貼付け用!$F40,0,(COLUMN()-3)*6,1,1)))","v":{"$error":"#N/A"}},{"$f":"IF(OR(OFFSET(結果貼付け用!$F40,0,(COLUMN()-3)*6,1,1)=\"-\",OFFSET(結果貼付け用!$F40,0,(COLUMN()-3)*6,1,1)=\"\"),NA(),(OFFSET(結果貼付け用!$F40,0,(COLUMN()-3)*6,1,1)))","v":{"$error":"#N/A"}},{"$f":"IF(OR(OFFSET(結果貼付け用!$F40,0,(COLUMN()-3)*6,1,1)=\"-\",OFFSET(結果貼付け用!$F40,0,(COLUMN()-3)*6,1,1)=\"\"),NA(),(OFFSET(結果貼付け用!$F40,0,(COLUMN()-3)*6,1,1)))","v":{"$error":"#N/A"}},{"$f":"IF(OR(OFFSET(結果貼付け用!$F40,0,(COLUMN()-3)*6,1,1)=\"-\",OFFSET(結果貼付け用!$F40,0,(COLUMN()-3)*6,1,1)=\"\"),NA(),(OFFSET(結果貼付け用!$F40,0,(COLUMN()-3)*6,1,1)))","v":{"$error":"#N/A"}},{"$f":"IF(OR(OFFSET(結果貼付け用!$F40,0,(COLUMN()-3)*6,1,1)=\"-\",OFFSET(結果貼付け用!$F40,0,(COLUMN()-3)*6,1,1)=\"\"),NA(),(OFFSET(結果貼付け用!$F40,0,(COLUMN()-3)*6,1,1)))","v":{"$error":"#N/A"}},{"$f":"IF(OR(OFFSET(結果貼付け用!$F40,0,(COLUMN()-3)*6,1,1)=\"-\",OFFSET(結果貼付け用!$F40,0,(COLUMN()-3)*6,1,1)=\"\"),NA(),(OFFSET(結果貼付け用!$F40,0,(COLUMN()-3)*6,1,1)))","v":{"$error":"#N/A"}},{"$f":"IF(OR(OFFSET(結果貼付け用!$F40,0,(COLUMN()-3)*6,1,1)=\"-\",OFFSET(結果貼付け用!$F40,0,(COLUMN()-3)*6,1,1)=\"\"),NA(),(OFFSET(結果貼付け用!$F40,0,(COLUMN()-3)*6,1,1)))","v":{"$error":"#N/A"}},{"$f":"IF(OR(OFFSET(結果貼付け用!$F40,0,(COLUMN()-3)*6,1,1)=\"-\",OFFSET(結果貼付け用!$F40,0,(COLUMN()-3)*6,1,1)=\"\"),NA(),(OFFSET(結果貼付け用!$F40,0,(COLUMN()-3)*6,1,1)))","v":{"$error":"#N/A"}},{"$f":"IF(OR(OFFSET(結果貼付け用!$F40,0,(COLUMN()-3)*6,1,1)=\"-\",OFFSET(結果貼付け用!$F40,0,(COLUMN()-3)*6,1,1)=\"\"),NA(),(OFFSET(結果貼付け用!$F40,0,(COLUMN()-3)*6,1,1)))","v":{"$error":"#N/A"}},{"$f":"IF(OR(OFFSET(結果貼付け用!$F40,0,(COLUMN()-3)*6,1,1)=\"-\",OFFSET(結果貼付け用!$F40,0,(COLUMN()-3)*6,1,1)=\"\"),NA(),(OFFSET(結果貼付け用!$F40,0,(COLUMN()-3)*6,1,1)))","v":{"$error":"#N/A"}}]
[null,"職場のコンプライアンス意識",{"$f":"IF(OR(OFFSET(結果貼付け用!$F41,0,(COLUMN()-3)*6,1,1)=\"-\",OFFSET(結果貼付け用!$F41,0,(COLUMN()-3)*6,1,1)=\"\"),NA(),(OFFSET(結果貼付け用!$F41,0,(COLUMN()-3)*6,1,1)))","v":{"$error":"#N/A"}},{"$f":"IF(OR(OFFSET(結果貼付け用!$F41,0,(COLUMN()-3)*6,1,1)=\"-\",OFFSET(結果貼付け用!$F41,0,(COLUMN()-3)*6,1,1)=\"\"),NA(),(OFFSET(結果貼付け用!$F41,0,(COLUMN()-3)*6,1,1)))","v":{"$error":"#N/A"}},{"$f":"IF(OR(OFFSET(結果貼付け用!$F41,0,(COLUMN()-3)*6,1,1)=\"-\",OFFSET(結果貼付け用!$F41,0,(COLUMN()-3)*6,1,1)=\"\"),NA(),(OFFSET(結果貼付け用!$F41,0,(COLUMN()-3)*6,1,1)))","v":{"$error":"#N/A"}},{"$f":"IF(OR(OFFSET(結果貼付け用!$F41,0,(COLUMN()-3)*6,1,1)=\"-\",OFFSET(結果貼付け用!$F41,0,(COLUMN()-3)*6,1,1)=\"\"),NA(),(OFFSET(結果貼付け用!$F41,0,(COLUMN()-3)*6,1,1)))","v":{"$error":"#N/A"}},{"$f":"IF(OR(OFFSET(結果貼付け用!$F41,0,(COLUMN()-3)*6,1,1)=\"-\",OFFSET(結果貼付け用!$F41,0,(COLUMN()-3)*6,1,1)=\"\"),NA(),(OFFSET(結果貼付け用!$F41,0,(COLUMN()-3)*6,1,1)))","v":{"$error":"#N/A"}},{"$f":"IF(OR(OFFSET(結果貼付け用!$F41,0,(COLUMN()-3)*6,1,1)=\"-\",OFFSET(結果貼付け用!$F41,0,(COLUMN()-3)*6,1,1)=\"\"),NA(),(OFFSET(結果貼付け用!$F41,0,(COLUMN()-3)*6,1,1)))","v":{"$error":"#N/A"}},{"$f":"IF(OR(OFFSET(結果貼付け用!$F41,0,(COLUMN()-3)*6,1,1)=\"-\",OFFSET(結果貼付け用!$F41,0,(COLUMN()-3)*6,1,1)=\"\"),NA(),(OFFSET(結果貼付け用!$F41,0,(COLUMN()-3)*6,1,1)))","v":{"$error":"#N/A"}},{"$f":"IF(OR(OFFSET(結果貼付け用!$F41,0,(COLUMN()-3)*6,1,1)=\"-\",OFFSET(結果貼付け用!$F41,0,(COLUMN()-3)*6,1,1)=\"\"),NA(),(OFFSET(結果貼付け用!$F41,0,(COLUMN()-3)*6,1,1)))","v":{"$error":"#N/A"}},{"$f":"IF(OR(OFFSET(結果貼付け用!$F41,0,(COLUMN()-3)*6,1,1)=\"-\",OFFSET(結果貼付け用!$F41,0,(COLUMN()-3)*6,1,1)=\"\"),NA(),(OFFSET(結果貼付け用!$F41,0,(COLUMN()-3)*6,1,1)))","v":{"$error":"#N/A"}},{"$f":"IF(OR(OFFSET(結果貼付け用!$F41,0,(COLUMN()-3)*6,1,1)=\"-\",OFFSET(結果貼付け用!$F41,0,(COLUMN()-3)*6,1,1)=\"\"),NA(),(OFFSET(結果貼付け用!$F41,0,(COLUMN()-3)*6,1,1)))","v":{"$error":"#N/A"}},{"$f":"IF(OR(OFFSET(結果貼付け用!$F41,0,(COLUMN()-3)*6,1,1)=\"-\",OFFSET(結果貼付け用!$F41,0,(COLUMN()-3)*6,1,1)=\"\"),NA(),(OFFSET(結果貼付け用!$F41,0,(COLUMN()-3)*6,1,1)))","v":{"$error":"#N/A"}},{"$f":"IF(OR(OFFSET(結果貼付け用!$F41,0,(COLUMN()-3)*6,1,1)=\"-\",OFFSET(結果貼付け用!$F41,0,(COLUMN()-3)*6,1,1)=\"\"),NA(),(OFFSET(結果貼付け用!$F41,0,(COLUMN()-3)*6,1,1)))","v":{"$error":"#N/A"}},{"$f":"IF(OR(OFFSET(結果貼付け用!$F41,0,(COLUMN()-3)*6,1,1)=\"-\",OFFSET(結果貼付け用!$F41,0,(COLUMN()-3)*6,1,1)=\"\"),NA(),(OFFSET(結果貼付け用!$F41,0,(COLUMN()-3)*6,1,1)))","v":{"$error":"#N/A"}},{"$f":"IF(OR(OFFSET(結果貼付け用!$F41,0,(COLUMN()-3)*6,1,1)=\"-\",OFFSET(結果貼付け用!$F41,0,(COLUMN()-3)*6,1,1)=\"\"),NA(),(OFFSET(結果貼付け用!$F41,0,(COLUMN()-3)*6,1,1)))","v":{"$error":"#N/A"}},{"$f":"IF(OR(OFFSET(結果貼付け用!$F41,0,(COLUMN()-3)*6,1,1)=\"-\",OFFSET(結果貼付け用!$F41,0,(COLUMN()-3)*6,1,1)=\"\"),NA(),(OFFSET(結果貼付け用!$F41,0,(COLUMN()-3)*6,1,1)))","v":{"$error":"#N/A"}},{"$f":"IF(OR(OFFSET(結果貼付け用!$F41,0,(COLUMN()-3)*6,1,1)=\"-\",OFFSET(結果貼付け用!$F41,0,(COLUMN()-3)*6,1,1)=\"\"),NA(),(OFFSET(結果貼付け用!$F41,0,(COLUMN()-3)*6,1,1)))","v":{"$error":"#N/A"}},{"$f":"IF(OR(OFFSET(結果貼付け用!$F41,0,(COLUMN()-3)*6,1,1)=\"-\",OFFSET(結果貼付け用!$F41,0,(COLUMN()-3)*6,1,1)=\"\"),NA(),(OFFSET(結果貼付け用!$F41,0,(COLUMN()-3)*6,1,1)))","v":{"$error":"#N/A"}},{"$f":"IF(OR(OFFSET(結果貼付け用!$F41,0,(COLUMN()-3)*6,1,1)=\"-\",OFFSET(結果貼付け用!$F41,0,(COLUMN()-3)*6,1,1)=\"\"),NA(),(OFFSET(結果貼付け用!$F41,0,(COLUMN()-3)*6,1,1)))","v":{"$error":"#N/A"}},{"$f":"IF(OR(OFFSET(結果貼付け用!$F41,0,(COLUMN()-3)*6,1,1)=\"-\",OFFSET(結果貼付け用!$F41,0,(COLUMN()-3)*6,1,1)=\"\"),NA(),(OFFSET(結果貼付け用!$F41,0,(COLUMN()-3)*6,1,1)))","v":{"$error":"#N/A"}},{"$f":"IF(OR(OFFSET(結果貼付け用!$F41,0,(COLUMN()-3)*6,1,1)=\"-\",OFFSET(結果貼付け用!$F41,0,(COLUMN()-3)*6,1,1)=\"\"),NA(),(OFFSET(結果貼付け用!$F41,0,(COLUMN()-3)*6,1,1)))","v":{"$error":"#N/A"}},{"$f":"IF(OR(OFFSET(結果貼付け用!$F41,0,(COLUMN()-3)*6,1,1)=\"-\",OFFSET(結果貼付け用!$F41,0,(COLUMN()-3)*6,1,1)=\"\"),NA(),(OFFSET(結果貼付け用!$F41,0,(COLUMN()-3)*6,1,1)))","v":{"$error":"#N/A"}},{"$f":"IF(OR(OFFSET(結果貼付け用!$F41,0,(COLUMN()-3)*6,1,1)=\"-\",OFFSET(結果貼付け用!$F41,0,(COLUMN()-3)*6,1,1)=\"\"),NA(),(OFFSET(結果貼付け用!$F41,0,(COLUMN()-3)*6,1,1)))","v":{"$error":"#N/A"}},{"$f":"IF(OR(OFFSET(結果貼付け用!$F41,0,(COLUMN()-3)*6,1,1)=\"-\",OFFSET(結果貼付け用!$F41,0,(COLUMN()-3)*6,1,1)=\"\"),NA(),(OFFSET(結果貼付け用!$F41,0,(COLUMN()-3)*6,1,1)))","v":{"$error":"#N/A"}},{"$f":"IF(OR(OFFSET(結果貼付け用!$F41,0,(COLUMN()-3)*6,1,1)=\"-\",OFFSET(結果貼付け用!$F41,0,(COLUMN()-3)*6,1,1)=\"\"),NA(),(OFFSET(結果貼付け用!$F41,0,(COLUMN()-3)*6,1,1)))","v":{"$error":"#N/A"}},{"$f":"IF(OR(OFFSET(結果貼付け用!$F41,0,(COLUMN()-3)*6,1,1)=\"-\",OFFSET(結果貼付け用!$F41,0,(COLUMN()-3)*6,1,1)=\"\"),NA(),(OFFSET(結果貼付け用!$F41,0,(COLUMN()-3)*6,1,1)))","v":{"$error":"#N/A"}},{"$f":"IF(OR(OFFSET(結果貼付け用!$F41,0,(COLUMN()-3)*6,1,1)=\"-\",OFFSET(結果貼付け用!$F41,0,(COLUMN()-3)*6,1,1)=\"\"),NA(),(OFFSET(結果貼付け用!$F41,0,(COLUMN()-3)*6,1,1)))","v":{"$error":"#N/A"}},{"$f":"IF(OR(OFFSET(結果貼付け用!$F41,0,(COLUMN()-3)*6,1,1)=\"-\",OFFSET(結果貼付け用!$F41,0,(COLUMN()-3)*6,1,1)=\"\"),NA(),(OFFSET(結果貼付け用!$F41,0,(COLUMN()-3)*6,1,1)))","v":{"$error":"#N/A"}},{"$f":"IF(OR(OFFSET(結果貼付け用!$F41,0,(COLUMN()-3)*6,1,1)=\"-\",OFFSET(結果貼付け用!$F41,0,(COLUMN()-3)*6,1,1)=\"\"),NA(),(OFFSET(結果貼付け用!$F41,0,(COLUMN()-3)*6,1,1)))","v":{"$error":"#N/A"}},{"$f":"IF(OR(OFFSET(結果貼付け用!$F41,0,(COLUMN()-3)*6,1,1)=\"-\",OFFSET(結果貼付け用!$F41,0,(COLUMN()-3)*6,1,1)=\"\"),NA(),(OFFSET(結果貼付け用!$F41,0,(COLUMN()-3)*6,1,1)))","v":{"$error":"#N/A"}},{"$f":"IF(OR(OFFSET(結果貼付け用!$F41,0,(COLUMN()-3)*6,1,1)=\"-\",OFFSET(結果貼付け用!$F41,0,(COLUMN()-3)*6,1,1)=\"\"),NA(),(OFFSET(結果貼付け用!$F41,0,(COLUMN()-3)*6,1,1)))","v":{"$error":"#N/A"}}]
[]
[]
[]
[]
[]
[]
[]
[]
[]
[]
[]
[]
[]
[]
[]
[]
[]
[]
[]
[]
[null,"実施開始日時",{"$f":"IF(結果貼付け用!B2=\"\",NA(),結果貼付け用!B2)","v":{"$error":"#N/A"}},{"$f":"IF((OFFSET(結果貼付け用!$H$2, 0, (COLUMN() - COLUMN($D$20)) * 6))=\"\",NA(),(OFFSET(結果貼付け用!$H$2, 0, (COLUMN() - COLUMN($D$20)) * 6)))","v":{"$error":"#N/A"}},{"$f":"IF((OFFSET(結果貼付け用!$H$2, 0, (COLUMN() - COLUMN($D$20)) * 6))=\"\",NA(),(OFFSET(結果貼付け用!$H$2, 0, (COLUMN() - COLUMN($D$20)) * 6)))","v":{"$error":"#N/A"}},{"$f":"IF((OFFSET(結果貼付け用!$H$2, 0, (COLUMN() - COLUMN($D$20)) * 6))=\"\",NA(),(OFFSET(結果貼付け用!$H$2, 0, (COLUMN() - COLUMN($D$20)) * 6)))","v":{"$error":"#N/A"}},{"$f":"IF((OFFSET(結果貼付け用!$H$2, 0, (COLUMN() - COLUMN($D$20)) * 6))=\"\",NA(),(OFFSET(結果貼付け用!$H$2, 0, (COLUMN() - COLUMN($D$20)) * 6)))","v":{"$error":"#N/A"}},{"$f":"IF((OFFSET(結果貼付け用!$H$2, 0, (COLUMN() - COLUMN($D$20)) * 6))=\"\",NA(),(OFFSET(結果貼付け用!$H$2, 0, (COLUMN() - COLUMN($D$20)) * 6)))","v":{"$error":"#N/A"}},{"$f":"IF((OFFSET(結果貼付け用!$H$2, 0, (COLUMN() - COLUMN($D$20)) * 6))=\"\",NA(),(OFFSET(結果貼付け用!$H$2, 0, (COLUMN() - COLUMN($D$20)) * 6)))","v":{"$error":"#N/A"}},{"$f":"IF((OFFSET(結果貼付け用!$H$2, 0, (COLUMN() - COLUMN($D$20)) * 6))=\"\",NA(),(OFFSET(結果貼付け用!$H$2, 0, (COLUMN() - COLUMN($D$20)) * 6)))","v":{"$error":"#N/A"}},{"$f":"IF((OFFSET(結果貼付け用!$H$2, 0, (COLUMN() - COLUMN($D$20)) * 6))=\"\",NA(),(OFFSET(結果貼付け用!$H$2, 0, (COLUMN() - COLUMN($D$20)) * 6)))","v":{"$error":"#N/A"}},{"$f":"IF((OFFSET(結果貼付け用!$H$2, 0, (COLUMN() - COLUMN($D$20)) * 6))=\"\",NA(),(OFFSET(結果貼付け用!$H$2, 0, (COLUMN() - COLUMN($D$20)) * 6)))","v":{"$error":"#N/A"}},{"$f":"IF((OFFSET(結果貼付け用!$H$2, 0, (COLUMN() - COLUMN($D$20)) * 6))=\"\",NA(),(OFFSET(結果貼付け用!$H$2, 0, (COLUMN() - COLUMN($D$20)) * 6)))","v":{"$error":"#N/A"}},{"$f":"IF((OFFSET(結果貼付け用!$H$2, 0, (COLUMN() - COLUMN($D$20)) * 6))=\"\",NA(),(OFFSET(結果貼付け用!$H$2, 0, (COLUMN() - COLUMN($D$20)) * 6)))","v":{"$error":"#N/A"}},{"$f":"IF((OFFSET(結果貼付け用!$H$2, 0, (COLUMN() - COLUMN($D$20)) * 6))=\"\",NA(),(OFFSET(結果貼付け用!$H$2, 0, (COLUMN() - COLUMN($D$20)) * 6)))","v":{"$error":"#N/A"}},{"$f":"IF((OFFSET(結果貼付け用!$H$2, 0, (COLUMN() - COLUMN($D$20)) * 6))=\"\",NA(),(OFFSET(結果貼付け用!$H$2, 0, (COLUMN() - COLUMN($D$20)) * 6)))","v":{"$error":"#N/A"}},{"$f":"IF((OFFSET(結果貼付け用!$H$2, 0, (COLUMN() - COLUMN($D$20)) * 6))=\"\",NA(),(OFFSET(結果貼付け用!$H$2, 0, (COLUMN() - COLUMN($D$20)) * 6)))","v":{"$error":"#N/A"}},{"$f":"IF((OFFSET(結果貼付け用!$H$2, 0, (COLUMN() - COLUMN($D$20)) * 6))=\"\",NA(),(OFFSET(結果貼付け用!$H$2, 0, (COLUMN() - COLUMN($D$20)) * 6)))","v":{"$error":"#N/A"}},{"$f":"IF((OFFSET(結果貼付け用!$H$2, 0, (COLUMN() - COLUMN($D$20)) * 6))=\"\",NA(),(OFFSET(結果貼付け用!$H$2, 0, (COLUMN() - COLUMN($D$20)) * 6)))","v":{"$error":"#N/A"}},{"$f":"IF((OFFSET(結果貼付け用!$H$2, 0, (COLUMN() - COLUMN($D$20)) * 6))=\"\",NA(),(OFFSET(結果貼付け用!$H$2, 0, (COLUMN() - COLUMN($D$20)) * 6)))","v":{"$error":"#N/A"}},{"$f":"IF((OFFSET(結果貼付け用!$H$2, 0, (COLUMN() - COLUMN($D$20)) * 6))=\"\",NA(),(OFFSET(結果貼付け用!$H$2, 0, (COLUMN() - COLUMN($D$20)) * 6)))","v":{"$error":"#N/A"}},{"$f":"IF((OFFSET(結果貼付け用!$H$2, 0, (COLUMN() - COLUMN($D$20)) * 6))=\"\",NA(),(OFFSET(結果貼付け用!$H$2, 0, (COLUMN() - COLUMN($D$20)) * 6)))","v":{"$error":"#N/A"}},{"$f":"IF((OFFSET(結果貼付け用!$H$2, 0, (COLUMN() - COLUMN($D$20)) * 6))=\"\",NA(),(OFFSET(結果貼付け用!$H$2, 0, (COLUMN() - COLUMN($D$20)) * 6)))","v":{"$error":"#N/A"}},{"$f":"IF((OFFSET(結果貼付け用!$H$2, 0, (COLUMN() - COLUMN($D$20)) * 6))=\"\",NA(),(OFFSET(結果貼付け用!$H$2, 0, (COLUMN() - COLUMN($D$20)) * 6)))","v":{"$error":"#N/A"}},{"$f":"IF((OFFSET(結果貼付け用!$H$2, 0, (COLUMN() - COLUMN($D$20)) * 6))=\"\",NA(),(OFFSET(結果貼付け用!$H$2, 0, (COLUMN() - COLUMN($D$20)) * 6)))","v":{"$error":"#N/A"}},{"$f":"IF((OFFSET(結果貼付け用!$H$2, 0, (COLUMN() - COLUMN($D$20)) * 6))=\"\",NA(),(OFFSET(結果貼付け用!$H$2, 0, (COLUMN() - COLUMN($D$20)) * 6)))","v":{"$error":"#N/A"}},{"$f":"IF((OFFSET(結果貼付け用!$H$2, 0, (COLUMN() - COLUMN($D$20)) * 6))=\"\",NA(),(OFFSET(結果貼付け用!$H$2, 0, (COLUMN() - COLUMN($D$20)) * 6)))","v":{"$error":"#N/A"}},{"$f":"IF((OFFSET(結果貼付け用!$H$2, 0, (COLUMN() - COLUMN($D$20)) * 6))=\"\",NA(),(OFFSET(結果貼付け用!$H$2, 0, (COLUMN() - COLUMN($D$20)) * 6)))","v":{"$error":"#N/A"}},{"$f":"IF((OFFSET(結果貼付け用!$H$2, 0, (COLUMN() - COLUMN($D$20)) * 6))=\"\",NA(),(OFFSET(結果貼付け用!$H$2, 0, (COLUMN() - COLUMN($D$20)) * 6)))","v":{"$error":"#N/A"}},{"$f":"IF((OFFSET(結果貼付け用!$H$2, 0, (COLUMN() - COLUMN($D$20)) * 6))=\"\",NA(),(OFFSET(結果貼付け用!$H$2, 0, (COLUMN() - COLUMN($D$20)) * 6)))","v":{"$error":"#N/A"}},{"$f":"IF((OFFSET(結果貼付け用!$H$2, 0, (COLUMN() - COLUMN($D$20)) * 6))=\"\",NA(),(OFFSET(結果貼付け用!$H$2, 0, (COLUMN() - COLUMN($D$20)) * 6)))","v":{"$error":"#N/A"}},{"$f":"IF((OFFSET(結果貼付け用!$H$2, 0, (COLUMN() - COLUMN($D$20)) * 6))=\"\",NA(),(OFFSET(結果貼付け用!$H$2, 0, (COLUMN() - COLUMN($D$20)) * 6)))","v":{"$error":"#N/A"}}]
[null,"個人要因",{"$f":"IF(OR(OFFSET(結果貼付け用!$F42,0,(COLUMN()-3)*6,1,1)=\"-\",OFFSET(結果貼付け用!$F42,0,(COLUMN()-3)*6,1,1)=\"\"),NA(),(OFFSET(結果貼付け用!$F42,0,(COLUMN()-3)*6,1,1)))","v":{"$error":"#N/A"}},{"$f":"IF(OR(OFFSET(結果貼付け用!$F42,0,(COLUMN()-3)*6,1,1)=\"-\",OFFSET(結果貼付け用!$F42,0,(COLUMN()-3)*6,1,1)=\"\"),NA(),(OFFSET(結果貼付け用!$F42,0,(COLUMN()-3)*6,1,1)))","v":{"$error":"#N/A"}},{"$f":"IF(OR(OFFSET(結果貼付け用!$F42,0,(COLUMN()-3)*6,1,1)=\"-\",OFFSET(結果貼付け用!$F42,0,(COLUMN()-3)*6,1,1)=\"\"),NA(),(OFFSET(結果貼付け用!$F42,0,(COLUMN()-3)*6,1,1)))","v":{"$error":"#N/A"}},{"$f":"IF(OR(OFFSET(結果貼付け用!$F42,0,(COLUMN()-3)*6,1,1)=\"-\",OFFSET(結果貼付け用!$F42,0,(COLUMN()-3)*6,1,1)=\"\"),NA(),(OFFSET(結果貼付け用!$F42,0,(COLUMN()-3)*6,1,1)))","v":{"$error":"#N/A"}},{"$f":"IF(OR(OFFSET(結果貼付け用!$F42,0,(COLUMN()-3)*6,1,1)=\"-\",OFFSET(結果貼付け用!$F42,0,(COLUMN()-3)*6,1,1)=\"\"),NA(),(OFFSET(結果貼付け用!$F42,0,(COLUMN()-3)*6,1,1)))","v":{"$error":"#N/A"}},{"$f":"IF(OR(OFFSET(結果貼付け用!$F42,0,(COLUMN()-3)*6,1,1)=\"-\",OFFSET(結果貼付け用!$F42,0,(COLUMN()-3)*6,1,1)=\"\"),NA(),(OFFSET(結果貼付け用!$F42,0,(COLUMN()-3)*6,1,1)))","v":{"$error":"#N/A"}},{"$f":"IF(OR(OFFSET(結果貼付け用!$F42,0,(COLUMN()-3)*6,1,1)=\"-\",OFFSET(結果貼付け用!$F42,0,(COLUMN()-3)*6,1,1)=\"\"),NA(),(OFFSET(結果貼付け用!$F42,0,(COLUMN()-3)*6,1,1)))","v":{"$error":"#N/A"}},{"$f":"IF(OR(OFFSET(結果貼付け用!$F42,0,(COLUMN()-3)*6,1,1)=\"-\",OFFSET(結果貼付け用!$F42,0,(COLUMN()-3)*6,1,1)=\"\"),NA(),(OFFSET(結果貼付け用!$F42,0,(COLUMN()-3)*6,1,1)))","v":{"$error":"#N/A"}},{"$f":"IF(OR(OFFSET(結果貼付け用!$F42,0,(COLUMN()-3)*6,1,1)=\"-\",OFFSET(結果貼付け用!$F42,0,(COLUMN()-3)*6,1,1)=\"\"),NA(),(OFFSET(結果貼付け用!$F42,0,(COLUMN()-3)*6,1,1)))","v":{"$error":"#N/A"}},{"$f":"IF(OR(OFFSET(結果貼付け用!$F42,0,(COLUMN()-3)*6,1,1)=\"-\",OFFSET(結果貼付け用!$F42,0,(COLUMN()-3)*6,1,1)=\"\"),NA(),(OFFSET(結果貼付け用!$F42,0,(COLUMN()-3)*6,1,1)))","v":{"$error":"#N/A"}},{"$f":"IF(OR(OFFSET(結果貼付け用!$F42,0,(COLUMN()-3)*6,1,1)=\"-\",OFFSET(結果貼付け用!$F42,0,(COLUMN()-3)*6,1,1)=\"\"),NA(),(OFFSET(結果貼付け用!$F42,0,(COLUMN()-3)*6,1,1)))","v":{"$error":"#N/A"}},{"$f":"IF(OR(OFFSET(結果貼付け用!$F42,0,(COLUMN()-3)*6,1,1)=\"-\",OFFSET(結果貼付け用!$F42,0,(COLUMN()-3)*6,1,1)=\"\"),NA(),(OFFSET(結果貼付け用!$F42,0,(COLUMN()-3)*6,1,1)))","v":{"$error":"#N/A"}},{"$f":"IF(OR(OFFSET(結果貼付け用!$F42,0,(COLUMN()-3)*6,1,1)=\"-\",OFFSET(結果貼付け用!$F42,0,(COLUMN()-3)*6,1,1)=\"\"),NA(),(OFFSET(結果貼付け用!$F42,0,(COLUMN()-3)*6,1,1)))","v":{"$error":"#N/A"}},{"$f":"IF(OR(OFFSET(結果貼付け用!$F42,0,(COLUMN()-3)*6,1,1)=\"-\",OFFSET(結果貼付け用!$F42,0,(COLUMN()-3)*6,1,1)=\"\"),NA(),(OFFSET(結果貼付け用!$F42,0,(COLUMN()-3)*6,1,1)))","v":{"$error":"#N/A"}},{"$f":"IF(OR(OFFSET(結果貼付け用!$F42,0,(COLUMN()-3)*6,1,1)=\"-\",OFFSET(結果貼付け用!$F42,0,(COLUMN()-3)*6,1,1)=\"\"),NA(),(OFFSET(結果貼付け用!$F42,0,(COLUMN()-3)*6,1,1)))","v":{"$error":"#N/A"}},{"$f":"IF(OR(OFFSET(結果貼付け用!$F42,0,(COLUMN()-3)*6,1,1)=\"-\",OFFSET(結果貼付け用!$F42,0,(COLUMN()-3)*6,1,1)=\"\"),NA(),(OFFSET(結果貼付け用!$F42,0,(COLUMN()-3)*6,1,1)))","v":{"$error":"#N/A"}},{"$f":"IF(OR(OFFSET(結果貼付け用!$F42,0,(COLUMN()-3)*6,1,1)=\"-\",OFFSET(結果貼付け用!$F42,0,(COLUMN()-3)*6,1,1)=\"\"),NA(),(OFFSET(結果貼付け用!$F42,0,(COLUMN()-3)*6,1,1)))","v":{"$error":"#N/A"}},{"$f":"IF(OR(OFFSET(結果貼付け用!$F42,0,(COLUMN()-3)*6,1,1)=\"-\",OFFSET(結果貼付け用!$F42,0,(COLUMN()-3)*6,1,1)=\"\"),NA(),(OFFSET(結果貼付け用!$F42,0,(COLUMN()-3)*6,1,1)))","v":{"$error":"#N/A"}},{"$f":"IF(OR(OFFSET(結果貼付け用!$F42,0,(COLUMN()-3)*6,1,1)=\"-\",OFFSET(結果貼付け用!$F42,0,(COLUMN()-3)*6,1,1)=\"\"),NA(),(OFFSET(結果貼付け用!$F42,0,(COLUMN()-3)*6,1,1)))","v":{"$error":"#N/A"}},{"$f":"IF(OR(OFFSET(結果貼付け用!$F42,0,(COLUMN()-3)*6,1,1)=\"-\",OFFSET(結果貼付け用!$F42,0,(COLUMN()-3)*6,1,1)=\"\"),NA(),(OFFSET(結果貼付け用!$F42,0,(COLUMN()-3)*6,1,1)))","v":{"$error":"#N/A"}},{"$f":"IF(OR(OFFSET(結果貼付け用!$F42,0,(COLUMN()-3)*6,1,1)=\"-\",OFFSET(結果貼付け用!$F42,0,(COLUMN()-3)*6,1,1)=\"\"),NA(),(OFFSET(結果貼付け用!$F42,0,(COLUMN()-3)*6,1,1)))","v":{"$error":"#N/A"}},{"$f":"IF(OR(OFFSET(結果貼付け用!$F42,0,(COLUMN()-3)*6,1,1)=\"-\",OFFSET(結果貼付け用!$F42,0,(COLUMN()-3)*6,1,1)=\"\"),NA(),(OFFSET(結果貼付け用!$F42,0,(COLUMN()-3)*6,1,1)))","v":{"$error":"#N/A"}},{"$f":"IF(OR(OFFSET(結果貼付け用!$F42,0,(COLUMN()-3)*6,1,1)=\"-\",OFFSET(結果貼付け用!$F42,0,(COLUMN()-3)*6,1,1)=\"\"),NA(),(OFFSET(結果貼付け用!$F42,0,(COLUMN()-3)*6,1,1)))","v":{"$error":"#N/A"}},{"$f":"IF(OR(OFFSET(結果貼付け用!$F42,0,(COLUMN()-3)*6,1,1)=\"-\",OFFSET(結果貼付け用!$F42,0,(COLUMN()-3)*6,1,1)=\"\"),NA(),(OFFSET(結果貼付け用!$F42,0,(COLUMN()-3)*6,1,1)))","v":{"$error":"#N/A"}},{"$f":"IF(OR(OFFSET(結果貼付け用!$F42,0,(COLUMN()-3)*6,1,1)=\"-\",OFFSET(結果貼付け用!$F42,0,(COLUMN()-3)*6,1,1)=\"\"),NA(),(OFFSET(結果貼付け用!$F42,0,(COLUMN()-3)*6,1,1)))","v":{"$error":"#N/A"}},{"$f":"IF(OR(OFFSET(結果貼付け用!$F42,0,(COLUMN()-3)*6,1,1)=\"-\",OFFSET(結果貼付け用!$F42,0,(COLUMN()-3)*6,1,1)=\"\"),NA(),(OFFSET(結果貼付け用!$F42,0,(COLUMN()-3)*6,1,1)))","v":{"$error":"#N/A"}},{"$f":"IF(OR(OFFSET(結果貼付け用!$F42,0,(COLUMN()-3)*6,1,1)=\"-\",OFFSET(結果貼付け用!$F42,0,(COLUMN()-3)*6,1,1)=\"\"),NA(),(OFFSET(結果貼付け用!$F42,0,(COLUMN()-3)*6,1,1)))","v":{"$error":"#N/A"}},{"$f":"IF(OR(OFFSET(結果貼付け用!$F42,0,(COLUMN()-3)*6,1,1)=\"-\",OFFSET(結果貼付け用!$F42,0,(COLUMN()-3)*6,1,1)=\"\"),NA(),(OFFSET(結果貼付け用!$F42,0,(COLUMN()-3)*6,1,1)))","v":{"$error":"#N/A"}},{"$f":"IF(OR(OFFSET(結果貼付け用!$F42,0,(COLUMN()-3)*6,1,1)=\"-\",OFFSET(結果貼付け用!$F42,0,(COLUMN()-3)*6,1,1)=\"\"),NA(),(OFFSET(結果貼付け用!$F42,0,(COLUMN()-3)*6,1,1)))","v":{"$error":"#N/A"}},{"$f":"IF(OR(OFFSET(結果貼付け用!$F42,0,(COLUMN()-3)*6,1,1)=\"-\",OFFSET(結果貼付け用!$F42,0,(COLUMN()-3)*6,1,1)=\"\"),NA(),(OFFSET(結果貼付け用!$F42,0,(COLUMN()-3)*6,1,1)))","v":{"$error":"#N/A"}}]
[null,"組織市民行動",{"$f":"IF(OR(OFFSET(結果貼付け用!$F43,0,(COLUMN()-3)*6,1,1)=\"-\",OFFSET(結果貼付け用!$F43,0,(COLUMN()-3)*6,1,1)=\"\"),NA(),(OFFSET(結果貼付け用!$F43,0,(COLUMN()-3)*6,1,1)))","v":{"$error":"#N/A"}},{"$f":"IF(OR(OFFSET(結果貼付け用!$F43,0,(COLUMN()-3)*6,1,1)=\"-\",OFFSET(結果貼付け用!$F43,0,(COLUMN()-3)*6,1,1)=\"\"),NA(),(OFFSET(結果貼付け用!$F43,0,(COLUMN()-3)*6,1,1)))","v":{"$error":"#N/A"}},{"$f":"IF(OR(OFFSET(結果貼付け用!$F43,0,(COLUMN()-3)*6,1,1)=\"-\",OFFSET(結果貼付け用!$F43,0,(COLUMN()-3)*6,1,1)=\"\"),NA(),(OFFSET(結果貼付け用!$F43,0,(COLUMN()-3)*6,1,1)))","v":{"$error":"#N/A"}},{"$f":"IF(OR(OFFSET(結果貼付け用!$F43,0,(COLUMN()-3)*6,1,1)=\"-\",OFFSET(結果貼付け用!$F43,0,(COLUMN()-3)*6,1,1)=\"\"),NA(),(OFFSET(結果貼付け用!$F43,0,(COLUMN()-3)*6,1,1)))","v":{"$error":"#N/A"}},{"$f":"IF(OR(OFFSET(結果貼付け用!$F43,0,(COLUMN()-3)*6,1,1)=\"-\",OFFSET(結果貼付け用!$F43,0,(COLUMN()-3)*6,1,1)=\"\"),NA(),(OFFSET(結果貼付け用!$F43,0,(COLUMN()-3)*6,1,1)))","v":{"$error":"#N/A"}},{"$f":"IF(OR(OFFSET(結果貼付け用!$F43,0,(COLUMN()-3)*6,1,1)=\"-\",OFFSET(結果貼付け用!$F43,0,(COLUMN()-3)*6,1,1)=\"\"),NA(),(OFFSET(結果貼付け用!$F43,0,(COLUMN()-3)*6,1,1)))","v":{"$error":"#N/A"}},{"$f":"IF(OR(OFFSET(結果貼付け用!$F43,0,(COLUMN()-3)*6,1,1)=\"-\",OFFSET(結果貼付け用!$F43,0,(COLUMN()-3)*6,1,1)=\"\"),NA(),(OFFSET(結果貼付け用!$F43,0,(COLUMN()-3)*6,1,1)))","v":{"$error":"#N/A"}},{"$f":"IF(OR(OFFSET(結果貼付け用!$F43,0,(COLUMN()-3)*6,1,1)=\"-\",OFFSET(結果貼付け用!$F43,0,(COLUMN()-3)*6,1,1)=\"\"),NA(),(OFFSET(結果貼付け用!$F43,0,(COLUMN()-3)*6,1,1)))","v":{"$error":"#N/A"}},{"$f":"IF(OR(OFFSET(結果貼付け用!$F43,0,(COLUMN()-3)*6,1,1)=\"-\",OFFSET(結果貼付け用!$F43,0,(COLUMN()-3)*6,1,1)=\"\"),NA(),(OFFSET(結果貼付け用!$F43,0,(COLUMN()-3)*6,1,1)))","v":{"$error":"#N/A"}},{"$f":"IF(OR(OFFSET(結果貼付け用!$F43,0,(COLUMN()-3)*6,1,1)=\"-\",OFFSET(結果貼付け用!$F43,0,(COLUMN()-3)*6,1,1)=\"\"),NA(),(OFFSET(結果貼付け用!$F43,0,(COLUMN()-3)*6,1,1)))","v":{"$error":"#N/A"}},{"$f":"IF(OR(OFFSET(結果貼付け用!$F43,0,(COLUMN()-3)*6,1,1)=\"-\",OFFSET(結果貼付け用!$F43,0,(COLUMN()-3)*6,1,1)=\"\"),NA(),(OFFSET(結果貼付け用!$F43,0,(COLUMN()-3)*6,1,1)))","v":{"$error":"#N/A"}},{"$f":"IF(OR(OFFSET(結果貼付け用!$F43,0,(COLUMN()-3)*6,1,1)=\"-\",OFFSET(結果貼付け用!$F43,0,(COLUMN()-3)*6,1,1)=\"\"),NA(),(OFFSET(結果貼付け用!$F43,0,(COLUMN()-3)*6,1,1)))","v":{"$error":"#N/A"}},{"$f":"IF(OR(OFFSET(結果貼付け用!$F43,0,(COLUMN()-3)*6,1,1)=\"-\",OFFSET(結果貼付け用!$F43,0,(COLUMN()-3)*6,1,1)=\"\"),NA(),(OFFSET(結果貼付け用!$F43,0,(COLUMN()-3)*6,1,1)))","v":{"$error":"#N/A"}},{"$f":"IF(OR(OFFSET(結果貼付け用!$F43,0,(COLUMN()-3)*6,1,1)=\"-\",OFFSET(結果貼付け用!$F43,0,(COLUMN()-3)*6,1,1)=\"\"),NA(),(OFFSET(結果貼付け用!$F43,0,(COLUMN()-3)*6,1,1)))","v":{"$error":"#N/A"}},{"$f":"IF(OR(OFFSET(結果貼付け用!$F43,0,(COLUMN()-3)*6,1,1)=\"-\",OFFSET(結果貼付け用!$F43,0,(COLUMN()-3)*6,1,1)=\"\"),NA(),(OFFSET(結果貼付け用!$F43,0,(COLUMN()-3)*6,1,1)))","v":{"$error":"#N/A"}},{"$f":"IF(OR(OFFSET(結果貼付け用!$F43,0,(COLUMN()-3)*6,1,1)=\"-\",OFFSET(結果貼付け用!$F43,0,(COLUMN()-3)*6,1,1)=\"\"),NA(),(OFFSET(結果貼付け用!$F43,0,(COLUMN()-3)*6,1,1)))","v":{"$error":"#N/A"}},{"$f":"IF(OR(OFFSET(結果貼付け用!$F43,0,(COLUMN()-3)*6,1,1)=\"-\",OFFSET(結果貼付け用!$F43,0,(COLUMN()-3)*6,1,1)=\"\"),NA(),(OFFSET(結果貼付け用!$F43,0,(COLUMN()-3)*6,1,1)))","v":{"$error":"#N/A"}},{"$f":"IF(OR(OFFSET(結果貼付け用!$F43,0,(COLUMN()-3)*6,1,1)=\"-\",OFFSET(結果貼付け用!$F43,0,(COLUMN()-3)*6,1,1)=\"\"),NA(),(OFFSET(結果貼付け用!$F43,0,(COLUMN()-3)*6,1,1)))","v":{"$error":"#N/A"}},{"$f":"IF(OR(OFFSET(結果貼付け用!$F43,0,(COLUMN()-3)*6,1,1)=\"-\",OFFSET(結果貼付け用!$F43,0,(COLUMN()-3)*6,1,1)=\"\"),NA(),(OFFSET(結果貼付け用!$F43,0,(COLUMN()-3)*6,1,1)))","v":{"$error":"#N/A"}},{"$f":"IF(OR(OFFSET(結果貼付け用!$F43,0,(COLUMN()-3)*6,1,1)=\"-\",OFFSET(結果貼付け用!$F43,0,(COLUMN()-3)*6,1,1)=\"\"),NA(),(OFFSET(結果貼付け用!$F43,0,(COLUMN()-3)*6,1,1)))","v":{"$error":"#N/A"}},{"$f":"IF(OR(OFFSET(結果貼付け用!$F43,0,(COLUMN()-3)*6,1,1)=\"-\",OFFSET(結果貼付け用!$F43,0,(COLUMN()-3)*6,1,1)=\"\"),NA(),(OFFSET(結果貼付け用!$F43,0,(COLUMN()-3)*6,1,1)))","v":{"$error":"#N/A"}},{"$f":"IF(OR(OFFSET(結果貼付け用!$F43,0,(COLUMN()-3)*6,1,1)=\"-\",OFFSET(結果貼付け用!$F43,0,(COLUMN()-3)*6,1,1)=\"\"),NA(),(OFFSET(結果貼付け用!$F43,0,(COLUMN()-3)*6,1,1)))","v":{"$error":"#N/A"}},{"$f":"IF(OR(OFFSET(結果貼付け用!$F43,0,(COLUMN()-3)*6,1,1)=\"-\",OFFSET(結果貼付け用!$F43,0,(COLUMN()-3)*6,1,1)=\"\"),NA(),(OFFSET(結果貼付け用!$F43,0,(COLUMN()-3)*6,1,1)))","v":{"$error":"#N/A"}},{"$f":"IF(OR(OFFSET(結果貼付け用!$F43,0,(COLUMN()-3)*6,1,1)=\"-\",OFFSET(結果貼付け用!$F43,0,(COLUMN()-3)*6,1,1)=\"\"),NA(),(OFFSET(結果貼付け用!$F43,0,(COLUMN()-3)*6,1,1)))","v":{"$error":"#N/A"}},{"$f":"IF(OR(OFFSET(結果貼付け用!$F43,0,(COLUMN()-3)*6,1,1)=\"-\",OFFSET(結果貼付け用!$F43,0,(COLUMN()-3)*6,1,1)=\"\"),NA(),(OFFSET(結果貼付け用!$F43,0,(COLUMN()-3)*6,1,1)))","v":{"$error":"#N/A"}},{"$f":"IF(OR(OFFSET(結果貼付け用!$F43,0,(COLUMN()-3)*6,1,1)=\"-\",OFFSET(結果貼付け用!$F43,0,(COLUMN()-3)*6,1,1)=\"\"),NA(),(OFFSET(結果貼付け用!$F43,0,(COLUMN()-3)*6,1,1)))","v":{"$error":"#N/A"}},{"$f":"IF(OR(OFFSET(結果貼付け用!$F43,0,(COLUMN()-3)*6,1,1)=\"-\",OFFSET(結果貼付け用!$F43,0,(COLUMN()-3)*6,1,1)=\"\"),NA(),(OFFSET(結果貼付け用!$F43,0,(COLUMN()-3)*6,1,1)))","v":{"$error":"#N/A"}},{"$f":"IF(OR(OFFSET(結果貼付け用!$F43,0,(COLUMN()-3)*6,1,1)=\"-\",OFFSET(結果貼付け用!$F43,0,(COLUMN()-3)*6,1,1)=\"\"),NA(),(OFFSET(結果貼付け用!$F43,0,(COLUMN()-3)*6,1,1)))","v":{"$error":"#N/A"}},{"$f":"IF(OR(OFFSET(結果貼付け用!$F43,0,(COLUMN()-3)*6,1,1)=\"-\",OFFSET(結果貼付け用!$F43,0,(COLUMN()-3)*6,1,1)=\"\"),NA(),(OFFSET(結果貼付け用!$F43,0,(COLUMN()-3)*6,1,1)))","v":{"$error":"#N/A"}},{"$f":"IF(OR(OFFSET(結果貼付け用!$F43,0,(COLUMN()-3)*6,1,1)=\"-\",OFFSET(結果貼付け用!$F43,0,(COLUMN()-3)*6,1,1)=\"\"),NA(),(OFFSET(結果貼付け用!$F43,0,(COLUMN()-3)*6,1,1)))","v":{"$error":"#N/A"}}]
[null,"改善提案行動",{"$f":"IF(OR(OFFSET(結果貼付け用!$F44,0,(COLUMN()-3)*6,1,1)=\"-\",OFFSET(結果貼付け用!$F44,0,(COLUMN()-3)*6,1,1)=\"\"),NA(),(OFFSET(結果貼付け用!$F44,0,(COLUMN()-3)*6,1,1)))","v":{"$error":"#N/A"}},{"$f":"IF(OR(OFFSET(結果貼付け用!$F44,0,(COLUMN()-3)*6,1,1)=\"-\",OFFSET(結果貼付け用!$F44,0,(COLUMN()-3)*6,1,1)=\"\"),NA(),(OFFSET(結果貼付け用!$F44,0,(COLUMN()-3)*6,1,1)))","v":{"$error":"#N/A"}},{"$f":"IF(OR(OFFSET(結果貼付け用!$F44,0,(COLUMN()-3)*6,1,1)=\"-\",OFFSET(結果貼付け用!$F44,0,(COLUMN()-3)*6,1,1)=\"\"),NA(),(OFFSET(結果貼付け用!$F44,0,(COLUMN()-3)*6,1,1)))","v":{"$error":"#N/A"}},{"$f":"IF(OR(OFFSET(結果貼付け用!$F44,0,(COLUMN()-3)*6,1,1)=\"-\",OFFSET(結果貼付け用!$F44,0,(COLUMN()-3)*6,1,1)=\"\"),NA(),(OFFSET(結果貼付け用!$F44,0,(COLUMN()-3)*6,1,1)))","v":{"$error":"#N/A"}},{"$f":"IF(OR(OFFSET(結果貼付け用!$F44,0,(COLUMN()-3)*6,1,1)=\"-\",OFFSET(結果貼付け用!$F44,0,(COLUMN()-3)*6,1,1)=\"\"),NA(),(OFFSET(結果貼付け用!$F44,0,(COLUMN()-3)*6,1,1)))","v":{"$error":"#N/A"}},{"$f":"IF(OR(OFFSET(結果貼付け用!$F44,0,(COLUMN()-3)*6,1,1)=\"-\",OFFSET(結果貼付け用!$F44,0,(COLUMN()-3)*6,1,1)=\"\"),NA(),(OFFSET(結果貼付け用!$F44,0,(COLUMN()-3)*6,1,1)))","v":{"$error":"#N/A"}},{"$f":"IF(OR(OFFSET(結果貼付け用!$F44,0,(COLUMN()-3)*6,1,1)=\"-\",OFFSET(結果貼付け用!$F44,0,(COLUMN()-3)*6,1,1)=\"\"),NA(),(OFFSET(結果貼付け用!$F44,0,(COLUMN()-3)*6,1,1)))","v":{"$error":"#N/A"}},{"$f":"IF(OR(OFFSET(結果貼付け用!$F44,0,(COLUMN()-3)*6,1,1)=\"-\",OFFSET(結果貼付け用!$F44,0,(COLUMN()-3)*6,1,1)=\"\"),NA(),(OFFSET(結果貼付け用!$F44,0,(COLUMN()-3)*6,1,1)))","v":{"$error":"#N/A"}},{"$f":"IF(OR(OFFSET(結果貼付け用!$F44,0,(COLUMN()-3)*6,1,1)=\"-\",OFFSET(結果貼付け用!$F44,0,(COLUMN()-3)*6,1,1)=\"\"),NA(),(OFFSET(結果貼付け用!$F44,0,(COLUMN()-3)*6,1,1)))","v":{"$error":"#N/A"}},{"$f":"IF(OR(OFFSET(結果貼付け用!$F44,0,(COLUMN()-3)*6,1,1)=\"-\",OFFSET(結果貼付け用!$F44,0,(COLUMN()-3)*6,1,1)=\"\"),NA(),(OFFSET(結果貼付け用!$F44,0,(COLUMN()-3)*6,1,1)))","v":{"$error":"#N/A"}},{"$f":"IF(OR(OFFSET(結果貼付け用!$F44,0,(COLUMN()-3)*6,1,1)=\"-\",OFFSET(結果貼付け用!$F44,0,(COLUMN()-3)*6,1,1)=\"\"),NA(),(OFFSET(結果貼付け用!$F44,0,(COLUMN()-3)*6,1,1)))","v":{"$error":"#N/A"}},{"$f":"IF(OR(OFFSET(結果貼付け用!$F44,0,(COLUMN()-3)*6,1,1)=\"-\",OFFSET(結果貼付け用!$F44,0,(COLUMN()-3)*6,1,1)=\"\"),NA(),(OFFSET(結果貼付け用!$F44,0,(COLUMN()-3)*6,1,1)))","v":{"$error":"#N/A"}},{"$f":"IF(OR(OFFSET(結果貼付け用!$F44,0,(COLUMN()-3)*6,1,1)=\"-\",OFFSET(結果貼付け用!$F44,0,(COLUMN()-3)*6,1,1)=\"\"),NA(),(OFFSET(結果貼付け用!$F44,0,(COLUMN()-3)*6,1,1)))","v":{"$error":"#N/A"}},{"$f":"IF(OR(OFFSET(結果貼付け用!$F44,0,(COLUMN()-3)*6,1,1)=\"-\",OFFSET(結果貼付け用!$F44,0,(COLUMN()-3)*6,1,1)=\"\"),NA(),(OFFSET(結果貼付け用!$F44,0,(COLUMN()-3)*6,1,1)))","v":{"$error":"#N/A"}},{"$f":"IF(OR(OFFSET(結果貼付け用!$F44,0,(COLUMN()-3)*6,1,1)=\"-\",OFFSET(結果貼付け用!$F44,0,(COLUMN()-3)*6,1,1)=\"\"),NA(),(OFFSET(結果貼付け用!$F44,0,(COLUMN()-3)*6,1,1)))","v":{"$error":"#N/A"}},{"$f":"IF(OR(OFFSET(結果貼付け用!$F44,0,(COLUMN()-3)*6,1,1)=\"-\",OFFSET(結果貼付け用!$F44,0,(COLUMN()-3)*6,1,1)=\"\"),NA(),(OFFSET(結果貼付け用!$F44,0,(COLUMN()-3)*6,1,1)))","v":{"$error":"#N/A"}},{"$f":"IF(OR(OFFSET(結果貼付け用!$F44,0,(COLUMN()-3)*6,1,1)=\"-\",OFFSET(結果貼付け用!$F44,0,(COLUMN()-3)*6,1,1)=\"\"),NA(),(OFFSET(結果貼付け用!$F44,0,(COLUMN()-3)*6,1,1)))","v":{"$error":"#N/A"}},{"$f":"IF(OR(OFFSET(結果貼付け用!$F44,0,(COLUMN()-3)*6,1,1)=\"-\",OFFSET(結果貼付け用!$F44,0,(COLUMN()-3)*6,1,1)=\"\"),NA(),(OFFSET(結果貼付け用!$F44,0,(COLUMN()-3)*6,1,1)))","v":{"$error":"#N/A"}},{"$f":"IF(OR(OFFSET(結果貼付け用!$F44,0,(COLUMN()-3)*6,1,1)=\"-\",OFFSET(結果貼付け用!$F44,0,(COLUMN()-3)*6,1,1)=\"\"),NA(),(OFFSET(結果貼付け用!$F44,0,(COLUMN()-3)*6,1,1)))","v":{"$error":"#N/A"}},{"$f":"IF(OR(OFFSET(結果貼付け用!$F44,0,(COLUMN()-3)*6,1,1)=\"-\",OFFSET(結果貼付け用!$F44,0,(COLUMN()-3)*6,1,1)=\"\"),NA(),(OFFSET(結果貼付け用!$F44,0,(COLUMN()-3)*6,1,1)))","v":{"$error":"#N/A"}},{"$f":"IF(OR(OFFSET(結果貼付け用!$F44,0,(COLUMN()-3)*6,1,1)=\"-\",OFFSET(結果貼付け用!$F44,0,(COLUMN()-3)*6,1,1)=\"\"),NA(),(OFFSET(結果貼付け用!$F44,0,(COLUMN()-3)*6,1,1)))","v":{"$error":"#N/A"}},{"$f":"IF(OR(OFFSET(結果貼付け用!$F44,0,(COLUMN()-3)*6,1,1)=\"-\",OFFSET(結果貼付け用!$F44,0,(COLUMN()-3)*6,1,1)=\"\"),NA(),(OFFSET(結果貼付け用!$F44,0,(COLUMN()-3)*6,1,1)))","v":{"$error":"#N/A"}},{"$f":"IF(OR(OFFSET(結果貼付け用!$F44,0,(COLUMN()-3)*6,1,1)=\"-\",OFFSET(結果貼付け用!$F44,0,(COLUMN()-3)*6,1,1)=\"\"),NA(),(OFFSET(結果貼付け用!$F44,0,(COLUMN()-3)*6,1,1)))","v":{"$error":"#N/A"}},{"$f":"IF(OR(OFFSET(結果貼付け用!$F44,0,(COLUMN()-3)*6,1,1)=\"-\",OFFSET(結果貼付け用!$F44,0,(COLUMN()-3)*6,1,1)=\"\"),NA(),(OFFSET(結果貼付け用!$F44,0,(COLUMN()-3)*6,1,1)))","v":{"$error":"#N/A"}},{"$f":"IF(OR(OFFSET(結果貼付け用!$F44,0,(COLUMN()-3)*6,1,1)=\"-\",OFFSET(結果貼付け用!$F44,0,(COLUMN()-3)*6,1,1)=\"\"),NA(),(OFFSET(結果貼付け用!$F44,0,(COLUMN()-3)*6,1,1)))","v":{"$error":"#N/A"}},{"$f":"IF(OR(OFFSET(結果貼付け用!$F44,0,(COLUMN()-3)*6,1,1)=\"-\",OFFSET(結果貼付け用!$F44,0,(COLUMN()-3)*6,1,1)=\"\"),NA(),(OFFSET(結果貼付け用!$F44,0,(COLUMN()-3)*6,1,1)))","v":{"$error":"#N/A"}},{"$f":"IF(OR(OFFSET(結果貼付け用!$F44,0,(COLUMN()-3)*6,1,1)=\"-\",OFFSET(結果貼付け用!$F44,0,(COLUMN()-3)*6,1,1)=\"\"),NA(),(OFFSET(結果貼付け用!$F44,0,(COLUMN()-3)*6,1,1)))","v":{"$error":"#N/A"}},{"$f":"IF(OR(OFFSET(結果貼付け用!$F44,0,(COLUMN()-3)*6,1,1)=\"-\",OFFSET(結果貼付け用!$F44,0,(COLUMN()-3)*6,1,1)=\"\"),NA(),(OFFSET(結果貼付け用!$F44,0,(COLUMN()-3)*6,1,1)))","v":{"$error":"#N/A"}},{"$f":"IF(OR(OFFSET(結果貼付け用!$F44,0,(COLUMN()-3)*6,1,1)=\"-\",OFFSET(結果貼付け用!$F44,0,(COLUMN()-3)*6,1,1)=\"\"),NA(),(OFFSET(結果貼付け用!$F44,0,(COLUMN()-3)*6,1,1)))","v":{"$error":"#N/A"}},{"$f":"IF(OR(OFFSET(結果貼付け用!$F44,0,(COLUMN()-3)*6,1,1)=\"-\",OFFSET(結果貼付け用!$F44,0,(COLUMN()-3)*6,1,1)=\"\"),NA(),(OFFSET(結果貼付け用!$F44,0,(COLUMN()-3)*6,1,1)))","v":{"$error":"#N/A"}}]
[null,"セルフ・エフィカシー",{"$f":"IF(OR(OFFSET(結果貼付け用!$F45,0,(COLUMN()-3)*6,1,1)=\"-\",OFFSET(結果貼付け用!$F45,0,(COLUMN()-3)*6,1,1)=\"\"),NA(),(OFFSET(結果貼付け用!$F45,0,(COLUMN()-3)*6,1,1)))","v":{"$error":"#N/A"}},{"$f":"IF(OR(OFFSET(結果貼付け用!$F45,0,(COLUMN()-3)*6,1,1)=\"-\",OFFSET(結果貼付け用!$F45,0,(COLUMN()-3)*6,1,1)=\"\"),NA(),(OFFSET(結果貼付け用!$F45,0,(COLUMN()-3)*6,1,1)))","v":{"$error":"#N/A"}},{"$f":"IF(OR(OFFSET(結果貼付け用!$F45,0,(COLUMN()-3)*6,1,1)=\"-\",OFFSET(結果貼付け用!$F45,0,(COLUMN()-3)*6,1,1)=\"\"),NA(),(OFFSET(結果貼付け用!$F45,0,(COLUMN()-3)*6,1,1)))","v":{"$error":"#N/A"}},{"$f":"IF(OR(OFFSET(結果貼付け用!$F45,0,(COLUMN()-3)*6,1,1)=\"-\",OFFSET(結果貼付け用!$F45,0,(COLUMN()-3)*6,1,1)=\"\"),NA(),(OFFSET(結果貼付け用!$F45,0,(COLUMN()-3)*6,1,1)))","v":{"$error":"#N/A"}},{"$f":"IF(OR(OFFSET(結果貼付け用!$F45,0,(COLUMN()-3)*6,1,1)=\"-\",OFFSET(結果貼付け用!$F45,0,(COLUMN()-3)*6,1,1)=\"\"),NA(),(OFFSET(結果貼付け用!$F45,0,(COLUMN()-3)*6,1,1)))","v":{"$error":"#N/A"}},{"$f":"IF(OR(OFFSET(結果貼付け用!$F45,0,(COLUMN()-3)*6,1,1)=\"-\",OFFSET(結果貼付け用!$F45,0,(COLUMN()-3)*6,1,1)=\"\"),NA(),(OFFSET(結果貼付け用!$F45,0,(COLUMN()-3)*6,1,1)))","v":{"$error":"#N/A"}},{"$f":"IF(OR(OFFSET(結果貼付け用!$F45,0,(COLUMN()-3)*6,1,1)=\"-\",OFFSET(結果貼付け用!$F45,0,(COLUMN()-3)*6,1,1)=\"\"),NA(),(OFFSET(結果貼付け用!$F45,0,(COLUMN()-3)*6,1,1)))","v":{"$error":"#N/A"}},{"$f":"IF(OR(OFFSET(結果貼付け用!$F45,0,(COLUMN()-3)*6,1,1)=\"-\",OFFSET(結果貼付け用!$F45,0,(COLUMN()-3)*6,1,1)=\"\"),NA(),(OFFSET(結果貼付け用!$F45,0,(COLUMN()-3)*6,1,1)))","v":{"$error":"#N/A"}},{"$f":"IF(OR(OFFSET(結果貼付け用!$F45,0,(COLUMN()-3)*6,1,1)=\"-\",OFFSET(結果貼付け用!$F45,0,(COLUMN()-3)*6,1,1)=\"\"),NA(),(OFFSET(結果貼付け用!$F45,0,(COLUMN()-3)*6,1,1)))","v":{"$error":"#N/A"}},{"$f":"IF(OR(OFFSET(結果貼付け用!$F45,0,(COLUMN()-3)*6,1,1)=\"-\",OFFSET(結果貼付け用!$F45,0,(COLUMN()-3)*6,1,1)=\"\"),NA(),(OFFSET(結果貼付け用!$F45,0,(COLUMN()-3)*6,1,1)))","v":{"$error":"#N/A"}},{"$f":"IF(OR(OFFSET(結果貼付け用!$F45,0,(COLUMN()-3)*6,1,1)=\"-\",OFFSET(結果貼付け用!$F45,0,(COLUMN()-3)*6,1,1)=\"\"),NA(),(OFFSET(結果貼付け用!$F45,0,(COLUMN()-3)*6,1,1)))","v":{"$error":"#N/A"}},{"$f":"IF(OR(OFFSET(結果貼付け用!$F45,0,(COLUMN()-3)*6,1,1)=\"-\",OFFSET(結果貼付け用!$F45,0,(COLUMN()-3)*6,1,1)=\"\"),NA(),(OFFSET(結果貼付け用!$F45,0,(COLUMN()-3)*6,1,1)))","v":{"$error":"#N/A"}},{"$f":"IF(OR(OFFSET(結果貼付け用!$F45,0,(COLUMN()-3)*6,1,1)=\"-\",OFFSET(結果貼付け用!$F45,0,(COLUMN()-3)*6,1,1)=\"\"),NA(),(OFFSET(結果貼付け用!$F45,0,(COLUMN()-3)*6,1,1)))","v":{"$error":"#N/A"}},{"$f":"IF(OR(OFFSET(結果貼付け用!$F45,0,(COLUMN()-3)*6,1,1)=\"-\",OFFSET(結果貼付け用!$F45,0,(COLUMN()-3)*6,1,1)=\"\"),NA(),(OFFSET(結果貼付け用!$F45,0,(COLUMN()-3)*6,1,1)))","v":{"$error":"#N/A"}},{"$f":"IF(OR(OFFSET(結果貼付け用!$F45,0,(COLUMN()-3)*6,1,1)=\"-\",OFFSET(結果貼付け用!$F45,0,(COLUMN()-3)*6,1,1)=\"\"),NA(),(OFFSET(結果貼付け用!$F45,0,(COLUMN()-3)*6,1,1)))","v":{"$error":"#N/A"}},{"$f":"IF(OR(OFFSET(結果貼付け用!$F45,0,(COLUMN()-3)*6,1,1)=\"-\",OFFSET(結果貼付け用!$F45,0,(COLUMN()-3)*6,1,1)=\"\"),NA(),(OFFSET(結果貼付け用!$F45,0,(COLUMN()-3)*6,1,1)))","v":{"$error":"#N/A"}},{"$f":"IF(OR(OFFSET(結果貼付け用!$F45,0,(COLUMN()-3)*6,1,1)=\"-\",OFFSET(結果貼付け用!$F45,0,(COLUMN()-3)*6,1,1)=\"\"),NA(),(OFFSET(結果貼付け用!$F45,0,(COLUMN()-3)*6,1,1)))","v":{"$error":"#N/A"}},{"$f":"IF(OR(OFFSET(結果貼付け用!$F45,0,(COLUMN()-3)*6,1,1)=\"-\",OFFSET(結果貼付け用!$F45,0,(COLUMN()-3)*6,1,1)=\"\"),NA(),(OFFSET(結果貼付け用!$F45,0,(COLUMN()-3)*6,1,1)))","v":{"$error":"#N/A"}},{"$f":"IF(OR(OFFSET(結果貼付け用!$F45,0,(COLUMN()-3)*6,1,1)=\"-\",OFFSET(結果貼付け用!$F45,0,(COLUMN()-3)*6,1,1)=\"\"),NA(),(OFFSET(結果貼付け用!$F45,0,(COLUMN()-3)*6,1,1)))","v":{"$error":"#N/A"}},{"$f":"IF(OR(OFFSET(結果貼付け用!$F45,0,(COLUMN()-3)*6,1,1)=\"-\",OFFSET(結果貼付け用!$F45,0,(COLUMN()-3)*6,1,1)=\"\"),NA(),(OFFSET(結果貼付け用!$F45,0,(COLUMN()-3)*6,1,1)))","v":{"$error":"#N/A"}},{"$f":"IF(OR(OFFSET(結果貼付け用!$F45,0,(COLUMN()-3)*6,1,1)=\"-\",OFFSET(結果貼付け用!$F45,0,(COLUMN()-3)*6,1,1)=\"\"),NA(),(OFFSET(結果貼付け用!$F45,0,(COLUMN()-3)*6,1,1)))","v":{"$error":"#N/A"}},{"$f":"IF(OR(OFFSET(結果貼付け用!$F45,0,(COLUMN()-3)*6,1,1)=\"-\",OFFSET(結果貼付け用!$F45,0,(COLUMN()-3)*6,1,1)=\"\"),NA(),(OFFSET(結果貼付け用!$F45,0,(COLUMN()-3)*6,1,1)))","v":{"$error":"#N/A"}},{"$f":"IF(OR(OFFSET(結果貼付け用!$F45,0,(COLUMN()-3)*6,1,1)=\"-\",OFFSET(結果貼付け用!$F45,0,(COLUMN()-3)*6,1,1)=\"\"),NA(),(OFFSET(結果貼付け用!$F45,0,(COLUMN()-3)*6,1,1)))","v":{"$error":"#N/A"}},{"$f":"IF(OR(OFFSET(結果貼付け用!$F45,0,(COLUMN()-3)*6,1,1)=\"-\",OFFSET(結果貼付け用!$F45,0,(COLUMN()-3)*6,1,1)=\"\"),NA(),(OFFSET(結果貼付け用!$F45,0,(COLUMN()-3)*6,1,1)))","v":{"$error":"#N/A"}},{"$f":"IF(OR(OFFSET(結果貼付け用!$F45,0,(COLUMN()-3)*6,1,1)=\"-\",OFFSET(結果貼付け用!$F45,0,(COLUMN()-3)*6,1,1)=\"\"),NA(),(OFFSET(結果貼付け用!$F45,0,(COLUMN()-3)*6,1,1)))","v":{"$error":"#N/A"}},{"$f":"IF(OR(OFFSET(結果貼付け用!$F45,0,(COLUMN()-3)*6,1,1)=\"-\",OFFSET(結果貼付け用!$F45,0,(COLUMN()-3)*6,1,1)=\"\"),NA(),(OFFSET(結果貼付け用!$F45,0,(COLUMN()-3)*6,1,1)))","v":{"$error":"#N/A"}},{"$f":"IF(OR(OFFSET(結果貼付け用!$F45,0,(COLUMN()-3)*6,1,1)=\"-\",OFFSET(結果貼付け用!$F45,0,(COLUMN()-3)*6,1,1)=\"\"),NA(),(OFFSET(結果貼付け用!$F45,0,(COLUMN()-3)*6,1,1)))","v":{"$error":"#N/A"}},{"$f":"IF(OR(OFFSET(結果貼付け用!$F45,0,(COLUMN()-3)*6,1,1)=\"-\",OFFSET(結果貼付け用!$F45,0,(COLUMN()-3)*6,1,1)=\"\"),NA(),(OFFSET(結果貼付け用!$F45,0,(COLUMN()-3)*6,1,1)))","v":{"$error":"#N/A"}},{"$f":"IF(OR(OFFSET(結果貼付け用!$F45,0,(COLUMN()-3)*6,1,1)=\"-\",OFFSET(結果貼付け用!$F45,0,(COLUMN()-3)*6,1,1)=\"\"),NA(),(OFFSET(結果貼付け用!$F45,0,(COLUMN()-3)*6,1,1)))","v":{"$error":"#N/A"}},{"$f":"IF(OR(OFFSET(結果貼付け用!$F45,0,(COLUMN()-3)*6,1,1)=\"-\",OFFSET(結果貼付け用!$F45,0,(COLUMN()-3)*6,1,1)=\"\"),NA(),(OFFSET(結果貼付け用!$F45,0,(COLUMN()-3)*6,1,1)))","v":{"$error":"#N/A"}}]

{"sheet":"非管理職_各種グラフ表示","index":4,"n_rows":201,"n_cols":32,"rows_kept":201,"cut":false,"hidden":false,"merged":[]}
[]
[]
[]
[]
[]
[]
[]
[]
[]
[]
[]
[]
[]
[]
[]
[]
[]
[]
[]
[null,"実施開始日時",{"$f":"IF(結果貼付け用!B2=\"\",NA(),結果貼付け用!B2)","v":{"$error":"#N/A"}},{"$f":"IF((OFFSET(結果貼付け用!$H$2, 0, (COLUMN() - COLUMN($D$20)) * 6))=\"\",NA(),(OFFSET(結果貼付け用!$H$2, 0, (COLUMN() - COLUMN($D$20)) * 6)))","v":{"$error":"#N/A"}},{"$f":"IF((OFFSET(結果貼付け用!$H$2, 0, (COLUMN() - COLUMN($D$20)) * 6))=\"\",NA(),(OFFSET(結果貼付け用!$H$2, 0, (COLUMN() - COLUMN($D$20)) * 6)))","v":{"$error":"#N/A"}},{"$f":"IF((OFFSET(結果貼付け用!$H$2, 0, (COLUMN() - COLUMN($D$20)) * 6))=\"\",NA(),(OFFSET(結果貼付け用!$H$2, 0, (COLUMN() - COLUMN($D$20)) * 6)))","v":{"$error":"#N/A"}},{"$f":"IF((OFFSET(結果貼付け用!$H$2, 0, (COLUMN() - COLUMN($D$20)) * 6))=\"\",NA(),(OFFSET(結果貼付け用!$H$2, 0, (COLUMN() - COLUMN($D$20)) * 6)))","v":{"$error":"#N/A"}},{"$f":"IF((OFFSET(結果貼付け用!$H$2, 0, (COLUMN() - COLUMN($D$20)) * 6))=\"\",NA(),(OFFSET(結果貼付け用!$H$2, 0, (COLUMN() - COLUMN($D$20)) * 6)))","v":{"$error":"#N/A"}},{"$f":"IF((OFFSET(結果貼付け用!$H$2, 0, (COLUMN() - COLUMN($D$20)) * 6))=\"\",NA(),(OFFSET(結果貼付け用!$H$2, 0, (COLUMN() - COLUMN($D$20)) * 6)))","v":{"$error":"#N/A"}},{"$f":"IF((OFFSET(結果貼付け用!$H$2, 0, (COLUMN() - COLUMN($D$20)) * 6))=\"\",NA(),(OFFSET(結果貼付け用!$H$2, 0, (COLUMN() - COLUMN($D$20)) * 6)))","v":{"$error":"#N/A"}},{"$f":"IF((OFFSET(結果貼付け用!$H$2, 0, (COLUMN() - COLUMN($D$20)) * 6))=\"\",NA(),(OFFSET(結果貼付け用!$H$2, 0, (COLUMN() - COLUMN($D$20)) * 6)))","v":{"$error":"#N/A"}},{"$f":"IF((OFFSET(結果貼付け用!$H$2, 0, (COLUMN() - COLUMN($D$20)) * 6))=\"\",NA(),(OFFSET(結果貼付け用!$H$2, 0, (COLUMN() - COLUMN($D$20)) * 6)))","v":{"$error":"#N/A"}},{"$f":"IF((OFFSET(結果貼付け用!$H$2, 0, (COLUMN() - COLUMN($D$20)) * 6))=\"\",NA(),(OFFSET(結果貼付け用!$H$2, 0, (COLUMN() - COLUMN($D$20)) * 6)))","v":{"$error":"#N/A"}},{"$f":"IF((OFFSET(結果貼付け用!$H$2, 0, (COLUMN() - COLUMN($D$20)) * 6))=\"\",NA(),(OFFSET(結果貼付け用!$H$2, 0, (COLUMN() - COLUMN($D$20)) * 6)))","v":{"$error":"#N/A"}},{"$f":"IF((OFFSET(結果貼付け用!$H$2, 0, (COLUMN() - COLUMN($D$20)) * 6))=\"\",NA(),(OFFSET(結果貼付け用!$H$2, 0, (COLUMN() - COLUMN($D$20)) * 6)))","v":{"$error":"#N/A"}},{"$f":"IF((OFFSET(結果貼付け用!$H$2, 0, (COLUMN() - COLUMN($D$20)) * 6))=\"\",NA(),(OFFSET(結果貼付け用!$H$2, 0, (COLUMN() - COLUMN($D$20)) * 6)))","v":{"$error":"#N/A"}},{"$f":"IF((OFFSET(結果貼付け用!$H$2, 0, (COLUMN() - COLUMN($D$20)) * 6))=\"\",NA(),(OFFSET(結果貼付け用!$H$2, 0, (COLUMN() - COLUMN($D$20)) * 6)))","v":{"$error":"#N/A"}},{"$f":"IF((OFFSET(結果貼付け用!$H$2, 0, (COLUMN() - COLUMN($D$20)) * 6))=\"\",NA(),(OFFSET(結果貼付け用!$H$2, 0, (COLUMN() - COLUMN($D$20)) * 6)))","v":{"$error":"#N/A"}},{"$f":"IF((OFFSET(結果貼付け用!$H$2, 0, (COLUMN() - COLUMN($D$20)) * 6))=\"\",NA(),(OFFSET(結果貼付け用!$H$2, 0, (COLUMN() - COLUMN($D$20)) * 6)))","v":{"$error":"#N/A"}},{"$f":"IF((OFFSET(結果貼付け用!$H$2, 0, (COLUMN() - COLUMN($D$20)) * 6))=\"\",NA(),(OFFSET(結果貼付け用!$H$2, 0, (COLUMN() - COLUMN($D$20)) * 6)))","v":{"$error":"#N/A"}},{"$f":"IF((OFFSET(結果貼付け用!$H$2, 0, (COLUMN() - COLUMN($D$20)) * 6))=\"\",NA(),(OFFSET(結果貼付け用!$H$2, 0, (COLUMN() - COLUMN($D$20)) * 6)))","v":{"$error":"#N/A"}},{"$f":"IF((OFFSET(結果貼付け用!$H$2, 0, (COLUMN() - COLUMN($D$20)) * 6))=\"\",NA(),(OFFSET(結果貼付け用!$H$2, 0, (COLUMN() - COLUMN($D$20)) * 6)))","v":{"$error":"#N/A"}},{"$f":"IF((OFFSET(結果貼付け用!$H$2, 0, (COLUMN() - COLUMN($D$20)) * 6))=\"\",NA(),(OFFSET(結果貼付け用!$H$2, 0, (COLUMN() - COLUMN($D$20)) * 6)))","v":{"$error":"#N/A"}},{"$f":"IF((OFFSET(結果貼付け用!$H$2, 0, (COLUMN() - COLUMN($D$20)) * 6))=\"\",NA(),(OFFSET(結果貼付け用!$H$2, 0, (COLUMN() - COLUMN($D$20)) * 6)))","v":{"$error":"#N/A"}},{"$f":"IF((OFFSET(結果貼付け用!$H$2, 0, (COLUMN() - COLUMN($D$20)) * 6))=\"\",NA(),(OFFSET(結果貼付け用!$H$2, 0, (COLUMN() - COLUMN($D$20)) * 6)))","v":{"$error":"#N/A"}},{"$f":"IF((OFFSET(結果貼付け用!$H$2, 0, (COLUMN() - COLUMN($D$20)) * 6))=\"\",NA(),(OFFSET(結果貼付け用!$H$2, 0, (COLUMN() - COLUMN($D$20)) * 6)))","v":{"$error":"#N/A"}},{"$f":"IF((OFFSET(結果貼付け用!$H$2, 0, (COLUMN() - COLUMN($D$20)) * 6))=\"\",NA(),(OFFSET(結果貼付け用!$H$2, 0, (COLUMN() - COLUMN($D$20)) * 6)))","v":{"$error":"#N/A"}},{"$f":"IF((OFFSET(結果貼付け用!$H$2, 0, (COLUMN() - COLUMN($D$20)) * 6))=\"\",NA(),(OFFSET(結果貼付け用!$H$2, 0, (COLUMN() - COLUMN($D$20)) * 6)))","v":{"$error":"#N/A"}},{"$f":"IF((OFFSET(結果貼付け用!$H$2, 0, (COLUMN() - COLUMN($D$20)) * 6))=\"\",NA(),(OFFSET(結果貼付け用!$H$2, 0, (COLUMN() - COLUMN($D$20)) * 6)))","v":{"$error":"#N/A"}},{"$f":"IF((OFFSET(結果貼付け用!$H$2, 0, (COLUMN() - COLUMN($D$20)) * 6))=\"\",NA(),(OFFSET(結果貼付け用!$H$2, 0, (COLUMN() - COLUMN($D$20)) * 6)))","v":{"$error":"#N/A"}},{"$f":"IF((OFFSET(結果貼付け用!$H$2, 0, (COLUMN() - COLUMN($D$20)) * 6))=\"\",NA(),(OFFSET(結果貼付け用!$H$2, 0, (COLUMN() - COLUMN($D$20)) * 6)))","v":{"$error":"#N/A"}},{"$f":"IF((OFFSET(結果貼付け用!$H$2, 0, (COLUMN() - COLUMN($D$20)) * 6))=\"\",NA(),(OFFSET(結果貼付け用!$H$2, 0, (COLUMN() - COLUMN($D$20)) * 6)))","v":{"$error":"#N/A"}}]
[null,"能力発揮感",{"$f":"IF(OR(OFFSET(結果貼付け用!$G12,0,(COLUMN()-3)*6,1,1)=\"-\",OFFSET(結果貼付け用!$G12,0,(COLUMN()-3)*6,1,1)=\"\"),NA(),(OFFSET(結果貼付け用!$G12,0,(COLUMN()-3)*6,1,1)))","v":{"$error":"#N/A"}},{"$f":"IF(OR(OFFSET(結果貼付け用!$G12,0,(COLUMN()-3)*6,1,1)=\"-\",OFFSET(結果貼付け用!$G12,0,(COLUMN()-3)*6,1,1)=\"\"),NA(),(OFFSET(結果貼付け用!$G12,0,(COLUMN()-3)*6,1,1)))","v":{"$error":"#N/A"}},{"$f":"IF(OR(OFFSET(結果貼付け用!$G12,0,(COLUMN()-3)*6,1,1)=\"-\",OFFSET(結果貼付け用!$G12,0,(COLUMN()-3)*6,1,1)=\"\"),NA(),(OFFSET(結果貼付け用!$G12,0,(COLUMN()-3)*6,1,1)))","v":{"$error":"#N/A"}},{"$f":"IF(OR(OFFSET(結果貼付け用!$G12,0,(COLUMN()-3)*6,1,1)=\"-\",OFFSET(結果貼付け用!$G12,0,(COLUMN()-3)*6,1,1)=\"\"),NA(),(OFFSET(結果貼付け用!$G12,0,(COLUMN()-3)*6,1,1)))","v":{"$error":"#N/A"}},{"$f":"IF(OR(OFFSET(結果貼付け用!$G12,0,(COLUMN()-3)*6,1,1)=\"-\",OFFSET(結果貼付け用!$G12,0,(COLUMN()-3)*6,1,1)=\"\"),NA(),(OFFSET(結果貼付け用!$G12,0,(COLUMN()-3)*6,1,1)))","v":{"$error":"#N/A"}},{"$f":"IF(OR(OFFSET(結果貼付け用!$G12,0,(COLUMN()-3)*6,1,1)=\"-\",OFFSET(結果貼付け用!$G12,0,(COLUMN()-3)*6,1,1)=\"\"),NA(),(OFFSET(結果貼付け用!$G12,0,(COLUMN()-3)*6,1,1)))","v":{"$error":"#N/A"}},{"$f":"IF(OR(OFFSET(結果貼付け用!$G12,0,(COLUMN()-3)*6,1,1)=\"-\",OFFSET(結果貼付け用!$G12,0,(COLUMN()-3)*6,1,1)=\"\"),NA(),(OFFSET(結果貼付け用!$G12,0,(COLUMN()-3)*6,1,1)))","v":{"$error":"#N/A"}},{"$f":"IF(OR(OFFSET(結果貼付け用!$G12,0,(COLUMN()-3)*6,1,1)=\"-\",OFFSET(結果貼付け用!$G12,0,(COLUMN()-3)*6,1,1)=\"\"),NA(),(OFFSET(結果貼付け用!$G12,0,(COLUMN()-3)*6,1,1)))","v":{"$error":"#N/A"}},{"$f":"IF(OR(OFFSET(結果貼付け用!$G12,0,(COLUMN()-3)*6,1,1)=\"-\",OFFSET(結果貼付け用!$G12,0,(COLUMN()-3)*6,1,1)=\"\"),NA(),(OFFSET(結果貼付け用!$G12,0,(COLUMN()-3)*6,1,1)))","v":{"$error":"#N/A"}},{"$f":"IF(OR(OFFSET(結果貼付け用!$G12,0,(COLUMN()-3)*6,1,1)=\"-\",OFFSET(結果貼付け用!$G12,0,(COLUMN()-3)*6,1,1)=\"\"),NA(),(OFFSET(結果貼付け用!$G12,0,(COLUMN()-3)*6,1,1)))","v":{"$error":"#N/A"}},{"$f":"IF(OR(OFFSET(結果貼付け用!$G12,0,(COLUMN()-3)*6,1,1)=\"-\",OFFSET(結果貼付け用!$G12,0,(COLUMN()-3)*6,1,1)=\"\"),NA(),(OFFSET(結果貼付け用!$G12,0,(COLUMN()-3)*6,1,1)))","v":{"$error":"#N/A"}},{"$f":"IF(OR(OFFSET(結果貼付け用!$G12,0,(COLUMN()-3)*6,1,1)=\"-\",OFFSET(結果貼付け用!$G12,0,(COLUMN()-3)*6,1,1)=\"\"),NA(),(OFFSET(結果貼付け用!$G12,0,(COLUMN()-3)*6,1,1)))","v":{"$error":"#N/A"}},{"$f":"IF(OR(OFFSET(結果貼付け用!$G12,0,(COLUMN()-3)*6,1,1)=\"-\",OFFSET(結果貼付け用!$G12,0,(COLUMN()-3)*6,1,1)=\"\"),NA(),(OFFSET(結果貼付け用!$G12,0,(COLUMN()-3)*6,1,1)))","v":{"$error":"#N/A"}},{"$f":"IF(OR(OFFSET(結果貼付け用!$G12,0,(COLUMN()-3)*6,1,1)=\"-\",OFFSET(結果貼付け用!$G12,0,(COLUMN()-3)*6,1,1)=\"\"),NA(),(OFFSET(結果貼付け用!$G12,0,(COLUMN()-3)*6,1,1)))","v":{"$error":"#N/A"}},{"$f":"IF(OR(OFFSET(結果貼付け用!$G12,0,(COLUMN()-3)*6,1,1)=\"-\",OFFSET(結果貼付け用!$G12,0,(COLUMN()-3)*6,1,1)=\"\"),NA(),(OFFSET(結果貼付け用!$G12,0,(COLUMN()-3)*6,1,1)))","v":{"$error":"#N/A"}},{"$f":"IF(OR(OFFSET(結果貼付け用!$G12,0,(COLUMN()-3)*6,1,1)=\"-\",OFFSET(結果貼付け用!$G12,0,(COLUMN()-3)*6,1,1)=\"\"),NA(),(OFFSET(結果貼付け用!$G12,0,(COLUMN()-3)*6,1,1)))","v":{"$error":"#N/A"}},{"$f":"IF(OR(OFFSET(結果貼付け用!$G12,0,(COLUMN()-3)*6,1,1)=\"-\",OFFSET(結果貼付け用!$G12,0,(COLUMN()-3)*6,1,1)=\"\"),NA(),(OFFSET(結果貼付け用!$G12,0,(COLUMN()-3)*6,1,1)))","v":{"$error":"#N/A"}},{"$f":"IF(OR(OFFSET(結果貼付け用!$G12,0,(COLUMN()-3)*6,1,1)=\"-\",OFFSET(結果貼付け用!$G12,0,(COLUMN()-3)*6,1,1)=\"\"),NA(),(OFFSET(結果貼付け用!$G12,0,(COLUMN()-3)*6,1,1)))","v":{"$error":"#N/A"}},{"$f":"IF(OR(OFFSET(結果貼付け用!$G12,0,(COLUMN()-3)*6,1,1)=\"-\",OFFSET(結果貼付け用!$G12,0,(COLUMN()-3)*6,1,1)=\"\"),NA(),(OFFSET(結果貼付け用!$G12,0,(COLUMN()-3)*6,1,1)))","v":{"$error":"#N/A"}},{"$f":"IF(OR(OFFSET(結果貼付け用!$G12,0,(COLUMN()-3)*6,1,1)=\"-\",OFFSET(結果貼付け用!$G12,0,(COLUMN()-3)*6,1,1)=\"\"),NA(),(OFFSET(結果貼付け用!$G12,0,(COLUMN()-3)*6,1,1)))","v":{"$error":"#N/A"}},{"$f":"IF(OR(OFFSET(結果貼付け用!$G12,0,(COLUMN()-3)*6,1,1)=\"-\",OFFSET(結果貼付け用!$G12,0,(COLUMN()-3)*6,1,1)=\"\"),NA(),(OFFSET(結果貼付け用!$G12,0,(COLUMN()-3)*6,1,1)))","v":{"$error":"#N/A"}},{"$f":"IF(OR(OFFSET(結果貼付け用!$G12,0,(COLUMN()-3)*6,1,1)=\"-\",OFFSET(結果貼付け用!$G12,0,(COLUMN()-3)*6,1,1)=\"\"),NA(),(OFFSET(結果貼付け用!$G12,0,(COLUMN()-3)*6,1,1)))","v":{"$error":"#N/A"}},{"$f":"IF(OR(OFFSET(結果貼付け用!$G12,0,(COLUMN()-3)*6,1,1)=\"-\",OFFSET(結果貼付け用!$G12,0,(COLUMN()-3)*6,1,1)=\"\"),NA(),(OFFSET(結果貼付け用!$G12,0,(COLUMN()-3)*6,1,1)))","v":{"$error":"#N/A"}},{"$f":"IF(OR(OFFSET(結果貼付け用!$G12,0,(COLUMN()-3)*6,1,1)=\"-\",OFFSET(結果貼付け用!$G12,0,(COLUMN()-3)*6,1,1)=\"\"),NA(),(OFFSET(結果貼付け用!$G12,0,(COLUMN()-3)*6,1,1)))","v":{"$error":"#N/A"}},{"$f":"IF(OR(OFFSET(結果貼付け用!$G12,0,(COLUMN()-3)*6,1,1)=\"-\",OFFSET(結果貼付け用!$G12,0,(COLUMN()-3)*6,1,1)=\"\"),NA(),(OFFSET(結果貼付け用!$G12,0,(COLUMN()-3)*6,1,1)))","v":{"$error":"#N/A"}},{"$f":"IF(OR(OFFSET(結果貼付け用!$G12,0,(COLUMN()-3)*6,1,1)=\"-\",OFFSET(結果貼付け用!$G12,0,(COLUMN()-3)*6,1,1)=\"\"),NA(),(OFFSET(結果貼付け用!$G12,0,(COLUMN()-3)*6,1,1)))","v":{"$error":"#N/A"}},{"$f":"IF(OR(OFFSET(結果貼付け用!$G12,0,(COLUMN()-3)*6,1,1)=\"-\",OFFSET(結果貼付け用!$G12,0,(COLUMN()-3)*6,1,1)=\"\"),NA(),(OFFSET(結果貼付け用!$G12,0,(COLUMN()-3)*6,1,1)))","v":{"$error":"#N/A"}},{"$f":"IF(OR(OFFSET(結果貼付け用!$G12,0,(COLUMN()-3)*6,1,1)=\"-\",OFFSET(結果貼付け用!$G12,0,(COLUMN()-3)*6,1,1)=\"\"),NA(),(OFFSET(結果貼付け用!$G12,0,(COLUMN()-3)*6,1,1)))","v":{"$error":"#N/A"}},{"$f":"IF(OR(OFFSET(結果貼付け用!$G12,0,(COLUMN()-3)*6,1,1)=\"-\",OFFSET(結果貼付け用!$G12,0,(COLUMN()-3)*6,1,1)=\"\"),NA(),(OFFSET(結果貼付け用!$G12,0,(COLUMN()-3)*6,1,1)))","v":{"$error":"#N/A"}},{"$f":"IF(OR(OFFSET(結果貼付け用!$G12,0,(COLUMN()-3)*6,1,1)=\"-\",OFFSET(結果貼付け用!$G12,0,(COLUMN()-3)*6,1,1)=\"\"),NA(),(OFFSET(結果貼付け用!$G12,0,(COLUMN()-3)*6,1,1)))","v":{"$error":"#N/A"}}]
[null,"職場貢献感",{"$f":"IF(OR(OFFSET(結果貼付け用!$G13,0,(COLUMN()-3)*6,1,1)=\"-\",OFFSET(結果貼付け用!$G13,0,(COLUMN()-3)*6,1,1)=\"\"),NA(),(OFFSET(結果貼付け用!$G13,0,(COLUMN()-3)*6,1,1)))","v":{"$error":"#N/A"}},{"$f":"IF(OR(OFFSET(結果貼付け用!$G13,0,(COLUMN()-3)*6,1,1)=\"-\",OFFSET(結果貼付け用!$G13,0,(COLUMN()-3)*6,1,1)=\"\"),NA(),(OFFSET(結果貼付け用!$G13,0,(COLUMN()-3)*6,1,1)))","v":{"$error":"#N/A"}},{"$f":"IF(OR(OFFSET(結果貼付け用!$G13,0,(COLUMN()-3)*6,1,1)=\"-\",OFFSET(結果貼付け用!$G13,0,(COLUMN()-3)*6,1,1)=\"\"),NA(),(OFFSET(結果貼付け用!$G13,0,(COLUMN()-3)*6,1,1)))","v":{"$error":"#N/A"}},{"$f":"IF(OR(OFFSET(結果貼付け用!$G13,0,(COLUMN()-3)*6,1,1)=\"-\",OFFSET(結果貼付け用!$G13,0,(COLUMN()-3)*6,1,1)=\"\"),NA(),(OFFSET(結果貼付け用!$G13,0,(COLUMN()-3)*6,1,1)))","v":{"$error":"#N/A"}},{"$f":"IF(OR(OFFSET(結果貼付け用!$G13,0,(COLUMN()-3)*6,1,1)=\"-\",OFFSET(結果貼付け用!$G13,0,(COLUMN()-3)*6,1,1)=\"\"),NA(),(OFFSET(結果貼付け用!$G13,0,(COLUMN()-3)*6,1,1)))","v":{"$error":"#N/A"}},{"$f":"IF(OR(OFFSET(結果貼付け用!$G13,0,(COLUMN()-3)*6,1,1)=\"-\",OFFSET(結果貼付け用!$G13,0,(COLUMN()-3)*6,1,1)=\"\"),NA(),(OFFSET(結果貼付け用!$G13,0,(COLUMN()-3)*6,1,1)))","v":{"$error":"#N/A"}},{"$f":"IF(OR(OFFSET(結果貼付け用!$G13,0,(COLUMN()-3)*6,1,1)=\"-\",OFFSET(結果貼付け用!$G13,0,(COLUMN()-3)*6,1,1)=\"\"),NA(),(OFFSET(結果貼付け用!$G13,0,(COLUMN()-3)*6,1,1)))","v":{"$error":"#N/A"}},{"$f":"IF(OR(OFFSET(結果貼付け用!$G13,0,(COLUMN()-3)*6,1,1)=\"-\",OFFSET(結果貼付け用!$G13,0,(COLUMN()-3)*6,1,1)=\"\"),NA(),(OFFSET(結果貼付け用!$G13,0,(COLUMN()-3)*6,1,1)))","v":{"$error":"#N/A"}},{"$f":"IF(OR(OFFSET(結果貼付け用!$G13,0,(COLUMN()-3)*6,1,1)=\"-\",OFFSET(結果貼付け用!$G13,0,(COLUMN()-3)*6,1,1)=\"\"),NA(),(OFFSET(結果貼付け用!$G13,0,(COLUMN()-3)*6,1,1)))","v":{"$error":"#N/A"}},{"$f":"IF(OR(OFFSET(結果貼付け用!$G13,0,(COLUMN()-3)*6,1,1)=\"-\",OFFSET(結果貼付け用!$G13,0,(COLUMN()-3)*6,1,1)=\"\"),NA(),(OFFSET(結果貼付け用!$G13,0,(COLUMN()-3)*6,1,1)))","v":{"$error":"#N/A"}},{"$f":"IF(OR(OFFSET(結果貼付け用!$G13,0,(COLUMN()-3)*6,1,1)=\"-\",OFFSET(結果貼付け用!$G13,0,(COLUMN()-3)*6,1,1)=\"\"),NA(),(OFFSET(結果貼付け用!$G13,0,(COLUMN()-3)*6,1,1)))","v":{"$error":"#N/A"}},{"$f":"IF(OR(OFFSET(結果貼付け用!$G13,0,(COLUMN()-3)*6,1,1)=\"-\",OFFSET(結果貼付け用!$G13,0,(COLUMN()-3)*6,1,1)=\"\"),NA(),(OFFSET(結果貼付け用!$G13,0,(COLUMN()-3)*6,1,1)))","v":{"$error":"#N/A"}},{"$f":"IF(OR(OFFSET(結果貼付け用!$G13,0,(COLUMN()-3)*6,1,1)=\"-\",OFFSET(結果貼付け用!$G13,0,(COLUMN()-3)*6,1,1)=\"\"),NA(),(OFFSET(結果貼付け用!$G13,0,(COLUMN()-3)*6,1,1)))","v":{"$error":"#N/A"}},{"$f":"IF(OR(OFFSET(結果貼付け用!$G13,0,(COLUMN()-3)*6,1,1)=\"-\",OFFSET(結果貼付け用!$G13,0,(COLUMN()-3)*6,1,1)=\"\"),NA(),(OFFSET(結果貼付け用!$G13,0,(COLUMN()-3)*6,1,1)))","v":{"$error":"#N/A"}},{"$f":"IF(OR(OFFSET(結果貼付け用!$G13,0,(COLUMN()-3)*6,1,1)=\"-\",OFFSET(結果貼付け用!$G13,0,(COLUMN()-3)*6,1,1)=\"\"),NA(),(OFFSET(結果貼付け用!$G13,0,(COLUMN()-3)*6,1,1)))","v":{"$error":"#N/A"}},{"$f":"IF(OR(OFFSET(結果貼付け用!$G13,0,(COLUMN()-3)*6,1,1)=\"-\",OFFSET(結果貼付け用!$G13,0,(COLUMN()-3)*6,1,1)=\"\"),NA(),(OFFSET(結果貼付け用!$G13,0,(COLUMN()-3)*6,1,1)))","v":{"$error":"#N/A"}},{"$f":"IF(OR(OFFSET(結果貼付け用!$G13,0,(COLUMN()-3)*6,1,1)=\"-\",OFFSET(結果貼付け用!$G13,0,(COLUMN()-3)*6,1,1)=\"\"),NA(),(OFFSET(結果貼付け用!$G13,0,(COLUMN()-3)*6,1,1)))","v":{"$error":"#N/A"}},{"$f":"IF(OR(OFFSET(結果貼付け用!$G13,0,(COLUMN()-3)*6,1,1)=\"-\",OFFSET(結果貼付け用!$G13,0,(COLUMN()-3)*6,1,1)=\"\"),NA(),(OFFSET(結果貼付け用!$G13,0,(COLUMN()-3)*6,1,1)))","v":{"$error":"#N/A"}},{"$f":"IF(OR(OFFSET(結果貼付け用!$G13,0,(COLUMN()-3)*6,1,1)=\"-\",OFFSET(結果貼付け用!$G13,0,(COLUMN()-3)*6,1,1)=\"\"),NA(),(OFFSET(結果貼付け用!$G13,0,(COLUMN()-3)*6,1,1)))","v":{"$error":"#N/A"}},{"$f":"IF(OR(OFFSET(結果貼付け用!$G13,0,(COLUMN()-3)*6,1,1)=\"-\",OFFSET(結果貼付け用!$G13,0,(COLUMN()-3)*6,1,1)=\"\"),NA(),(OFFSET(結果貼付け用!$G13,0,(COLUMN()-3)*6,1,1)))","v":{"$error":"#N/A"}},{"$f":"IF(OR(OFFSET(結果貼付け用!$G13,0,(COLUMN()-3)*6,1,1)=\"-\",OFFSET(結果貼付け用!$G13,0,(COLUMN()-3)*6,1,1)=\"\"),NA(),(OFFSET(結果貼付け用!$G13,0,(COLUMN()-3)*6,1,1)))","v":{"$error":"#N/A"}},{"$f":"IF(OR(OFFSET(結果貼付け用!$G13,0,(COLUMN()-3)*6,1,1)=\"-\",OFFSET(結果貼付け用!$G13,0,(COLUMN()-3)*6,1,1)=\"\"),NA(),(OFFSET(結果貼付け用!$G13,0,(COLUMN()-3)*6,1,1)))","v":{"$error":"#N/A"}},{"$f":"IF(OR(OFFSET(結果貼付け用!$G13,0,(COLUMN()-3)*6,1,1)=\"-\",OFFSET(結果貼付け用!$G13,0,(COLUMN()-3)*6,1,1)=\"\"),NA(),(OFFSET(結果貼付け用!$G13,0,(COLUMN()-3)*6,1,1)))","v":{"$error":"#N/A"}},{"$f":"IF(OR(OFFSET(結果貼付け用!$G13,0,(COLUMN()-3)*6,1,1)=\"-\",OFFSET(結果貼付け用!$G13,0,(COLUMN()-3)*6,1,1)=\"\"),NA(),(OFFSET(結果貼付け用!$G13,0,(COLUMN()-3)*6,1,1)))","v":{"$error":"#N/A"}},{"$f":"IF(OR(OFFSET(結果貼付け用!$G13,0,(COLUMN()-3)*6,1,1)=\"-\",OFFSET(結果貼付け用!$G13,0,(COLUMN()-3)*6,1,1)=\"\"),NA(),(OFFSET(結果貼付け用!$G13,0,(COLUMN()-3)*6,1,1)))","v":{"$error":"#N/A"}},{"$f":"IF(OR(OFFSET(結果貼付け用!$G13,0,(COLUMN()-3)*6,1,1)=\"-\",OFFSET(結果貼付け用!$G13,0,(COLUMN()-3)*6,1,1)=\"\"),NA(),(OFFSET(結果貼付け用!$G13,0,(COLUMN()-3)*6,1,1)))","v":{"$error":"#N/A"}},{"$f":"IF(OR(OFFSET(結果貼付け用!$G13,0,(COLUMN()-3)*6,1,1)=\"-\",OFFSET(結果貼付け用!$G13,0,(COLUMN()-3)*6,1,1)=\"\"),NA(),(OFFSET(結果貼付け用!$G13,0,(COLUMN()-3)*6,1,1)))","v":{"$error":"#N/A"}},{"$f":"IF(OR(OFFSET(結果貼付け用!$G13,0,(COLUMN()-3)*6,1,1)=\"-\",OFFSET(結果貼付け用!$G13,0,(COLUMN()-3)*6,1,1)=\"\"),NA(),(OFFSET(結果貼付け用!$G13,0,(COLUMN()-3)*6,1,1)))","v":{"$error":"#N/A"}},{"$f":"IF(OR(OFFSET(結果貼付け用!$G13,0,(COLUMN()-3)*6,1,1)=\"-\",OFFSET(結果貼付け用!$G13,0,(COLUMN()-3)*6,1,1)=\"\"),NA(),(OFFSET(結果貼付け用!$G13,0,(COLUMN()-3)*6,1,1)))","v":{"$error":"#N/A"}},{"$f":"IF(OR(OFFSET(結果貼付け用!$G13,0,(COLUMN()-3)*6,1,1)=\"-\",OFFSET(結果貼付け用!$G13,0,(COLUMN()-3)*6,1,1)=\"\"),NA(),(OFFSET(結果貼付け用!$G13,0,(COLUMN()-3)*6,1,1)))","v":{"$error":"#N/A"}}]
[null,"働きがい",{"$f":"IF(OR(OFFSET(結果貼付け用!$G14,0,(COLUMN()-3)*6,1,1)=\"-\",OFFSET(結果貼付け用!$G14,0,(COLUMN()-3)*6,1,1)=\"\"),NA(),(OFFSET(結果貼付け用!$G14,0,(COLUMN()-3)*6,1,1)))","v":{"$error":"#N/A"}},{"$f":"IF(OR(OFFSET(結果貼付け用!$G14,0,(COLUMN()-3)*6,1,1)=\"-\",OFFSET(結果貼付け用!$G14,0,(COLUMN()-3)*6,1,1)=\"\"),NA(),(OFFSET(結果貼付け用!$G14,0,(COLUMN()-3)*6,1,1)))","v":{"$error":"#N/A"}},{"$f":"IF(OR(OFFSET(結果貼付け用!$G14,0,(COLUMN()-3)*6,1,1)=\"-\",OFFSET(結果貼付け用!$G14,0,(COLUMN()-3)*6,1,1)=\"\"),NA(),(OFFSET(結果貼付け用!$G14,0,(COLUMN()-3)*6,1,1)))","v":{"$error":"#N/A"}},{"$f":"IF(OR(OFFSET(結果貼付け用!$G14,0,(COLUMN()-3)*6,1,1)=\"-\",OFFSET(結果貼付け用!$G14,0,(COLUMN()-3)*6,1,1)=\"\"),NA(),(OFFSET(結果貼付け用!$G14,0,(COLUMN()-3)*6,1,1)))","v":{"$error":"#N/A"}},{"$f":"IF(OR(OFFSET(結果貼付け用!$G14,0,(COLUMN()-3)*6,1,1)=\"-\",OFFSET(結果貼付け用!$G14,0,(COLUMN()-3)*6,1,1)=\"\"),NA(),(OFFSET(結果貼付け用!$G14,0,(COLUMN()-3)*6,1,1)))","v":{"$error":"#N/A"}},{"$f":"IF(OR(OFFSET(結果貼付け用!$G14,0,(COLUMN()-3)*6,1,1)=\"-\",OFFSET(結果貼付け用!$G14,0,(COLUMN()-3)*6,1,1)=\"\"),NA(),(OFFSET(結果貼付け用!$G14,0,(COLUMN()-3)*6,1,1)))","v":{"$error":"#N/A"}},{"$f":"IF(OR(OFFSET(結果貼付け用!$G14,0,(COLUMN()-3)*6,1,1)=\"-\",OFFSET(結果貼付け用!$G14,0,(COLUMN()-3)*6,1,1)=\"\"),NA(),(OFFSET(結果貼付け用!$G14,0,(COLUMN()-3)*6,1,1)))","v":{"$error":"#N/A"}},{"$f":"IF(OR(OFFSET(結果貼付け用!$G14,0,(COLUMN()-3)*6,1,1)=\"-\",OFFSET(結果貼付け用!$G14,0,(COLUMN()-3)*6,1,1)=\"\"),NA(),(OFFSET(結果貼付け用!$G14,0,(COLUMN()-3)*6,1,1)))","v":{"$error":"#N/A"}},{"$f":"IF(OR(OFFSET(結果貼付け用!$G14,0,(COLUMN()-3)*6,1,1)=\"-\",OFFSET(結果貼付け用!$G14,0,(COLUMN()-3)*6,1,1)=\"\"),NA(),(OFFSET(結果貼付け用!$G14,0,(COLUMN()-3)*6,1,1)))","v":{"$error":"#N/A"}},{"$f":"IF(OR(OFFSET(結果貼付け用!$G14,0,(COLUMN()-3)*6,1,1)=\"-\",OFFSET(結果貼付け用!$G14,0,(COLUMN()-3)*6,1,1)=\"\"),NA(),(OFFSET(結果貼付け用!$G14,0,(COLUMN()-3)*6,1,1)))","v":{"$error":"#N/A"}},{"$f":"IF(OR(OFFSET(結果貼付け用!$G14,0,(COLUMN()-3)*6,1,1)=\"-\",OFFSET(結果貼付け用!$G14,0,(COLUMN()-3)*6,1,1)=\"\"),NA(),(OFFSET(結果貼付け用!$G14,0,(COLUMN()-3)*6,1,1)))","v":{"$error":"#N/A"}},{"$f":"IF(OR(OFFSET(結果貼付け用!$G14,0,(COLUMN()-3)*6,1,1)=\"-\",OFFSET(結果貼付け用!$G14,0,(COLUMN()-3)*6,1,1)=\"\"),NA(),(OFFSET(結果貼付け用!$G14,0,(COLUMN()-3)*6,1,1)))","v":{"$error":"#N/A"}},{"$f":"IF(OR(OFFSET(結果貼付け用!$G14,0,(COLUMN()-3)*6,1,1)=\"-\",OFFSET(結果貼付け用!$G14,0,(COLUMN()-3)*6,1,1)=\"\"),NA(),(OFFSET(結果貼付け用!$G14,0,(COLUMN()-3)*6,1,1)))","v":{"$error":"#N/A"}},{"$f":"IF(OR(OFFSET(結果貼付け用!$G14,0,(COLUMN()-3)*6,1,1)=\"-\",OFFSET(結果貼付け用!$G14,0,(COLUMN()-3)*6,1,1)=\"\"),NA(),(OFFSET(結果貼付け用!$G14,0,(COLUMN()-3)*6,1,1)))","v":{"$error":"#N/A"}},{"$f":"IF(OR(OFFSET(結果貼付け用!$G14,0,(COLUMN()-3)*6,1,1)=\"-\",OFFSET(結果貼付け用!$G14,0,(COLUMN()-3)*6,1,1)=\"\"),NA(),(OFFSET(結果貼付け用!$G14,0,(COLUMN()-3)*6,1,1)))","v":{"$error":"#N/A"}},{"$f":"IF(OR(OFFSET(結果貼付け用!$G14,0,(COLUMN()-3)*6,1,1)=\"-\",OFFSET(結果貼付け用!$G14,0,(COLUMN()-3)*6,1,1)=\"\"),NA(),(OFFSET(結果貼付け用!$G14,0,(COLUMN()-3)*6,1,1)))","v":{"$error":"#N/A"}},{"$f":"IF(OR(OFFSET(結果貼付け用!$G14,0,(COLUMN()-3)*6,1,1)=\"-\",OFFSET(結果貼付け用!$G14,0,(COLUMN()-3)*6,1,1)=\"\"),NA(),(OFFSET(結果貼付け用!$G14,0,(COLUMN()-3)*6,1,1)))","v":{"$error":"#N/A"}},{"$f":"IF(OR(OFFSET(結果貼付け用!$G14,0,(COLUMN()-3)*6,1,1)=\"-\",OFFSET(結果貼付け用!$G14,0,(COLUMN()-3)*6,1,1)=\"\"),NA(),(OFFSET(結果貼付け用!$G14,0,(COLUMN()-3)*6,1,1)))","v":{"$error":"#N/A"}},{"$f":"IF(OR(OFFSET(結果貼付け用!$G14,0,(COLUMN()-3)*6,1,1)=\"-\",OFFSET(結果貼付け用!$G14,0,(COLUMN()-3)*6,1,1)=\"\"),NA(),(OFFSET(結果貼付け用!$G14,0,(COLUMN()-3)*6,1,1)))","v":{"$error":"#N/A"}},{"$f":"IF(OR(OFFSET(結果貼付け用!$G14,0,(COLUMN()-3)*6,1,1)=\"-\",OFFSET(結果貼付け用!$G14,0,(COLUMN()-3)*6,1,1)=\"\"),NA(),(OFFSET(結果貼付け用!$G14,0,(COLUMN()-3)*6,1,1)))","v":{"$error":"#N/A"}},{"$f":"IF(OR(OFFSET(結果貼付け用!$G14,0,(COLUMN()-3)*6,1,1)=\"-\",OFFSET(結果貼付け用!$G14,0,(COLUMN()-3)*6,1,1)=\"\"),NA(),(OFFSET(結果貼付け用!$G14,0,(COLUMN()-3)*6,1,1)))","v":{"$error":"#N/A"}},{"$f":"IF(OR(OFFSET(結果貼付け用!$G14,0,(COLUMN()-3)*6,1,1)=\"-\",OFFSET(結果貼付け用!$G14,0,(COLUMN()-3)*6,1,1)=\"\"),NA(),(OFFSET(結果貼付け用!$G14,0,(COLUMN()-3)*6,1,1)))","v":{"$error":"#N/A"}},{"$f":"IF(OR(OFFSET(結果貼付け用!$G14,0,(COLUMN()-3)*6,1,1)=\"-\",OFFSET(結果貼付け用!$G14,0,(COLUMN()-3)*6,1,1)=\"\"),NA(),(OFFSET(結果貼付け用!$G14,0,(COLUMN()-3)*6,1,1)))","v":{"$error":"#N/A"}},{"$f":"IF(OR(OFFSET(結果貼付け用!$G14,0,(COLUMN()-3)*6,1,1)=\"-\",OFFSET(結果貼付け用!$G14,0,(COLUMN()-3)*6,1,1)=\"\"),NA(),(OFFSET(結果貼付け用!$G14,0,(COLUMN()-3)*6,1,1)))","v":{"$error":"#N/A"}},{"$f":"IF(OR(OFFSET(結果貼付け用!$G14,0,(COLUMN()-3)*6,1,1)=\"-\",OFFSET(結果貼付け用!$G14,0,(COLUMN()-3)*6,1,1)=\"\"),NA(),(OFFSET(結果貼付け用!$G14,0,(COLUMN()-3)*6,1,1)))","v":{"$error":"#N/A"}},{"$f":"IF(OR(OFFSET(結果貼付け用!$G14,0,(COLUMN()-3)*6,1,1)=\"-\",OFFSET(結果貼付け用!$G14,0,(COLUMN()-3)*6,1,1)=\"\"),NA(),(OFFSET(結果貼付け用!$G14,0,(COLUMN()-3)*6,1,1)))","v":{"$error":"#N/A"}},{"$f":"IF(OR(OFFSET(結果貼付け用!$G14,0,(COLUMN()-3)*6,1,1)=\"-\",OFFSET(結果貼付け用!$G14,0,(COLUMN()-3)*6,1,1)=\"\"),NA(),(OFFSET(結果貼付け用!$G14,0,(COLUMN()-3)*6,1,1)))","v":{"$error":"#N/A"}},{"$f":"IF(OR(OFFSET(結果貼付け用!$G14,0,(COLUMN()-3)*6,1,1)=\"-\",OFFSET(結果貼付け用!$G14,0,(COLUMN()-3)*6,1,1)=\"\"),NA(),(OFFSET(結果貼付け用!$G14,0,(COLUMN()-3)*6,1,1)))","v":{"$error":"#N/A"}},{"$f":"IF(OR(OFFSET(結果貼付け用!$G14,0,(COLUMN()-3)*6,1,1)=\"-\",OFFSET(結果貼付け用!$G14,0,(COLUMN()-3)*6,1,1)=\"\"),NA(),(OFFSET(結果貼付け用!$G14,0,(COLUMN()-3)*6,1,1)))","v":{"$error":"#N/A"}},{"$f":"IF(OR(OFFSET(結果貼付け用!$G14,0,(COLUMN()-3)*6,1,1)=\"-\",OFFSET(結果貼付け用!$G14,0,(COLUMN()-3)*6,1,1)=\"\"),NA(),(OFFSET(結果貼付け用!$G14,0,(COLUMN()-3)*6,1,1)))","v":{"$error":"#N/A"}}]
[null,"目標遂行感",{"$f":"IF(OR(OFFSET(結果貼付け用!$G15,0,(COLUMN()-3)*6,1,1)=\"-\",OFFSET(結果貼付け用!$G15,0,(COLUMN()-3)*6,1,1)=\"\"),NA(),(OFFSET(結果貼付け用!$G15,0,(COLUMN()-3)*6,1,1)))","v":{"$error":"#N/A"}},{"$f":"IF(OR(OFFSET(結果貼付け用!$G15,0,(COLUMN()-3)*6,1,1)=\"-\",OFFSET(結果貼付け用!$G15,0,(COLUMN()-3)*6,1,1)=\"\"),NA(),(OFFSET(結果貼付け用!$G15,0,(COLUMN()-3)*6,1,1)))","v":{"$error":"#N/A"}},{"$f":"IF(OR(OFFSET(結果貼付け用!$G15,0,(COLUMN()-3)*6,1,1)=\"-\",OFFSET(結果貼付け用!$G15,0,(COLUMN()-3)*6,1,1)=\"\"),NA(),(OFFSET(結果貼付け用!$G15,0,(COLUMN()-3)*6,1,1)))","v":{"$error":"#N/A"}},{"$f":"IF(OR(OFFSET(結果貼付け用!$G15,0,(COLUMN()-3)*6,1,1)=\"-\",OFFSET(結果貼付け用!$G15,0,(COLUMN()-3)*6,1,1)=\"\"),NA(),(OFFSET(結果貼付け用!$G15,0,(COLUMN()-3)*6,1,1)))","v":{"$error":"#N/A"}},{"$f":"IF(OR(OFFSET(結果貼付け用!$G15,0,(COLUMN()-3)*6,1,1)=\"-\",OFFSET(結果貼付け用!$G15,0,(COLUMN()-3)*6,1,1)=\"\"),NA(),(OFFSET(結果貼付け用!$G15,0,(COLUMN()-3)*6,1,1)))","v":{"$error":"#N/A"}},{"$f":"IF(OR(OFFSET(結果貼付け用!$G15,0,(COLUMN()-3)*6,1,1)=\"-\",OFFSET(結果貼付け用!$G15,0,(COLUMN()-3)*6,1,1)=\"\"),NA(),(OFFSET(結果貼付け用!$G15,0,(COLUMN()-3)*6,1,1)))","v":{"$error":"#N/A"}},{"$f":"IF(OR(OFFSET(結果貼付け用!$G15,0,(COLUMN()-3)*6,1,1)=\"-\",OFFSET(結果貼付け用!$G15,0,(COLUMN()-3)*6,1,1)=\"\"),NA(),(OFFSET(結果貼付け用!$G15,0,(COLUMN()-3)*6,1,1)))","v":{"$error":"#N/A"}},{"$f":"IF(OR(OFFSET(結果貼付け用!$G15,0,(COLUMN()-3)*6,1,1)=\"-\",OFFSET(結果貼付け用!$G15,0,(COLUMN()-3)*6,1,1)=\"\"),NA(),(OFFSET(結果貼付け用!$G15,0,(COLUMN()-3)*6,1,1)))","v":{"$error":"#N/A"}},{"$f":"IF(OR(OFFSET(結果貼付け用!$G15,0,(COLUMN()-3)*6,1,1)=\"-\",OFFSET(結果貼付け用!$G15,0,(COLUMN()-3)*6,1,1)=\"\"),NA(),(OFFSET(結果貼付け用!$G15,0,(COLUMN()-3)*6,1,1)))","v":{"$error":"#N/A"}},{"$f":"IF(OR(OFFSET(結果貼付け用!$G15,0,(COLUMN()-3)*6,1,1)=\"-\",OFFSET(結果貼付け用!$G15,0,(COLUMN()-3)*6,1,1)=\"\"),NA(),(OFFSET(結果貼付け用!$G15,0,(COLUMN()-3)*6,1,1)))","v":{"$error":"#N/A"}},{"$f":"IF(OR(OFFSET(結果貼付け用!$G15,0,(COLUMN()-3)*6,1,1)=\"-\",OFFSET(結果貼付け用!$G15,0,(COLUMN()-3)*6,1,1)=\"\"),NA(),(OFFSET(結果貼付け用!$G15,0,(COLUMN()-3)*6,1,1)))","v":{"$error":"#N/A"}},{"$f":"IF(OR(OFFSET(結果貼付け用!$G15,0,(COLUMN()-3)*6,1,1)=\"-\",OFFSET(結果貼付け用!$G15,0,(COLUMN()-3)*6,1,1)=\"\"),NA(),(OFFSET(結果貼付け用!$G15,0,(COLUMN()-3)*6,1,1)))","v":{"$error":"#N/A"}},{"$f":"IF(OR(OFFSET(結果貼付け用!$G15,0,(COLUMN()-3)*6,1,1)=\"-\",OFFSET(結果貼付け用!$G15,0,(COLUMN()-3)*6,1,1)=\"\"),NA(),(OFFSET(結果貼付け用!$G15,0,(COLUMN()-3)*6,1,1)))","v":{"$error":"#N/A"}},{"$f":"IF(OR(OFFSET(結果貼付け用!$G15,0,(COLUMN()-3)*6,1,1)=\"-\",OFFSET(結果貼付け用!$G15,0,(COLUMN()-3)*6,1,1)=\"\"),NA(),(OFFSET(結果貼付け用!$G15,0,(COLUMN()-3)*6,1,1)))","v":{"$error":"#N/A"}},{"$f":"IF(OR(OFFSET(結果貼付け用!$G15,0,(COLUMN()-3)*6,1,1)=\"-\",OFFSET(結果貼付け用!$G15,0,(COLUMN()-3)*6,1,1)=\"\"),NA(),(OFFSET(結果貼付け用!$G15,0,(COLUMN()-3)*6,1,1)))","v":{"$error":"#N/A"}},{"$f":"IF(OR(OFFSET(結果貼付け用!$G15,0,(COLUMN()-3)*6,1,1)=\"-\",OFFSET(結果貼付け用!$G15,0,(COLUMN()-3)*6,1,1)=\"\"),NA(),(OFFSET(結果貼付け用!$G15,0,(COLUMN()-3)*6,1,1)))","v":{"$error":"#N/A"}},{"$f":"IF(OR(OFFSET(結果貼付け用!$G15,0,(COLUMN()-3)*6,1,1)=\"-\",OFFSET(結果貼付け用!$G15,0,(COLUMN()-3)*6,1,1)=\"\"),NA(),(OFFSET(結果貼付け用!$G15,0,(COLUMN()-3)*6,1,1)))","v":{"$error":"#N/A"}},{"$f":"IF(OR(OFFSET(結果貼付け用!$G15,0,(COLUMN()-3)*6,1,1)=\"-\",OFFSET(結果貼付け用!$G15,0,(COLUMN()-3)*6,1,1)=\"\"),NA(),(OFFSET(結果貼付け用!$G15,0,(COLUMN()-3)*6,1,1)))","v":{"$error":"#N/A"}},{"$f":"IF(OR(OFFSET(結果貼付け用!$G15,0,(COLUMN()-3)*6,1,1)=\"-\",OFFSET(結果貼付け用!$G15,0,(COLUMN()-3)*6,1,1)=\"\"),NA(),(OFFSET(結果貼付け用!$G15,0,(COLUMN()-3)*6,1,1)))","v":{"$error":"#N/A"}},{"$f":"IF(OR(OFFSET(結果貼付け用!$G15,0,(COLUMN()-3)*6,1,1)=\"-\",OFFSET(結果貼付け用!$G15,0,(COLUMN()-3)*6,1,1)=\"\"),NA(),(OFFSET(結果貼付け用!$G15,0,(COLUMN()-3)*6,1,1)))","v":{"$error":"#N/A"}},{"$f":"IF(OR(OFFSET(結果貼付け用!$G15,0,(COLUMN()-3)*6,1,1)=\"-\",OFFSET(結果貼付け用!$G15,0,(COLUMN()-3)*6,1,1)=\"\"),NA(),(OFFSET(結果貼付け用!$G15,0,(COLUMN()-3)*6,1,1)))","v":{"$error":"#N/A"}},{"$f":"IF(OR(OFFSET(結果貼付け用!$G15,0,(COLUMN()-3)*6,1,1)=\"-\",OFFSET(結果貼付け用!$G15,0,(COLUMN()-3)*6,1,1)=\"\"),NA(),(OFFSET(結果貼付け用!$G15,0,(COLUMN()-3)*6,1,1)))","v":{"$error":"#N/A"}},{"$f":"IF(OR(OFFSET(結果貼付け用!$G15,0,(COLUMN()-3)*6,1,1)=\"-\",OFFSET(結果貼付け用!$G15,0,(COLUMN()-3)*6,1,1)=\"\"),NA(),(OFFSET(結果貼付け用!$G15,0,(COLUMN()-3)*6,1,1)))","v":{"$error":"#N/A"}},{"$f":"IF(OR(OFFSET(結果貼付け用!$G15,0,(COLUMN()-3)*6,1,1)=\"-\",OFFSET(結果貼付け用!$G15,0,(COLUMN()-3)*6,1,1)=\"\"),NA(),(OFFSET(結果貼付け用!$G15,0,(COLUMN()-3)*6,1,1)))","v":{"$error":"#N/A"}},{"$f":"IF(OR(OFFSET(結果貼付け用!$G15,0,(COLUMN()-3)*6,1,1)=\"-\",OFFSET(結果貼付け用!$G15,0,(COLUMN()-3)*6,1,1)=\"\"),NA(),(OFFSET(結果貼付け用!$G15,0,(COLUMN()-3)*6,1,1)))","v":{"$error":"#N/A"}},{"$f":"IF(OR(OFFSET(結果貼付け用!$G15,0,(COLUMN()-3)*6,1,1)=\"-\",OFFSET(結果貼付け用!$G15,0,(COLUMN()-3)*6,1,1)=\"\"),NA(),(OFFSET(結果貼付け用!$G15,0,(COLUMN()-3)*6,1,1)))","v":{"$error":"#N/A"}},{"$f":"IF(OR(OFFSET(結果貼付け用!$G15,0,(COLUMN()-3)*6,1,1)=\"-\",OFFSET(結果貼付け用!$G15,0,(COLUMN()-3)*6,1,1)=\"\"),NA(),(OFFSET(結果貼付け用!$G15,0,(COLUMN()-3)*6,1,1)))","v":{"$error":"#N/A"}},{"$f":"IF(OR(OFFSET(結果貼付け用!$G15,0,(COLUMN()-3)*6,1,1)=\"-\",OFFSET(結果貼付け用!$G15,0,(COLUMN()-3)*6,1,1)=\"\"),NA(),(OFFSET(結果貼付け用!$G15,0,(COLUMN()-3)*6,1,1)))","v":{"$error":"#N/A"}},{"$f":"IF(OR(OFFSET(結果貼付け用!$G15,0,(COLUMN()-3)*6,1,1)=\"-\",OFFSET(結果貼付け用!$G15,0,(COLUMN()-3)*6,1,1)=\"\"),NA(),(OFFSET(結果貼付け用!$G15,0,(COLUMN()-3)*6,1,1)))","v":{"$error":"#N/A"}},{"$f":"IF(OR(OFFSET(結果貼付け用!$G15,0,(COLUMN()-3)*6,1,1)=\"-\",OFFSET(結果貼付け用!$G15,0,(COLUMN()-3)*6,1,1)=\"\"),NA(),(OFFSET(結果貼付け用!$G15,0,(COLUMN()-3)*6,1,1)))","v":{"$error":"#N/A"}}]
[null,"人生における仕事の意味",{"$f":"IF(OR(OFFSET(結果貼付け用!$G16,0,(COLUMN()-3)*6,1,1)=\"-\",OFFSET(結果貼付け用!$G16,0,(COLUMN()-3)*6,1,1)=\"\"),NA(),(OFFSET(結果貼付け用!$G16,0,(COLUMN()-3)*6,1,1)))","v":{"$error":"#N/A"}},{"$f":"IF(OR(OFFSET(結果貼付け用!$G16,0,(COLUMN()-3)*6,1,1)=\"-\",OFFSET(結果貼付け用!$G16,0,(COLUMN()-3)*6,1,1)=\"\"),NA(),(OFFSET(結果貼付け用!$G16,0,(COLUMN()-3)*6,1,1)))","v":{"$error":"#N/A"}},{"$f":"IF(OR(OFFSET(結果貼付け用!$G16,0,(COLUMN()-3)*6,1,1)=\"-\",OFFSET(結果貼付け用!$G16,0,(COLUMN()-3)*6,1,1)=\"\"),NA(),(OFFSET(結果貼付け用!$G16,0,(COLUMN()-3)*6,1,1)))","v":{"$error":"#N/A"}},{"$f":"IF(OR(OFFSET(結果貼付け用!$G16,0,(COLUMN()-3)*6,1,1)=\"-\",OFFSET(結果貼付け用!$G16,0,(COLUMN()-3)*6,1,1)=\"\"),NA(),(OFFSET(結果貼付け用!$G16,0,(COLUMN()-3)*6,1,1)))","v":{"$error":"#N/A"}},{"$f":"IF(OR(OFFSET(結果貼付け用!$G16,0,(COLUMN()-3)*6,1,1)=\"-\",OFFSET(結果貼付け用!$G16,0,(COLUMN()-3)*6,1,1)=\"\"),NA(),(OFFSET(結果貼付け用!$G16,0,(COLUMN()-3)*6,1,1)))","v":{"$error":"#N/A"}},{"$f":"IF(OR(OFFSET(結果貼付け用!$G16,0,(COLUMN()-3)*6,1,1)=\"-\",OFFSET(結果貼付け用!$G16,0,(COLUMN()-3)*6,1,1)=\"\"),NA(),(OFFSET(結果貼付け用!$G16,0,(COLUMN()-3)*6,1,1)))","v":{"$error":"#N/A"}},{"$f":"IF(OR(OFFSET(結果貼付け用!$G16,0,(COLUMN()-3)*6,1,1)=\"-\",OFFSET(結果貼付け用!$G16,0,(COLUMN()-3)*6,1,1)=\"\"),NA(),(OFFSET(結果貼付け用!$G16,0,(COLUMN()-3)*6,1,1)))","v":{"$error":"#N/A"}},{"$f":"IF(OR(OFFSET(結果貼付け用!$G16,0,(COLUMN()-3)*6,1,1)=\"-\",OFFSET(結果貼付け用!$G16,0,(COLUMN()-3)*6,1,1)=\"\"),NA(),(OFFSET(結果貼付け用!$G16,0,(COLUMN()-3)*6,1,1)))","v":{"$error":"#N/A"}},{"$f":"IF(OR(OFFSET(結果貼付け用!$G16,0,(COLUMN()-3)*6,1,1)=\"-\",OFFSET(結果貼付け用!$G16,0,(COLUMN()-3)*6,1,1)=\"\"),NA(),(OFFSET(結果貼付け用!$G16,0,(COLUMN()-3)*6,1,1)))","v":{"$error":"#N/A"}},{"$f":"IF(OR(OFFSET(結果貼付け用!$G16,0,(COLUMN()-3)*6,1,1)=\"-\",OFFSET(結果貼付け用!$G16,0,(COLUMN()-3)*6,1,1)=\"\"),NA(),(OFFSET(結果貼付け用!$G16,0,(COLUMN()-3)*6,1,1)))","v":{"$error":"#N/A"}},{"$f":"IF(OR(OFFSET(結果貼付け用!$G16,0,(COLUMN()-3)*6,1,1)=\"-\",OFFSET(結果貼付け用!$G16,0,(COLUMN()-3)*6,1,1)=\"\"),NA(),(OFFSET(結果貼付け用!$G16,0,(COLUMN()-3)*6,1,1)))","v":{"$error":"#N/A"}},{"$f":"IF(OR(OFFSET(結果貼付け用!$G16,0,(COLUMN()-3)*6,1,1)=\"-\",OFFSET(結果貼付け用!$G16,0,(COLUMN()-3)*6,1,1)=\"\"),NA(),(OFFSET(結果貼付け用!$G16,0,(COLUMN()-3)*6,1,1)))","v":{"$error":"#N/A"}},{"$f":"IF(OR(OFFSET(結果貼付け用!$G16,0,(COLUMN()-3)*6,1,1)=\"-\",OFFSET(結果貼付け用!$G16,0,(COLUMN()-3)*6,1,1)=\"\"),NA(),(OFFSET(結果貼付け用!$G16,0,(COLUMN()-3)*6,1,1)))","v":{"$error":"#N/A"}},{"$f":"IF(OR(OFFSET(結果貼付け用!$G16,0,(COLUMN()-3)*6,1,1)=\"-\",OFFSET(結果貼付け用!$G16,0,(COLUMN()-3)*6,1,1)=\"\"),NA(),(OFFSET(結果貼付け用!$G16,0,(COLUMN()-3)*6,1,1)))","v":{"$error":"#N/A"}},{"$f":"IF(OR(OFFSET(結果貼付け用!$G16,0,(COLUMN()-3)*6,1,1)=\"-\",OFFSET(結果貼付け用!$G16,0,(COLUMN()-3)*6,1,1)=\"\"),NA(),(OFFSET(結果貼付け用!$G16,0,(COLUMN()-3)*6,1,1)))","v":{"$error":"#N/A"}},{"$f":"IF(OR(OFFSET(結果貼付け用!$G16,0,(COLUMN()-3)*6,1,1)=\"-\",OFFSET(結果貼付け用!$G16,0,(COLUMN()-3)*6,1,1)=\"\"),NA(),(OFFSET(結果貼付け用!$G16,0,(COLUMN()-3)*6,1,1)))","v":{"$error":"#N/A"}},{"$f":"IF(OR(OFFSET(結果貼付け用!$G16,0,(COLUMN()-3)*6,1,1)=\"-\",OFFSET(結果貼付け用!$G16,0,(COLUMN()-3)*6,1,1)=\"\"),NA(),(OFFSET(結果貼付け用!$G16,0,(COLUMN()-3)*6,1,1)))","v":{"$error":"#N/A"}},{"$f":"IF(OR(OFFSET(結果貼付け用!$G16,0,(COLUMN()-3)*6,1,1)=\"-\",OFFSET(結果貼付け用!$G16,0,(COLUMN()-3)*6,1,1)=\"\"),NA(),(OFFSET(結果貼付け用!$G16,0,(COLUMN()-3)*6,1,1)))","v":{"$error":"#N/A"}},{"$f":"IF(OR(OFFSET(結果貼付け用!$G16,0,(COLUMN()-3)*6,1,1)=\"-\",OFFSET(結果貼付け用!$G16,0,(COLUMN()-3)*6,1,1)=\"\"),NA(),(OFFSET(結果貼付け用!$G16,0,(COLUMN()-3)*6,1,1)))","v":{"$error":"#N/A"}},{"$f":"IF(OR(OFFSET(結果貼付け用!$G16,0,(COLUMN()-3)*6,1,1)=\"-\",OFFSET(結果貼付け用!$G16,0,(COLUMN()-3)*6,1,1)=\"\"),NA(),(OFFSET(結果貼付け用!$G16,0,(COLUMN()-3)*6,1,1)))","v":{"$error":"#N/A"}},{"$f":"IF(OR(OFFSET(結果貼付け用!$G16,0,(COLUMN()-3)*6,1,1)=\"-\",OFFSET(結果貼付け用!$G16,0,(COLUMN()-3)*6,1,1)=\"\"),NA(),(OFFSET(結果貼付け用!$G16,0,(COLUMN()-3)*6,1,1)))","v":{"$error":"#N/A"}},{"$f":"IF(OR(OFFSET(結果貼付け用!$G16,0,(COLUMN()-3)*6,1,1)=\"-\",OFFSET(結果貼付け用!$G16,0,(COLUMN()-3)*6,1,1)=\"\"),NA(),(OFFSET(結果貼付け用!$G16,0,(COLUMN()-3)*6,1,1)))","v":{"$error":"#N/A"}},{"$f":"IF(OR(OFFSET(結果貼付け用!$G16,0,(COLUMN()-3)*6,1,1)=\"-\",OFFSET(結果貼付け用!$G16,0,(COLUMN()-3)*6,1,1)=\"\"),NA(),(OFFSET(結果貼付け用!$G16,0,(COLUMN()-3)*6,1,1)))","v":{"$error":"#N/A"}},{"$f":"IF(OR(OFFSET(結果貼付け用!$G16,0,(COLUMN()-3)*6,1,1)=\"-\",OFFSET(結果貼付け用!$G16,0,(COLUMN()-3)*6,1,1)=\"\"),NA(),(OFFSET(結果貼付け用!$G16,0,(COLUMN()-3)*6,1,1)))","v":{"$error":"#N/A"}},{"$f":"IF(OR(OFFSET(結果貼付け用!$G16,0,(COLUMN()-3)*6,1,1)=\"-\",OFFSET(結果貼付け用!$G16,0,(COLUMN()-3)*6,1,1)=\"\"),NA(),(OFFSET(結果貼付け用!$G16,0,(COLUMN()-3)*6,1,1)))","v":{"$error":"#N/A"}},{"$f":"IF(OR(OFFSET(結果貼付け用!$G16,0,(COLUMN()-3)*6,1,1)=\"-\",OFFSET(結果貼付け用!$G16,0,(COLUMN()-3)*6,1,1)=\"\"),NA(),(OFFSET(結果貼付け用!$G16,0,(COLUMN()-3)*6,1,1)))","v":{"$error":"#N/A"}},{"$f":"IF(OR(OFFSET(結果貼付け用!$G16,0,(COLUMN()-3)*6,1,1)=\"-\",OFFSET(結果貼付け用!$G16,0,(COLUMN()-3)*6,1,1)=\"\"),NA(),(OFFSET(結果貼付け用!$G16,0,(COLUMN()-3)*6,1,1)))","v":{"$error":"#N/A"}},{"$f":"IF(OR(OFFSET(結果貼付け用!$G16,0,(COLUMN()-3)*6,1,1)=\"-\",OFFSET(結果貼付け用!$G16,0,(COLUMN()-3)*6,1,1)=\"\"),NA(),(OFFSET(結果貼付け用!$G16,0,(COLUMN()-3)*6,1,1)))","v":{"$error":"#N/A"}},{"$f":"IF(OR(OFFSET(結果貼付け用!$G16,0,(COLUMN()-3)*6,1,1)=\"-\",OFFSET(結果貼付け用!$G16,0,(COLUMN()-3)*6,1,1)=\"\"),NA(),(OFFSET(結果貼付け用!$G16,0,(COLUMN()-3)*6,1,1)))","v":{"$error":"#N/A"}},{"$f":"IF(OR(OFFSET(結果貼付け用!$G16,0,(COLUMN()-3)*6,1,1)=\"-\",OFFSET(結果貼付け用!$G16,0,(COLUMN()-3)*6,1,1)=\"\"),NA(),(OFFSET(結果貼付け用!$G16,0,(COLUMN()-3)*6,1,1)))","v":{"$error":"#N/A"}}]
[]
[]
[]
[]
[]
[]
[]
[]
[]
[]
[]
[]
[]
[]
[]
[]
[]
[]
[]
[]
[null,"実施開始日時",{"$f":"IF(結果貼付け用!B2=\"\",NA(),結果貼付け用!B2)","v":{"$error":"#N/A"}},{"$f":"IF((OFFSET(結果貼付け用!$H$2, 0, (COLUMN() - COLUMN($D$20)) * 6))=\"\",NA(),(OFFSET(結果貼付け用!$H$2, 0, (COLUMN() - COLUMN($D$20)) * 6)))","v":{"$error":"#N/A"}},{"$f":"IF((OFFSET(結果貼付け用!$H$2, 0, (COLUMN() - COLUMN($D$20)) * 6))=\"\",NA(),(OFFSET(結果貼付け用!$H$2, 0, (COLUMN() - COLUMN($D$20)) * 6)))","v":{"$error":"#N/A"}},{"$f":"IF((OFFSET(結果貼付け用!$H$2, 0, (COLUMN() - COLUMN($D$20)) * 6))=\"\",NA(),(OFFSET(結果貼付け用!$H$2, 0, (COLUMN() - COLUMN($D$20)) * 6)))","v":{"$error":"#N/A"}},{"$f":"IF((OFFSET(結果貼付け用!$H$2, 0, (COLUMN() - COLUMN($D$20)) * 6))=\"\",NA(),(OFFSET(結果貼付け用!$H$2, 0, (COLUMN() - COLUMN($D$20)) * 6)))","v":{"$error":"#N/A"}},{"$f":"IF((OFFSET(結果貼付け用!$H$2, 0, (COLUMN() - COLUMN($D$20)) * 6))=\"\",NA(),(OFFSET(結果貼付け用!$H$2, 0, (COLUMN() - COLUMN($D$20)) * 6)))","v":{"$error":"#N/A"}},{"$f":"IF((OFFSET(結果貼付け用!$H$2, 0, (COLUMN() - COLUMN($D$20)) * 6))=\"\",NA(),(OFFSET(結果貼付け用!$H$2, 0, (COLUMN() - COLUMN($D$20)) * 6)))","v":{"$error":"#N/A"}},{"$f":"IF((OFFSET(結果貼付け用!$H$2, 0, (COLUMN() - COLUMN($D$20)) * 6))=\"\",NA(),(OFFSET(結果貼付け用!$H$2, 0, (COLUMN() - COLUMN($D$20)) * 6)))","v":{"$error":"#N/A"}},{"$f":"IF((OFFSET(結果貼付け用!$H$2, 0, (COLUMN() - COLUMN($D$20)) * 6))=\"\",NA(),(OFFSET(結果貼付け用!$H$2, 0, (COLUMN() - COLUMN($D$20)) * 6)))","v":{"$error":"#N/A"}},{"$f":"IF((OFFSET(結果貼付け用!$H$2, 0, (COLUMN() - COLUMN($D$20)) * 6))=\"\",NA(),(OFFSET(結果貼付け用!$H$2, 0, (COLUMN() - COLUMN($D$20)) * 6)))","v":{"$error":"#N/A"}},{"$f":"IF((OFFSET(結果貼付け用!$H$2, 0, (COLUMN() - COLUMN($D$20)) * 6))=\"\",NA(),(OFFSET(結果貼付け用!$H$2, 0, (COLUMN() - COLUMN($D$20)) * 6)))","v":{"$error":"#N/A"}},{"$f":"IF((OFFSET(結果貼付け用!$H$2, 0, (COLUMN() - COLUMN($D$20)) * 6))=\"\",NA(),(OFFSET(結果貼付け用!$H$2, 0, (COLUMN() - COLUMN($D$20)) * 6)))","v":{"$error":"#N/A"}},{"$f":"IF((OFFSET(結果貼付け用!$H$2, 0, (COLUMN() - COLUMN($D$20)) * 6))=\"\",NA(),(OFFSET(結果貼付け用!$H$2, 0, (COLUMN() - COLUMN($D$20)) * 6)))","v":{"$error":"#N/A"}},{"$f":"IF((OFFSET(結果貼付け用!$H$2, 0, (COLUMN() - COLUMN($D$20)) * 6))=\"\",NA(),(OFFSET(結果貼付け用!$H$2, 0, (COLUMN() - COLUMN($D$20)) * 6)))","v":{"$error":"#N/A"}},{"$f":"IF((OFFSET(結果貼付け用!$H$2, 0, (COLUMN() - COLUMN($D$20)) * 6))=\"\",NA(),(OFFSET(結果貼付け用!$H$2, 0, (COLUMN() - COLUMN($D$20)) * 6)))","v":{"$error":"#N/A"}},{"$f":"IF((OFFSET(結果貼付け用!$H$2, 0, (COLUMN() - COLUMN($D$20)) * 6))=\"\",NA(),(OFFSET(結果貼付け用!$H$2, 0, (COLUMN() - COLUMN($D$20)) * 6)))","v":{"$error":"#N/A"}},{"$f":"IF((OFFSET(結果貼付け用!$H$2, 0, (COLUMN() - COLUMN($D$20)) * 6))=\"\",NA(),(OFFSET(結果貼付け用!$H$2, 0, (COLUMN() - COLUMN($D$20)) * 6)))","v":{"$error":"#N/A"}},{"$f":"IF((OFFSET(結果貼付け用!$H$2, 0, (COLUMN() - COLUMN($D$20)) * 6))=\"\",NA(),(OFFSET(結果貼付け用!$H$2, 0, (COLUMN() - COLUMN($D$20)) * 6)))","v":{"$error":"#N/A"}},{"$f":"IF((OFFSET(結果貼付け用!$H$2, 0, (COLUMN() - COLUMN($D$20)) * 6))=\"\",NA(),(OFFSET(結果貼付け用!$H$2, 0, (COLUMN() - COLUMN($D$20)) * 6)))","v":{"$error":"#N/A"}},{"$f":"IF((OFFSET(結果貼付け用!$H$2, 0, (COLUMN() - COLUMN($D$20)) * 6))=\"\",NA(),(OFFSET(結果貼付け用!$H$2, 0, (COLUMN() - COLUMN($D$20)) * 6)))","v":{"$error":"#N/A"}},{"$f":"IF((OFFSET(結果貼付け用!$H$2, 0, (COLUMN() - COLUMN($D$20)) * 6))=\"\",NA(),(OFFSET(結果貼付け用!$H$2, 0, (COLUMN() - COLUMN($D$20)) * 6)))","v":{"$error":"#N/A"}},{"$f":"IF((OFFSET(結果貼付け用!$H$2, 0, (COLUMN() - COLUMN($D$20)) * 6))=\"\",NA(),(OFFSET(結果貼付け用!$H$2, 0, (COLUMN() - COLUMN($D$20)) * 6)))","v":{"$error":"#N/A"}},{"$f":"IF((OFFSET(結果貼付け用!$H$2, 0, (COLUMN() - COLUMN($D$20)) * 6))=\"\",NA(),(OFFSET(結果貼付け用!$H$2, 0, (COLUMN() - COLUMN($D$20)) * 6)))","v":{"$error":"#N/A"}},{"$f":"IF((OFFSET(結果貼付け用!$H$2, 0, (COLUMN() - COLUMN($D$20)) * 6))=\"\",NA(),(OFFSET(結果貼付け用!$H$2, 0, (COLUMN() - COLUMN($D$20)) * 6)))","v":{"$error":"#N/A"}},{"$f":"IF((OFFSET(結果貼付け用!$H$2, 0, (COLUMN() - COLUMN($D$20)) * 6))=\"\",NA(),(OFFSET(結果貼付け用!$H$2, 0, (COLUMN() - COLUMN($D$20)) * 6)))","v":{"$error":"#N/A"}},{"$f":"IF((OFFSET(結果貼付け用!$H$2, 0, (COLUMN() - COLUMN($D$20)) * 6))=\"\",NA(),(OFFSET(結果貼付け用!$H$2, 0, (COLUMN() - COLUMN($D$20)) * 6)))","v":{"$error":"#N/A"}},{"$f":"IF((OFFSET(結果貼付け用!$H$2, 0, (COLUMN() - COLUMN($D$20)) * 6))=\"\",NA(),(OFFSET(結果貼付け用!$H$2, 0, (COLUMN() - COLUMN($D$20)) * 6)))","v":{"$error":"#N/A"}},{"$f":"IF((OFFSET(結果貼付け用!$H$2, 0, (COLUMN() - COLUMN($D$20)) * 6))=\"\",NA(),(OFFSET(結果貼付け用!$H$2, 0, (COLUMN() - COLUMN($D$20)) * 6)))","v":{"$error":"#N/A"}},{"$f":"IF((OFFSET(結果貼付け用!$H$2, 0, (COLUMN() - COLUMN($D$20)) * 6))=\"\",NA(),(OFFSET(結果貼付け用!$H$2, 0, (COLUMN() - COLUMN($D$20)) * 6)))","v":{"$error":"#N/A"}},{"$f":"IF((OFFSET(結果貼付け用!$H$2, 0, (COLUMN() - COLUMN($D$20)) * 6))=\"\",NA(),(OFFSET(結果貼付け用!$H$2, 0, (COLUMN() - COLUMN($D$20)) * 6)))","v":{"$error":"#N/A"}}]
[null,"部下支持",{"$f":"IF(OR(OFFSET(結果貼付け用!$G17,0,(COLUMN()-3)*6,1,1)=\"-\",OFFSET(結果貼付け用!$G17,0,(COLUMN()-3)*6,1,1)=\"\"),NA(),(OFFSET(結果貼付け用!$G17,0,(COLUMN()-3)*6,1,1)))","v":{"$error":"#N/A"}},{"$f":"IF(OR(OFFSET(結果貼付け用!$G17,0,(COLUMN()-3)*6,1,1)=\"-\",OFFSET(結果貼付け用!$G17,0,(COLUMN()-3)*6,1,1)=\"\"),NA(),(OFFSET(結果貼付け用!$G17,0,(COLUMN()-3)*6,1,1)))","v":{"$error":"#N/A"}},{"$f":"IF(OR(OFFSET(結果貼付け用!$G17,0,(COLUMN()-3)*6,1,1)=\"-\",OFFSET(結果貼付け用!$G17,0,(COLUMN()-3)*6,1,1)=\"\"),NA(),(OFFSET(結果貼付け用!$G17,0,(COLUMN()-3)*6,1,1)))","v":{"$error":"#N/A"}},{"$f":"IF(OR(OFFSET(結果貼付け用!$G17,0,(COLUMN()-3)*6,1,1)=\"-\",OFFSET(結果貼付け用!$G17,0,(COLUMN()-3)*6,1,1)=\"\"),NA(),(OFFSET(結果貼付け用!$G17,0,(COLUMN()-3)*6,1,1)))","v":{"$error":"#N/A"}},{"$f":"IF(OR(OFFSET(結果貼付け用!$G17,0,(COLUMN()-3)*6,1,1)=\"-\",OFFSET(結果貼付け用!$G17,0,(COLUMN()-3)*6,1,1)=\"\"),NA(),(OFFSET(結果貼付け用!$G17,0,(COLUMN()-3)*6,1,1)))","v":{"$error":"#N/A"}},{"$f":"IF(OR(OFFSET(結果貼付け用!$G17,0,(COLUMN()-3)*6,1,1)=\"-\",OFFSET(結果貼付け用!$G17,0,(COLUMN()-3)*6,1,1)=\"\"),NA(),(OFFSET(結果貼付け用!$G17,0,(COLUMN()-3)*6,1,1)))","v":{"$error":"#N/A"}},{"$f":"IF(OR(OFFSET(結果貼付け用!$G17,0,(COLUMN()-3)*6,1,1)=\"-\",OFFSET(結果貼付け用!$G17,0,(COLUMN()-3)*6,1,1)=\"\"),NA(),(OFFSET(結果貼付け用!$G17,0,(COLUMN()-3)*6,1,1)))","v":{"$error":"#N/A"}},{"$f":"IF(OR(OFFSET(結果貼付け用!$G17,0,(COLUMN()-3)*6,1,1)=\"-\",OFFSET(結果貼付け用!$G17,0,(COLUMN()-3)*6,1,1)=\"\"),NA(),(OFFSET(結果貼付け用!$G17,0,(COLUMN()-3)*6,1,1)))","v":{"$error":"#N/A"}},{"$f":"IF(OR(OFFSET(結果貼付け用!$G17,0,(COLUMN()-3)*6,1,1)=\"-\",OFFSET(結果貼付け用!$G17,0,(COLUMN()-3)*6,1,1)=\"\"),NA(),(OFFSET(結果貼付け用!$G17,0,(COLUMN()-3)*6,1,1)))","v":{"$error":"#N/A"}},{"$f":"IF(OR(OFFSET(結果貼付け用!$G17,0,(COLUMN()-3)*6,1,1)=\"-\",OFFSET(結果貼付け用!$G17,0,(COLUMN()-3)*6,1,1)=\"\"),NA(),(OFFSET(結果貼付け用!$G17,0,(COLUMN()-3)*6,1,1)))","v":{"$error":"#N/A"}},{"$f":"IF(OR(OFFSET(結果貼付け用!$G17,0,(COLUMN()-3)*6,1,1)=\"-\",OFFSET(結果貼付け用!$G17,0,(COLUMN()-3)*6,1,1)=\"\"),NA(),(OFFSET(結果貼付け用!$G17,0,(COLUMN()-3)*6,1,1)))","v":{"$error":"#N/A"}},{"$f":"IF(OR(OFFSET(結果貼付け用!$G17,0,(COLUMN()-3)*6,1,1)=\"-\",OFFSET(結果貼付け用!$G17,0,(COLUMN()-3)*6,1,1)=\"\"),NA(),(OFFSET(結果貼付け用!$G17,0,(COLUMN()-3)*6,1,1)))","v":{"$error":"#N/A"}},{"$f":"IF(OR(OFFSET(結果貼付け用!$G17,0,(COLUMN()-3)*6,1,1)=\"-\",OFFSET(結果貼付け用!$G17,0,(COLUMN()-3)*6,1,1)=\"\"),NA(),(OFFSET(結果貼付け用!$G17,0,(COLUMN()-3)*6,1,1)))","v":{"$error":"#N/A"}},{"$f":"IF(OR(OFFSET(結果貼付け用!$G17,0,(COLUMN()-3)*6,1,1)=\"-\",OFFSET(結果貼付け用!$G17,0,(COLUMN()-3)*6,1,1)=\"\"),NA(),(OFFSET(結果貼付け用!$G17,0,(COLUMN()-3)*6,1,1)))","v":{"$error":"#N/A"}},{"$f":"IF(OR(OFFSET(結果貼付け用!$G17,0,(COLUMN()-3)*6,1,1)=\"-\",OFFSET(結果貼付け用!$G17,0,(COLUMN()-3)*6,1,1)=\"\"),NA(),(OFFSET(結果貼付け用!$G17,0,(COLUMN()-3)*6,1,1)))","v":{"$error":"#N/A"}},{"$f":"IF(OR(OFFSET(結果貼付け用!$G17,0,(COLUMN()-3)*6,1,1)=\"-\",OFFSET(結果貼付け用!$G17,0,(COLUMN()-3)*6,1,1)=\"\"),NA(),(OFFSET(結果貼付け用!$G17,0,(COLUMN()-3)*6,1,1)))","v":{"$error":"#N/A"}},{"$f":"IF(OR(OFFSET(結果貼付け用!$G17,0,(COLUMN()-3)*6,1,1)=\"-\",OFFSET(結果貼付け用!$G17,0,(COLUMN()-3)*6,1,1)=\"\"),NA(),(OFFSET(結果貼付け用!$G17,0,(COLUMN()-3)*6,1,1)))","v":{"$error":"#N/A"}},{"$f":"IF(OR(OFFSET(結果貼付け用!$G17,0,(COLUMN()-3)*6,1,1)=\"-\",OFFSET(結果貼付け用!$G17,0,(COLUMN()-3)*6,1,1)=\"\"),NA(),(OFFSET(結果貼付け用!$G17,0,(COLUMN()-3)*6,1,1)))","v":{"$error":"#N/A"}},{"$f":"IF(OR(OFFSET(結果貼付け用!$G17,0,(COLUMN()-3)*6,1,1)=\"-\",OFFSET(結果貼付け用!$G17,0,(COLUMN()-3)*6,1,1)=\"\"),NA(),(OFFSET(結果貼付け用!$G17,0,(COLUMN()-3)*6,1,1)))","v":{"$error":"#N/A"}},{"$f":"IF(OR(OFFSET(結果貼付け用!$G17,0,(COLUMN()-3)*6,1,1)=\"-\",OFFSET(結果貼付け用!$G17,0,(COLUMN()-3)*6,1,1)=\"\"),NA(),(OFFSET(結果貼付け用!$G17,0,(COLUMN()-3)*6,1,1)))","v":{"$error":"#N/A"}},{"$f":"IF(OR(OFFSET(結果貼付け用!$G17,0,(COLUMN()-3)*6,1,1)=\"-\",OFFSET(結果貼付け用!$G17,0,(COLUMN()-3)*6,1,1)=\"\"),NA(),(OFFSET(結果貼付け用!$G17,0,(COLUMN()-3)*6,1,1)))","v":{"$error":"#N/A"}},{"$f":"IF(OR(OFFSET(結果貼付け用!$G17,0,(COLUMN()-3)*6,1,1)=\"-\",OFFSET(結果貼付け用!$G17,0,(COLUMN()-3)*6,1,1)=\"\"),NA(),(OFFSET(結果貼付け用!$G17,0,(COLUMN()-3)*6,1,1)))","v":{"$error":"#N/A"}},{"$f":"IF(OR(OFFSET(結果貼付け用!$G17,0,(COLUMN()-3)*6,1,1)=\"-\",OFFSET(結果貼付け用!$G17,0,(COLUMN()-3)*6,1,1)=\"\"),NA(),(OFFSET(結果貼付け用!$G17,0,(COLUMN()-3)*6,1,1)))","v":{"$error":"#N/A"}},{"$f":"IF(OR(OFFSET(結果貼付け用!$G17,0,(COLUMN()-3)*6,1,1)=\"-\",OFFSET(結果貼付け用!$G17,0,(COLUMN()-3)*6,1,1)=\"\"),NA(),(OFFSET(結果貼付け用!$G17,0,(COLUMN()-3)*6,1,1)))","v":{"$error":"#N/A"}},{"$f":"IF(OR(OFFSET(結果貼付け用!$G17,0,(COLUMN()-3)*6,1,1)=\"-\",OFFSET(結果貼付け用!$G17,0,(COLUMN()-3)*6,1,1)=\"\"),NA(),(OFFSET(結果貼付け用!$G17,0,(COLUMN()-3)*6,1,1)))","v":{"$error":"#N/A"}},{"$f":"IF(OR(OFFSET(結果貼付け用!$G17,0,(COLUMN()-3)*6,1,1)=\"-\",OFFSET(結果貼付け用!$G17,0,(COLUMN()-3)*6,1,1)=\"\"),NA(),(OFFSET(結果貼付け用!$G17,0,(COLUMN()-3)*6,1,1)))","v":{"$error":"#N/A"}},{"$f":"IF(OR(OFFSET(結果貼付け用!$G17,0,(COLUMN()-3)*6,1,1)=\"-\",OFFSET(結果貼付け用!$G17,0,(COLUMN()-3)*6,1,1)=\"\"),NA(),(OFFSET(結果貼付け用!$G17,0,(COLUMN()-3)*6,1,1)))","v":{"$error":"#N/A"}},{"$f":"IF(OR(OFFSET(結果貼付け用!$G17,0,(COLUMN()-3)*6,1,1)=\"-\",OFFSET(結果貼付け用!$G17,0,(COLUMN()-3)*6,1,1)=\"\"),NA(),(OFFSET(結果貼付け用!$G17,0,(COLUMN()-3)*6,1,1)))","v":{"$error":"#N/A"}},{"$f":"IF(OR(OFFSET(結果貼付け用!$G17,0,(COLUMN()-3)*6,1,1)=\"-\",OFFSET(結果貼付け用!$G17,0,(COLUMN()-3)*6,1,1)=\"\"),NA(),(OFFSET(結果貼付け用!$G17,0,(COLUMN()-3)*6,1,1)))","v":{"$error":"#N/A"}},{"$f":"IF(OR(OFFSET(結果貼付け用!$G17,0,(COLUMN()-3)*6,1,1)=\"-\",OFFSET(結果貼付け用!$G17,0,(COLUMN()-3)*6,1,1)=\"\"),NA(),(OFFSET(結果貼付け用!$G17,0,(COLUMN()-3)*6,1,1)))","v":{"$error":"#N/A"}}]
[null,"上司からの意見尊重",{"$f":"IF(OR(OFFSET(結果貼付け用!$G18,0,(COLUMN()-3)*6,1,1)=\"-\",OFFSET(結果貼付け用!$G18,0,(COLUMN()-3)*6,1,1)=\"\"),NA(),(OFFSET(結果貼付け用!$G18,0,(COLUMN()-3)*6,1,1)))","v":{"$error":"#N/A"}},{"$f":"IF(OR(OFFSET(結果貼付け用!$G18,0,(COLUMN()-3)*6,1,1)=\"-\",OFFSET(結果貼付け用!$G18,0,(COLUMN()-3)*6,1,1)=\"\"),NA(),(OFFSET(結果貼付け用!$G18,0,(COLUMN()-3)*6,1,1)))","v":{"$error":"#N/A"}},{"$f":"IF(OR(OFFSET(結果貼付け用!$G18,0,(COLUMN()-3)*6,1,1)=\"-\",OFFSET(結果貼付け用!$G18,0,(COLUMN()-3)*6,1,1)=\"\"),NA(),(OFFSET(結果貼付け用!$G18,0,(COLUMN()-3)*6,1,1)))","v":{"$error":"#N/A"}},{"$f":"IF(OR(OFFSET(結果貼付け用!$G18,0,(COLUMN()-3)*6,1,1)=\"-\",OFFSET(結果貼付け用!$G18,0,(COLUMN()-3)*6,1,1)=\"\"),NA(),(OFFSET(結果貼付け用!$G18,0,(COLUMN()-3)*6,1,1)))","v":{"$error":"#N/A"}},{"$f":"IF(OR(OFFSET(結果貼付け用!$G18,0,(COLUMN()-3)*6,1,1)=\"-\",OFFSET(結果貼付け用!$G18,0,(COLUMN()-3)*6,1,1)=\"\"),NA(),(OFFSET(結果貼付け用!$G18,0,(COLUMN()-3)*6,1,1)))","v":{"$error":"#N/A"}},{"$f":"IF(OR(OFFSET(結果貼付け用!$G18,0,(COLUMN()-3)*6,1,1)=\"-\",OFFSET(結果貼付け用!$G18,0,(COLUMN()-3)*6,1,1)=\"\"),NA(),(OFFSET(結果貼付け用!$G18,0,(COLUMN()-3)*6,1,1)))","v":{"$error":"#N/A"}},{"$f":"IF(OR(OFFSET(結果貼付け用!$G18,0,(COLUMN()-3)*6,1,1)=\"-\",OFFSET(結果貼付け用!$G18,0,(COLUMN()-3)*6,1,1)=\"\"),NA(),(OFFSET(結果貼付け用!$G18,0,(COLUMN()-3)*6,1,1)))","v":{"$error":"#N/A"}},{"$f":"IF(OR(OFFSET(結果貼付け用!$G18,0,(COLUMN()-3)*6,1,1)=\"-\",OFFSET(結果貼付け用!$G18,0,(COLUMN()-3)*6,1,1)=\"\"),NA(),(OFFSET(結果貼付け用!$G18,0,(COLUMN()-3)*6,1,1)))","v":{"$error":"#N/A"}},{"$f":"IF(OR(OFFSET(結果貼付け用!$G18,0,(COLUMN()-3)*6,1,1)=\"-\",OFFSET(結果貼付け用!$G18,0,(COLUMN()-3)*6,1,1)=\"\"),NA(),(OFFSET(結果貼付け用!$G18,0,(COLUMN()-3)*6,1,1)))","v":{"$error":"#N/A"}},{"$f":"IF(OR(OFFSET(結果貼付け用!$G18,0,(COLUMN()-3)*6,1,1)=\"-\",OFFSET(結果貼付け用!$G18,0,(COLUMN()-3)*6,1,1)=\"\"),NA(),(OFFSET(結果貼付け用!$G18,0,(COLUMN()-3)*6,1,1)))","v":{"$error":"#N/A"}},{"$f":"IF(OR(OFFSET(結果貼付け用!$G18,0,(COLUMN()-3)*6,1,1)=\"-\",OFFSET(結果貼付け用!$G18,0,(COLUMN()-3)*6,1,1)=\"\"),NA(),(OFFSET(結果貼付け用!$G18,0,(COLUMN()-3)*6,1,1)))","v":{"$error":"#N/A"}},{"$f":"IF(OR(OFFSET(結果貼付け用!$G18,0,(COLUMN()-3)*6,1,1)=\"-\",OFFSET(結果貼付け用!$G18,0,(COLUMN()-3)*6,1,1)=\"\"),NA(),(OFFSET(結果貼付け用!$G18,0,(COLUMN()-3)*6,1,1)))","v":{"$error":"#N/A"}},{"$f":"IF(OR(OFFSET(結果貼付け用!$G18,0,(COLUMN()-3)*6,1,1)=\"-\",OFFSET(結果貼付け用!$G18,0,(COLUMN()-3)*6,1,1)=\"\"),NA(),(OFFSET(結果貼付け用!$G18,0,(COLUMN()-3)*6,1,1)))","v":{"$error":"#N/A"}},{"$f":"IF(OR(OFFSET(結果貼付け用!$G18,0,(COLUMN()-3)*6,1,1)=\"-\",OFFSET(結果貼付け用!$G18,0,(COLUMN()-3)*6,1,1)=\"\"),NA(),(OFFSET(結果貼付け用!$G18,0,(COLUMN()-3)*6,1,1)))","v":{"$error":"#N/A"}},{"$f":"IF(OR(OFFSET(結果貼付け用!$G18,0,(COLUMN()-3)*6,1,1)=\"-\",OFFSET(結果貼付け用!$G18,0,(COLUMN()-3)*6,1,1)=\"\"),NA(),(OFFSET(結果貼付け用!$G18,0,(COLUMN()-3)*6,1,1)))","v":{"$error":"#N/A"}},{"$f":"IF(OR(OFFSET(結果貼付け用!$G18,0,(COLUMN()-3)*6,1,1)=\"-\",OFFSET(結果貼付け用!$G18,0,(COLUMN()-3)*6,1,1)=\"\"),NA(),(OFFSET(結果貼付け用!$G18,0,(COLUMN()-3)*6,1,1)))","v":{"$error":"#N/A"}},{"$f":"IF(OR(OFFSET(結果貼付け用!$G18,0,(COLUMN()-3)*6,1,1)=\"-\",OFFSET(結果貼付け用!$G18,0,(COLUMN()-3)*6,1,1)=\"\"),NA(),(OFFSET(結果貼付け用!$G18,0,(COLUMN()-3)*6,1,1)))","v":{"$error":"#N/A"}},{"$f":"IF(OR(OFFSET(結果貼付け用!$G18,0,(COLUMN()-3)*6,1,1)=\"-\",OFFSET(結果貼付け用!$G18,0,(COLUMN()-3)*6,1,1)=\"\"),NA(),(OFFSET(結果貼付け用!$G18,0,(COLUMN()-3)*6,1,1)))","v":{"$error":"#N/A"}},{"$f":"IF(OR(OFFSET(結果貼付け用!$G18,0,(COLUMN()-3)*6,1,1)=\"-\",OFFSET(結果貼付け用!$G18,0,(COLUMN()-3)*6,1,1)=\"\"),NA(),(OFFSET(結果貼付け用!$G18,0,(COLUMN()-3)*6,1,1)))","v":{"$error":"#N/A"}},{"$f":"IF(OR(OFFSET(結果貼付け用!$G18,0,(COLUMN()-3)*6,1,1)=\"-\",OFFSET(結果貼付け用!$G18,0,(COLUMN()-3)*6,1,1)=\"\"),NA(),(OFFSET(結果貼付け用!$G18,0,(COLUMN()-3)*6,1,1)))","v":{"$error":"#N/A"}},{"$f":"IF(OR(OFFSET(結果貼付け用!$G18,0,(COLUMN()-3)*6,1,1)=\"-\",OFFSET(結果貼付け用!$G18,0,(COLUMN()-3)*6,1,1)=\"\"),NA(),(OFFSET(結果貼付け用!$G18,0,(COLUMN()-3)*6,1,1)))","v":{"$error":"#N/A"}},{"$f":"IF(OR(OFFSET(結果貼付け用!$G18,0,(COLUMN()-3)*6,1,1)=\"-\",OFFSET(結果貼付け用!$G18,0,(COLUMN()-3)*6,1,1)=\"\"),NA(),(OFFSET(結果貼付け用!$G18,0,(COLUMN()-3)*6,1,1)))","v":{"$error":"#N/A"}},{"$f":"IF(OR(OFFSET(結果貼付け用!$G18,0,(COLUMN()-3)*6,1,1)=\"-\",OFFSET(結果貼付け用!$G18,0,(COLUMN()-3)*6,1,1)=\"\"),NA(),(OFFSET(結果貼付け用!$G18,0,(COLUMN()-3)*6,1,1)))","v":{"$error":"#N/A"}},{"$f":"IF(OR(OFFSET(結果貼付け用!$G18,0,(COLUMN()-3)*6,1,1)=\"-\",OFFSET(結果貼付け用!$G18,0,(COLUMN()-3)*6,1,1)=\"\"),NA(),(OFFSET(結果貼付け用!$G18,0,(COLUMN()-3)*6,1,1)))","v":{"$error":"#N/A"}},{"$f":"IF(OR(OFFSET(結果貼付け用!$G18,0,(COLUMN()-3)*6,1,1)=\"-\",OFFSET(結果貼付け用!$G18,0,(COLUMN()-3)*6,1,1)=\"\"),NA(),(OFFSET(結果貼付け用!$G18,0,(COLUMN()-3)*6,1,1)))","v":{"$error":"#N/A"}},{"$f":"IF(OR(OFFSET(結果貼付け用!$G18,0,(COLUMN()-3)*6,1,1)=\"-\",OFFSET(結果貼付け用!$G18,0,(COLUMN()-3)*6,1,1)=\"\"),NA(),(OFFSET(結果貼付け用!$G18,0,(COLUMN()-3)*6,1,1)))","v":{"$error":"#N/A"}},{"$f":"IF(OR(OFFSET(結果貼付け用!$G18,0,(COLUMN()-3)*6,1,1)=\"-\",OFFSET(結果貼付け用!$G18,0,(COLUMN()-3)*6,1,1)=\"\"),NA(),(OFFSET(結果貼付け用!$G18,0,(COLUMN()-3)*6,1,1)))","v":{"$error":"#N/A"}},{"$f":"IF(OR(OFFSET(結果貼付け用!$G18,0,(COLUMN()-3)*6,1,1)=\"-\",OFFSET(結果貼付け用!$G18,0,(COLUMN()-3)*6,1,1)=\"\"),NA(),(OFFSET(結果貼付け用!$G18,0,(COLUMN()-3)*6,1,1)))","v":{"$error":"#N/A"}},{"$f":"IF(OR(OFFSET(結果貼付け用!$G18,0,(COLUMN()-3)*6,1,1)=\"-\",OFFSET(結果貼付け用!$G18,0,(COLUMN()-3)*6,1,1)=\"\"),NA(),(OFFSET(結果貼付け用!$G18,0,(COLUMN()-3)*6,1,1)))","v":{"$error":"#N/A"}},{"$f":"IF(OR(OFFSET(結果貼付け用!$G18,0,(COLUMN()-3)*6,1,1)=\"-\",OFFSET(結果貼付け用!$G18,0,(COLUMN()-3)*6,1,1)=\"\"),NA(),(OFFSET(結果貼付け用!$G18,0,(COLUMN()-3)*6,1,1)))","v":{"$error":"#N/A"}}]
[null,"上司からの強みの引き出し",{"$f":"IF(OR(OFFSET(結果貼付け用!$G19,0,(COLUMN()-3)*6,1,1)=\"-\",OFFSET(結果貼付け用!$G19,0,(COLUMN()-3)*6,1,1)=\"\"),NA(),(OFFSET(結果貼付け用!$G19,0,(COLUMN()-3)*6,1,1)))","v":{"$error":"#N/A"}},{"$f":"IF(OR(OFFSET(結果貼付け用!$G19,0,(COLUMN()-3)*6,1,1)=\"-\",OFFSET(結果貼付け用!$G19,0,(COLUMN()-3)*6,1,1)=\"\"),NA(),(OFFSET(結果貼付け用!$G19,0,(COLUMN()-3)*6,1,1)))","v":{"$error":"#N/A"}},{"$f":"IF(OR(OFFSET(結果貼付け用!$G19,0,(COLUMN()-3)*6,1,1)=\"-\",OFFSET(結果貼付け用!$G19,0,(COLUMN()-3)*6,1,1)=\"\"),NA(),(OFFSET(結果貼付け用!$G19,0,(COLUMN()-3)*6,1,1)))","v":{"$error":"#N/A"}},{"$f":"IF(OR(OFFSET(結果貼付け用!$G19,0,(COLUMN()-3)*6,1,1)=\"-\",OFFSET(結果貼付け用!$G19,0,(COLUMN()-3)*6,1,1)=\"\"),NA(),(OFFSET(結果貼付け用!$G19,0,(COLUMN()-3)*6,1,1)))","v":{"$error":"#N/A"}},{"$f":"IF(OR(OFFSET(結果貼付け用!$G19,0,(COLUMN()-3)*6,1,1)=\"-\",OFFSET(結果貼付け用!$G19,0,(COLUMN()-3)*6,1,1)=\"\"),NA(),(OFFSET(結果貼付け用!$G19,0,(COLUMN()-3)*6,1,1)))","v":{"$error":"#N/A"}},{"$f":"IF(OR(OFFSET(結果貼付け用!$G19,0,(COLUMN()-3)*6,1,1)=\"-\",OFFSET(結果貼付け用!$G19,0,(COLUMN()-3)*6,1,1)=\"\"),NA(),(OFFSET(結果貼付け用!$G19,0,(COLUMN()-3)*6,1,1)))","v":{"$error":"#N/A"}},{"$f":"IF(OR(OFFSET(結果貼付け用!$G19,0,(COLUMN()-3)*6,1,1)=\"-\",OFFSET(結果貼付け用!$G19,0,(COLUMN()-3)*6,1,1)=\"\"),NA(),(OFFSET(結果貼付け用!$G19,0,(COLUMN()-3)*6,1,1)))","v":{"$error":"#N/A"}},{"$f":"IF(OR(OFFSET(結果貼付け用!$G19,0,(COLUMN()-3)*6,1,1)=\"-\",OFFSET(結果貼付け用!$G19,0,(COLUMN()-3)*6,1,1)=\"\"),NA(),(OFFSET(結果貼付け用!$G19,0,(COLUMN()-3)*6,1,1)))","v":{"$error":"#N/A"}},{"$f":"IF(OR(OFFSET(結果貼付け用!$G19,0,(COLUMN()-3)*6,1,1)=\"-\",OFFSET(結果貼付け用!$G19,0,(COLUMN()-3)*6,1,1)=\"\"),NA(),(OFFSET(結果貼付け用!$G19,0,(COLUMN()-3)*6,1,1)))","v":{"$error":"#N/A"}},{"$f":"IF(OR(OFFSET(結果貼付け用!$G19,0,(COLUMN()-3)*6,1,1)=\"-\",OFFSET(結果貼付け用!$G19,0,(COLUMN()-3)*6,1,1)=\"\"),NA(),(OFFSET(結果貼付け用!$G19,0,(COLUMN()-3)*6,1,1)))","v":{"$error":"#N/A"}},{"$f":"IF(OR(OFFSET(結果貼付け用!$G19,0,(COLUMN()-3)*6,1,1)=\"-\",OFFSET(結果貼付け用!$G19,0,(COLUMN()-3)*6,1,1)=\"\"),NA(),(OFFSET(結果貼付け用!$G19,0,(COLUMN()-3)*6,1,1)))","v":{"$error":"#N/A"}},{"$f":"IF(OR(OFFSET(結果貼付け用!$G19,0,(COLUMN()-3)*6,1,1)=\"-\",OFFSET(結果貼付け用!$G19,0,(COLUMN()-3)*6,1,1)=\"\"),NA(),(OFFSET(結果貼付け用!$G19,0,(COLUMN()-3)*6,1,1)))","v":{"$error":"#N/A"}},{"$f":"IF(OR(OFFSET(結果貼付け用!$G19,0,(COLUMN()-3)*6,1,1)=\"-\",OFFSET(結果貼付け用!$G19,0,(COLUMN()-3)*6,1,1)=\"\"),NA(),(OFFSET(結果貼付け用!$G19,0,(COLUMN()-3)*6,1,1)))","v":{"$error":"#N/A"}},{"$f":"IF(OR(OFFSET(結果貼付け用!$G19,0,(COLUMN()-3)*6,1,1)=\"-\",OFFSET(結果貼付け用!$G19,0,(COLUMN()-3)*6,1,1)=\"\"),NA(),(OFFSET(結果貼付け用!$G19,0,(COLUMN()-3)*6,1,1)))","v":{"$error":"#N/A"}},{"$f":"IF(OR(OFFSET(結果貼付け用!$G19,0,(COLUMN()-3)*6,1,1)=\"-\",OFFSET(結果貼付け用!$G19,0,(COLUMN()-3)*6,1,1)=\"\"),NA(),(OFFSET(結果貼付け用!$G19,0,(COLUMN()-3)*6,1,1)))","v":{"$error":"#N/A"}},{"$f":"IF(OR(OFFSET(結果貼付け用!$G19,0,(COLUMN()-3)*6,1,1)=\"-\",OFFSET(結果貼付け用!$G19,0,(COLUMN()-3)*6,1,1)=\"\"),NA(),(OFFSET(結果貼付け用!$G19,0,(COLUMN()-3)*6,1,1)))","v":{"$error":"#N/A"}},{"$f":"IF(OR(OFFSET(結果貼付け用!$G19,0,(COLUMN()-3)*6,1,1)=\"-\",OFFSET(結果貼付け用!$G19,0,(COLUMN()-3)*6,1,1)=\"\"),NA(),(OFFSET(結果貼付け用!$G19,0,(COLUMN()-3)*6,1,1)))","v":{"$error":"#N/A"}},{"$f":"IF(OR(OFFSET(結果貼付け用!$G19,0,(COLUMN()-3)*6,1,1)=\"-\",OFFSET(結果貼付け用!$G19,0,(COLUMN()-3)*6,1,1)=\"\"),NA(),(OFFSET(結果貼付け用!$G19,0,(COLUMN()-3)*6,1,1)))","v":{"$error":"#N/A"}},{"$f":"IF(OR(OFFSET(結果貼付け用!$G19,0,(COLUMN()-3)*6,1,1)=\"-\",OFFSET(結果貼付け用!$G19,0,(COLUMN()-3)*6,1,1)=\"\"),NA(),(OFFSET(結果貼付け用!$G19,0,(COLUMN()-3)*6,1,1)))","v":{"$error":"#N/A"}},{"$f":"IF(OR(OFFSET(結果貼付け用!$G19,0,(COLUMN()-3)*6,1,1)=\"-\",OFFSET(結果貼付け用!$G19,0,(COLUMN()-3)*6,1,1)=\"\"),NA(),(OFFSET(結果貼付け用!$G19,0,(COLUMN()-3)*6,1,1)))","v":{"$error":"#N/A"}},{"$f":"IF(OR(OFFSET(結果貼付け用!$G19,0,(COLUMN()-3)*6,1,1)=\"-\",OFFSET(結果貼付け用!$G19,0,(COLUMN()-3)*6,1,1)=\"\"),NA(),(OFFSET(結果貼付け用!$G19,0,(COLUMN()-3)*6,1,1)))","v":{"$error":"#N/A"}},{"$f":"IF(OR(OFFSET(結果貼付け用!$G19,0,(COLUMN()-3)*6,1,1)=\"-\",OFFSET(結果貼付け用!$G19,0,(COLUMN()-3)*6,1,1)=\"\"),NA(),(OFFSET(結果貼付け用!$G19,0,(COLUMN()-3)*6,1,1)))","v":{"$error":"#N/A"}},{"$f":"IF(OR(OFFSET(結果貼付け用!$G19,0,(COLUMN()-3)*6,1,1)=\"-\",OFFSET(結果貼付け用!$G19,0,(COLUMN()-3)*6,1,1)=\"\"),NA(),(OFFSET(結果貼付け用!$G19,0,(COLUMN()-3)*6,1,1)))","v":{"$error":"#N/A"}},{"$f":"IF(OR(OFFSET(結果貼付け用!$G19,0,(COLUMN()-3)*6,1,1)=\"-\",OFFSET(結果貼付け用!$G19,0,(COLUMN()-3)*6,1,1)=\"\"),NA(),(OFFSET(結果貼付け用!$G19,0,(COLUMN()-3)*6,1,1)))","v":{"$error":"#N/A"}},{"$f":"IF(OR(OFFSET(結果貼付け用!$G19,0,(COLUMN()-3)*6,1,1)=\"-\",OFFSET(結果貼付け用!$G19,0,(COLUMN()-3)*6,1,1)=\"\"),NA(),(OFFSET(結果貼付け用!$G19,0,(COLUMN()-3)*6,1,1)))","v":{"$error":"#N/A"}},{"$f":"IF(OR(OFFSET(結果貼付け用!$G19,0,(COLUMN()-3)*6,1,1)=\"-\",OFFSET(結果貼付け用!$G19,0,(COLUMN()-3)*6,1,1)=\"\"),NA(),(OFFSET(結果貼付け用!$G19,0,(COLUMN()-3)*6,1,1)))","v":{"$error":"#N/A"}},{"$f":"IF(OR(OFFSET(結果貼付け用!$G19,0,(COLUMN()-3)*6,1,1)=\"-\",OFFSET(結果貼付け用!$G19,0,(COLUMN()-3)*6,1,1)=\"\"),NA(),(OFFSET(結果貼付け用!$G19,0,(COLUMN()-3)*6,1,1)))","v":{"$error":"#N/A"}},{"$f":"IF(OR(OFFSET(結果貼付け用!$G19,0,(COLUMN()-3)*6,1,1)=\"-\",OFFSET(結果貼付け用!$G19,0,(COLUMN()-3)*6,1,1)=\"\"),NA(),(OFFSET(結果貼付け用!$G19,0,(COLUMN()-3)*6,1,1)))","v":{"$error":"#N/A"}},{"$f":"IF(OR(OFFSET(結果貼付け用!$G19,0,(COLUMN()-3)*6,1,1)=\"-\",OFFSET(結果貼付け用!$G19,0,(COLUMN()-3)*6,1,1)=\"\"),NA(),(OFFSET(結果貼付け用!$G19,0,(COLUMN()-3)*6,1,1)))","v":{"$error":"#N/A"}},{"$f":"IF(OR(OFFSET(結果貼付け用!$G19,0,(COLUMN()-3)*6,1,1)=\"-\",OFFSET(結果貼付け用!$G19,0,(COLUMN()-3)*6,1,1)=\"\"),NA(),(OFFSET(結果貼付け用!$G19,0,(COLUMN()-3)*6,1,1)))","v":{"$error":"#N/A"}}]
[null,"上司からの動機づけ",{"$f":"IF(OR(OFFSET(結果貼付け用!$G20,0,(COLUMN()-3)*6,1,1)=\"-\",OFFSET(結果貼付け用!$G20,0,(COLUMN()-3)*6,1,1)=\"\"),NA(),(OFFSET(結果貼付け用!$G20,0,(COLUMN()-3)*6,1,1)))","v":{"$error":"#N/A"}},{"$f":"IF(OR(OFFSET(結果貼付け用!$G20,0,(COLUMN()-3)*6,1,1)=\"-\",OFFSET(結果貼付け用!$G20,0,(COLUMN()-3)*6,1,1)=\"\"),NA(),(OFFSET(結果貼付け用!$G20,0,(COLUMN()-3)*6,1,1)))","v":{"$error":"#N/A"}},{"$f":"IF(OR(OFFSET(結果貼付け用!$G20,0,(COLUMN()-3)*6,1,1)=\"-\",OFFSET(結果貼付け用!$G20,0,(COLUMN()-3)*6,1,1)=\"\"),NA(),(OFFSET(結果貼付け用!$G20,0,(COLUMN()-3)*6,1,1)))","v":{"$error":"#N/A"}},{"$f":"IF(OR(OFFSET(結果貼付け用!$G20,0,(COLUMN()-3)*6,1,1)=\"-\",OFFSET(結果貼付け用!$G20,0,(COLUMN()-3)*6,1,1)=\"\"),NA(),(OFFSET(結果貼付け用!$G20,0,(COLUMN()-3)*6,1,1)))","v":{"$error":"#N/A"}},{"$f":"IF(OR(OFFSET(結果貼付け用!$G20,0,(COLUMN()-3)*6,1,1)=\"-\",OFFSET(結果貼付け用!$G20,0,(COLUMN()-3)*6,1,1)=\"\"),NA(),(OFFSET(結果貼付け用!$G20,0,(COLUMN()-3)*6,1,1)))","v":{"$error":"#N/A"}},{"$f":"IF(OR(OFFSET(結果貼付け用!$G20,0,(COLUMN()-3)*6,1,1)=\"-\",OFFSET(結果貼付け用!$G20,0,(COLUMN()-3)*6,1,1)=\"\"),NA(),(OFFSET(結果貼付け用!$G20,0,(COLUMN()-3)*6,1,1)))","v":{"$error":"#N/A"}},{"$f":"IF(OR(OFFSET(結果貼付け用!$G20,0,(COLUMN()-3)*6,1,1)=\"-\",OFFSET(結果貼付け用!$G20,0,(COLUMN()-3)*6,1,1)=\"\"),NA(),(OFFSET(結果貼付け用!$G20,0,(COLUMN()-3)*6,1,1)))","v":{"$error":"#N/A"}},{"$f":"IF(OR(OFFSET(結果貼付け用!$G20,0,(COLUMN()-3)*6,1,1)=\"-\",OFFSET(結果貼付け用!$G20,0,(COLUMN()-3)*6,1,1)=\"\"),NA(),(OFFSET(結果貼付け用!$G20,0,(COLUMN()-3)*6,1,1)))","v":{"$error":"#N/A"}},{"$f":"IF(OR(OFFSET(結果貼付け用!$G20,0,(COLUMN()-3)*6,1,1)=\"-\",OFFSET(結果貼付け用!$G20,0,(COLUMN()-3)*6,1,1)=\"\"),NA(),(OFFSET(結果貼付け用!$G20,0,(COLUMN()-3)*6,1,1)))","v":{"$error":"#N/A"}},{"$f":"IF(OR(OFFSET(結果貼付け用!$G20,0,(COLUMN()-3)*6,1,1)=\"-\",OFFSET(結果貼付け用!$G20,0,(COLUMN()-3)*6,1,1)=\"\"),NA(),(OFFSET(結果貼付け用!$G20,0,(COLUMN()-3)*6,1,1)))","v":{"$error":"#N/A"}},{"$f":"IF(OR(OFFSET(結果貼付け用!$G20,0,(COLUMN()-3)*6,1,1)=\"-\",OFFSET(結果貼付け用!$G20,0,(COLUMN()-3)*6,1,1)=\"\"),NA(),(OFFSET(結果貼付け用!$G20,0,(COLUMN()-3)*6,1,1)))","v":{"$error":"#N/A"}},{"$f":"IF(OR(OFFSET(結果貼付け用!$G20,0,(COLUMN()-3)*6,1,1)=\"-\",OFFSET(結果貼付け用!$G20,0,(COLUMN()-3)*6,1,1)=\"\"),NA(),(OFFSET(結果貼付け用!$G20,0,(COLUMN()-3)*6,1,1)))","v":{"$error":"#N/A"}},{"$f":"IF(OR(OFFSET(結果貼付け用!$G20,0,(COLUMN()-3)*6,1,1)=\"-\",OFFSET(結果貼付け用!$G20,0,(COLUMN()-3)*6,1,1)=\"\"),NA(),(OFFSET(結果貼付け用!$G20,0,(COLUMN()-3)*6,1,1)))","v":{"$error":"#N/A"}},{"$f":"IF(OR(OFFSET(結果貼付け用!$G20,0,(COLUMN()-3)*6,1,1)=\"-\",OFFSET(結果貼付け用!$G20,0,(COLUMN()-3)*6,1,1)=\"\"),NA(),(OFFSET(結果貼付け用!$G20,0,(COLUMN()-3)*6,1,1)))","v":{"$error":"#N/A"}},{"$f":"IF(OR(OFFSET(結果貼付け用!$G20,0,(COLUMN()-3)*6,1,1)=\"-\",OFFSET(結果貼付け用!$G20,0,(COLUMN()-3)*6,1,1)=\"\"),NA(),(OFFSET(結果貼付け用!$G20,0,(COLUMN()-3)*6,1,1)))","v":{"$error":"#N/A"}},{"$f":"IF(OR(OFFSET(結果貼付け用!$G20,0,(COLUMN()-3)*6,1,1)=\"-\",OFFSET(結果貼付け用!$G20,0,(COLUMN()-3)*6,1,1)=\"\"),NA(),(OFFSET(結果貼付け用!$G20,0,(COLUMN()-3)*6,1,1)))","v":{"$error":"#N/A"}},{"$f":"IF(OR(OFFSET(結果貼付け用!$G20,0,(COLUMN()-3)*6,1,1)=\"-\",OFFSET(結果貼付け用!$G20,0,(COLUMN()-3)*6,1,1)=\"\"),NA(),(OFFSET(結果貼付け用!$G20,0,(COLUMN()-3)*6,1,1)))","v":{"$error":"#N/A"}},{"$f":"IF(OR(OFFSET(結果貼付け用!$G20,0,(COLUMN()-3)*6,1,1)=\"-\",OFFSET(結果貼付け用!$G20,0,(COLUMN()-3)*6,1,1)=\"\"),NA(),(OFFSET(結果貼付け用!$G20,0,(COLUMN()-3)*6,1,1)))","v":{"$error":"#N/A"}},{"$f":"IF(OR(OFFSET(結果貼付け用!$G20,0,(COLUMN()-3)*6,1,1)=\"-\",OFFSET(結果貼付け用!$G20,0,(COLUMN()-3)*6,1,1)=\"\"),NA(),(OFFSET(結果貼付け用!$G20,0,(COLUMN()-3)*6,1,1)))","v":{"$error":"#N/A"}},{"$f":"IF(OR(OFFSET(結果貼付け用!$G20,0,(COLUMN()-3)*6,1,1)=\"-\",OFFSET(結果貼付け用!$G20,0,(COLUMN()-3)*6,1,1)=\"\"),NA(),(OFFSET(結果貼付け用!$G20,0,(COLUMN()-3)*6,1,1)))","v":{"$error":"#N/A"}},{"$f":"IF(OR(OFFSET(結果貼付け用!$G20,0,(COLUMN()-3)*6,1,1)=\"-\",OFFSET(結果貼付け用!$G20,0,(COLUMN()-3)*6,1,1)=\"\"),NA(),(OFFSET(結果貼付け用!$G20,0,(COLUMN()-3)*6,1,1)))","v":{"$error":"#N/A"}},{"$f":"IF(OR(OFFSET(結果貼付け用!$G20,0,(COLUMN()-3)*6,1,1)=\"-\",OFFSET(結果貼付け用!$G20,0,(COLUMN()-3)*6,1,1)=\"\"),NA(),(OFFSET(結果貼付け用!$G20,0,(COLUMN()-3)*6,1,1)))","v":{"$error":"#N/A"}},{"$f":"IF(OR(OFFSET(結果貼付け用!$G20,0,(COLUMN()-3)*6,1,1)=\"-\",OFFSET(結果貼付け用!$G20,0,(COLUMN()-3)*6,1,1)=\"\"),NA(),(OFFSET(結果貼付け用!$G20,0,(COLUMN()-3)*6,1,1)))","v":{"$error":"#N/A"}},{"$f":"IF(OR(OFFSET(結果貼付け用!$G20,0,(COLUMN()-3)*6,1,1)=\"-\",OFFSET(結果貼付け用!$G20,0,(COLUMN()-3)*6,1,1)=\"\"),NA(),(OFFSET(結果貼付け用!$G20,0,(COLUMN()-3)*6,1,1)))","v":{"$error":"#N/A"}},{"$f":"IF(OR(OFFSET(結果貼付け用!$G20,0,(COLUMN()-3)*6,1,1)=\"-\",OFFSET(結果貼付け用!$G20,0,(COLUMN()-3)*6,1,1)=\"\"),NA(),(OFFSET(結果貼付け用!$G20,0,(COLUMN()-3)*6,1,1)))","v":{"$error":"#N/A"}},{"$f":"IF(OR(OFFSET(結果貼付け用!$G20,0,(COLUMN()-3)*6,1,1)=\"-\",OFFSET(結果貼付け用!$G20,0,(COLUMN()-3)*6,1,1)=\"\"),NA(),(OFFSET(結果貼付け用!$G20,0,(COLUMN()-3)*6,1,1)))","v":{"$error":"#N/A"}},{"$f":"IF(OR(OFFSET(結果貼付け用!$G20,0,(COLUMN()-3)*6,1,1)=\"-\",OFFSET(結果貼付け用!$G20,0,(COLUMN()-3)*6,1,1)=\"\"),NA(),(OFFSET(結果貼付け用!$G20,0,(COLUMN()-3)*6,1,1)))","v":{"$error":"#N/A"}},{"$f":"IF(OR(OFFSET(結果貼付け用!$G20,0,(COLUMN()-3)*6,1,1)=\"-\",OFFSET(結果貼付け用!$G20,0,(COLUMN()-3)*6,1,1)=\"\"),NA(),(OFFSET(結果貼付け用!$G20,0,(COLUMN()-3)*6,1,1)))","v":{"$error":"#N/A"}},{"$f":"IF(OR(OFFSET(結果貼付け用!$G20,0,(COLUMN()-3)*6,1,1)=\"-\",OFFSET(結果貼付け用!$G20,0,(COLUMN()-3)*6,1,1)=\"\"),NA(),(OFFSET(結果貼付け用!$G20,0,(COLUMN()-3)*6,1,1)))","v":{"$error":"#N/A"}},{"$f":"IF(OR(OFFSET(結果貼付け用!$G20,0,(COLUMN()-3)*6,1,1)=\"-\",OFFSET(結果貼付け用!$G20,0,(COLUMN()-3)*6,1,1)=\"\"),NA(),(OFFSET(結果貼付け用!$G20,0,(COLUMN()-3)*6,1,1)))","v":{"$error":"#N/A"}}]
[null,"上司からの適切な仕事支援",{"$f":"IF(OR(OFFSET(結果貼付け用!$G21,0,(COLUMN()-3)*6,1,1)=\"-\",OFFSET(結果貼付け用!$G21,0,(COLUMN()-3)*6,1,1)=\"\"),NA(),(OFFSET(結果貼付け用!$G21,0,(COLUMN()-3)*6,1,1)))","v":{"$error":"#N/A"}},{"$f":"IF(OR(OFFSET(結果貼付け用!$G21,0,(COLUMN()-3)*6,1,1)=\"-\",OFFSET(結果貼付け用!$G21,0,(COLUMN()-3)*6,1,1)=\"\"),NA(),(OFFSET(結果貼付け用!$G21,0,(COLUMN()-3)*6,1,1)))","v":{"$error":"#N/A"}},{"$f":"IF(OR(OFFSET(結果貼付け用!$G21,0,(COLUMN()-3)*6,1,1)=\"-\",OFFSET(結果貼付け用!$G21,0,(COLUMN()-3)*6,1,1)=\"\"),NA(),(OFFSET(結果貼付け用!$G21,0,(COLUMN()-3)*6,1,1)))","v":{"$error":"#N/A"}},{"$f":"IF(OR(OFFSET(結果貼付け用!$G21,0,(COLUMN()-3)*6,1,1)=\"-\",OFFSET(結果貼付け用!$G21,0,(COLUMN()-3)*6,1,1)=\"\"),NA(),(OFFSET(結果貼付け用!$G21,0,(COLUMN()-3)*6,1,1)))","v":{"$error":"#N/A"}},{"$f":"IF(OR(OFFSET(結果貼付け用!$G21,0,(COLUMN()-3)*6,1,1)=\"-\",OFFSET(結果貼付け用!$G21,0,(COLUMN()-3)*6,1,1)=\"\"),NA(),(OFFSET(結果貼付け用!$G21,0,(COLUMN()-3)*6,1,1)))","v":{"$error":"#N/A"}},{"$f":"IF(OR(OFFSET(結果貼付け用!$G21,0,(COLUMN()-3)*6,1,1)=\"-\",OFFSET(結果貼付け用!$G21,0,(COLUMN()-3)*6,1,1)=\"\"),NA(),(OFFSET(結果貼付け用!$G21,0,(COLUMN()-3)*6,1,1)))","v":{"$error":"#N/A"}},{"$f":"IF(OR(OFFSET(結果貼付け用!$G21,0,(COLUMN()-3)*6,1,1)=\"-\",OFFSET(結果貼付け用!$G21,0,(COLUMN()-3)*6,1,1)=\"\"),NA(),(OFFSET(結果貼付け用!$G21,0,(COLUMN()-3)*6,1,1)))","v":{"$error":"#N/A"}},{"$f":"IF(OR(OFFSET(結果貼付け用!$G21,0,(COLUMN()-3)*6,1,1)=\"-\",OFFSET(結果貼付け用!$G21,0,(COLUMN()-3)*6,1,1)=\"\"),NA(),(OFFSET(結果貼付け用!$G21,0,(COLUMN()-3)*6,1,1)))","v":{"$error":"#N/A"}},{"$f":"IF(OR(OFFSET(結果貼付け用!$G21,0,(COLUMN()-3)*6,1,1)=\"-\",OFFSET(結果貼付け用!$G21,0,(COLUMN()-3)*6,1,1)=\"\"),NA(),(OFFSET(結果貼付け用!$G21,0,(COLUMN()-3)*6,1,1)))","v":{"$error":"#N/A"}},{"$f":"IF(OR(OFFSET(結果貼付け用!$G21,0,(COLUMN()-3)*6,1,1)=\"-\",OFFSET(結果貼付け用!$G21,0,(COLUMN()-3)*6,1,1)=\"\"),NA(),(OFFSET(結果貼付け用!$G21,0,(COLUMN()-3)*6,1,1)))","v":{"$error":"#N/A"}},{"$f":"IF(OR(OFFSET(結果貼付け用!$G21,0,(COLUMN()-3)*6,1,1)=\"-\",OFFSET(結果貼付け用!$G21,0,(COLUMN()-3)*6,1,1)=\"\"),NA(),(OFFSET(結果貼付け用!$G21,0,(COLUMN()-3)*6,1,1)))","v":{"$error":"#N/A"}},{"$f":"IF(OR(OFFSET(結果貼付け用!$G21,0,(COLUMN()-3)*6,1,1)=\"-\",OFFSET(結果貼付け用!$G21,0,(COLUMN()-3)*6,1,1)=\"\"),NA(),(OFFSET(結果貼付け用!$G21,0,(COLUMN()-3)*6,1,1)))","v":{"$error":"#N/A"}},{"$f":"IF(OR(OFFSET(結果貼付け用!$G21,0,(COLUMN()-3)*6,1,1)=\"-\",OFFSET(結果貼付け用!$G21,0,(COLUMN()-3)*6,1,1)=\"\"),NA(),(OFFSET(結果貼付け用!$G21,0,(COLUMN()-3)*6,1,1)))","v":{"$error":"#N/A"}},{"$f":"IF(OR(OFFSET(結果貼付け用!$G21,0,(COLUMN()-3)*6,1,1)=\"-\",OFFSET(結果貼付け用!$G21,0,(COLUMN()-3)*6,1,1)=\"\"),NA(),(OFFSET(結果貼付け用!$G21,0,(COLUMN()-3)*6,1,1)))","v":{"$error":"#N/A"}},{"$f":"IF(OR(OFFSET(結果貼付け用!$G21,0,(COLUMN()-3)*6,1,1)=\"-\",OFFSET(結果貼付け用!$G21,0,(COLUMN()-3)*6,1,1)=\"\"),NA(),(OFFSET(結果貼付け用!$G21,0,(COLUMN()-3)*6,1,1)))","v":{"$error":"#N/A"}},{"$f":"IF(OR(OFFSET(結果貼付け用!$G21,0,(COLUMN()-3)*6,1,1)=\"-\",OFFSET(結果貼付け用!$G21,0,(COLUMN()-3)*6,1,1)=\"\"),NA(),(OFFSET(結果貼付け用!$G21,0,(COLUMN()-3)*6,1,1)))","v":{"$error":"#N/A"}},{"$f":"IF(OR(OFFSET(結果貼付け用!$G21,0,(COLUMN()-3)*6,1,1)=\"-\",OFFSET(結果貼付け用!$G21,0,(COLUMN()-3)*6,1,1)=\"\"),NA(),(OFFSET(結果貼付け用!$G21,0,(COLUMN()-3)*6,1,1)))","v":{"$error":"#N/A"}},{"$f":"IF(OR(OFFSET(結果貼付け用!$G21,0,(COLUMN()-3)*6,1,1)=\"-\",OFFSET(結果貼付け用!$G21,0,(COLUMN()-3)*6,1,1)=\"\"),NA(),(OFFSET(結果貼付け用!$G21,0,(COLUMN()-3)*6,1,1)))","v":{"$error":"#N/A"}},{"$f":"IF(OR(OFFSET(結果貼付け用!$G21,0,(COLUMN()-3)*6,1,1)=\"-\",OFFSET(結果貼付け用!$G21,0,(COLUMN()-3)*6,1,1)=\"\"),NA(),(OFFSET(結果貼付け用!$G21,0,(COLUMN()-3)*6,1,1)))","v":{"$error":"#N/A"}},{"$f":"IF(OR(OFFSET(結果貼付け用!$G21,0,(COLUMN()-3)*6,1,1)=\"-\",OFFSET(結果貼付け用!$G21,0,(COLUMN()-3)*6,1,1)=\"\"),NA(),(OFFSET(結果貼付け用!$G21,0,(COLUMN()-3)*6,1,1)))","v":{"$error":"#N/A"}},{"$f":"IF(OR(OFFSET(結果貼付け用!$G21,0,(COLUMN()-3)*6,1,1)=\"-\",OFFSET(結果貼付け用!$G21,0,(COLUMN()-3)*6,1,1)=\"\"),NA(),(OFFSET(結果貼付け用!$G21,0,(COLUMN()-3)*6,1,1)))","v":{"$error":"#N/A"}},{"$f":"IF(OR(OFFSET(結果貼付け用!$G21,0,(COLUMN()-3)*6,1,1)=\"-\",OFFSET(結果貼付け用!$G21,0,(COLUMN()-3)*6,1,1)=\"\"),NA(),(OFFSET(結果貼付け用!$G21,0,(COLUMN()-3)*6,1,1)))","v":{"$error":"#N/A"}},{"$f":"IF(OR(OFFSET(結果貼付け用!$G21,0,(COLUMN()-3)*6,1,1)=\"-\",OFFSET(結果貼付け用!$G21,0,(COLUMN()-3)*6,1,1)=\"\"),NA(),(OFFSET(結果貼付け用!$G21,0,(COLUMN()-3)*6,1,1)))","v":{"$error":"#N/A"}},{"$f":"IF(OR(OFFSET(結果貼付け用!$G21,0,(COLUMN()-3)*6,1,1)=\"-\",OFFSET(結果貼付け用!$G21,0,(COLUMN()-3)*6,1,1)=\"\"),NA(),(OFFSET(結果貼付け用!$G21,0,(COLUMN()-3)*6,1,1)))","v":{"$error":"#N/A"}},{"$f":"IF(OR(OFFSET(結果貼付け用!$G21,0,(COLUMN()-3)*6,1,1)=\"-\",OFFSET(結果貼付け用!$G21,0,(COLUMN()-3)*6,1,1)=\"\"),NA(),(OFFSET(結果貼付け用!$G21,0,(COLUMN()-3)*6,1,1)))","v":{"$error":"#N/A"}},{"$f":"IF(OR(OFFSET(結果貼付け用!$G21,0,(COLUMN()-3)*6,1,1)=\"-\",OFFSET(結果貼付け用!$G21,0,(COLUMN()-3)*6,1,1)=\"\"),NA(),(OFFSET(結果貼付け用!$G21,0,(COLUMN()-3)*6,1,1)))","v":{"$error":"#N/A"}},{"$f":"IF(OR(OFFSET(結果貼付け用!$G21,0,(COLUMN()-3)*6,1,1)=\"-\",OFFSET(結果貼付け用!$G21,0,(COLUMN()-3)*6,1,1)=\"\"),NA(),(OFFSET(結果貼付け用!$G21,0,(COLUMN()-3)*6,1,1)))","v":{"$error":"#N/A"}},{"$f":"IF(OR(OFFSET(結果貼付け用!$G21,0,(COLUMN()-3)*6,1,1)=\"-\",OFFSET(結果貼付け用!$G21,0,(COLUMN()-3)*6,1,1)=\"\"),NA(),(OFFSET(結果貼付け用!$G21,0,(COLUMN()-3)*6,1,1)))","v":{"$error":"#N/A"}},{"$f":"IF(OR(OFFSET(結果貼付け用!$G21,0,(COLUMN()-3)*6,1,1)=\"-\",OFFSET(結果貼付け用!$G21,0,(COLUMN()-3)*6,1,1)=\"\"),NA(),(OFFSET(結果貼付け用!$G21,0,(COLUMN()-3)*6,1,1)))","v":{"$error":"#N/A"}},{"$f":"IF(OR(OFFSET(結果貼付け用!$G21,0,(COLUMN()-3)*6,1,1)=\"-\",OFFSET(結果貼付け用!$G21,0,(COLUMN()-3)*6,1,1)=\"\"),NA(),(OFFSET(結果貼付け用!$G21,0,(COLUMN()-3)*6,1,1)))","v":{"$error":"#N/A"}}]
[]
[]
[]
[]
[]
[]
[]
[]
[]
[]
[]
[]
[]
[]
[]
[]
[]
[]
[]
[]
[null,"実施開始日時",{"$f":"IF(結果貼付け用!B2=\"\",NA(),結果貼付け用!B2)","v":{"$error":"#N/A"}},{"$f":"IF((OFFSET(結果貼付け用!$H$2, 0, (COLUMN() - COLUMN($D$20)) * 6))=\"\",NA(),(OFFSET(結果貼付け用!$H$2, 0, (COLUMN() - COLUMN($D$20)) * 6)))","v":{"$error":"#N/A"}},{"$f":"IF((OFFSET(結果貼付け用!$H$2, 0, (COLUMN() - COLUMN($D$20)) * 6))=\"\",NA(),(OFFSET(結果貼付け用!$H$2, 0, (COLUMN() - COLUMN($D$20)) * 6)))","v":{"$error":"#N/A"}},{"$f":"IF((OFFSET(結果貼付け用!$H$2, 0, (COLUMN() - COLUMN($D$20)) * 6))=\"\",NA(),(OFFSET(結果貼付け用!$H$2, 0, (COLUMN() - COLUMN($D$20)) * 6)))","v":{"$error":"#N/A"}},{"$f":"IF((OFFSET(結果貼付け用!$H$2, 0, (COLUMN() - COLUMN($D$20)) * 6))=\"\",NA(),(OFFSET(結果貼付け用!$H$2, 0, (COLUMN() - COLUMN($D$20)) * 6)))","v":{"$error":"#N/A"}},{"$f":"IF((OFFSET(結果貼付け用!$H$2, 0, (COLUMN() - COLUMN($D$20)) * 6))=\"\",NA(),(OFFSET(結果貼付け用!$H$2, 0, (COLUMN() - COLUMN($D$20)) * 6)))","v":{"$error":"#N/A"}},{"$f":"IF((OFFSET(結果貼付け用!$H$2, 0, (COLUMN() - COLUMN($D$20)) * 6))=\"\",NA(),(OFFSET(結果貼付け用!$H$2, 0, (COLUMN() - COLUMN($D$20)) * 6)))","v":{"$error":"#N/A"}},{"$f":"IF((OFFSET(結果貼付け用!$H$2, 0, (COLUMN() - COLUMN($D$20)) * 6))=\"\",NA(),(OFFSET(結果貼付け用!$H$2, 0, (COLUMN() - COLUMN($D$20)) * 6)))","v":{"$error":"#N/A"}},{"$f":"IF((OFFSET(結果貼付け用!$H$2, 0, (COLUMN() - COLUMN($D$20)) * 6))=\"\",NA(),(OFFSET(結果貼付け用!$H$2, 0, (COLUMN() - COLUMN($D$20)) * 6)))","v":{"$error":"#N/A"}},{"$f":"IF((OFFSET(結果貼付け用!$H$2, 0, (COLUMN() - COLUMN($D$20)) * 6))=\"\",NA(),(OFFSET(結果貼付け用!$H$2, 0, (COLUMN() - COLUMN($D$20)) * 6)))","v":{"$error":"#N/A"}},{"$f":"IF((OFFSET(結果貼付け用!$H$2, 0, (COLUMN() - COLUMN($D$20)) * 6))=\"\",NA(),(OFFSET(結果貼付け用!$H$2, 0, (COLUMN() - COLUMN($D$20)) * 6)))","v":{"$error":"#N/A"}},{"$f":"IF((OFFSET(結果貼付け用!$H$2, 0, (COLUMN() - COLUMN($D$20)) * 6))=\"\",NA(),(OFFSET(結果貼付け用!$H$2, 0, (COLUMN() - COLUMN($D$20)) * 6)))","v":{"$error":"#N/A"}},{"$f":"IF((OFFSET(結果貼付け用!$H$2, 0, (COLUMN() - COLUMN($D$20)) * 6))=\"\",NA(),(OFFSET(結果貼付け用!$H$2, 0, (COLUMN() - COLUMN($D$20)) * 6)))","v":{"$error":"#N/A"}},{"$f":"IF((OFFSET(結果貼付け用!$H$2, 0, (COLUMN() - COLUMN($D$20)) * 6))=\"\",NA(),(OFFSET(結果貼付け用!$H$2, 0, (COLUMN() - COLUMN($D$20)) * 6)))","v":{"$error":"#N/A"}},{"$f":"IF((OFFSET(結果貼付け用!$H$2, 0, (COLUMN() - COLUMN($D$20)) * 6))=\"\",NA(),(OFFSET(結果貼付け用!$H$2, 0, (COLUMN() - COLUMN($D$20)) * 6)))","v":{"$error":"#N/A"}},{"$f":"IF((OFFSET(結果貼付け用!$H$2, 0, (COLUMN() - COLUMN($D$20)) * 6))=\"\",NA(),(OFFSET(結果貼付け用!$H$2, 0, (COLUMN() - COLUMN($D$20)) * 6)))","v":{"$error":"#N/A"}},{"$f":"IF((OFFSET(結果貼付け用!$H$2, 0, (COLUMN() - COLUMN($D$20)) * 6))=\"\",NA(),(OFFSET(結果貼付け用!$H$2, 0, (COLUMN() - COLUMN($D$20)) * 6)))","v":{"$error":"#N/A"}},{"$f":"IF((OFFSET(結果貼付け用!$H$2, 0, (COLUMN() - COLUMN($D$20)) * 6))=\"\",NA(),(OFFSET(結果貼付け用!$H$2, 0, (COLUMN() - COLUMN($D$20)) * 6)))","v":{"$error":"#N/A"}},{"$f":"IF((OFFSET(結果貼付け用!$H$2, 0, (COLUMN() - COLUMN($D$20)) * 6))=\"\",NA(),(OFFSET(結果貼付け用!$H$2, 0, (COLUMN() - COLUMN($D$20)) * 6)))","v":{"$error":"#N/A"}},{"$f":"IF((OFFSET(結果貼付け用!$H$2, 0, (COLUMN() - COLUMN($D$20)) * 6))=\"\",NA(),(OFFSET(結果貼付け用!$H$2, 0, (COLUMN() - COLUMN($D$20)) * 6)))","v":{"$error":"#N/A"}},{"$f":"IF((OFFSET(結果貼付け用!$H$2, 0, (COLUMN() - COLUMN($D$20)) * 6))=\"\",NA(),(OFFSET(結果貼付け用!$H$2, 0, (COLUMN() - COLUMN($D$20)) * 6)))","v":{"$error":"#N/A"}},{"$f":"IF((OFFSET(結果貼付け用!$H$2, 0, (COLUMN() - COLUMN($D$20)) * 6))=\"\",NA(),(OFFSET(結果貼付け用!$H$2, 0, (COLUMN() - COLUMN($D$20)) * 6)))","v":{"$error":"#N/A"}},{"$f":"IF((OFFSET(結果貼付け用!$H$2, 0, (COLUMN() - COLUMN($D$20)) * 6))=\"\",NA(),(OFFSET(結果貼付け用!$H$2, 0, (COLUMN() - COLUMN($D$20)) * 6)))","v":{"$error":"#N/A"}},{"$f":"IF((OFFSET(結果貼付け用!$H$2, 0, (COLUMN() - COLUMN($D$20)) * 6))=\"\",NA(),(OFFSET(結果貼付け用!$H$2, 0, (COLUMN() - COLUMN($D$20)) * 6)))","v":{"$error":"#N/A"}},{"$f":"IF((OFFSET(結果貼付け用!$H$2, 0, (COLUMN() - COLUMN($D$20)) * 6))=\"\",NA(),(OFFSET(結果貼付け用!$H$2, 0, (COLUMN() - COLUMN($D$20)) * 6)))","v":{"$error":"#N/A"}},{"$f":"IF((OFFSET(結果貼付け用!$H$2, 0, (COLUMN() - COLUMN($D$20)) * 6))=\"\",NA(),(OFFSET(結果貼付け用!$H$2, 0, (COLUMN() - COLUMN($D$20)) * 6)))","v":{"$error":"#N/A"}},{"$f":"IF((OFFSET(結果貼付け用!$H$2, 0, (COLUMN() - COLUMN($D$20)) * 6))=\"\",NA(),(OFFSET(結果貼付け用!$H$2, 0, (COLUMN() - COLUMN($D$20)) * 6)))","v":{"$error":"#N/A"}},{"$f":"IF((OFFSET(結果貼付け用!$H$2, 0, (COLUMN() - COLUMN($D$20)) * 6))=\"\",NA(),(OFFSET(結果貼付け用!$H$2, 0, (COLUMN() - COLUMN($D$20)) * 6)))","v":{"$error":"#N/A"}},{"$f":"IF((OFFSET(結果貼付け用!$H$2, 0, (COLUMN() - COLUMN($D$20)) * 6))=\"\",NA(),(OFFSET(結果貼付け用!$H$2, 0, (COLUMN() - COLUMN($D$20)) * 6)))","v":{"$error":"#N/A"}},{"$f":"IF((OFFSET(結果貼付け用!$H$2, 0, (COLUMN() - COLUMN($D$20)) * 6))=\"\",NA(),(OFFSET(結果貼付け用!$H$2, 0, (COLUMN() - COLUMN($D$20)) * 6)))","v":{"$error":"#N/A"}}]
[null,"業務設計",{"$f":"IF(OR(OFFSET(結果貼付け用!$G22,0,(COLUMN()-3)*6,1,1)=\"-\",OFFSET(結果貼付け用!$G22,0,(COLUMN()-3)*6,1,1)=\"\"),NA(),(OFFSET(結果貼付け用!$G22,0,(COLUMN()-3)*6,1,1)))","v":{"$error":"#N/A"}},{"$f":"IF(OR(OFFSET(結果貼付け用!$G22,0,(COLUMN()-3)*6,1,1)=\"-\",OFFSET(結果貼付け用!$G22,0,(COLUMN()-3)*6,1,1)=\"\"),NA(),(OFFSET(結果貼付け用!$G22,0,(COLUMN()-3)*6,1,1)))","v":{"$error":"#N/A"}},{"$f":"IF(OR(OFFSET(結果貼付け用!$G22,0,(COLUMN()-3)*6,1,1)=\"-\",OFFSET(結果貼付け用!$G22,0,(COLUMN()-3)*6,1,1)=\"\"),NA(),(OFFSET(結果貼付け用!$G22,0,(COLUMN()-3)*6,1,1)))","v":{"$error":"#N/A"}},{"$f":"IF(OR(OFFSET(結果貼付け用!$G22,0,(COLUMN()-3)*6,1,1)=\"-\",OFFSET(結果貼付け用!$G22,0,(COLUMN()-3)*6,1,1)=\"\"),NA(),(OFFSET(結果貼付け用!$G22,0,(COLUMN()-3)*6,1,1)))","v":{"$error":"#N/A"}},{"$f":"IF(OR(OFFSET(結果貼付け用!$G22,0,(COLUMN()-3)*6,1,1)=\"-\",OFFSET(結果貼付け用!$G22,0,(COLUMN()-3)*6,1,1)=\"\"),NA(),(OFFSET(結果貼付け用!$G22,0,(COLUMN()-3)*6,1,1)))","v":{"$error":"#N/A"}},{"$f":"IF(OR(OFFSET(結果貼付け用!$G22,0,(COLUMN()-3)*6,1,1)=\"-\",OFFSET(結果貼付け用!$G22,0,(COLUMN()-3)*6,1,1)=\"\"),NA(),(OFFSET(結果貼付け用!$G22,0,(COLUMN()-3)*6,1,1)))","v":{"$error":"#N/A"}},{"$f":"IF(OR(OFFSET(結果貼付け用!$G22,0,(COLUMN()-3)*6,1,1)=\"-\",OFFSET(結果貼付け用!$G22,0,(COLUMN()-3)*6,1,1)=\"\"),NA(),(OFFSET(結果貼付け用!$G22,0,(COLUMN()-3)*6,1,1)))","v":{"$error":"#N/A"}},{"$f":"IF(OR(OFFSET(結果貼付け用!$G22,0,(COLUMN()-3)*6,1,1)=\"-\",OFFSET(結果貼付け用!$G22,0,(COLUMN()-3)*6,1,1)=\"\"),NA(),(OFFSET(結果貼付け用!$G22,0,(COLUMN()-3)*6,1,1)))","v":{"$error":"#N/A"}},{"$f":"IF(OR(OFFSET(結果貼付け用!$G22,0,(COLUMN()-3)*6,1,1)=\"-\",OFFSET(結果貼付け用!$G22,0,(COLUMN()-3)*6,1,1)=\"\"),NA(),(OFFSET(結果貼付け用!$G22,0,(COLUMN()-3)*6,1,1)))","v":{"$error":"#N/A"}},{"$f":"IF(OR(OFFSET(結果貼付け用!$G22,0,(COLUMN()-3)*6,1,1)=\"-\",OFFSET(結果貼付け用!$G22,0,(COLUMN()-3)*6,1,1)=\"\"),NA(),(OFFSET(結果貼付け用!$G22,0,(COLUMN()-3)*6,1,1)))","v":{"$error":"#N/A"}},{"$f":"IF(OR(OFFSET(結果貼付け用!$G22,0,(COLUMN()-3)*6,1,1)=\"-\",OFFSET(結果貼付け用!$G22,0,(COLUMN()-3)*6,1,1)=\"\"),NA(),(OFFSET(結果貼付け用!$G22,0,(COLUMN()-3)*6,1,1)))","v":{"$error":"#N/A"}},{"$f":"IF(OR(OFFSET(結果貼付け用!$G22,0,(COLUMN()-3)*6,1,1)=\"-\",OFFSET(結果貼付け用!$G22,0,(COLUMN()-3)*6,1,1)=\"\"),NA(),(OFFSET(結果貼付け用!$G22,0,(COLUMN()-3)*6,1,1)))","v":{"$error":"#N/A"}},{"$f":"IF(OR(OFFSET(結果貼付け用!$G22,0,(COLUMN()-3)*6,1,1)=\"-\",OFFSET(結果貼付け用!$G22,0,(COLUMN()-3)*6,1,1)=\"\"),NA(),(OFFSET(結果貼付け用!$G22,0,(COLUMN()-3)*6,1,1)))","v":{"$error":"#N/A"}},{"$f":"IF(OR(OFFSET(結果貼付け用!$G22,0,(COLUMN()-3)*6,1,1)=\"-\",OFFSET(結果貼付け用!$G22,0,(COLUMN()-3)*6,1,1)=\"\"),NA(),(OFFSET(結果貼付け用!$G22,0,(COLUMN()-3)*6,1,1)))","v":{"$error":"#N/A"}},{"$f":"IF(OR(OFFSET(結果貼付け用!$G22,0,(COLUMN()-3)*6,1,1)=\"-\",OFFSET(結果貼付け用!$G22,0,(COLUMN()-3)*6,1,1)=\"\"),NA(),(OFFSET(結果貼付け用!$G22,0,(COLUMN()-3)*6,1,1)))","v":{"$error":"#N/A"}},{"$f":"IF(OR(OFFSET(結果貼付け用!$G22,0,(COLUMN()-3)*6,1,1)=\"-\",OFFSET(結果貼付け用!$G22,0,(COLUMN()-3)*6,1,1)=\"\"),NA(),(OFFSET(結果貼付け用!$G22,0,(COLUMN()-3)*6,1,1)))","v":{"$error":"#N/A"}},{"$f":"IF(OR(OFFSET(結果貼付け用!$G22,0,(COLUMN()-3)*6,1,1)=\"-\",OFFSET(結果貼付け用!$G22,0,(COLUMN()-3)*6,1,1)=\"\"),NA(),(OFFSET(結果貼付け用!$G22,0,(COLUMN()-3)*6,1,1)))","v":{"$error":"#N/A"}},{"$f":"IF(OR(OFFSET(結果貼付け用!$G22,0,(COLUMN()-3)*6,1,1)=\"-\",OFFSET(結果貼付け用!$G22,0,(COLUMN()-3)*6,1,1)=\"\"),NA(),(OFFSET(結果貼付け用!$G22,0,(COLUMN()-3)*6,1,1)))","v":{"$error":"#N/A"}},{"$f":"IF(OR(OFFSET(結果貼付け用!$G22,0,(COLUMN()-3)*6,1,1)=\"-\",OFFSET(結果貼付け用!$G22,0,(COLUMN()-3)*6,1,1)=\"\"),NA(),(OFFSET(結果貼付け用!$G22,0,(COLUMN()-3)*6,1,1)))","v":{"$error":"#N/A"}},{"$f":"IF(OR(OFFSET(結果貼付け用!$G22,0,(COLUMN()-3)*6,1,1)=\"-\",OFFSET(結果貼付け用!$G22,0,(COLUMN()-3)*6,1,1)=\"\"),NA(),(OFFSET(結果貼付け用!$G22,0,(COLUMN()-3)*6,1,1)))","v":{"$error":"#N/A"}},{"$f":"IF(OR(OFFSET(結果貼付け用!$G22,0,(COLUMN()-3)*6,1,1)=\"-\",OFFSET(結果貼付け用!$G22,0,(COLUMN()-3)*6,1,1)=\"\"),NA(),(OFFSET(結果貼付け用!$G22,0,(COLUMN()-3)*6,1,1)))","v":{"$error":"#N/A"}},{"$f":"IF(OR(OFFSET(結果貼付け用!$G22,0,(COLUMN()-3)*6,1,1)=\"-\",OFFSET(結果貼付け用!$G22,0,(COLUMN()-3)*6,1,1)=\"\"),NA(),(OFFSET(結果貼付け用!$G22,0,(COLUMN()-3)*6,1,1)))","v":{"$error":"#N/A"}},{"$f":"IF(OR(OFFSET(結果貼付け用!$G22,0,(COLUMN()-3)*6,1,1)=\"-\",OFFSET(結果貼付け用!$G22,0,(COLUMN()-3)*6,1,1)=\"\"),NA(),(OFFSET(結果貼付け用!$G22,0,(COLUMN()-3)*6,1,1)))","v":{"$error":"#N/A"}},{"$f":"IF(OR(OFFSET(結果貼付け用!$G22,0,(COLUMN()-3)*6,1,1)=\"-\",OFFSET(結果貼付け用!$G22,0,(COLUMN()-3)*6,1,1)=\"\"),NA(),(OFFSET(結果貼付け用!$G22,0,(COLUMN()-3)*6,1,1)))","v":{"$error":"#N/A"}},{"$f":"IF(OR(OFFSET(結果貼付け用!$G22,0,(COLUMN()-3)*6,1,1)=\"-\",OFFSET(結果貼付け用!$G22,0,(COLUMN()-3)*6,1,1)=\"\"),NA(),(OFFSET(結果貼付け用!$G22,0,(COLUMN()-3)*6,1,1)))","v":{"$error":"#N/A"}},{"$f":"IF(OR(OFFSET(結果貼付け用!$G22,0,(COLUMN()-3)*6,1,1)=\"-\",OFFSET(結果貼付け用!$G22,0,(COLUMN()-3)*6,1,1)=\"\"),NA(),(OFFSET(結果貼付け用!$G22,0,(COLUMN()-3)*6,1,1)))","v":{"$error":"#N/A"}},{"$f":"IF(OR(OFFSET(結果貼付け用!$G22,0,(COLUMN()-3)*6,1,1)=\"-\",OFFSET(結果貼付け用!$G22,0,(COLUMN()-3)*6,1,1)=\"\"),NA(),(OFFSET(結果貼付け用!$G22,0,(COLUMN()-3)*6,1,1)))","v":{"$error":"#N/A"}},{"$f":"IF(OR(OFFSET(結果貼付け用!$G22,0,(COLUMN()-3)*6,1,1)=\"-\",OFFSET(結果貼付け用!$G22,0,(COLUMN()-3)*6,1,1)=\"\"),NA(),(OFFSET(結果貼付け用!$G22,0,(COLUMN()-3)*6,1,1)))","v":{"$error":"#N/A"}},{"$f":"IF(OR(OFFSET(結果貼付け用!$G22,0,(COLUMN()-3)*6,1,1)=\"-\",OFFSET(結果貼付け用!$G22,0,(COLUMN()-3)*6,1,1)=\"\"),NA(),(OFFSET(結果貼付け用!$G22,0,(COLUMN()-3)*6,1,1)))","v":{"$error":"#N/A"}},{"$f":"IF(OR(OFFSET(結果貼付け用!$G22,0,(COLUMN()-3)*6,1,1)=\"-\",OFFSET(結果貼付け用!$G22,0,(COLUMN()-3)*6,1,1)=\"\"),NA(),(OFFSET(結果貼付け用!$G22,0,(COLUMN()-3)*6,1,1)))","v":{"$error":"#N/A"}}]
[null,"目標達成意識",{"$f":"IF(OR(OFFSET(結果貼付け用!$G23,0,(COLUMN()-3)*6,1,1)=\"-\",OFFSET(結果貼付け用!$G23,0,(COLUMN()-3)*6,1,1)=\"\"),NA(),(OFFSET(結果貼付け用!$G23,0,(COLUMN()-3)*6,1,1)))","v":{"$error":"#N/A"}},{"$f":"IF(OR(OFFSET(結果貼付け用!$G23,0,(COLUMN()-3)*6,1,1)=\"-\",OFFSET(結果貼付け用!$G23,0,(COLUMN()-3)*6,1,1)=\"\"),NA(),(OFFSET(結果貼付け用!$G23,0,(COLUMN()-3)*6,1,1)))","v":{"$error":"#N/A"}},{"$f":"IF(OR(OFFSET(結果貼付け用!$G23,0,(COLUMN()-3)*6,1,1)=\"-\",OFFSET(結果貼付け用!$G23,0,(COLUMN()-3)*6,1,1)=\"\"),NA(),(OFFSET(結果貼付け用!$G23,0,(COLUMN()-3)*6,1,1)))","v":{"$error":"#N/A"}},{"$f":"IF(OR(OFFSET(結果貼付け用!$G23,0,(COLUMN()-3)*6,1,1)=\"-\",OFFSET(結果貼付け用!$G23,0,(COLUMN()-3)*6,1,1)=\"\"),NA(),(OFFSET(結果貼付け用!$G23,0,(COLUMN()-3)*6,1,1)))","v":{"$error":"#N/A"}},{"$f":"IF(OR(OFFSET(結果貼付け用!$G23,0,(COLUMN()-3)*6,1,1)=\"-\",OFFSET(結果貼付け用!$G23,0,(COLUMN()-3)*6,1,1)=\"\"),NA(),(OFFSET(結果貼付け用!$G23,0,(COLUMN()-3)*6,1,1)))","v":{"$error":"#N/A"}},{"$f":"IF(OR(OFFSET(結果貼付け用!$G23,0,(COLUMN()-3)*6,1,1)=\"-\",OFFSET(結果貼付け用!$G23,0,(COLUMN()-3)*6,1,1)=\"\"),NA(),(OFFSET(結果貼付け用!$G23,0,(COLUMN()-3)*6,1,1)))","v":{"$error":"#N/A"}},{"$f":"IF(OR(OFFSET(結果貼付け用!$G23,0,(COLUMN()-3)*6,1,1)=\"-\",OFFSET(結果貼付け用!$G23,0,(COLUMN()-3)*6,1,1)=\"\"),NA(),(OFFSET(結果貼付け用!$G23,0,(COLUMN()-3)*6,1,1)))","v":{"$error":"#N/A"}},{"$f":"IF(OR(OFFSET(結果貼付け用!$G23,0,(COLUMN()-3)*6,1,1)=\"-\",OFFSET(結果貼付け用!$G23,0,(COLUMN()-3)*6,1,1)=\"\"),NA(),(OFFSET(結果貼付け用!$G23,0,(COLUMN()-3)*6,1,1)))","v":{"$error":"#N/A"}},{"$f":"IF(OR(OFFSET(結果貼付け用!$G23,0,(COLUMN()-3)*6,1,1)=\"-\",OFFSET(結果貼付け用!$G23,0,(COLUMN()-3)*6,1,1)=\"\"),NA(),(OFFSET(結果貼付け用!$G23,0,(COLUMN()-3)*6,1,1)))","v":{"$error":"#N/A"}},{"$f":"IF(OR(OFFSET(結果貼付け用!$G23,0,(COLUMN()-3)*6,1,1)=\"-\",OFFSET(結果貼付け用!$G23,0,(COLUMN()-3)*6,1,1)=\"\"),NA(),(OFFSET(結果貼付け用!$G23,0,(COLUMN()-3)*6,1,1)))","v":{"$error":"#N/A"}},{"$f":"IF(OR(OFFSET(結果貼付け用!$G23,0,(COLUMN()-3)*6,1,1)=\"-\",OFFSET(結果貼付け用!$G23,0,(COLUMN()-3)*6,1,1)=\"\"),NA(),(OFFSET(結果貼付け用!$G23,0,(COLUMN()-3)*6,1,1)))","v":{"$error":"#N/A"}},{"$f":"IF(OR(OFFSET(結果貼付け用!$G23,0,(COLUMN()-3)*6,1,1)=\"-\",OFFSET(結果貼付け用!$G23,0,(COLUMN()-3)*6,1,1)=\"\"),NA(),(OFFSET(結果貼付け用!$G23,0,(COLUMN()-3)*6,1,1)))","v":{"$error":"#N/A"}},{"$f":"IF(OR(OFFSET(結果貼付け用!$G23,0,(COLUMN()-3)*6,1,1)=\"-\",OFFSET(結果貼付け用!$G23,0,(COLUMN()-3)*6,1,1)=\"\"),NA(),(OFFSET(結果貼付け用!$G23,0,(COLUMN()-3)*6,1,1)))","v":{"$error":"#N/A"}},{"$f":"IF(OR(OFFSET(結果貼付け用!$G23,0,(COLUMN()-3)*6,1,1)=\"-\",OFFSET(結果貼付け用!$G23,0,(COLUMN()-3)*6,1,1)=\"\"),NA(),(OFFSET(結果貼付け用!$G23,0,(COLUMN()-3)*6,1,1)))","v":{"$error":"#N/A"}},{"$f":"IF(OR(OFFSET(結果貼付け用!$G23,0,(COLUMN()-3)*6,1,1)=\"-\",OFFSET(結果貼付け用!$G23,0,(COLUMN()-3)*6,1,1)=\"\"),NA(),(OFFSET(結果貼付け用!$G23,0,(COLUMN()-3)*6,1,1)))","v":{"$error":"#N/A"}},{"$f":"IF(OR(OFFSET(結果貼付け用!$G23,0,(COLUMN()-3)*6,1,1)=\"-\",OFFSET(結果貼付け用!$G23,0,(COLUMN()-3)*6,1,1)=\"\"),NA(),(OFFSET(結果貼付け用!$G23,0,(COLUMN()-3)*6,1,1)))","v":{"$error":"#N/A"}},{"$f":"IF(OR(OFFSET(結果貼付け用!$G23,0,(COLUMN()-3)*6,1,1)=\"-\",OFFSET(結果貼付け用!$G23,0,(COLUMN()-3)*6,1,1)=\"\"),NA(),(OFFSET(結果貼付け用!$G23,0,(COLUMN()-3)*6,1,1)))","v":{"$error":"#N/A"}},{"$f":"IF(OR(OFFSET(結果貼付け用!$G23,0,(COLUMN()-3)*6,1,1)=\"-\",OFFSET(結果貼付け用!$G23,0,(COLUMN()-3)*6,1,1)=\"\"),NA(),(OFFSET(結果貼付け用!$G23,0,(COLUMN()-3)*6,1,1)))","v":{"$error":"#N/A"}},{"$f":"IF(OR(OFFSET(結果貼付け用!$G23,0,(COLUMN()-3)*6,1,1)=\"-\",OFFSET(結果貼付け用!$G23,0,(COLUMN()-3)*6,1,1)=\"\"),NA(),(OFFSET(結果貼付け用!$G23,0,(COLUMN()-3)*6,1,1)))","v":{"$error":"#N/A"}},{"$f":"IF(OR(OFFSET(結果貼付け用!$G23,0,(COLUMN()-3)*6,1,1)=\"-\",OFFSET(結果貼付け用!$G23,0,(COLUMN()-3)*6,1,1)=\"\"),NA(),(OFFSET(結果貼付け用!$G23,0,(COLUMN()-3)*6,1,1)))","v":{"$error":"#N/A"}},{"$f":"IF(OR(OFFSET(結果貼付け用!$G23,0,(COLUMN()-3)*6,1,1)=\"-\",OFFSET(結果貼付け用!$G23,0,(COLUMN()-3)*6,1,1)=\"\"),NA(),(OFFSET(結果貼付け用!$G23,0,(COLUMN()-3)*6,1,1)))","v":{"$error":"#N/A"}},{"$f":"IF(OR(OFFSET(結果貼付け用!$G23,0,(COLUMN()-3)*6,1,1)=\"-\",OFFSET(結果貼付け用!$G23,0,(COLUMN()-3)*6,1,1)=\"\"),NA(),(OFFSET(結果貼付け用!$G23,0,(COLUMN()-3)*6,1,1)))","v":{"$error":"#N/A"}},{"$f":"IF(OR(OFFSET(結果貼付け用!$G23,0,(COLUMN()-3)*6,1,1)=\"-\",OFFSET(結果貼付け用!$G23,0,(COLUMN()-3)*6,1,1)=\"\"),NA(),(OFFSET(結果貼付け用!$G23,0,(COLUMN()-3)*6,1,1)))","v":{"$error":"#N/A"}},{"$f":"IF(OR(OFFSET(結果貼付け用!$G23,0,(COLUMN()-3)*6,1,1)=\"-\",OFFSET(結果貼付け用!$G23,0,(COLUMN()-3)*6,1,1)=\"\"),NA(),(OFFSET(結果貼付け用!$G23,0,(COLUMN()-3)*6,1,1)))","v":{"$error":"#N/A"}},{"$f":"IF(OR(OFFSET(結果貼付け用!$G23,0,(COLUMN()-3)*6,1,1)=\"-\",OFFSET(結果貼付け用!$G23,0,(COLUMN()-3)*6,1,1)=\"\"),NA(),(OFFSET(結果貼付け用!$G23,0,(COLUMN()-3)*6,1,1)))","v":{"$error":"#N/A"}},{"$f":"IF(OR(OFFSET(結果貼付け用!$G23,0,(COLUMN()-3)*6,1,1)=\"-\",OFFSET(結果貼付け用!$G23,0,(COLUMN()-3)*6,1,1)=\"\"),NA(),(OFFSET(結果貼付け用!$G23,0,(COLUMN()-3)*6,1,1)))","v":{"$error":"#N/A"}},{"$f":"IF(OR(OFFSET(結果貼付け用!$G23,0,(COLUMN()-3)*6,1,1)=\"-\",OFFSET(結果貼付け用!$G23,0,(COLUMN()-3)*6,1,1)=\"\"),NA(),(OFFSET(結果貼付け用!$G23,0,(COLUMN()-3)*6,1,1)))","v":{"$error":"#N/A"}},{"$f":"IF(OR(OFFSET(結果貼付け用!$G23,0,(COLUMN()-3)*6,1,1)=\"-\",OFFSET(結果貼付け用!$G23,0,(COLUMN()-3)*6,1,1)=\"\"),NA(),(OFFSET(結果貼付け用!$G23,0,(COLUMN()-3)*6,1,1)))","v":{"$error":"#N/A"}},{"$f":"IF(OR(OFFSET(結果貼付け用!$G23,0,(COLUMN()-3)*6,1,1)=\"-\",OFFSET(結果貼付け用!$G23,0,(COLUMN()-3)*6,1,1)=\"\"),NA(),(OFFSET(結果貼付け用!$G23,0,(COLUMN()-3)*6,1,1)))","v":{"$error":"#N/A"}},{"$f":"IF(OR(OFFSET(結果貼付け用!$G23,0,(COLUMN()-3)*6,1,1)=\"-\",OFFSET(結果貼付け用!$G23,0,(COLUMN()-3)*6,1,1)=\"\"),NA(),(OFFSET(結果貼付け用!$G23,0,(COLUMN()-3)*6,1,1)))","v":{"$error":"#N/A"}}]
[null,"ストレッチ目標",{"$f":"IF(OR(OFFSET(結果貼付け用!$G24,0,(COLUMN()-3)*6,1,1)=\"-\",OFFSET(結果貼付け用!$G24,0,(COLUMN()-3)*6,1,1)=\"\"),NA(),(OFFSET(結果貼付け用!$G24,0,(COLUMN()-3)*6,1,1)))","v":{"$error":"#N/A"}},{"$f":"IF(OR(OFFSET(結果貼付け用!$G24,0,(COLUMN()-3)*6,1,1)=\"-\",OFFSET(結果貼付け用!$G24,0,(COLUMN()-3)*6,1,1)=\"\"),NA(),(OFFSET(結果貼付け用!$G24,0,(COLUMN()-3)*6,1,1)))","v":{"$error":"#N/A"}},{"$f":"IF(OR(OFFSET(結果貼付け用!$G24,0,(COLUMN()-3)*6,1,1)=\"-\",OFFSET(結果貼付け用!$G24,0,(COLUMN()-3)*6,1,1)=\"\"),NA(),(OFFSET(結果貼付け用!$G24,0,(COLUMN()-3)*6,1,1)))","v":{"$error":"#N/A"}},{"$f":"IF(OR(OFFSET(結果貼付け用!$G24,0,(COLUMN()-3)*6,1,1)=\"-\",OFFSET(結果貼付け用!$G24,0,(COLUMN()-3)*6,1,1)=\"\"),NA(),(OFFSET(結果貼付け用!$G24,0,(COLUMN()-3)*6,1,1)))","v":{"$error":"#N/A"}},{"$f":"IF(OR(OFFSET(結果貼付け用!$G24,0,(COLUMN()-3)*6,1,1)=\"-\",OFFSET(結果貼付け用!$G24,0,(COLUMN()-3)*6,1,1)=\"\"),NA(),(OFFSET(結果貼付け用!$G24,0,(COLUMN()-3)*6,1,1)))","v":{"$error":"#N/A"}},{"$f":"IF(OR(OFFSET(結果貼付け用!$G24,0,(COLUMN()-3)*6,1,1)=\"-\",OFFSET(結果貼付け用!$G24,0,(COLUMN()-3)*6,1,1)=\"\"),NA(),(OFFSET(結果貼付け用!$G24,0,(COLUMN()-3)*6,1,1)))","v":{"$error":"#N/A"}},{"$f":"IF(OR(OFFSET(結果貼付け用!$G24,0,(COLUMN()-3)*6,1,1)=\"-\",OFFSET(結果貼付け用!$G24,0,(COLUMN()-3)*6,1,1)=\"\"),NA(),(OFFSET(結果貼付け用!$G24,0,(COLUMN()-3)*6,1,1)))","v":{"$error":"#N/A"}},{"$f":"IF(OR(OFFSET(結果貼付け用!$G24,0,(COLUMN()-3)*6,1,1)=\"-\",OFFSET(結果貼付け用!$G24,0,(COLUMN()-3)*6,1,1)=\"\"),NA(),(OFFSET(結果貼付け用!$G24,0,(COLUMN()-3)*6,1,1)))","v":{"$error":"#N/A"}},{"$f":"IF(OR(OFFSET(結果貼付け用!$G24,0,(COLUMN()-3)*6,1,1)=\"-\",OFFSET(結果貼付け用!$G24,0,(COLUMN()-3)*6,1,1)=\"\"),NA(),(OFFSET(結果貼付け用!$G24,0,(COLUMN()-3)*6,1,1)))","v":{"$error":"#N/A"}},{"$f":"IF(OR(OFFSET(結果貼付け用!$G24,0,(COLUMN()-3)*6,1,1)=\"-\",OFFSET(結果貼付け用!$G24,0,(COLUMN()-3)*6,1,1)=\"\"),NA(),(OFFSET(結果貼付け用!$G24,0,(COLUMN()-3)*6,1,1)))","v":{"$error":"#N/A"}},{"$f":"IF(OR(OFFSET(結果貼付け用!$G24,0,(COLUMN()-3)*6,1,1)=\"-\",OFFSET(結果貼付け用!$G24,0,(COLUMN()-3)*6,1,1)=\"\"),NA(),(OFFSET(結果貼付け用!$G24,0,(COLUMN()-3)*6,1,1)))","v":{"$error":"#N/A"}},{"$f":"IF(OR(OFFSET(結果貼付け用!$G24,0,(COLUMN()-3)*6,1,1)=\"-\",OFFSET(結果貼付け用!$G24,0,(COLUMN()-3)*6,1,1)=\"\"),NA(),(OFFSET(結果貼付け用!$G24,0,(COLUMN()-3)*6,1,1)))","v":{"$error":"#N/A"}},{"$f":"IF(OR(OFFSET(結果貼付け用!$G24,0,(COLUMN()-3)*6,1,1)=\"-\",OFFSET(結果貼付け用!$G24,0,(COLUMN()-3)*6,1,1)=\"\"),NA(),(OFFSET(結果貼付け用!$G24,0,(COLUMN()-3)*6,1,1)))","v":{"$error":"#N/A"}},{"$f":"IF(OR(OFFSET(結果貼付け用!$G24,0,(COLUMN()-3)*6,1,1)=\"-\",OFFSET(結果貼付け用!$G24,0,(COLUMN()-3)*6,1,1)=\"\"),NA(),(OFFSET(結果貼付け用!$G24,0,(COLUMN()-3)*6,1,1)))","v":{"$error":"#N/A"}},{"$f":"IF(OR(OFFSET(結果貼付け用!$G24,0,(COLUMN()-3)*6,1,1)=\"-\",OFFSET(結果貼付け用!$G24,0,(COLUMN()-3)*6,1,1)=\"\"),NA(),(OFFSET(結果貼付け用!$G24,0,(COLUMN()-3)*6,1,1)))","v":{"$error":"#N/A"}},{"$f":"IF(OR(OFFSET(結果貼付け用!$G24,0,(COLUMN()-3)*6,1,1)=\"-\",OFFSET(結果貼付け用!$G24,0,(COLUMN()-3)*6,1,1)=\"\"),NA(),(OFFSET(結果貼付け用!$G24,0,(COLUMN()-3)*6,1,1)))","v":{"$error":"#N/A"}},{"$f":"IF(OR(OFFSET(結果貼付け用!$G24,0,(COLUMN()-3)*6,1,1)=\"-\",OFFSET(結果貼付け用!$G24,0,(COLUMN()-3)*6,1,1)=\"\"),NA(),(OFFSET(結果貼付け用!$G24,0,(COLUMN()-3)*6,1,1)))","v":{"$error":"#N/A"}},{"$f":"IF(OR(OFFSET(結果貼付け用!$G24,0,(COLUMN()-3)*6,1,1)=\"-\",OFFSET(結果貼付け用!$G24,0,(COLUMN()-3)*6,1,1)=\"\"),NA(),(OFFSET(結果貼付け用!$G24,0,(COLUMN()-3)*6,1,1)))","v":{"$error":"#N/A"}},{"$f":"IF(OR(OFFSET(結果貼付け用!$G24,0,(COLUMN()-3)*6,1,1)=\"-\",OFFSET(結果貼付け用!$G24,0,(COLUMN()-3)*6,1,1)=\"\"),NA(),(OFFSET(結果貼付け用!$G24,0,(COLUMN()-3)*6,1,1)))","v":{"$error":"#N/A"}},{"$f":"IF(OR(OFFSET(結果貼付け用!$G24,0,(COLUMN()-3)*6,1,1)=\"-\",OFFSET(結果貼付け用!$G24,0,(COLUMN()-3)*6,1,1)=\"\"),NA(),(OFFSET(結果貼付け用!$G24,0,(COLUMN()-3)*6,1,1)))","v":{"$error":"#N/A"}},{"$f":"IF(OR(OFFSET(結果貼付け用!$G24,0,(COLUMN()-3)*6,1,1)=\"-\",OFFSET(結果貼付け用!$G24,0,(COLUMN()-3)*6,1,1)=\"\"),NA(),(OFFSET(結果貼付け用!$G24,0,(COLUMN()-3)*6,1,1)))","v":{"$error":"#N/A"}},{"$f":"IF(OR(OFFSET(結果貼付け用!$G24,0,(COLUMN()-3)*6,1,1)=\"-\",OFFSET(結果貼付け用!$G24,0,(COLUMN()-3)*6,1,1)=\"\"),NA(),(OFFSET(結果貼付け用!$G24,0,(COLUMN()-3)*6,1,1)))","v":{"$error":"#N/A"}},{"$f":"IF(OR(OFFSET(結果貼付け用!$G24,0,(COLUMN()-3)*6,1,1)=\"-\",OFFSET(結果貼付け用!$G24,0,(COLUMN()-3)*6,1,1)=\"\"),NA(),(OFFSET(結果貼付け用!$G24,0,(COLUMN()-3)*6,1,1)))","v":{"$error":"#N/A"}},{"$f":"IF(OR(OFFSET(結果貼付け用!$G24,0,(COLUMN()-3)*6,1,1)=\"-\",OFFSET(結果貼付け用!$G24,0,(COLUMN()-3)*6,1,1)=\"\"),NA(),(OFFSET(結果貼付け用!$G24,0,(COLUMN()-3)*6,1,1)))","v":{"$error":"#N/A"}},{"$f":"IF(OR(OFFSET(結果貼付け用!$G24,0,(COLUMN()-3)*6,1,1)=\"-\",OFFSET(結果貼付け用!$G24,0,(COLUMN()-3)*6,1,1)=\"\"),NA(),(OFFSET(結果貼付け用!$G24,0,(COLUMN()-3)*6,1,1)))","v":{"$error":"#N/A"}},{"$f":"IF(OR(OFFSET(結果貼付け用!$G24,0,(COLUMN()-3)*6,1,1)=\"-\",OFFSET(結果貼付け用!$G24,0,(COLUMN()-3)*6,1,1)=\"\"),NA(),(OFFSET(結果貼付け用!$G24,0,(COLUMN()-3)*6,1,1)))","v":{"$error":"#N/A"}},{"$f":"IF(OR(OFFSET(結果貼付け用!$G24,0,(COLUMN()-3)*6,1,1)=\"-\",OFFSET(結果貼付け用!$G24,0,(COLUMN()-3)*6,1,1)=\"\"),NA(),(OFFSET(結果貼付け用!$G24,0,(COLUMN()-3)*6,1,1)))","v":{"$error":"#N/A"}},{"$f":"IF(OR(OFFSET(結果貼付け用!$G24,0,(COLUMN()-3)*6,1,1)=\"-\",OFFSET(結果貼付け用!$G24,0,(COLUMN()-3)*6,1,1)=\"\"),NA(),(OFFSET(結果貼付け用!$G24,0,(COLUMN()-3)*6,1,1)))","v":{"$error":"#N/A"}},{"$f":"IF(OR(OFFSET(結果貼付け用!$G24,0,(COLUMN()-3)*6,1,1)=\"-\",OFFSET(結果貼付け用!$G24,0,(COLUMN()-3)*6,1,1)=\"\"),NA(),(OFFSET(結果貼付け用!$G24,0,(COLUMN()-3)*6,1,1)))","v":{"$error":"#N/A"}},{"$f":"IF(OR(OFFSET(結果貼付け用!$G24,0,(COLUMN()-3)*6,1,1)=\"-\",OFFSET(結果貼付け用!$G24,0,(COLUMN()-3)*6,1,1)=\"\"),NA(),(OFFSET(結果貼付け用!$G24,0,(COLUMN()-3)*6,1,1)))","v":{"$error":"#N/A"}}]
[null,"協働必要性",{"$f":"IF(OR(OFFSET(結果貼付け用!$G25,0,(COLUMN()-3)*6,1,1)=\"-\",OFFSET(結果貼付け用!$G25,0,(COLUMN()-3)*6,1,1)=\"\"),NA(),(OFFSET(結果貼付け用!$G25,0,(COLUMN()-3)*6,1,1)))","v":{"$error":"#N/A"}},{"$f":"IF(OR(OFFSET(結果貼付け用!$G25,0,(COLUMN()-3)*6,1,1)=\"-\",OFFSET(結果貼付け用!$G25,0,(COLUMN()-3)*6,1,1)=\"\"),NA(),(OFFSET(結果貼付け用!$G25,0,(COLUMN()-3)*6,1,1)))","v":{"$error":"#N/A"}},{"$f":"IF(OR(OFFSET(結果貼付け用!$G25,0,(COLUMN()-3)*6,1,1)=\"-\",OFFSET(結果貼付け用!$G25,0,(COLUMN()-3)*6,1,1)=\"\"),NA(),(OFFSET(結果貼付け用!$G25,0,(COLUMN()-3)*6,1,1)))","v":{"$error":"#N/A"}},{"$f":"IF(OR(OFFSET(結果貼付け用!$G25,0,(COLUMN()-3)*6,1,1)=\"-\",OFFSET(結果貼付け用!$G25,0,(COLUMN()-3)*6,1,1)=\"\"),NA(),(OFFSET(結果貼付け用!$G25,0,(COLUMN()-3)*6,1,1)))","v":{"$error":"#N/A"}},{"$f":"IF(OR(OFFSET(結果貼付け用!$G25,0,(COLUMN()-3)*6,1,1)=\"-\",OFFSET(結果貼付け用!$G25,0,(COLUMN()-3)*6,1,1)=\"\"),NA(),(OFFSET(結果貼付け用!$G25,0,(COLUMN()-3)*6,1,1)))","v":{"$error":"#N/A"}},{"$f":"IF(OR(OFFSET(結果貼付け用!$G25,0,(COLUMN()-3)*6,1,1)=\"-\",OFFSET(結果貼付け用!$G25,0,(COLUMN()-3)*6,1,1)=\"\"),NA(),(OFFSET(結果貼付け用!$G25,0,(COLUMN()-3)*6,1,1)))","v":{"$error":"#N/A"}},{"$f":"IF(OR(OFFSET(結果貼付け用!$G25,0,(COLUMN()-3)*6,1,1)=\"-\",OFFSET(結果貼付け用!$G25,0,(COLUMN()-3)*6,1,1)=\"\"),NA(),(OFFSET(結果貼付け用!$G25,0,(COLUMN()-3)*6,1,1)))","v":{"$error":"#N/A"}},{"$f":"IF(OR(OFFSET(結果貼付け用!$G25,0,(COLUMN()-3)*6,1,1)=\"-\",OFFSET(結果貼付け用!$G25,0,(COLUMN()-3)*6,1,1)=\"\"),NA(),(OFFSET(結果貼付け用!$G25,0,(COLUMN()-3)*6,1,1)))","v":{"$error":"#N/A"}},{"$f":"IF(OR(OFFSET(結果貼付け用!$G25,0,(COLUMN()-3)*6,1,1)=\"-\",OFFSET(結果貼付け用!$G25,0,(COLUMN()-3)*6,1,1)=\"\"),NA(),(OFFSET(結果貼付け用!$G25,0,(COLUMN()-3)*6,1,1)))","v":{"$error":"#N/A"}},{"$f":"IF(OR(OFFSET(結果貼付け用!$G25,0,(COLUMN()-3)*6,1,1)=\"-\",OFFSET(結果貼付け用!$G25,0,(COLUMN()-3)*6,1,1)=\"\"),NA(),(OFFSET(結果貼付け用!$G25,0,(COLUMN()-3)*6,1,1)))","v":{"$error":"#N/A"}},{"$f":"IF(OR(OFFSET(結果貼付け用!$G25,0,(COLUMN()-3)*6,1,1)=\"-\",OFFSET(結果貼付け用!$G25,0,(COLUMN()-3)*6,1,1)=\"\"),NA(),(OFFSET(結果貼付け用!$G25,0,(COLUMN()-3)*6,1,1)))","v":{"$error":"#N/A"}},{"$f":"IF(OR(OFFSET(結果貼付け用!$G25,0,(COLUMN()-3)*6,1,1)=\"-\",OFFSET(結果貼付け用!$G25,0,(COLUMN()-3)*6,1,1)=\"\"),NA(),(OFFSET(結果貼付け用!$G25,0,(COLUMN()-3)*6,1,1)))","v":{"$error":"#N/A"}},{"$f":"IF(OR(OFFSET(結果貼付け用!$G25,0,(COLUMN()-3)*6,1,1)=\"-\",OFFSET(結果貼付け用!$G25,0,(COLUMN()-3)*6,1,1)=\"\"),NA(),(OFFSET(結果貼付け用!$G25,0,(COLUMN()-3)*6,1,1)))","v":{"$error":"#N/A"}},{"$f":"IF(OR(OFFSET(結果貼付け用!$G25,0,(COLUMN()-3)*6,1,1)=\"-\",OFFSET(結果貼付け用!$G25,0,(COLUMN()-3)*6,1,1)=\"\"),NA(),(OFFSET(結果貼付け用!$G25,0,(COLUMN()-3)*6,1,1)))","v":{"$error":"#N/A"}},{"$f":"IF(OR(OFFSET(結果貼付け用!$G25,0,(COLUMN()-3)*6,1,1)=\"-\",OFFSET(結果貼付け用!$G25,0,(COLUMN()-3)*6,1,1)=\"\"),NA(),(OFFSET(結果貼付け用!$G25,0,(COLUMN()-3)*6,1,1)))","v":{"$error":"#N/A"}},{"$f":"IF(OR(OFFSET(結果貼付け用!$G25,0,(COLUMN()-3)*6,1,1)=\"-\",OFFSET(結果貼付け用!$G25,0,(COLUMN()-3)*6,1,1)=\"\"),NA(),(OFFSET(結果貼付け用!$G25,0,(COLUMN()-3)*6,1,1)))","v":{"$error":"#N/A"}},{"$f":"IF(OR(OFFSET(結果貼付け用!$G25,0,(COLUMN()-3)*6,1,1)=\"-\",OFFSET(結果貼付け用!$G25,0,(COLUMN()-3)*6,1,1)=\"\"),NA(),(OFFSET(結果貼付け用!$G25,0,(COLUMN()-3)*6,1,1)))","v":{"$error":"#N/A"}},{"$f":"IF(OR(OFFSET(結果貼付け用!$G25,0,(COLUMN()-3)*6,1,1)=\"-\",OFFSET(結果貼付け用!$G25,0,(COLUMN()-3)*6,1,1)=\"\"),NA(),(OFFSET(結果貼付け用!$G25,0,(COLUMN()-3)*6,1,1)))","v":{"$error":"#N/A"}},{"$f":"IF(OR(OFFSET(結果貼付け用!$G25,0,(COLUMN()-3)*6,1,1)=\"-\",OFFSET(結果貼付け用!$G25,0,(COLUMN()-3)*6,1,1)=\"\"),NA(),(OFFSET(結果貼付け用!$G25,0,(COLUMN()-3)*6,1,1)))","v":{"$error":"#N/A"}},{"$f":"IF(OR(OFFSET(結果貼付け用!$G25,0,(COLUMN()-3)*6,1,1)=\"-\",OFFSET(結果貼付け用!$G25,0,(COLUMN()-3)*6,1,1)=\"\"),NA(),(OFFSET(結果貼付け用!$G25,0,(COLUMN()-3)*6,1,1)))","v":{"$error":"#N/A"}},{"$f":"IF(OR(OFFSET(結果貼付け用!$G25,0,(COLUMN()-3)*6,1,1)=\"-\",OFFSET(結果貼付け用!$G25,0,(COLUMN()-3)*6,1,1)=\"\"),NA(),(OFFSET(結果貼付け用!$G25,0,(COLUMN()-3)*6,1,1)))","v":{"$error":"#N/A"}},{"$f":"IF(OR(OFFSET(結果貼付け用!$G25,0,(COLUMN()-3)*6,1,1)=\"-\",OFFSET(結果貼付け用!$G25,0,(COLUMN()-3)*6,1,1)=\"\"),NA(),(OFFSET(結果貼付け用!$G25,0,(COLUMN()-3)*6,1,1)))","v":{"$error":"#N/A"}},{"$f":"IF(OR(OFFSET(結果貼付け用!$G25,0,(COLUMN()-3)*6,1,1)=\"-\",OFFSET(結果貼付け用!$G25,0,(COLUMN()-3)*6,1,1)=\"\"),NA(),(OFFSET(結果貼付け用!$G25,0,(COLUMN()-3)*6,1,1)))","v":{"$error":"#N/A"}},{"$f":"IF(OR(OFFSET(結果貼付け用!$G25,0,(COLUMN()-3)*6,1,1)=\"-\",OFFSET(結果貼付け用!$G25,0,(COLUMN()-3)*6,1,1)=\"\"),NA(),(OFFSET(結果貼付け用!$G25,0,(COLUMN()-3)*6,1,1)))","v":{"$error":"#N/A"}},{"$f":"IF(OR(OFFSET(結果貼付け用!$G25,0,(COLUMN()-3)*6,1,1)=\"-\",OFFSET(結果貼付け用!$G25,0,(COLUMN()-3)*6,1,1)=\"\"),NA(),(OFFSET(結果貼付け用!$G25,0,(COLUMN()-3)*6,1,1)))","v":{"$error":"#N/A"}},{"$f":"IF(OR(OFFSET(結果貼付け用!$G25,0,(COLUMN()-3)*6,1,1)=\"-\",OFFSET(結果貼付け用!$G25,0,(COLUMN()-3)*6,1,1)=\"\"),NA(),(OFFSET(結果貼付け用!$G25,0,(COLUMN()-3)*6,1,1)))","v":{"$error":"#N/A"}},{"$f":"IF(OR(OFFSET(結果貼付け用!$G25,0,(COLUMN()-3)*6,1,1)=\"-\",OFFSET(結果貼付け用!$G25,0,(COLUMN()-3)*6,1,1)=\"\"),NA(),(OFFSET(結果貼付け用!$G25,0,(COLUMN()-3)*6,1,1)))","v":{"$error":"#N/A"}},{"$f":"IF(OR(OFFSET(結果貼付け用!$G25,0,(COLUMN()-3)*6,1,1)=\"-\",OFFSET(結果貼付け用!$G25,0,(COLUMN()-3)*6,1,1)=\"\"),NA(),(OFFSET(結果貼付け用!$G25,0,(COLUMN()-3)*6,1,1)))","v":{"$error":"#N/A"}},{"$f":"IF(OR(OFFSET(結果貼付け用!$G25,0,(COLUMN()-3)*6,1,1)=\"-\",OFFSET(結果貼付け用!$G25,0,(COLUMN()-3)*6,1,1)=\"\"),NA(),(OFFSET(結果貼付け用!$G25,0,(COLUMN()-3)*6,1,1)))","v":{"$error":"#N/A"}},{"$f":"IF(OR(OFFSET(結果貼付け用!$G25,0,(COLUMN()-3)*6,1,1)=\"-\",OFFSET(結果貼付け用!$G25,0,(COLUMN()-3)*6,1,1)=\"\"),NA(),(OFFSET(結果貼付け用!$G25,0,(COLUMN()-3)*6,1,1)))","v":{"$error":"#N/A"}}]
[]
[]
[]
[]
[]
[]
[]
[]
[]
[]
[]
[]
[]
[]
[]
[]
[]
[]
[]
[]
[null,"実施開始日時",{"$f":"IF(結果貼付け用!B2=\"\",NA(),結果貼付け用!B2)","v":{"$error":"#N/A"}},{"$f":"IF((OFFSET(結果貼付け用!$H$2, 0, (COLUMN() - COLUMN($D$20)) * 6))=\"\",NA(),(OFFSET(結果貼付け用!$H$2, 0, (COLUMN() - COLUMN($D$20)) * 6)))","v":{"$error":"#N/A"}},{"$f":"IF((OFFSET(結果貼付け用!$H$2, 0, (COLUMN() - COLUMN($D$20)) * 6))=\"\",NA(),(OFFSET(結果貼付け用!$H$2, 0, (COLUMN() - COLUMN($D$20)) * 6)))","v":{"$error":"#N/A"}},{"$f":"IF((OFFSET(結果貼付け用!$H$2, 0, (COLUMN() - COLUMN($D$20)) * 6))=\"\",NA(),(OFFSET(結果貼付け用!$H$2, 0, (COLUMN() - COLUMN($D$20)) * 6)))","v":{"$error":"#N/A"}},{"$f":"IF((OFFSET(結果貼付け用!$H$2, 0, (COLUMN() - COLUMN($D$20)) * 6))=\"\",NA(),(OFFSET(結果貼付け用!$H$2, 0, (COLUMN() - COLUMN($D$20)) * 6)))","v":{"$error":"#N/A"}},{"$f":"IF((OFFSET(結果貼付け用!$H$2, 0, (COLUMN() - COLUMN($D$20)) * 6))=\"\",NA(),(OFFSET(結果貼付け用!$H$2, 0, (COLUMN() - COLUMN($D$20)) * 6)))","v":{"$error":"#N/A"}},{"$f":"IF((OFFSET(結果貼付け用!$H$2, 0, (COLUMN() - COLUMN($D$20)) * 6))=\"\",NA(),(OFFSET(結果貼付け用!$H$2, 0, (COLUMN() - COLUMN($D$20)) * 6)))","v":{"$error":"#N/A"}},{"$f":"IF((OFFSET(結果貼付け用!$H$2, 0, (COLUMN() - COLUMN($D$20)) * 6))=\"\",NA(),(OFFSET(結果貼付け用!$H$2, 0, (COLUMN() - COLUMN($D$20)) * 6)))","v":{"$error":"#N/A"}},{"$f":"IF((OFFSET(結果貼付け用!$H$2, 0, (COLUMN() - COLUMN($D$20)) * 6))=\"\",NA(),(OFFSET(結果貼付け用!$H$2, 0, (COLUMN() - COLUMN($D$20)) * 6)))","v":{"$error":"#N/A"}},{"$f":"IF((OFFSET(結果貼付け用!$H$2, 0, (COLUMN() - COLUMN($D$20)) * 6))=\"\",NA(),(OFFSET(結果貼付け用!$H$2, 0, (COLUMN() - COLUMN($D$20)) * 6)))","v":{"$error":"#N/A"}},{"$f":"IF((OFFSET(結果貼付け用!$H$2, 0, (COLUMN() - COLUMN($D$20)) * 6))=\"\",NA(),(OFFSET(結果貼付け用!$H$2, 0, (COLUMN() - COLUMN($D$20)) * 6)))","v":{"$error":"#N/A"}},{"$f":"IF((OFFSET(結果貼付け用!$H$2, 0, (COLUMN() - COLUMN($D$20)) * 6))=\"\",NA(),(OFFSET(結果貼付け用!$H$2, 0, (COLUMN() - COLUMN($D$20)) * 6)))","v":{"$error":"#N/A"}},{"$f":"IF((OFFSET(結果貼付け用!$H$2, 0, (COLUMN() - COLUMN($D$20)) * 6))=\"\",NA(),(OFFSET(結果貼付け用!$H$2, 0, (COLUMN() - COLUMN($D$20)) * 6)))","v":{"$error":"#N/A"}},{"$f":"IF((OFFSET(結果貼付け用!$H$2, 0, (COLUMN() - COLUMN($D$20)) * 6))=\"\",NA(),(OFFSET(結果貼付け用!$H$2, 0, (COLUMN() - COLUMN($D$20)) * 6)))","v":{"$error":"#N/A"}},{"$f":"IF((OFFSET(結果貼付け用!$H$2, 0, (COLUMN() - COLUMN($D$20)) * 6))=\"\",NA(),(OFFSET(結果貼付け用!$H$2, 0, (COLUMN() - COLUMN($D$20)) * 6)))","v":{"$error":"#N/A"}},{"$f":"IF((OFFSET(結果貼付け用!$H$2, 0, (COLUMN() - COLUMN($D$20)) * 6))=\"\",NA(),(OFFSET(結果貼付け用!$H$2, 0, (COLUMN() - COLUMN($D$20)) * 6)))","v":{"$error":"#N/A"}},{"$f":"IF((OFFSET(結果貼付け用!$H$2, 0, (COLUMN() - COLUMN($D$20)) * 6))=\"\",NA(),(OFFSET(結果貼付け用!$H$2, 0, (COLUMN() - COLUMN($D$20)) * 6)))","v":{"$error":"#N/A"}},{"$f":"IF((OFFSET(結果貼付け用!$H$2, 0, (COLUMN() - COLUMN($D$20)) * 6))=\"\",NA(),(OFFSET(結果貼付け用!$H$2, 0, (COLUMN() - COLUMN($D$20)) * 6)))","v":{"$error":"#N/A"}},{"$f":"IF((OFFSET(結果貼付け用!$H$2, 0, (COLUMN() - COLUMN($D$20)) * 6))=\"\",NA(),(OFFSET(結果貼付け用!$H$2, 0, (COLUMN() - COLUMN($D$20)) * 6)))","v":{"$error":"#N/A"}},{"$f":"IF((OFFSET(結果貼付け用!$H$2, 0, (COLUMN() - COLUMN($D$20)) * 6))=\"\",NA(),(OFFSET(結果貼付け用!$H$2, 0, (COLUMN() - COLUMN($D$20)) * 6)))","v":{"$error":"#N/A"}},{"$f":"IF((OFFSET(結果貼付け用!$H$2, 0, (COLUMN() - COLUMN($D$20)) * 6))=\"\",NA(),(OFFSET(結果貼付け用!$H$2, 0, (COLUMN() - COLUMN($D$20)) * 6)))","v":{"$error":"#N/A"}},{"$f":"IF((OFFSET(結果貼付け用!$H$2, 0, (COLUMN() - COLUMN($D$20)) * 6))=\"\",NA(),(OFFSET(結果貼付け用!$H$2, 0, (COLUMN() - COLUMN($D$20)) * 6)))","v":{"$error":"#N/A"}},{"$f":"IF((OFFSET(結果貼付け用!$H$2, 0, (COLUMN() - COLUMN($D$20)) * 6))=\"\",NA(),(OFFSET(結果貼付け用!$H$2, 0, (COLUMN() - COLUMN($D$20)) * 6)))","v":{"$error":"#N/A"}},{"$f":"IF((OFFSET(結果貼付け用!$H$2, 0, (COLUMN() - COLUMN($D$20)) * 6))=\"\",NA(),(OFFSET(結果貼付け用!$H$2, 0, (COLUMN() - COLUMN($D$20)) * 6)))","v":{"$error":"#N/A"}},{"$f":"IF((OFFSET(結果貼付け用!$H$2, 0, (COLUMN() - COLUMN($D$20)) * 6))=\"\",NA(),(OFFSET(結果貼付け用!$H$2, 0, (COLUMN() - COLUMN($D$20)) * 6)))","v":{"$error":"#N/A"}},{"$f":"IF((OFFSET(結果貼付け用!$H$2, 0, (COLUMN() - COLUMN($D$20)) * 6))=\"\",NA(),(OFFSET(結果貼付け用!$H$2, 0, (COLUMN() - COLUMN($D$20)) * 6)))","v":{"$error":"#N/A"}},{"$f":"IF((OFFSET(結果貼付け用!$H$2, 0, (COLUMN() - COLUMN($D$20)) * 6))=\"\",NA(),(OFFSET(結果貼付け用!$H$2, 0, (COLUMN() - COLUMN($D$20)) * 6)))","v":{"$error":"#N/A"}},{"$f":"IF((OFFSET(結果貼付け用!$H$2, 0, (COLUMN() - COLUMN($D$20)) * 6))=\"\",NA(),(OFFSET(結果貼付け用!$H$2, 0, (COLUMN() - COLUMN($D$20)) * 6)))","v":{"$error":"#N/A"}},{"$f":"IF((OFFSET(結果貼付け用!$H$2, 0, (COLUMN() - COLUMN($D$20)) * 6))=\"\",NA(),(OFFSET(結果貼付け用!$H$2, 0, (COLUMN() - COLUMN($D$20)) * 6)))","v":{"$error":"#N/A"}},{"$f":"IF((OFFSET(結果貼付け用!$H$2, 0, (COLUMN() - COLUMN($D$20)) * 6))=\"\",NA(),(OFFSET(結果貼付け用!$H$2, 0, (COLUMN() - COLUMN($D$20)) * 6)))","v":{"$error":"#N/A"}}]
[null,"仕事状況",{"$f":"IF(OR(OFFSET(結果貼付け用!$G26,0,(COLUMN()-3)*6,1,1)=\"-\",OFFSET(結果貼付け用!$G26,0,(COLUMN()-3)*6,1,1)=\"\"),NA(),(OFFSET(結果貼付け用!$G26,0,(COLUMN()-3)*6,1,1)))","v":{"$error":"#N/A"}},{"$f":"IF(OR(OFFSET(結果貼付け用!$G26,0,(COLUMN()-3)*6,1,1)=\"-\",OFFSET(結果貼付け用!$G26,0,(COLUMN()-3)*6,1,1)=\"\"),NA(),(OFFSET(結果貼付け用!$G26,0,(COLUMN()-3)*6,1,1)))","v":{"$error":"#N/A"}},{"$f":"IF(OR(OFFSET(結果貼付け用!$G26,0,(COLUMN()-3)*6,1,1)=\"-\",OFFSET(結果貼付け用!$G26,0,(COLUMN()-3)*6,1,1)=\"\"),NA(),(OFFSET(結果貼付け用!$G26,0,(COLUMN()-3)*6,1,1)))","v":{"$error":"#N/A"}},{"$f":"IF(OR(OFFSET(結果貼付け用!$G26,0,(COLUMN()-3)*6,1,1)=\"-\",OFFSET(結果貼付け用!$G26,0,(COLUMN()-3)*6,1,1)=\"\"),NA(),(OFFSET(結果貼付け用!$G26,0,(COLUMN()-3)*6,1,1)))","v":{"$error":"#N/A"}},{"$f":"IF(OR(OFFSET(結果貼付け用!$G26,0,(COLUMN()-3)*6,1,1)=\"-\",OFFSET(結果貼付け用!$G26,0,(COLUMN()-3)*6,1,1)=\"\"),NA(),(OFFSET(結果貼付け用!$G26,0,(COLUMN()-3)*6,1,1)))","v":{"$error":"#N/A"}},{"$f":"IF(OR(OFFSET(結果貼付け用!$G26,0,(COLUMN()-3)*6,1,1)=\"-\",OFFSET(結果貼付け用!$G26,0,(COLUMN()-3)*6,1,1)=\"\"),NA(),(OFFSET(結果貼付け用!$G26,0,(COLUMN()-3)*6,1,1)))","v":{"$error":"#N/A"}},{"$f":"IF(OR(OFFSET(結果貼付け用!$G26,0,(COLUMN()-3)*6,1,1)=\"-\",OFFSET(結果貼付け用!$G26,0,(COLUMN()-3)*6,1,1)=\"\"),NA(),(OFFSET(結果貼付け用!$G26,0,(COLUMN()-3)*6,1,1)))","v":{"$error":"#N/A"}},{"$f":"IF(OR(OFFSET(結果貼付け用!$G26,0,(COLUMN()-3)*6,1,1)=\"-\",OFFSET(結果貼付け用!$G26,0,(COLUMN()-3)*6,1,1)=\"\"),NA(),(OFFSET(結果貼付け用!$G26,0,(COLUMN()-3)*6,1,1)))","v":{"$error":"#N/A"}},{"$f":"IF(OR(OFFSET(結果貼付け用!$G26,0,(COLUMN()-3)*6,1,1)=\"-\",OFFSET(結果貼付け用!$G26,0,(COLUMN()-3)*6,1,1)=\"\"),NA(),(OFFSET(結果貼付け用!$G26,0,(COLUMN()-3)*6,1,1)))","v":{"$error":"#N/A"}},{"$f":"IF(OR(OFFSET(結果貼付け用!$G26,0,(COLUMN()-3)*6,1,1)=\"-\",OFFSET(結果貼付け用!$G26,0,(COLUMN()-3)*6,1,1)=\"\"),NA(),(OFFSET(結果貼付け用!$G26,0,(COLUMN()-3)*6,1,1)))","v":{"$error":"#N/A"}},{"$f":"IF(OR(OFFSET(結果貼付け用!$G26,0,(COLUMN()-3)*6,1,1)=\"-\",OFFSET(結果貼付け用!$G26,0,(COLUMN()-3)*6,1,1)=\"\"),NA(),(OFFSET(結果貼付け用!$G26,0,(COLUMN()-3)*6,1,1)))","v":{"$error":"#N/A"}},{"$f":"IF(OR(OFFSET(結果貼付け用!$G26,0,(COLUMN()-3)*6,1,1)=\"-\",OFFSET(結果貼付け用!$G26,0,(COLUMN()-3)*6,1,1)=\"\"),NA(),(OFFSET(結果貼付け用!$G26,0,(COLUMN()-3)*6,1,1)))","v":{"$error":"#N/A"}},{"$f":"IF(OR(OFFSET(結果貼付け用!$G26,0,(COLUMN()-3)*6,1,1)=\"-\",OFFSET(結果貼付け用!$G26,0,(COLUMN()-3)*6,1,1)=\"\"),NA(),(OFFSET(結果貼付け用!$G26,0,(COLUMN()-3)*6,1,1)))","v":{"$error":"#N/A"}},{"$f":"IF(OR(OFFSET(結果貼付け用!$G26,0,(COLUMN()-3)*6,1,1)=\"-\",OFFSET(結果貼付け用!$G26,0,(COLUMN()-3)*6,1,1)=\"\"),NA(),(OFFSET(結果貼付け用!$G26,0,(COLUMN()-3)*6,1,1)))","v":{"$error":"#N/A"}},{"$f":"IF(OR(OFFSET(結果貼付け用!$G26,0,(COLUMN()-3)*6,1,1)=\"-\",OFFSET(結果貼付け用!$G26,0,(COLUMN()-3)*6,1,1)=\"\"),NA(),(OFFSET(結果貼付け用!$G26,0,(COLUMN()-3)*6,1,1)))","v":{"$error":"#N/A"}},{"$f":"IF(OR(OFFSET(結果貼付け用!$G26,0,(COLUMN()-3)*6,1,1)=\"-\",OFFSET(結果貼付け用!$G26,0,(COLUMN()-3)*6,1,1)=\"\"),NA(),(OFFSET(結果貼付け用!$G26,0,(COLUMN()-3)*6,1,1)))","v":{"$error":"#N/A"}},{"$f":"IF(OR(OFFSET(結果貼付け用!$G26,0,(COLUMN()-3)*6,1,1)=\"-\",OFFSET(結果貼付け用!$G26,0,(COLUMN()-3)*6,1,1)=\"\"),NA(),(OFFSET(結果貼付け用!$G26,0,(COLUMN()-3)*6,1,1)))","v":{"$error":"#N/A"}},{"$f":"IF(OR(OFFSET(結果貼付け用!$G26,0,(COLUMN()-3)*6,1,1)=\"-\",OFFSET(結果貼付け用!$G26,0,(COLUMN()-3)*6,1,1)=\"\"),NA(),(OFFSET(結果貼付け用!$G26,0,(COLUMN()-3)*6,1,1)))","v":{"$error":"#N/A"}},{"$f":"IF(OR(OFFSET(結果貼付け用!$G26,0,(COLUMN()-3)*6,1,1)=\"-\",OFFSET(結果貼付け用!$G26,0,(COLUMN()-3)*6,1,1)=\"\"),NA(),(OFFSET(結果貼付け用!$G26,0,(COLUMN()-3)*6,1,1)))","v":{"$error":"#N/A"}},{"$f":"IF(OR(OFFSET(結果貼付け用!$G26,0,(COLUMN()-3)*6,1,1)=\"-\",OFFSET(結果貼付け用!$G26,0,(COLUMN()-3)*6,1,1)=\"\"),NA(),(OFFSET(結果貼付け用!$G26,0,(COLUMN()-3)*6,1,1)))","v":{"$error":"#N/A"}},{"$f":"IF(OR(OFFSET(結果貼付け用!$G26,0,(COLUMN()-3)*6,1,1)=\"-\",OFFSET(結果貼付け用!$G26,0,(COLUMN()-3)*6,1,1)=\"\"),NA(),(OFFSET(結果貼付け用!$G26,0,(COLUMN()-3)*6,1,1)))","v":{"$error":"#N/A"}},{"$f":"IF(OR(OFFSET(結果貼付け用!$G26,0,(COLUMN()-3)*6,1,1)=\"-\",OFFSET(結果貼付け用!$G26,0,(COLUMN()-3)*6,1,1)=\"\"),NA(),(OFFSET(結果貼付け用!$G26,0,(COLUMN()-3)*6,1,1)))","v":{"$error":"#N/A"}},{"$f":"IF(OR(OFFSET(結果貼付け用!$G26,0,(COLUMN()-3)*6,1,1)=\"-\",OFFSET(結果貼付け用!$G26,0,(COLUMN()-3)*6,1,1)=\"\"),NA(),(OFFSET(結果貼付け用!$G26,0,(COLUMN()-3)*6,1,1)))","v":{"$error":"#N/A"}},{"$f":"IF(OR(OFFSET(結果貼付け用!$G26,0,(COLUMN()-3)*6,1,1)=\"-\",OFFSET(結果貼付け用!$G26,0,(COLUMN()-3)*6,1,1)=\"\"),NA(),(OFFSET(結果貼付け用!$G26,0,(COLUMN()-3)*6,1,1)))","v":{"$error":"#N/A"}},{"$f":"IF(OR(OFFSET(結果貼付け用!$G26,0,(COLUMN()-3)*6,1,1)=\"-\",OFFSET(結果貼付け用!$G26,0,(COLUMN()-3)*6,1,1)=\"\"),NA(),(OFFSET(結果貼付け用!$G26,0,(COLUMN()-3)*6,1,1)))","v":{"$error":"#N/A"}},{"$f":"IF(OR(OFFSET(結果貼付け用!$G26,0,(COLUMN()-3)*6,1,1)=\"-\",OFFSET(結果貼付け用!$G26,0,(COLUMN()-3)*6,1,1)=\"\"),NA(),(OFFSET(結果貼付け用!$G26,0,(COLUMN()-3)*6,1,1)))","v":{"$error":"#N/A"}},{"$f":"IF(OR(OFFSET(結果貼付け用!$G26,0,(COLUMN()-3)*6,1,1)=\"-\",OFFSET(結果貼付け用!$G26,0,(COLUMN()-3)*6,1,1)=\"\"),NA(),(OFFSET(結果貼付け用!$G26,0,(COLUMN()-3)*6,1,1)))","v":{"$error":"#N/A"}},{"$f":"IF(OR(OFFSET(結果貼付け用!$G26,0,(COLUMN()-3)*6,1,1)=\"-\",OFFSET(結果貼付け用!$G26,0,(COLUMN()-3)*6,1,1)=\"\"),NA(),(OFFSET(結果貼付け用!$G26,0,(COLUMN()-3)*6,1,1)))","v":{"$error":"#N/A"}},{"$f":"IF(OR(OFFSET(結果貼付け用!$G26,0,(COLUMN()-3)*6,1,1)=\"-\",OFFSET(結果貼付け用!$G26,0,(COLUMN()-3)*6,1,1)=\"\"),NA(),(OFFSET(結果貼付け用!$G26,0,(COLUMN()-3)*6,1,1)))","v":{"$error":"#N/A"}},{"$f":"IF(OR(OFFSET(結果貼付け用!$G26,0,(COLUMN()-3)*6,1,1)=\"-\",OFFSET(結果貼付け用!$G26,0,(COLUMN()-3)*6,1,1)=\"\"),NA(),(OFFSET(結果貼付け用!$G26,0,(COLUMN()-3)*6,1,1)))","v":{"$error":"#N/A"}}]
[null,"十分な休息",{"$f":"IF(OR(OFFSET(結果貼付け用!$G27,0,(COLUMN()-3)*6,1,1)=\"-\",OFFSET(結果貼付け用!$G27,0,(COLUMN()-3)*6,1,1)=\"\"),NA(),(OFFSET(結果貼付け用!$G27,0,(COLUMN()-3)*6,1,1)))","v":{"$error":"#N/A"}},{"$f":"IF(OR(OFFSET(結果貼付け用!$G27,0,(COLUMN()-3)*6,1,1)=\"-\",OFFSET(結果貼付け用!$G27,0,(COLUMN()-3)*6,1,1)=\"\"),NA(),(OFFSET(結果貼付け用!$G27,0,(COLUMN()-3)*6,1,1)))","v":{"$error":"#N/A"}},{"$f":"IF(OR(OFFSET(結果貼付け用!$G27,0,(COLUMN()-3)*6,1,1)=\"-\",OFFSET(結果貼付け用!$G27,0,(COLUMN()-3)*6,1,1)=\"\"),NA(),(OFFSET(結果貼付け用!$G27,0,(COLUMN()-3)*6,1,1)))","v":{"$error":"#N/A"}},{"$f":"IF(OR(OFFSET(結果貼付け用!$G27,0,(COLUMN()-3)*6,1,1)=\"-\",OFFSET(結果貼付け用!$G27,0,(COLUMN()-3)*6,1,1)=\"\"),NA(),(OFFSET(結果貼付け用!$G27,0,(COLUMN()-3)*6,1,1)))","v":{"$error":"#N/A"}},{"$f":"IF(OR(OFFSET(結果貼付け用!$G27,0,(COLUMN()-3)*6,1,1)=\"-\",OFFSET(結果貼付け用!$G27,0,(COLUMN()-3)*6,1,1)=\"\"),NA(),(OFFSET(結果貼付け用!$G27,0,(COLUMN()-3)*6,1,1)))","v":{"$error":"#N/A"}},{"$f":"IF(OR(OFFSET(結果貼付け用!$G27,0,(COLUMN()-3)*6,1,1)=\"-\",OFFSET(結果貼付け用!$G27,0,(COLUMN()-3)*6,1,1)=\"\"),NA(),(OFFSET(結果貼付け用!$G27,0,(COLUMN()-3)*6,1,1)))","v":{"$error":"#N/A"}},{"$f":"IF(OR(OFFSET(結果貼付け用!$G27,0,(COLUMN()-3)*6,1,1)=\"-\",OFFSET(結果貼付け用!$G27,0,(COLUMN()-3)*6,1,1)=\"\"),NA(),(OFFSET(結果貼付け用!$G27,0,(COLUMN()-3)*6,1,1)))","v":{"$error":"#N/A"}},{"$f":"IF(OR(OFFSET(結果貼付け用!$G27,0,(COLUMN()-3)*6,1,1)=\"-\",OFFSET(結果貼付け用!$G27,0,(COLUMN()-3)*6,1,1)=\"\"),NA(),(OFFSET(結果貼付け用!$G27,0,(COLUMN()-3)*6,1,1)))","v":{"$error":"#N/A"}},{"$f":"IF(OR(OFFSET(結果貼付け用!$G27,0,(COLUMN()-3)*6,1,1)=\"-\",OFFSET(結果貼付け用!$G27,0,(COLUMN()-3)*6,1,1)=\"\"),NA(),(OFFSET(結果貼付け用!$G27,0,(COLUMN()-3)*6,1,1)))","v":{"$error":"#N/A"}},{"$f":"IF(OR(OFFSET(結果貼付け用!$G27,0,(COLUMN()-3)*6,1,1)=\"-\",OFFSET(結果貼付け用!$G27,0,(COLUMN()-3)*6,1,1)=\"\"),NA(),(OFFSET(結果貼付け用!$G27,0,(COLUMN()-3)*6,1,1)))","v":{"$error":"#N/A"}},{"$f":"IF(OR(OFFSET(結果貼付け用!$G27,0,(COLUMN()-3)*6,1,1)=\"-\",OFFSET(結果貼付け用!$G27,0,(COLUMN()-3)*6,1,1)=\"\"),NA(),(OFFSET(結果貼付け用!$G27,0,(COLUMN()-3)*6,1,1)))","v":{"$error":"#N/A"}},{"$f":"IF(OR(OFFSET(結果貼付け用!$G27,0,(COLUMN()-3)*6,1,1)=\"-\",OFFSET(結果貼付け用!$G27,0,(COLUMN()-3)*6,1,1)=\"\"),NA(),(OFFSET(結果貼付け用!$G27,0,(COLUMN()-3)*6,1,1)))","v":{"$error":"#N/A"}},{"$f":"IF(OR(OFFSET(結果貼付け用!$G27,0,(COLUMN()-3)*6,1,1)=\"-\",OFFSET(結果貼付け用!$G27,0,(COLUMN()-3)*6,1,1)=\"\"),NA(),(OFFSET(結果貼付け用!$G27,0,(COLUMN()-3)*6,1,1)))","v":{"$error":"#N/A"}},{"$f":"IF(OR(OFFSET(結果貼付け用!$G27,0,(COLUMN()-3)*6,1,1)=\"-\",OFFSET(結果貼付け用!$G27,0,(COLUMN()-3)*6,1,1)=\"\"),NA(),(OFFSET(結果貼付け用!$G27,0,(COLUMN()-3)*6,1,1)))","v":{"$error":"#N/A"}},{"$f":"IF(OR(OFFSET(結果貼付け用!$G27,0,(COLUMN()-3)*6,1,1)=\"-\",OFFSET(結果貼付け用!$G27,0,(COLUMN()-3)*6,1,1)=\"\"),NA(),(OFFSET(結果貼付け用!$G27,0,(COLUMN()-3)*6,1,1)))","v":{"$error":"#N/A"}},{"$f":"IF(OR(OFFSET(結果貼付け用!$G27,0,(COLUMN()-3)*6,1,1)=\"-\",OFFSET(結果貼付け用!$G27,0,(COLUMN()-3)*6,1,1)=\"\"),NA(),(OFFSET(結果貼付け用!$G27,0,(COLUMN()-3)*6,1,1)))","v":{"$error":"#N/A"}},{"$f":"IF(OR(OFFSET(結果貼付け用!$G27,0,(COLUMN()-3)*6,1,1)=\"-\",OFFSET(結果貼付け用!$G27,0,(COLUMN()-3)*6,1,1)=\"\"),NA(),(OFFSET(結果貼付け用!$G27,0,(COLUMN()-3)*6,1,1)))","v":{"$error":"#N/A"}},{"$f":"IF(OR(OFFSET(結果貼付け用!$G27,0,(COLUMN()-3)*6,1,1)=\"-\",OFFSET(結果貼付け用!$G27,0,(COLUMN()-3)*6,1,1)=\"\"),NA(),(OFFSET(結果貼付け用!$G27,0,(COLUMN()-3)*6,1,1)))","v":{"$error":"#N/A"}},{"$f":"IF(OR(OFFSET(結果貼付け用!$G27,0,(COLUMN()-3)*6,1,1)=\"-\",OFFSET(結果貼付け用!$G27,0,(COLUMN()-3)*6,1,1)=\"\"),NA(),(OFFSET(結果貼付け用!$G27,0,(COLUMN()-3)*6,1,1)))","v":{"$error":"#N/A"}},{"$f":"IF(OR(OFFSET(結果貼付け用!$G27,0,(COLUMN()-3)*6,1,1)=\"-\",OFFSET(結果貼付け用!$G27,0,(COLUMN()-3)*6,1,1)=\"\"),NA(),(OFFSET(結果貼付け用!$G27,0,(COLUMN()-3)*6,1,1)))","v":{"$error":"#N/A"}},{"$f":"IF(OR(OFFSET(結果貼付け用!$G27,0,(COLUMN()-3)*6,1,1)=\"-\",OFFSET(結果貼付け用!$G27,0,(COLUMN()-3)*6,1,1)=\"\"),NA(),(OFFSET(結果貼付け用!$G27,0,(COLUMN()-3)*6,1,1)))","v":{"$error":"#N/A"}},{"$f":"IF(OR(OFFSET(結果貼付け用!$G27,0,(COLUMN()-3)*6,1,1)=\"-\",OFFSET(結果貼付け用!$G27,0,(COLUMN()-3)*6,1,1)=\"\"),NA(),(OFFSET(結果貼付け用!$G27,0,(COLUMN()-3)*6,1,1)))","v":{"$error":"#N/A"}},{"$f":"IF(OR(OFFSET(結果貼付け用!$G27,0,(COLUMN()-3)*6,1,1)=\"-\",OFFSET(結果貼付け用!$G27,0,(COLUMN()-3)*6,1,1)=\"\"),NA(),(OFFSET(結果貼付け用!$G27,0,(COLUMN()-3)*6,1,1)))","v":{"$error":"#N/A"}},{"$f":"IF(OR(OFFSET(結果貼付け用!$G27,0,(COLUMN()-3)*6,1,1)=\"-\",OFFSET(結果貼付け用!$G27,0,(COLUMN()-3)*6,1,1)=\"\"),NA(),(OFFSET(結果貼付け用!$G27,0,(COLUMN()-3)*6,1,1)))","v":{"$error":"#N/A"}},{"$f":"IF(OR(OFFSET(結果貼付け用!$G27,0,(COLUMN()-3)*6,1,1)=\"-\",OFFSET(結果貼付け用!$G27,0,(COLUMN()-3)*6,1,1)=\"\"),NA(),(OFFSET(結果貼付け用!$G27,0,(COLUMN()-3)*6,1,1)))","v":{"$error":"#N/A"}},{"$f":"IF(OR(OFFSET(結果貼付け用!$G27,0,(COLUMN()-3)*6,1,1)=\"-\",OFFSET(結果貼付け用!$G27,0,(COLUMN()-3)*6,1,1)=\"\"),NA(),(OFFSET(結果貼付け用!$G27,0,(COLUMN()-3)*6,1,1)))","v":{"$error":"#N/A"}},{"$f":"IF(OR(OFFSET(結果貼付け用!$G27,0,(COLUMN()-3)*6,1,1)=\"-\",OFFSET(結果貼付け用!$G27,0,(COLUMN()-3)*6,1,1)=\"\"),NA(),(OFFSET(結果貼付け用!$G27,0,(COLUMN()-3)*6,1,1)))","v":{"$error":"#N/A"}},{"$f":"IF(OR(OFFSET(結果貼付け用!$G27,0,(COLUMN()-3)*6,1,1)=\"-\",OFFSET(結果貼付け用!$G27,0,(COLUMN()-3)*6,1,1)=\"\"),NA(),(OFFSET(結果貼付け用!$G27,0,(COLUMN()-3)*6,1,1)))","v":{"$error":"#N/A"}},{"$f":"IF(OR(OFFSET(結果貼付け用!$G27,0,(COLUMN()-3)*6,1,1)=\"-\",OFFSET(結果貼付け用!$G27,0,(COLUMN()-3)*6,1,1)=\"\"),NA(),(OFFSET(結果貼付け用!$G27,0,(COLUMN()-3)*6,1,1)))","v":{"$error":"#N/A"}},{"$f":"IF(OR(OFFSET(結果貼付け用!$G27,0,(COLUMN()-3)*6,1,1)=\"-\",OFFSET(結果貼付け用!$G27,0,(COLUMN()-3)*6,1,1)=\"\"),NA(),(OFFSET(結果貼付け用!$G27,0,(COLUMN()-3)*6,1,1)))","v":{"$error":"#N/A"}}]
[null,"仕事時間の適切感",{"$f":"IF(OR(OFFSET(結果貼付け用!$G28,0,(COLUMN()-3)*6,1,1)=\"-\",OFFSET(結果貼付け用!$G28,0,(COLUMN()-3)*6,1,1)=\"\"),NA(),(OFFSET(結果貼付け用!$G28,0,(COLUMN()-3)*6,1,1)))","v":{"$error":"#N/A"}},{"$f":"IF(OR(OFFSET(結果貼付け用!$G28,0,(COLUMN()-3)*6,1,1)=\"-\",OFFSET(結果貼付け用!$G28,0,(COLUMN()-3)*6,1,1)=\"\"),NA(),(OFFSET(結果貼付け用!$G28,0,(COLUMN()-3)*6,1,1)))","v":{"$error":"#N/A"}},{"$f":"IF(OR(OFFSET(結果貼付け用!$G28,0,(COLUMN()-3)*6,1,1)=\"-\",OFFSET(結果貼付け用!$G28,0,(COLUMN()-3)*6,1,1)=\"\"),NA(),(OFFSET(結果貼付け用!$G28,0,(COLUMN()-3)*6,1,1)))","v":{"$error":"#N/A"}},{"$f":"IF(OR(OFFSET(結果貼付け用!$G28,0,(COLUMN()-3)*6,1,1)=\"-\",OFFSET(結果貼付け用!$G28,0,(COLUMN()-3)*6,1,1)=\"\"),NA(),(OFFSET(結果貼付け用!$G28,0,(COLUMN()-3)*6,1,1)))","v":{"$error":"#N/A"}},{"$f":"IF(OR(OFFSET(結果貼付け用!$G28,0,(COLUMN()-3)*6,1,1)=\"-\",OFFSET(結果貼付け用!$G28,0,(COLUMN()-3)*6,1,1)=\"\"),NA(),(OFFSET(結果貼付け用!$G28,0,(COLUMN()-3)*6,1,1)))","v":{"$error":"#N/A"}},{"$f":"IF(OR(OFFSET(結果貼付け用!$G28,0,(COLUMN()-3)*6,1,1)=\"-\",OFFSET(結果貼付け用!$G28,0,(COLUMN()-3)*6,1,1)=\"\"),NA(),(OFFSET(結果貼付け用!$G28,0,(COLUMN()-3)*6,1,1)))","v":{"$error":"#N/A"}},{"$f":"IF(OR(OFFSET(結果貼付け用!$G28,0,(COLUMN()-3)*6,1,1)=\"-\",OFFSET(結果貼付け用!$G28,0,(COLUMN()-3)*6,1,1)=\"\"),NA(),(OFFSET(結果貼付け用!$G28,0,(COLUMN()-3)*6,1,1)))","v":{"$error":"#N/A"}},{"$f":"IF(OR(OFFSET(結果貼付け用!$G28,0,(COLUMN()-3)*6,1,1)=\"-\",OFFSET(結果貼付け用!$G28,0,(COLUMN()-3)*6,1,1)=\"\"),NA(),(OFFSET(結果貼付け用!$G28,0,(COLUMN()-3)*6,1,1)))","v":{"$error":"#N/A"}},{"$f":"IF(OR(OFFSET(結果貼付け用!$G28,0,(COLUMN()-3)*6,1,1)=\"-\",OFFSET(結果貼付け用!$G28,0,(COLUMN()-3)*6,1,1)=\"\"),NA(),(OFFSET(結果貼付け用!$G28,0,(COLUMN()-3)*6,1,1)))","v":{"$error":"#N/A"}},{"$f":"IF(OR(OFFSET(結果貼付け用!$G28,0,(COLUMN()-3)*6,1,1)=\"-\",OFFSET(結果貼付け用!$G28,0,(COLUMN()-3)*6,1,1)=\"\"),NA(),(OFFSET(結果貼付け用!$G28,0,(COLUMN()-3)*6,1,1)))","v":{"$error":"#N/A"}},{"$f":"IF(OR(OFFSET(結果貼付け用!$G28,0,(COLUMN()-3)*6,1,1)=\"-\",OFFSET(結果貼付け用!$G28,0,(COLUMN()-3)*6,1,1)=\"\"),NA(),(OFFSET(結果貼付け用!$G28,0,(COLUMN()-3)*6,1,1)))","v":{"$error":"#N/A"}},{"$f":"IF(OR(OFFSET(結果貼付け用!$G28,0,(COLUMN()-3)*6,1,1)=\"-\",OFFSET(結果貼付け用!$G28,0,(COLUMN()-3)*6,1,1)=\"\"),NA(),(OFFSET(結果貼付け用!$G28,0,(COLUMN()-3)*6,1,1)))","v":{"$error":"#N/A"}},{"$f":"IF(OR(OFFSET(結果貼付け用!$G28,0,(COLUMN()-3)*6,1,1)=\"-\",OFFSET(結果貼付け用!$G28,0,(COLUMN()-3)*6,1,1)=\"\"),NA(),(OFFSET(結果貼付け用!$G28,0,(COLUMN()-3)*6,1,1)))","v":{"$error":"#N/A"}},{"$f":"IF(OR(OFFSET(結果貼付け用!$G28,0,(COLUMN()-3)*6,1,1)=\"-\",OFFSET(結果貼付け用!$G28,0,(COLUMN()-3)*6,1,1)=\"\"),NA(),(OFFSET(結果貼付け用!$G28,0,(COLUMN()-3)*6,1,1)))","v":{"$error":"#N/A"}},{"$f":"IF(OR(OFFSET(結果貼付け用!$G28,0,(COLUMN()-3)*6,1,1)=\"-\",OFFSET(結果貼付け用!$G28,0,(COLUMN()-3)*6,1,1)=\"\"),NA(),(OFFSET(結果貼付け用!$G28,0,(COLUMN()-3)*6,1,1)))","v":{"$error":"#N/A"}},{"$f":"IF(OR(OFFSET(結果貼付け用!$G28,0,(COLUMN()-3)*6,1,1)=\"-\",OFFSET(結果貼付け用!$G28,0,(COLUMN()-3)*6,1,1)=\"\"),NA(),(OFFSET(結果貼付け用!$G28,0,(COLUMN()-3)*6,1,1)))","v":{"$error":"#N/A"}},{"$f":"IF(OR(OFFSET(結果貼付け用!$G28,0,(COLUMN()-3)*6,1,1)=\"-\",OFFSET(結果貼付け用!$G28,0,(COLUMN()-3)*6,1,1)=\"\"),NA(),(OFFSET(結果貼付け用!$G28,0,(COLUMN()-3)*6,1,1)))","v":{"$error":"#N/A"}},{"$f":"IF(OR(OFFSET(結果貼付け用!$G28,0,(COLUMN()-3)*6,1,1)=\"-\",OFFSET(結果貼付け用!$G28,0,(COLUMN()-3)*6,1,1)=\"\"),NA(),(OFFSET(結果貼付け用!$G28,0,(COLUMN()-3)*6,1,1)))","v":{"$error":"#N/A"}},{"$f":"IF(OR(OFFSET(結果貼付け用!$G28,0,(COLUMN()-3)*6,1,1)=\"-\",OFFSET(結果貼付け用!$G28,0,(COLUMN()-3)*6,1,1)=\"\"),NA(),(OFFSET(結果貼付け用!$G28,0,(COLUMN()-3)*6,1,1)))","v":{"$error":"#N/A"}},{"$f":"IF(OR(OFFSET(結果貼付け用!$G28,0,(COLUMN()-3)*6,1,1)=\"-\",OFFSET(結果貼付け用!$G28,0,(COLUMN()-3)*6,1,1)=\"\"),NA(),(OFFSET(結果貼付け用!$G28,0,(COLUMN()-3)*6,1,1)))","v":{"$error":"#N/A"}},{"$f":"IF(OR(OFFSET(結果貼付け用!$G28,0,(COLUMN()-3)*6,1,1)=\"-\",OFFSET(結果貼付け用!$G28,0,(COLUMN()-3)*6,1,1)=\"\"),NA(),(OFFSET(結果貼付け用!$G28,0,(COLUMN()-3)*6,1,1)))","v":{"$error":"#N/A"}},{"$f":"IF(OR(OFFSET(結果貼付け用!$G28,0,(COLUMN()-3)*6,1,1)=\"-\",OFFSET(結果貼付け用!$G28,0,(COLUMN()-3)*6,1,1)=\"\"),NA(),(OFFSET(結果貼付け用!$G28,0,(COLUMN()-3)*6,1,1)))","v":{"$error":"#N/A"}},{"$f":"IF(OR(OFFSET(結果貼付け用!$G28,0,(COLUMN()-3)*6,1,1)=\"-\",OFFSET(結果貼付け用!$G28,0,(COLUMN()-3)*6,1,1)=\"\"),NA(),(OFFSET(結果貼付け用!$G28,0,(COLUMN()-3)*6,1,1)))","v":{"$error":"#N/A"}},{"$f":"IF(OR(OFFSET(結果貼付け用!$G28,0,(COLUMN()-3)*6,1,1)=\"-\",OFFSET(結果貼付け用!$G28,0,(COLUMN()-3)*6,1,1)=\"\"),NA(),(OFFSET(結果貼付け用!$G28,0,(COLUMN()-3)*6,1,1)))","v":{"$error":"#N/A"}},{"$f":"IF(OR(OFFSET(結果貼付け用!$G28,0,(COLUMN()-3)*6,1,1)=\"-\",OFFSET(結果貼付け用!$G28,0,(COLUMN()-3)*6,1,1)=\"\"),NA(),(OFFSET(結果貼付け用!$G28,0,(COLUMN()-3)*6,1,1)))","v":{"$error":"#N/A"}},{"$f":"IF(OR(OFFSET(結果貼付け用!$G28,0,(COLUMN()-3)*6,1,1)=\"-\",OFFSET(結果貼付け用!$G28,0,(COLUMN()-3)*6,1,1)=\"\"),NA(),(OFFSET(結果貼付け用!$G28,0,(COLUMN()-3)*6,1,1)))","v":{"$error":"#N/A"}},{"$f":"IF(OR(OFFSET(結果貼付け用!$G28,0,(COLUMN()-3)*6,1,1)=\"-\",OFFSET(結果貼付け用!$G28,0,(COLUMN()-3)*6,1,1)=\"\"),NA(),(OFFSET(結果貼付け用!$G28,0,(COLUMN()-3)*6,1,1)))","v":{"$error":"#N/A"}},{"$f":"IF(OR(OFFSET(結果貼付け用!$G28,0,(COLUMN()-3)*6,1,1)=\"-\",OFFSET(結果貼付け用!$G28,0,(COLUMN()-3)*6,1,1)=\"\"),NA(),(OFFSET(結果貼付け用!$G28,0,(COLUMN()-3)*6,1,1)))","v":{"$error":"#N/A"}},{"$f":"IF(OR(OFFSET(結果貼付け用!$G28,0,(COLUMN()-3)*6,1,1)=\"-\",OFFSET(結果貼付け用!$G28,0,(COLUMN()-3)*6,1,1)=\"\"),NA(),(OFFSET(結果貼付け用!$G28,0,(COLUMN()-3)*6,1,1)))","v":{"$error":"#N/A"}},{"$f":"IF(OR(OFFSET(結果貼付け用!$G28,0,(COLUMN()-3)*6,1,1)=\"-\",OFFSET(結果貼付け用!$G28,0,(COLUMN()-3)*6,1,1)=\"\"),NA(),(OFFSET(結果貼付け用!$G28,0,(COLUMN()-3)*6,1,1)))","v":{"$error":"#N/A"}}]
[null,"役割明確性",{"$f":"IF(OR(OFFSET(結果貼付け用!$G29,0,(COLUMN()-3)*6,1,1)=\"-\",OFFSET(結果貼付け用!$G29,0,(COLUMN()-3)*6,1,1)=\"\"),NA(),(OFFSET(結果貼付け用!$G29,0,(COLUMN()-3)*6,1,1)))","v":{"$error":"#N/A"}},{"$f":"IF(OR(OFFSET(結果貼付け用!$G29,0,(COLUMN()-3)*6,1,1)=\"-\",OFFSET(結果貼付け用!$G29,0,(COLUMN()-3)*6,1,1)=\"\"),NA(),(OFFSET(結果貼付け用!$G29,0,(COLUMN()-3)*6,1,1)))","v":{"$error":"#N/A"}},{"$f":"IF(OR(OFFSET(結果貼付け用!$G29,0,(COLUMN()-3)*6,1,1)=\"-\",OFFSET(結果貼付け用!$G29,0,(COLUMN()-3)*6,1,1)=\"\"),NA(),(OFFSET(結果貼付け用!$G29,0,(COLUMN()-3)*6,1,1)))","v":{"$error":"#N/A"}},{"$f":"IF(OR(OFFSET(結果貼付け用!$G29,0,(COLUMN()-3)*6,1,1)=\"-\",OFFSET(結果貼付け用!$G29,0,(COLUMN()-3)*6,1,1)=\"\"),NA(),(OFFSET(結果貼付け用!$G29,0,(COLUMN()-3)*6,1,1)))","v":{"$error":"#N/A"}},{"$f":"IF(OR(OFFSET(結果貼付け用!$G29,0,(COLUMN()-3)*6,1,1)=\"-\",OFFSET(結果貼付け用!$G29,0,(COLUMN()-3)*6,1,1)=\"\"),NA(),(OFFSET(結果貼付け用!$G29,0,(COLUMN()-3)*6,1,1)))","v":{"$error":"#N/A"}},{"$f":"IF(OR(OFFSET(結果貼付け用!$G29,0,(COLUMN()-3)*6,1,1)=\"-\",OFFSET(結果貼付け用!$G29,0,(COLUMN()-3)*6,1,1)=\"\"),NA(),(OFFSET(結果貼付け用!$G29,0,(COLUMN()-3)*6,1,1)))","v":{"$error":"#N/A"}},{"$f":"IF(OR(OFFSET(結果貼付け用!$G29,0,(COLUMN()-3)*6,1,1)=\"-\",OFFSET(結果貼付け用!$G29,0,(COLUMN()-3)*6,1,1)=\"\"),NA(),(OFFSET(結果貼付け用!$G29,0,(COLUMN()-3)*6,1,1)))","v":{"$error":"#N/A"}},{"$f":"IF(OR(OFFSET(結果貼付け用!$G29,0,(COLUMN()-3)*6,1,1)=\"-\",OFFSET(結果貼付け用!$G29,0,(COLUMN()-3)*6,1,1)=\"\"),NA(),(OFFSET(結果貼付け用!$G29,0,(COLUMN()-3)*6,1,1)))","v":{"$error":"#N/A"}},{"$f":"IF(OR(OFFSET(結果貼付け用!$G29,0,(COLUMN()-3)*6,1,1)=\"-\",OFFSET(結果貼付け用!$G29,0,(COLUMN()-3)*6,1,1)=\"\"),NA(),(OFFSET(結果貼付け用!$G29,0,(COLUMN()-3)*6,1,1)))","v":{"$error":"#N/A"}},{"$f":"IF(OR(OFFSET(結果貼付け用!$G29,0,(COLUMN()-3)*6,1,1)=\"-\",OFFSET(結果貼付け用!$G29,0,(COLUMN()-3)*6,1,1)=\"\"),NA(),(OFFSET(結果貼付け用!$G29,0,(COLUMN()-3)*6,1,1)))","v":{"$error":"#N/A"}},{"$f":"IF(OR(OFFSET(結果貼付け用!$G29,0,(COLUMN()-3)*6,1,1)=\"-\",OFFSET(結果貼付け用!$G29,0,(COLUMN()-3)*6,1,1)=\"\"),NA(),(OFFSET(結果貼付け用!$G29,0,(COLUMN()-3)*6,1,1)))","v":{"$error":"#N/A"}},{"$f":"IF(OR(OFFSET(結果貼付け用!$G29,0,(COLUMN()-3)*6,1,1)=\"-\",OFFSET(結果貼付け用!$G29,0,(COLUMN()-3)*6,1,1)=\"\"),NA(),(OFFSET(結果貼付け用!$G29,0,(COLUMN()-3)*6,1,1)))","v":{"$error":"#N/A"}},{"$f":"IF(OR(OFFSET(結果貼付け用!$G29,0,(COLUMN()-3)*6,1,1)=\"-\",OFFSET(結果貼付け用!$G29,0,(COLUMN()-3)*6,1,1)=\"\"),NA(),(OFFSET(結果貼付け用!$G29,0,(COLUMN()-3)*6,1,1)))","v":{"$error":"#N/A"}},{"$f":"IF(OR(OFFSET(結果貼付け用!$G29,0,(COLUMN()-3)*6,1,1)=\"-\",OFFSET(結果貼付け用!$G29,0,(COLUMN()-3)*6,1,1)=\"\"),NA(),(OFFSET(結果貼付け用!$G29,0,(COLUMN()-3)*6,1,1)))","v":{"$error":"#N/A"}},{"$f":"IF(OR(OFFSET(結果貼付け用!$G29,0,(COLUMN()-3)*6,1,1)=\"-\",OFFSET(結果貼付け用!$G29,0,(COLUMN()-3)*6,1,1)=\"\"),NA(),(OFFSET(結果貼付け用!$G29,0,(COLUMN()-3)*6,1,1)))","v":{"$error":"#N/A"}},{"$f":"IF(OR(OFFSET(結果貼付け用!$G29,0,(COLUMN()-3)*6,1,1)=\"-\",OFFSET(結果貼付け用!$G29,0,(COLUMN()-3)*6,1,1)=\"\"),NA(),(OFFSET(結果貼付け用!$G29,0,(COLUMN()-3)*6,1,1)))","v":{"$error":"#N/A"}},{"$f":"IF(OR(OFFSET(結果貼付け用!$G29,0,(COLUMN()-3)*6,1,1)=\"-\",OFFSET(結果貼付け用!$G29,0,(COLUMN()-3)*6,1,1)=\"\"),NA(),(OFFSET(結果貼付け用!$G29,0,(COLUMN()-3)*6,1,1)))","v":{"$error":"#N/A"}},{"$f":"IF(OR(OFFSET(結果貼付け用!$G29,0,(COLUMN()-3)*6,1,1)=\"-\",OFFSET(結果貼付け用!$G29,0,(COLUMN()-3)*6,1,1)=\"\"),NA(),(OFFSET(結果貼付け用!$G29,0,(COLUMN()-3)*6,1,1)))","v":{"$error":"#N/A"}},{"$f":"IF(OR(OFFSET(結果貼付け用!$G29,0,(COLUMN()-3)*6,1,1)=\"-\",OFFSET(結果貼付け用!$G29,0,(COLUMN()-3)*6,1,1)=\"\"),NA(),(OFFSET(結果貼付け用!$G29,0,(COLUMN()-3)*6,1,1)))","v":{"$error":"#N/A"}},{"$f":"IF(OR(OFFSET(結果貼付け用!$G29,0,(COLUMN()-3)*6,1,1)=\"-\",OFFSET(結果貼付け用!$G29,0,(COLUMN()-3)*6,1,1)=\"\"),NA(),(OFFSET(結果貼付け用!$G29,0,(COLUMN()-3)*6,1,1)))","v":{"$error":"#N/A"}},{"$f":"IF(OR(OFFSET(結果貼付け用!$G29,0,(COLUMN()-3)*6,1,1)=\"-\",OFFSET(結果貼付け用!$G29,0,(COLUMN()-3)*6,1,1)=\"\"),NA(),(OFFSET(結果貼付け用!$G29,0,(COLUMN()-3)*6,1,1)))","v":{"$error":"#N/A"}},{"$f":"IF(OR(OFFSET(結果貼付け用!$G29,0,(COLUMN()-3)*6,1,1)=\"-\",OFFSET(結果貼付け用!$G29,0,(COLUMN()-3)*6,1,1)=\"\"),NA(),(OFFSET(結果貼付け用!$G29,0,(COLUMN()-3)*6,1,1)))","v":{"$error":"#N/A"}},{"$f":"IF(OR(OFFSET(結果貼付け用!$G29,0,(COLUMN()-3)*6,1,1)=\"-\",OFFSET(結果貼付け用!$G29,0,(COLUMN()-3)*6,1,1)=\"\"),NA(),(OFFSET(結果貼付け用!$G29,0,(COLUMN()-3)*6,1,1)))","v":{"$error":"#N/A"}},{"$f":"IF(OR(OFFSET(結果貼付け用!$G29,0,(COLUMN()-3)*6,1,1)=\"-\",OFFSET(結果貼付け用!$G29,0,(COLUMN()-3)*6,1,1)=\"\"),NA(),(OFFSET(結果貼付け用!$G29,0,(COLUMN()-3)*6,1,1)))","v":{"$error":"#N/A"}},{"$f":"IF(OR(OFFSET(結果貼付け用!$G29,0,(COLUMN()-3)*6,1,1)=\"-\",OFFSET(結果貼付け用!$G29,0,(COLUMN()-3)*6,1,1)=\"\"),NA(),(OFFSET(結果貼付け用!$G29,0,(COLUMN()-3)*6,1,1)))","v":{"$error":"#N/A"}},{"$f":"IF(OR(OFFSET(結果貼付け用!$G29,0,(COLUMN()-3)*6,1,1)=\"-\",OFFSET(結果貼付け用!$G29,0,(COLUMN()-3)*6,1,1)=\"\"),NA(),(OFFSET(結果貼付け用!$G29,0,(COLUMN()-3)*6,1,1)))","v":{"$error":"#N/A"}},{"$f":"IF(OR(OFFSET(結果貼付け用!$G29,0,(COLUMN()-3)*6,1,1)=\"-\",OFFSET(結果貼付け用!$G29,0,(COLUMN()-3)*6,1,1)=\"\"),NA(),(OFFSET(結果貼付け用!$G29,0,(COLUMN()-3)*6,1,1)))","v":{"$error":"#N/A"}},{"$f":"IF(OR(OFFSET(結果貼付け用!$G29,0,(COLUMN()-3)*6,1,1)=\"-\",OFFSET(結果貼付け用!$G29,0,(COLUMN()-3)*6,1,1)=\"\"),NA(),(OFFSET(結果貼付け用!$G29,0,(COLUMN()-3)*6,1,1)))","v":{"$error":"#N/A"}},{"$f":"IF(OR(OFFSET(結果貼付け用!$G29,0,(COLUMN()-3)*6,1,1)=\"-\",OFFSET(結果貼付け用!$G29,0,(COLUMN()-3)*6,1,1)=\"\"),NA(),(OFFSET(結果貼付け用!$G29,0,(COLUMN()-3)*6,1,1)))","v":{"$error":"#N/A"}},{"$f":"IF(OR(OFFSET(結果貼付け用!$G29,0,(COLUMN()-3)*6,1,1)=\"-\",OFFSET(結果貼付け用!$G29,0,(COLUMN()-3)*6,1,1)=\"\"),NA(),(OFFSET(結果貼付け用!$G29,0,(COLUMN()-3)*6,1,1)))","v":{"$error":"#N/A"}}]
[]
[]
[]
[]
[]
[]
[]
[]
[]
[]
[]
[]
[]
[]
[]
[]
[]
[]
[]
[]
[null,"実施開始日時",{"$f":"IF(結果貼付け用!B2=\"\",NA(),結果貼付け用!B2)","v":{"$error":"#N/A"}},{"$f":"IF((OFFSET(結果貼付け用!$H$2, 0, (COLUMN() - COLUMN($D$20)) * 6))=\"\",NA(),(OFFSET(結果貼付け用!$H$2, 0, (COLUMN() - COLUMN($D$20)) * 6)))","v":{"$error":"#N/A"}},{"$f":"IF((OFFSET(結果貼付け用!$H$2, 0, (COLUMN() - COLUMN($D$20)) * 6))=\"\",NA(),(OFFSET(結果貼付け用!$H$2, 0, (COLUMN() - COLUMN($D$20)) * 6)))","v":{"$error":"#N/A"}},{"$f":"IF((OFFSET(結果貼付け用!$H$2, 0, (COLUMN() - COLUMN($D$20)) * 6))=\"\",NA(),(OFFSET(結果貼付け用!$H$2, 0, (COLUMN() - COLUMN($D$20)) * 6)))","v":{"$error":"#N/A"}},{"$f":"IF((OFFSET(結果貼付け用!$H$2, 0, (COLUMN() - COLUMN($D$20)) * 6))=\"\",NA(),(OFFSET(結果貼付け用!$H$2, 0, (COLUMN() - COLUMN($D$20)) * 6)))","v":{"$error":"#N/A"}},{"$f":"IF((OFFSET(結果貼付け用!$H$2, 0, (COLUMN() - COLUMN($D$20)) * 6))=\"\",NA(),(OFFSET(結果貼付け用!$H$2, 0, (COLUMN() - COLUMN($D$20)) * 6)))","v":{"$error":"#N/A"}},{"$f":"IF((OFFSET(結果貼付け用!$H$2, 0, (COLUMN() - COLUMN($D$20)) * 6))=\"\",NA(),(OFFSET(結果貼付け用!$H$2, 0, (COLUMN() - COLUMN($D$20)) * 6)))","v":{"$error":"#N/A"}},{"$f":"IF((OFFSET(結果貼付け用!$H$2, 0, (COLUMN() - COLUMN($D$20)) * 6))=\"\",NA(),(OFFSET(結果貼付け用!$H$2, 0, (COLUMN() - COLUMN($D$20)) * 6)))","v":{"$error":"#N/A"}},{"$f":"IF((OFFSET(結果貼付け用!$H$2, 0, (COLUMN() - COLUMN($D$20)) * 6))=\"\",NA(),(OFFSET(結果貼付け用!$H$2, 0, (COLUMN() - COLUMN($D$20)) * 6)))","v":{"$error":"#N/A"}},{"$f":"IF((OFFSET(結果貼付け用!$H$2, 0, (COLUMN() - COLUMN($D$20)) * 6))=\"\",NA(),(OFFSET(結果貼付け用!$H$2, 0, (COLUMN() - COLUMN($D$20)) * 6)))","v":{"$error":"#N/A"}},{"$f":"IF((OFFSET(結果貼付け用!$H$2, 0, (COLUMN() - COLUMN($D$20)) * 6))=\"\",NA(),(OFFSET(結果貼付け用!$H$2, 0, (COLUMN() - COLUMN($D$20)) * 6)))","v":{"$error":"#N/A"}},{"$f":"IF((OFFSET(結果貼付け用!$H$2, 0, (COLUMN() - COLUMN($D$20)) * 6))=\"\",NA(),(OFFSET(結果貼付け用!$H$2, 0, (COLUMN() - COLUMN($D$20)) * 6)))","v":{"$error":"#N/A"}},{"$f":"IF((OFFSET(結果貼付け用!$H$2, 0, (COLUMN() - COLUMN($D$20)) * 6))=\"\",NA(),(OFFSET(結果貼付け用!$H$2, 0, (COLUMN() - COLUMN($D$20)) * 6)))","v":{"$error":"#N/A"}},{"$f":"IF((OFFSET(結果貼付け用!$H$2, 0, (COLUMN() - COLUMN($D$20)) * 6))=\"\",NA(),(OFFSET(結果貼付け用!$H$2, 0, (COLUMN() - COLUMN($D$20)) * 6)))","v":{"$error":"#N/A"}},{"$f":"IF((OFFSET(結果貼付け用!$H$2, 0, (COLUMN() - COLUMN($D$20)) * 6))=\"\",NA(),(OFFSET(結果貼付け用!$H$2, 0, (COLUMN() - COLUMN($D$20)) * 6)))","v":{"$error":"#N/A"}},{"$f":"IF((OFFSET(結果貼付け用!$H$2, 0, (COLUMN() - COLUMN($D$20)) * 6))=\"\",NA(),(OFFSET(結果貼付け用!$H$2, 0, (COLUMN() - COLUMN($D$20)) * 6)))","v":{"$error":"#N/A"}},{"$f":"IF((OFFSET(結果貼付け用!$H$2, 0, (COLUMN() - COLUMN($D$20)) * 6))=\"\",NA(),(OFFSET(結果貼付け用!$H$2, 0, (COLUMN() - COLUMN($D$20)) * 6)))","v":{"$error":"#N/A"}},{"$f":"IF((OFFSET(結果貼付け用!$H$2, 0, (COLUMN() - COLUMN($D$20)) * 6))=\"\",NA(),(OFFSET(結果貼付け用!$H$2, 0, (COLUMN() - COLUMN($D$20)) * 6)))","v":{"$error":"#N/A"}},{"$f":"IF((OFFSET(結果貼付け用!$H$2, 0, (COLUMN() - COLUMN($D$20)) * 6))=\"\",NA(),(OFFSET(結果貼付け用!$H$2, 0, (COLUMN() - COLUMN($D$20)) * 6)))","v":{"$error":"#N/A"}},{"$f":"IF((OFFSET(結果貼付け用!$H$2, 0, (COLUMN() - COLUMN($D$20)) * 6))=\"\",NA(),(OFFSET(結果貼付け用!$H$2, 0, (COLUMN() - COLUMN($D$20)) * 6)))","v":{"$error":"#N/A"}},{"$f":"IF((OFFSET(結果貼付け用!$H$2, 0, (COLUMN() - COLUMN($D$20)) * 6))=\"\",NA(),(OFFSET(結果貼付け用!$H$2, 0, (COLUMN() - COLUMN($D$20)) * 6)))","v":{"$error":"#N/A"}},{"$f":"IF((OFFSET(結果貼付け用!$H$2, 0, (COLUMN() - COLUMN($D$20)) * 6))=\"\",NA(),(OFFSET(結果貼付け用!$H$2, 0, (COLUMN() - COLUMN($D$20)) * 6)))","v":{"$error":"#N/A"}},{"$f":"IF((OFFSET(結果貼付け用!$H$2, 0, (COLUMN() - COLUMN($D$20)) * 6))=\"\",NA(),(OFFSET(結果貼付け用!$H$2, 0, (COLUMN() - COLUMN($D$20)) * 6)))","v":{"$error":"#N/A"}},{"$f":"IF((OFFSET(結果貼付け用!$H$2, 0, (COLUMN() - COLUMN($D$20)) * 6))=\"\",NA(),(OFFSET(結果貼付け用!$H$2, 0, (COLUMN() - COLUMN($D$20)) * 6)))","v":{"$error":"#N/A"}},{"$f":"IF((OFFSET(結果貼付け用!$H$2, 0, (COLUMN() - COLUMN($D$20)) * 6))=\"\",NA(),(OFFSET(結果貼付け用!$H$2, 0, (COLUMN() - COLUMN($D$20)) * 6)))","v":{"$error":"#N/A"}},{"$f":"IF((OFFSET(結果貼付け用!$H$2, 0, (COLUMN() - COLUMN($D$20)) * 6))=\"\",NA(),(OFFSET(結果貼付け用!$H$2, 0, (COLUMN() - COLUMN($D$20)) * 6)))","v":{"$error":"#N/A"}},{"$f":"IF((OFFSET(結果貼付け用!$H$2, 0, (COLUMN() - COLUMN($D$20)) * 6))=\"\",NA(),(OFFSET(結果貼付け用!$H$2, 0, (COLUMN() - COLUMN($D$20)) * 6)))","v":{"$error":"#N/A"}},{"$f":"IF((OFFSET(結果貼付け用!$H$2, 0, (COLUMN() - COLUMN($D$20)) * 6))=\"\",NA(),(OFFSET(結果貼付け用!$H$2, 0, (COLUMN() - COLUMN($D$20)) * 6)))","v":{"$error":"#N/A"}},{"$f":"IF((OFFSET(結果貼付け用!$H$2, 0, (COLUMN() - COLUMN($D$20)) * 6))=\"\",NA(),(OFFSET(結果貼付け用!$H$2, 0, (COLUMN() - COLUMN($D$20)) * 6)))","v":{"$error":"#N/A"}},{"$f":"IF((OFFSET(結果貼付け用!$H$2, 0, (COLUMN() - COLUMN($D$20)) * 6))=\"\",NA(),(OFFSET(結果貼付け用!$H$2, 0, (COLUMN() - COLUMN($D$20)) * 6)))","v":{"$error":"#N/A"}}]
[null,"職場風土",{"$f":"IF(OR(OFFSET(結果貼付け用!$G30,0,(COLUMN()-3)*6,1,1)=\"-\",OFFSET(結果貼付け用!$G30,0,(COLUMN()-3)*6,1,1)=\"\"),NA(),(OFFSET(結果貼付け用!$G30,0,(COLUMN()-3)*6,1,1)))","v":{"$error":"#N/A"}},{"$f":"IF(OR(OFFSET(結果貼付け用!$G30,0,(COLUMN()-3)*6,1,1)=\"-\",OFFSET(結果貼付け用!$G30,0,(COLUMN()-3)*6,1,1)=\"\"),NA(),(OFFSET(結果貼付け用!$G30,0,(COLUMN()-3)*6,1,1)))","v":{"$error":"#N/A"}},{"$f":"IF(OR(OFFSET(結果貼付け用!$G30,0,(COLUMN()-3)*6,1,1)=\"-\",OFFSET(結果貼付け用!$G30,0,(COLUMN()-3)*6,1,1)=\"\"),NA(),(OFFSET(結果貼付け用!$G30,0,(COLUMN()-3)*6,1,1)))","v":{"$error":"#N/A"}},{"$f":"IF(OR(OFFSET(結果貼付け用!$G30,0,(COLUMN()-3)*6,1,1)=\"-\",OFFSET(結果貼付け用!$G30,0,(COLUMN()-3)*6,1,1)=\"\"),NA(),(OFFSET(結果貼付け用!$G30,0,(COLUMN()-3)*6,1,1)))","v":{"$error":"#N/A"}},{"$f":"IF(OR(OFFSET(結果貼付け用!$G30,0,(COLUMN()-3)*6,1,1)=\"-\",OFFSET(結果貼付け用!$G30,0,(COLUMN()-3)*6,1,1)=\"\"),NA(),(OFFSET(結果貼付け用!$G30,0,(COLUMN()-3)*6,1,1)))","v":{"$error":"#N/A"}},{"$f":"IF(OR(OFFSET(結果貼付け用!$G30,0,(COLUMN()-3)*6,1,1)=\"-\",OFFSET(結果貼付け用!$G30,0,(COLUMN()-3)*6,1,1)=\"\"),NA(),(OFFSET(結果貼付け用!$G30,0,(COLUMN()-3)*6,1,1)))","v":{"$error":"#N/A"}},{"$f":"IF(OR(OFFSET(結果貼付け用!$G30,0,(COLUMN()-3)*6,1,1)=\"-\",OFFSET(結果貼付け用!$G30,0,(COLUMN()-3)*6,1,1)=\"\"),NA(),(OFFSET(結果貼付け用!$G30,0,(COLUMN()-3)*6,1,1)))","v":{"$error":"#N/A"}},{"$f":"IF(OR(OFFSET(結果貼付け用!$G30,0,(COLUMN()-3)*6,1,1)=\"-\",OFFSET(結果貼付け用!$G30,0,(COLUMN()-3)*6,1,1)=\"\"),NA(),(OFFSET(結果貼付け用!$G30,0,(COLUMN()-3)*6,1,1)))","v":{"$error":"#N/A"}},{"$f":"IF(OR(OFFSET(結果貼付け用!$G30,0,(COLUMN()-3)*6,1,1)=\"-\",OFFSET(結果貼付け用!$G30,0,(COLUMN()-3)*6,1,1)=\"\"),NA(),(OFFSET(結果貼付け用!$G30,0,(COLUMN()-3)*6,1,1)))","v":{"$error":"#N/A"}},{"$f":"IF(OR(OFFSET(結果貼付け用!$G30,0,(COLUMN()-3)*6,1,1)=\"-\",OFFSET(結果貼付け用!$G30,0,(COLUMN()-3)*6,1,1)=\"\"),NA(),(OFFSET(結果貼付け用!$G30,0,(COLUMN()-3)*6,1,1)))","v":{"$error":"#N/A"}},{"$f":"IF(OR(OFFSET(結果貼付け用!$G30,0,(COLUMN()-3)*6,1,1)=\"-\",OFFSET(結果貼付け用!$G30,0,(COLUMN()-3)*6,1,1)=\"\"),NA(),(OFFSET(結果貼付け用!$G30,0,(COLUMN()-3)*6,1,1)))","v":{"$error":"#N/A"}},{"$f":"IF(OR(OFFSET(結果貼付け用!$G30,0,(COLUMN()-3)*6,1,1)=\"-\",OFFSET(結果貼付け用!$G30,0,(COLUMN()-3)*6,1,1)=\"\"),NA(),(OFFSET(結果貼付け用!$G30,0,(COLUMN()-3)*6,1,1)))","v":{"$error":"#N/A"}},{"$f":"IF(OR(OFFSET(結果貼付け用!$G30,0,(COLUMN()-3)*6,1,1)=\"-\",OFFSET(結果貼付け用!$G30,0,(COLUMN()-3)*6,1,1)=\"\"),NA(),(OFFSET(結果貼付け用!$G30,0,(COLUMN()-3)*6,1,1)))","v":{"$error":"#N/A"}},{"$f":"IF(OR(OFFSET(結果貼付け用!$G30,0,(COLUMN()-3)*6,1,1)=\"-\",OFFSET(結果貼付け用!$G30,0,(COLUMN()-3)*6,1,1)=\"\"),NA(),(OFFSET(結果貼付け用!$G30,0,(COLUMN()-3)*6,1,1)))","v":{"$error":"#N/A"}},{"$f":"IF(OR(OFFSET(結果貼付け用!$G30,0,(COLUMN()-3)*6,1,1)=\"-\",OFFSET(結果貼付け用!$G30,0,(COLUMN()-3)*6,1,1)=\"\"),NA(),(OFFSET(結果貼付け用!$G30,0,(COLUMN()-3)*6,1,1)))","v":{"$error":"#N/A"}},{"$f":"IF(OR(OFFSET(結果貼付け用!$G30,0,(COLUMN()-3)*6,1,1)=\"-\",OFFSET(結果貼付け用!$G30,0,(COLUMN()-3)*6,1,1)=\"\"),NA(),(OFFSET(結果貼付け用!$G30,0,(COLUMN()-3)*6,1,1)))","v":{"$error":"#N/A"}},{"$f":"IF(OR(OFFSET(結果貼付け用!$G30,0,(COLUMN()-3)*6,1,1)=\"-\",OFFSET(結果貼付け用!$G30,0,(COLUMN()-3)*6,1,1)=\"\"),NA(),(OFFSET(結果貼付け用!$G30,0,(COLUMN()-3)*6,1,1)))","v":{"$error":"#N/A"}},{"$f":"IF(OR(OFFSET(結果貼付け用!$G30,0,(COLUMN()-3)*6,1,1)=\"-\",OFFSET(結果貼付け用!$G30,0,(COLUMN()-3)*6,1,1)=\"\"),NA(),(OFFSET(結果貼付け用!$G30,0,(COLUMN()-3)*6,1,1)))","v":{"$error":"#N/A"}},{"$f":"IF(OR(OFFSET(結果貼付け用!$G30,0,(COLUMN()-3)*6,1,1)=\"-\",OFFSET(結果貼付け用!$G30,0,(COLUMN()-3)*6,1,1)=\"\"),NA(),(OFFSET(結果貼付け用!$G30,0,(COLUMN()-3)*6,1,1)))","v":{"$error":"#N/A"}},{"$f":"IF(OR(OFFSET(結果貼付け用!$G30,0,(COLUMN()-3)*6,1,1)=\"-\",OFFSET(結果貼付け用!$G30,0,(COLUMN()-3)*6,1,1)=\"\"),NA(),(OFFSET(結果貼付け用!$G30,0,(COLUMN()-3)*6,1,1)))","v":{"$error":"#N/A"}},{"$f":"IF(OR(OFFSET(結果貼付け用!$G30,0,(COLUMN()-3)*6,1,1)=\"-\",OFFSET(結果貼付け用!$G30,0,(COLUMN()-3)*6,1,1)=\"\"),NA(),(OFFSET(結果貼付け用!$G30,0,(COLUMN()-3)*6,1,1)))","v":{"$error":"#N/A"}},{"$f":"IF(OR(OFFSET(結果貼付け用!$G30,0,(COLUMN()-3)*6,1,1)=\"-\",OFFSET(結果貼付け用!$G30,0,(COLUMN()-3)*6,1,1)=\"\"),NA(),(OFFSET(結果貼付け用!$G30,0,(COLUMN()-3)*6,1,1)))","v":{"$error":"#N/A"}},{"$f":"IF(OR(OFFSET(結果貼付け用!$G30,0,(COLUMN()-3)*6,1,1)=\"-\",OFFSET(結果貼付け用!$G30,0,(COLUMN()-3)*6,1,1)=\"\"),NA(),(OFFSET(結果貼付け用!$G30,0,(COLUMN()-3)*6,1,1)))","v":{"$error":"#N/A"}},{"$f":"IF(OR(OFFSET(結果貼付け用!$G30,0,(COLUMN()-3)*6,1,1)=\"-\",OFFSET(結果貼付け用!$G30,0,(COLUMN()-3)*6,1,1)=\"\"),NA(),(OFFSET(結果貼付け用!$G30,0,(COLUMN()-3)*6,1,1)))","v":{"$error":"#N/A"}},{"$f":"IF(OR(OFFSET(結果貼付け用!$G30,0,(COLUMN()-3)*6,1,1)=\"-\",OFFSET(結果貼付け用!$G30,0,(COLUMN()-3)*6,1,1)=\"\"),NA(),(OFFSET(結果貼付け用!$G30,0,(COLUMN()-3)*6,1,1)))","v":{"$error":"#N/A"}},{"$f":"IF(OR(OFFSET(結果貼付け用!$G30,0,(COLUMN()-3)*6,1,1)=\"-\",OFFSET(結果貼付け用!$G30,0,(COLUMN()-3)*6,1,1)=\"\"),NA(),(OFFSET(結果貼付け用!$G30,0,(COLUMN()-3)*6,1,1)))","v":{"$error":"#N/A"}},{"$f":"IF(OR(OFFSET(結果貼付け用!$G30,0,(COLUMN()-3)*6,1,1)=\"-\",OFFSET(結果貼付け用!$G30,0,(COLUMN()-3)*6,1,1)=\"\"),NA(),(OFFSET(結果貼付け用!$G30,0,(COLUMN()-3)*6,1,1)))","v":{"$error":"#N/A"}},{"$f":"IF(OR(OFFSET(結果貼付け用!$G30,0,(COLUMN()-3)*6,1,1)=\"-\",OFFSET(結果貼付け用!$G30,0,(COLUMN()-3)*6,1,1)=\"\"),NA(),(OFFSET(結果貼付け用!$G30,0,(COLUMN()-3)*6,1,1)))","v":{"$error":"#N/A"}},{"$f":"IF(OR(OFFSET(結果貼付け用!$G30,0,(COLUMN()-3)*6,1,1)=\"-\",OFFSET(結果貼付け用!$G30,0,(COLUMN()-3)*6,1,1)=\"\"),NA(),(OFFSET(結果貼付け用!$G30,0,(COLUMN()-3)*6,1,1)))","v":{"$error":"#N/A"}},{"$f":"IF(OR(OFFSET(結果貼付け用!$G30,0,(COLUMN()-3)*6,1,1)=\"-\",OFFSET(結果貼付け用!$G30,0,(COLUMN()-3)*6,1,1)=\"\"),NA(),(OFFSET(結果貼付け用!$G30,0,(COLUMN()-3)*6,1,1)))","v":{"$error":"#N/A"}}]
[null,"仕事の相互助言",{"$f":"IF(OR(OFFSET(結果貼付け用!$G31,0,(COLUMN()-3)*6,1,1)=\"-\",OFFSET(結果貼付け用!$G31,0,(COLUMN()-3)*6,1,1)=\"\"),NA(),(OFFSET(結果貼付け用!$G31,0,(COLUMN()-3)*6,1,1)))","v":{"$error":"#N/A"}},{"$f":"IF(OR(OFFSET(結果貼付け用!$G31,0,(COLUMN()-3)*6,1,1)=\"-\",OFFSET(結果貼付け用!$G31,0,(COLUMN()-3)*6,1,1)=\"\"),NA(),(OFFSET(結果貼付け用!$G31,0,(COLUMN()-3)*6,1,1)))","v":{"$error":"#N/A"}},{"$f":"IF(OR(OFFSET(結果貼付け用!$G31,0,(COLUMN()-3)*6,1,1)=\"-\",OFFSET(結果貼付け用!$G31,0,(COLUMN()-3)*6,1,1)=\"\"),NA(),(OFFSET(結果貼付け用!$G31,0,(COLUMN()-3)*6,1,1)))","v":{"$error":"#N/A"}},{"$f":"IF(OR(OFFSET(結果貼付け用!$G31,0,(COLUMN()-3)*6,1,1)=\"-\",OFFSET(結果貼付け用!$G31,0,(COLUMN()-3)*6,1,1)=\"\"),NA(),(OFFSET(結果貼付け用!$G31,0,(COLUMN()-3)*6,1,1)))","v":{"$error":"#N/A"}},{"$f":"IF(OR(OFFSET(結果貼付け用!$G31,0,(COLUMN()-3)*6,1,1)=\"-\",OFFSET(結果貼付け用!$G31,0,(COLUMN()-3)*6,1,1)=\"\"),NA(),(OFFSET(結果貼付け用!$G31,0,(COLUMN()-3)*6,1,1)))","v":{"$error":"#N/A"}},{"$f":"IF(OR(OFFSET(結果貼付け用!$G31,0,(COLUMN()-3)*6,1,1)=\"-\",OFFSET(結果貼付け用!$G31,0,(COLUMN()-3)*6,1,1)=\"\"),NA(),(OFFSET(結果貼付け用!$G31,0,(COLUMN()-3)*6,1,1)))","v":{"$error":"#N/A"}},{"$f":"IF(OR(OFFSET(結果貼付け用!$G31,0,(COLUMN()-3)*6,1,1)=\"-\",OFFSET(結果貼付け用!$G31,0,(COLUMN()-3)*6,1,1)=\"\"),NA(),(OFFSET(結果貼付け用!$G31,0,(COLUMN()-3)*6,1,1)))","v":{"$error":"#N/A"}},{"$f":"IF(OR(OFFSET(結果貼付け用!$G31,0,(COLUMN()-3)*6,1,1)=\"-\",OFFSET(結果貼付け用!$G31,0,(COLUMN()-3)*6,1,1)=\"\"),NA(),(OFFSET(結果貼付け用!$G31,0,(COLUMN()-3)*6,1,1)))","v":{"$error":"#N/A"}},{"$f":"IF(OR(OFFSET(結果貼付け用!$G31,0,(COLUMN()-3)*6,1,1)=\"-\",OFFSET(結果貼付け用!$G31,0,(COLUMN()-3)*6,1,1)=\"\"),NA(),(OFFSET(結果貼付け用!$G31,0,(COLUMN()-3)*6,1,1)))","v":{"$error":"#N/A"}},{"$f":"IF(OR(OFFSET(結果貼付け用!$G31,0,(COLUMN()-3)*6,1,1)=\"-\",OFFSET(結果貼付け用!$G31,0,(COLUMN()-3)*6,1,1)=\"\"),NA(),(OFFSET(結果貼付け用!$G31,0,(COLUMN()-3)*6,1,1)))","v":{"$error":"#N/A"}},{"$f":"IF(OR(OFFSET(結果貼付け用!$G31,0,(COLUMN()-3)*6,1,1)=\"-\",OFFSET(結果貼付け用!$G31,0,(COLUMN()-3)*6,1,1)=\"\"),NA(),(OFFSET(結果貼付け用!$G31,0,(COLUMN()-3)*6,1,1)))","v":{"$error":"#N/A"}},{"$f":"IF(OR(OFFSET(結果貼付け用!$G31,0,(COLUMN()-3)*6,1,1)=\"-\",OFFSET(結果貼付け用!$G31,0,(COLUMN()-3)*6,1,1)=\"\"),NA(),(OFFSET(結果貼付け用!$G31,0,(COLUMN()-3)*6,1,1)))","v":{"$error":"#N/A"}},{"$f":"IF(OR(OFFSET(結果貼付け用!$G31,0,(COLUMN()-3)*6,1,1)=\"-\",OFFSET(結果貼付け用!$G31,0,(COLUMN()-3)*6,1,1)=\"\"),NA(),(OFFSET(結果貼付け用!$G31,0,(COLUMN()-3)*6,1,1)))","v":{"$error":"#N/A"}},{"$f":"IF(OR(OFFSET(結果貼付け用!$G31,0,(COLUMN()-3)*6,1,1)=\"-\",OFFSET(結果貼付け用!$G31,0,(COLUMN()-3)*6,1,1)=\"\"),NA(),(OFFSET(結果貼付け用!$G31,0,(COLUMN()-3)*6,1,1)))","v":{"$error":"#N/A"}},{"$f":"IF(OR(OFFSET(結果貼付け用!$G31,0,(COLUMN()-3)*6,1,1)=\"-\",OFFSET(結果貼付け用!$G31,0,(COLUMN()-3)*6,1,1)=\"\"),NA(),(OFFSET(結果貼付け用!$G31,0,(COLUMN()-3)*6,1,1)))","v":{"$error":"#N/A"}},{"$f":"IF(OR(OFFSET(結果貼付け用!$G31,0,(COLUMN()-3)*6,1,1)=\"-\",OFFSET(結果貼付け用!$G31,0,(COLUMN()-3)*6,1,1)=\"\"),NA(),(OFFSET(結果貼付け用!$G31,0,(COLUMN()-3)*6,1,1)))","v":{"$error":"#N/A"}},{"$f":"IF(OR(OFFSET(結果貼付け用!$G31,0,(COLUMN()-3)*6,1,1)=\"-\",OFFSET(結果貼付け用!$G31,0,(COLUMN()-3)*6,1,1)=\"\"),NA(),(OFFSET(結果貼付け用!$G31,0,(COLUMN()-3)*6,1,1)))","v":{"$error":"#N/A"}},{"$f":"IF(OR(OFFSET(結果貼付け用!$G31,0,(COLUMN()-3)*6,1,1)=\"-\",OFFSET(結果貼付け用!$G31,0,(COLUMN()-3)*6,1,1)=\"\"),NA(),(OFFSET(結果貼付け用!$G31,0,(COLUMN()-3)*6,1,1)))","v":{"$error":"#N/A"}},{"$f":"IF(OR(OFFSET(結果貼付け用!$G31,0,(COLUMN()-3)*6,1,1)=\"-\",OFFSET(結果貼付け用!$G31,0,(COLUMN()-3)*6,1,1)=\"\"),NA(),(OFFSET(結果貼付け用!$G31,0,(COLUMN()-3)*6,1,1)))","v":{"$error":"#N/A"}},{"$f":"IF(OR(OFFSET(結果貼付け用!$G31,0,(COLUMN()-3)*6,1,1)=\"-\",OFFSET(結果貼付け用!$G31,0,(COLUMN()-3)*6,1,1)=\"\"),NA(),(OFFSET(結果貼付け用!$G31,0,(COLUMN()-3)*6,1,1)))","v":{"$error":"#N/A"}},{"$f":"IF(OR(OFFSET(結果貼付け用!$G31,0,(COLUMN()-3)*6,1,1)=\"-\",OFFSET(結果貼付け用!$G31,0,(COLUMN()-3)*6,1,1)=\"\"),NA(),(OFFSET(結果貼付け用!$G31,0,(COLUMN()-3)*6,1,1)))","v":{"$error":"#N/A"}},{"$f":"IF(OR(OFFSET(結果貼付け用!$G31,0,(COLUMN()-3)*6,1,1)=\"-\",OFFSET(結果貼付け用!$G31,0,(COLUMN()-3)*6,1,1)=\"\"),NA(),(OFFSET(結果貼付け用!$G31,0,(COLUMN()-3)*6,1,1)))","v":{"$error":"#N/A"}},{"$f":"IF(OR(OFFSET(結果貼付け用!$G31,0,(COLUMN()-3)*6,1,1)=\"-\",OFFSET(結果貼付け用!$G31,0,(COLUMN()-3)*6,1,1)=\"\"),NA(),(OFFSET(結果貼付け用!$G31,0,(COLUMN()-3)*6,1,1)))","v":{"$error":"#N/A"}},{"$f":"IF(OR(OFFSET(結果貼付け用!$G31,0,(COLUMN()-3)*6,1,1)=\"-\",OFFSET(結果貼付け用!$G31,0,(COLUMN()-3)*6,1,1)=\"\"),NA(),(OFFSET(結果貼付け用!$G31,0,(COLUMN()-3)*6,1,1)))","v":{"$error":"#N/A"}},{"$f":"IF(OR(OFFSET(結果貼付け用!$G31,0,(COLUMN()-3)*6,1,1)=\"-\",OFFSET(結果貼付け用!$G31,0,(COLUMN()-3)*6,1,1)=\"\"),NA(),(OFFSET(結果貼付け用!$G31,0,(COLUMN()-3)*6,1,1)))","v":{"$error":"#N/A"}},{"$f":"IF(OR(OFFSET(結果貼付け用!$G31,0,(COLUMN()-3)*6,1,1)=\"-\",OFFSET(結果貼付け用!$G31,0,(COLUMN()-3)*6,1,1)=\"\"),NA(),(OFFSET(結果貼付け用!$G31,0,(COLUMN()-3)*6,1,1)))","v":{"$error":"#N/A"}},{"$f":"IF(OR(OFFSET(結果貼付け用!$G31,0,(COLUMN()-3)*6,1,1)=\"-\",OFFSET(結果貼付け用!$G31,0,(COLUMN()-3)*6,1,1)=\"\"),NA(),(OFFSET(結果貼付け用!$G31,0,(COLUMN()-3)*6,1,1)))","v":{"$error":"#N/A"}},{"$f":"IF(OR(OFFSET(結果貼付け用!$G31,0,(COLUMN()-3)*6,1,1)=\"-\",OFFSET(結果貼付け用!$G31,0,(COLUMN()-3)*6,1,1)=\"\"),NA(),(OFFSET(結果貼付け用!$G31,0,(COLUMN()-3)*6,1,1)))","v":{"$error":"#N/A"}},{"$f":"IF(OR(OFFSET(結果貼付け用!$G31,0,(COLUMN()-3)*6,1,1)=\"-\",OFFSET(結果貼付け用!$G31,0,(COLUMN()-3)*6,1,1)=\"\"),NA(),(OFFSET(結果貼付け用!$G31,0,(COLUMN()-3)*6,1,1)))","v":{"$error":"#N/A"}},{"$f":"IF(OR(OFFSET(結果貼付け用!$G31,0,(COLUMN()-3)*6,1,1)=\"-\",OFFSET(結果貼付け用!$G31,0,(COLUMN()-3)*6,1,1)=\"\"),NA(),(OFFSET(結果貼付け用!$G31,0,(COLUMN()-3)*6,1,1)))","v":{"$error":"#N/A"}}]
[null,"職場の人間関係の良さ",{"$f":"IF(OR(OFFSET(結果貼付け用!$G32,0,(COLUMN()-3)*6,1,1)=\"-\",OFFSET(結果貼付け用!$G32,0,(COLUMN()-3)*6,1,1)=\"\"),NA(),(OFFSET(結果貼付け用!$G32,0,(COLUMN()-3)*6,1,1)))","v":{"$error":"#N/A"}},{"$f":"IF(OR(OFFSET(結果貼付け用!$G32,0,(COLUMN()-3)*6,1,1)=\"-\",OFFSET(結果貼付け用!$G32,0,(COLUMN()-3)*6,1,1)=\"\"),NA(),(OFFSET(結果貼付け用!$G32,0,(COLUMN()-3)*6,1,1)))","v":{"$error":"#N/A"}},{"$f":"IF(OR(OFFSET(結果貼付け用!$G32,0,(COLUMN()-3)*6,1,1)=\"-\",OFFSET(結果貼付け用!$G32,0,(COLUMN()-3)*6,1,1)=\"\"),NA(),(OFFSET(結果貼付け用!$G32,0,(COLUMN()-3)*6,1,1)))","v":{"$error":"#N/A"}},{"$f":"IF(OR(OFFSET(結果貼付け用!$G32,0,(COLUMN()-3)*6,1,1)=\"-\",OFFSET(結果貼付け用!$G32,0,(COLUMN()-3)*6,1,1)=\"\"),NA(),(OFFSET(結果貼付け用!$G32,0,(COLUMN()-3)*6,1,1)))","v":{"$error":"#N/A"}},{"$f":"IF(OR(OFFSET(結果貼付け用!$G32,0,(COLUMN()-3)*6,1,1)=\"-\",OFFSET(結果貼付け用!$G32,0,(COLUMN()-3)*6,1,1)=\"\"),NA(),(OFFSET(結果貼付け用!$G32,0,(COLUMN()-3)*6,1,1)))","v":{"$error":"#N/A"}},{"$f":"IF(OR(OFFSET(結果貼付け用!$G32,0,(COLUMN()-3)*6,1,1)=\"-\",OFFSET(結果貼付け用!$G32,0,(COLUMN()-3)*6,1,1)=\"\"),NA(),(OFFSET(結果貼付け用!$G32,0,(COLUMN()-3)*6,1,1)))","v":{"$error":"#N/A"}},{"$f":"IF(OR(OFFSET(結果貼付け用!$G32,0,(COLUMN()-3)*6,1,1)=\"-\",OFFSET(結果貼付け用!$G32,0,(COLUMN()-3)*6,1,1)=\"\"),NA(),(OFFSET(結果貼付け用!$G32,0,(COLUMN()-3)*6,1,1)))","v":{"$error":"#N/A"}},{"$f":"IF(OR(OFFSET(結果貼付け用!$G32,0,(COLUMN()-3)*6,1,1)=\"-\",OFFSET(結果貼付け用!$G32,0,(COLUMN()-3)*6,1,1)=\"\"),NA(),(OFFSET(結果貼付け用!$G32,0,(COLUMN()-3)*6,1,1)))","v":{"$error":"#N/A"}},{"$f":"IF(OR(OFFSET(結果貼付け用!$G32,0,(COLUMN()-3)*6,1,1)=\"-\",OFFSET(結果貼付け用!$G32,0,(COLUMN()-3)*6,1,1)=\"\"),NA(),(OFFSET(結果貼付け用!$G32,0,(COLUMN()-3)*6,1,1)))","v":{"$error":"#N/A"}},{"$f":"IF(OR(OFFSET(結果貼付け用!$G32,0,(COLUMN()-3)*6,1,1)=\"-\",OFFSET(結果貼付け用!$G32,0,(COLUMN()-3)*6,1,1)=\"\"),NA(),(OFFSET(結果貼付け用!$G32,0,(COLUMN()-3)*6,1,1)))","v":{"$error":"#N/A"}},{"$f":"IF(OR(OFFSET(結果貼付け用!$G32,0,(COLUMN()-3)*6,1,1)=\"-\",OFFSET(結果貼付け用!$G32,0,(COLUMN()-3)*6,1,1)=\"\"),NA(),(OFFSET(結果貼付け用!$G32,0,(COLUMN()-3)*6,1,1)))","v":{"$error":"#N/A"}},{"$f":"IF(OR(OFFSET(結果貼付け用!$G32,0,(COLUMN()-3)*6,1,1)=\"-\",OFFSET(結果貼付け用!$G32,0,(COLUMN()-3)*6,1,1)=\"\"),NA(),(OFFSET(結果貼付け用!$G32,0,(COLUMN()-3)*6,1,1)))","v":{"$error":"#N/A"}},{"$f":"IF(OR(OFFSET(結果貼付け用!$G32,0,(COLUMN()-3)*6,1,1)=\"-\",OFFSET(結果貼付け用!$G32,0,(COLUMN()-3)*6,1,1)=\"\"),NA(),(OFFSET(結果貼付け用!$G32,0,(COLUMN()-3)*6,1,1)))","v":{"$error":"#N/A"}},{"$f":"IF(OR(OFFSET(結果貼付け用!$G32,0,(COLUMN()-3)*6,1,1)=\"-\",OFFSET(結果貼付け用!$G32,0,(COLUMN()-3)*6,1,1)=\"\"),NA(),(OFFSET(結果貼付け用!$G32,0,(COLUMN()-3)*6,1,1)))","v":{"$error":"#N/A"}},{"$f":"IF(OR(OFFSET(結果貼付け用!$G32,0,(COLUMN()-3)*6,1,1)=\"-\",OFFSET(結果貼付け用!$G32,0,(COLUMN()-3)*6,1,1)=\"\"),NA(),(OFFSET(結果貼付け用!$G32,0,(COLUMN()-3)*6,1,1)))","v":{"$error":"#N/A"}},{"$f":"IF(OR(OFFSET(結果貼付け用!$G32,0,(COLUMN()-3)*6,1,1)=\"-\",OFFSET(結果貼付け用!$G32,0,(COLUMN()-3)*6,1,1)=\"\"),NA(),(OFFSET(結果貼付け用!$G32,0,(COLUMN()-3)*6,1,1)))","v":{"$error":"#N/A"}},{"$f":"IF(OR(OFFSET(結果貼付け用!$G32,0,(COLUMN()-3)*6,1,1)=\"-\",OFFSET(結果貼付け用!$G32,0,(COLUMN()-3)*6,1,1)=\"\"),NA(),(OFFSET(結果貼付け用!$G32,0,(COLUMN()-3)*6,1,1)))","v":{"$error":"#N/A"}},{"$f":"IF(OR(OFFSET(結果貼付け用!$G32,0,(COLUMN()-3)*6,1,1)=\"-\",OFFSET(結果貼付け用!$G32,0,(COLUMN()-3)*6,1,1)=\"\"),NA(),(OFFSET(結果貼付け用!$G32,0,(COLUMN()-3)*6,1,1)))","v":{"$error":"#N/A"}},{"$f":"IF(OR(OFFSET(結果貼付け用!$G32,0,(COLUMN()-3)*6,1,1)=\"-\",OFFSET(結果貼付け用!$G32,0,(COLUMN()-3)*6,1,1)=\"\"),NA(),(OFFSET(結果貼付け用!$G32,0,(COLUMN()-3)*6,1,1)))","v":{"$error":"#N/A"}},{"$f":"IF(OR(OFFSET(結果貼付け用!$G32,0,(COLUMN()-3)*6,1,1)=\"-\",OFFSET(結果貼付け用!$G32,0,(COLUMN()-3)*6,1,1)=\"\"),NA(),(OFFSET(結果貼付け用!$G32,0,(COLUMN()-3)*6,1,1)))","v":{"$error":"#N/A"}},{"$f":"IF(OR(OFFSET(結果貼付け用!$G32,0,(COLUMN()-3)*6,1,1)=\"-\",OFFSET(結果貼付け用!$G32,0,(COLUMN()-3)*6,1,1)=\"\"),NA(),(OFFSET(結果貼付け用!$G32,0,(COLUMN()-3)*6,1,1)))","v":{"$error":"#N/A"}},{"$f":"IF(OR(OFFSET(結果貼付け用!$G32,0,(COLUMN()-3)*6,1,1)=\"-\",OFFSET(結果貼付け用!$G32,0,(COLUMN()-3)*6,1,1)=\"\"),NA(),(OFFSET(結果貼付け用!$G32,0,(COLUMN()-3)*6,1,1)))","v":{"$error":"#N/A"}},{"$f":"IF(OR(OFFSET(結果貼付け用!$G32,0,(COLUMN()-3)*6,1,1)=\"-\",OFFSET(結果貼付け用!$G32,0,(COLUMN()-3)*6,1,1)=\"\"),NA(),(OFFSET(結果貼付け用!$G32,0,(COLUMN()-3)*6,1,1)))","v":{"$error":"#N/A"}},{"$f":"IF(OR(OFFSET(結果貼付け用!$G32,0,(COLUMN()-3)*6,1,1)=\"-\",OFFSET(結果貼付け用!$G32,0,(COLUMN()-3)*6,1,1)=\"\"),NA(),(OFFSET(結果貼付け用!$G32,0,(COLUMN()-3)*6,1,1)))","v":{"$error":"#N/A"}},{"$f":"IF(OR(OFFSET(結果貼付け用!$G32,0,(COLUMN()-3)*6,1,1)=\"-\",OFFSET(結果貼付け用!$G32,0,(COLUMN()-3)*6,1,1)=\"\"),NA(),(OFFSET(結果貼付け用!$G32,0,(COLUMN()-3)*6,1,1)))","v":{"$error":"#N/A"}},{"$f":"IF(OR(OFFSET(結果貼付け用!$G32,0,(COLUMN()-3)*6,1,1)=\"-\",OFFSET(結果貼付け用!$G32,0,(COLUMN()-3)*6,1,1)=\"\"),NA(),(OFFSET(結果貼付け用!$G32,0,(COLUMN()-3)*6,1,1)))","v":{"$error":"#N/A"}},{"$f":"IF(OR(OFFSET(結果貼付け用!$G32,0,(COLUMN()-3)*6,1,1)=\"-\",OFFSET(結果貼付け用!$G32,0,(COLUMN()-3)*6,1,1)=\"\"),NA(),(OFFSET(結果貼付け用!$G32,0,(COLUMN()-3)*6,1,1)))","v":{"$error":"#N/A"}},{"$f":"IF(OR(OFFSET(結果貼付け用!$G32,0,(COLUMN()-3)*6,1,1)=\"-\",OFFSET(結果貼付け用!$G32,0,(COLUMN()-3)*6,1,1)=\"\"),NA(),(OFFSET(結果貼付け用!$G32,0,(COLUMN()-3)*6,1,1)))","v":{"$error":"#N/A"}},{"$f":"IF(OR(OFFSET(結果貼付け用!$G32,0,(COLUMN()-3)*6,1,1)=\"-\",OFFSET(結果貼付け用!$G32,0,(COLUMN()-3)*6,1,1)=\"\"),NA(),(OFFSET(結果貼付け用!$G32,0,(COLUMN()-3)*6,1,1)))","v":{"$error":"#N/A"}},{"$f":"IF(OR(OFFSET(結果貼付け用!$G32,0,(COLUMN()-3)*6,1,1)=\"-\",OFFSET(結果貼付け用!$G32,0,(COLUMN()-3)*6,1,1)=\"\"),NA(),(OFFSET(結果貼付け用!$G32,0,(COLUMN()-3)*6,1,1)))","v":{"$error":"#N/A"}}]
[null,"職場の心理的安全性",{"$f":"IF(OR(OFFSET(結果貼付け用!$G33,0,(COLUMN()-3)*6,1,1)=\"-\",OFFSET(結果貼付け用!$G33,0,(COLUMN()-3)*6,1,1)=\"\"),NA(),(OFFSET(結果貼付け用!$G33,0,(COLUMN()-3)*6,1,1)))","v":{"$error":"#N/A"}},{"$f":"IF(OR(OFFSET(結果貼付け用!$G33,0,(COLUMN()-3)*6,1,1)=\"-\",OFFSET(結果貼付け用!$G33,0,(COLUMN()-3)*6,1,1)=\"\"),NA(),(OFFSET(結果貼付け用!$G33,0,(COLUMN()-3)*6,1,1)))","v":{"$error":"#N/A"}},{"$f":"IF(OR(OFFSET(結果貼付け用!$G33,0,(COLUMN()-3)*6,1,1)=\"-\",OFFSET(結果貼付け用!$G33,0,(COLUMN()-3)*6,1,1)=\"\"),NA(),(OFFSET(結果貼付け用!$G33,0,(COLUMN()-3)*6,1,1)))","v":{"$error":"#N/A"}},{"$f":"IF(OR(OFFSET(結果貼付け用!$G33,0,(COLUMN()-3)*6,1,1)=\"-\",OFFSET(結果貼付け用!$G33,0,(COLUMN()-3)*6,1,1)=\"\"),NA(),(OFFSET(結果貼付け用!$G33,0,(COLUMN()-3)*6,1,1)))","v":{"$error":"#N/A"}},{"$f":"IF(OR(OFFSET(結果貼付け用!$G33,0,(COLUMN()-3)*6,1,1)=\"-\",OFFSET(結果貼付け用!$G33,0,(COLUMN()-3)*6,1,1)=\"\"),NA(),(OFFSET(結果貼付け用!$G33,0,(COLUMN()-3)*6,1,1)))","v":{"$error":"#N/A"}},{"$f":"IF(OR(OFFSET(結果貼付け用!$G33,0,(COLUMN()-3)*6,1,1)=\"-\",OFFSET(結果貼付け用!$G33,0,(COLUMN()-3)*6,1,1)=\"\"),NA(),(OFFSET(結果貼付け用!$G33,0,(COLUMN()-3)*6,1,1)))","v":{"$error":"#N/A"}},{"$f":"IF(OR(OFFSET(結果貼付け用!$G33,0,(COLUMN()-3)*6,1,1)=\"-\",OFFSET(結果貼付け用!$G33,0,(COLUMN()-3)*6,1,1)=\"\"),NA(),(OFFSET(結果貼付け用!$G33,0,(COLUMN()-3)*6,1,1)))","v":{"$error":"#N/A"}},{"$f":"IF(OR(OFFSET(結果貼付け用!$G33,0,(COLUMN()-3)*6,1,1)=\"-\",OFFSET(結果貼付け用!$G33,0,(COLUMN()-3)*6,1,1)=\"\"),NA(),(OFFSET(結果貼付け用!$G33,0,(COLUMN()-3)*6,1,1)))","v":{"$error":"#N/A"}},{"$f":"IF(OR(OFFSET(結果貼付け用!$G33,0,(COLUMN()-3)*6,1,1)=\"-\",OFFSET(結果貼付け用!$G33,0,(COLUMN()-3)*6,1,1)=\"\"),NA(),(OFFSET(結果貼付け用!$G33,0,(COLUMN()-3)*6,1,1)))","v":{"$error":"#N/A"}},{"$f":"IF(OR(OFFSET(結果貼付け用!$G33,0,(COLUMN()-3)*6,1,1)=\"-\",OFFSET(結果貼付け用!$G33,0,(COLUMN()-3)*6,1,1)=\"\"),NA(),(OFFSET(結果貼付け用!$G33,0,(COLUMN()-3)*6,1,1)))","v":{"$error":"#N/A"}},{"$f":"IF(OR(OFFSET(結果貼付け用!$G33,0,(COLUMN()-3)*6,1,1)=\"-\",OFFSET(結果貼付け用!$G33,0,(COLUMN()-3)*6,1,1)=\"\"),NA(),(OFFSET(結果貼付け用!$G33,0,(COLUMN()-3)*6,1,1)))","v":{"$error":"#N/A"}},{"$f":"IF(OR(OFFSET(結果貼付け用!$G33,0,(COLUMN()-3)*6,1,1)=\"-\",OFFSET(結果貼付け用!$G33,0,(COLUMN()-3)*6,1,1)=\"\"),NA(),(OFFSET(結果貼付け用!$G33,0,(COLUMN()-3)*6,1,1)))","v":{"$error":"#N/A"}},{"$f":"IF(OR(OFFSET(結果貼付け用!$G33,0,(COLUMN()-3)*6,1,1)=\"-\",OFFSET(結果貼付け用!$G33,0,(COLUMN()-3)*6,1,1)=\"\"),NA(),(OFFSET(結果貼付け用!$G33,0,(COLUMN()-3)*6,1,1)))","v":{"$error":"#N/A"}},{"$f":"IF(OR(OFFSET(結果貼付け用!$G33,0,(COLUMN()-3)*6,1,1)=\"-\",OFFSET(結果貼付け用!$G33,0,(COLUMN()-3)*6,1,1)=\"\"),NA(),(OFFSET(結果貼付け用!$G33,0,(COLUMN()-3)*6,1,1)))","v":{"$error":"#N/A"}},{"$f":"IF(OR(OFFSET(結果貼付け用!$G33,0,(COLUMN()-3)*6,1,1)=\"-\",OFFSET(結果貼付け用!$G33,0,(COLUMN()-3)*6,1,1)=\"\"),NA(),(OFFSET(結果貼付け用!$G33,0,(COLUMN()-3)*6,1,1)))","v":{"$error":"#N/A"}},{"$f":"IF(OR(OFFSET(結果貼付け用!$G33,0,(COLUMN()-3)*6,1,1)=\"-\",OFFSET(結果貼付け用!$G33,0,(COLUMN()-3)*6,1,1)=\"\"),NA(),(OFFSET(結果貼付け用!$G33,0,(COLUMN()-3)*6,1,1)))","v":{"$error":"#N/A"}},{"$f":"IF(OR(OFFSET(結果貼付け用!$G33,0,(COLUMN()-3)*6,1,1)=\"-\",OFFSET(結果貼付け用!$G33,0,(COLUMN()-3)*6,1,1)=\"\"),NA(),(OFFSET(結果貼付け用!$G33,0,(COLUMN()-3)*6,1,1)))","v":{"$error":"#N/A"}},{"$f":"IF(OR(OFFSET(結果貼付け用!$G33,0,(COLUMN()-3)*6,1,1)=\"-\",OFFSET(結果貼付け用!$G33,0,(COLUMN()-3)*6,1,1)=\"\"),NA(),(OFFSET(結果貼付け用!$G33,0,(COLUMN()-3)*6,1,1)))","v":{"$error":"#N/A"}},{"$f":"IF(OR(OFFSET(結果貼付け用!$G33,0,(COLUMN()-3)*6,1,1)=\"-\",OFFSET(結果貼付け用!$G33,0,(COLUMN()-3)*6,1,1)=\"\"),NA(),(OFFSET(結果貼付け用!$G33,0,(COLUMN()-3)*6,1,1)))","v":{"$error":"#N/A"}},{"$f":"IF(OR(OFFSET(結果貼付け用!$G33,0,(COLUMN()-3)*6,1,1)=\"-\",OFFSET(結果貼付け用!$G33,0,(COLUMN()-3)*6,1,1)=\"\"),NA(),(OFFSET(結果貼付け用!$G33,0,(COLUMN()-3)*6,1,1)))","v":{"$error":"#N/A"}},{"$f":"IF(OR(OFFSET(結果貼付け用!$G33,0,(COLUMN()-3)*6,1,1)=\"-\",OFFSET(結果貼付け用!$G33,0,(COLUMN()-3)*6,1,1)=\"\"),NA(),(OFFSET(結果貼付け用!$G33,0,(COLUMN()-3)*6,1,1)))","v":{"$error":"#N/A"}},{"$f":"IF(OR(OFFSET(結果貼付け用!$G33,0,(COLUMN()-3)*6,1,1)=\"-\",OFFSET(結果貼付け用!$G33,0,(COLUMN()-3)*6,1,1)=\"\"),NA(),(OFFSET(結果貼付け用!$G33,0,(COLUMN()-3)*6,1,1)))","v":{"$error":"#N/A"}},{"$f":"IF(OR(OFFSET(結果貼付け用!$G33,0,(COLUMN()-3)*6,1,1)=\"-\",OFFSET(結果貼付け用!$G33,0,(COLUMN()-3)*6,1,1)=\"\"),NA(),(OFFSET(結果貼付け用!$G33,0,(COLUMN()-3)*6,1,1)))","v":{"$error":"#N/A"}},{"$f":"IF(OR(OFFSET(結果貼付け用!$G33,0,(COLUMN()-3)*6,1,1)=\"-\",OFFSET(結果貼付け用!$G33,0,(COLUMN()-3)*6,1,1)=\"\"),NA(),(OFFSET(結果貼付け用!$G33,0,(COLUMN()-3)*6,1,1)))","v":{"$error":"#N/A"}},{"$f":"IF(OR(OFFSET(結果貼付け用!$G33,0,(COLUMN()-3)*6,1,1)=\"-\",OFFSET(結果貼付け用!$G33,0,(COLUMN()-3)*6,1,1)=\"\"),NA(),(OFFSET(結果貼付け用!$G33,0,(COLUMN()-3)*6,1,1)))","v":{"$error":"#N/A"}},{"$f":"IF(OR(OFFSET(結果貼付け用!$G33,0,(COLUMN()-3)*6,1,1)=\"-\",OFFSET(結果貼付け用!$G33,0,(COLUMN()-3)*6,1,1)=\"\"),NA(),(OFFSET(結果貼付け用!$G33,0,(COLUMN()-3)*6,1,1)))","v":{"$error":"#N/A"}},{"$f":"IF(OR(OFFSET(結果貼付け用!$G33,0,(COLUMN()-3)*6,1,1)=\"-\",OFFSET(結果貼付け用!$G33,0,(COLUMN()-3)*6,1,1)=\"\"),NA(),(OFFSET(結果貼付け用!$G33,0,(COLUMN()-3)*6,1,1)))","v":{"$error":"#N/A"}},{"$f":"IF(OR(OFFSET(結果貼付け用!$G33,0,(COLUMN()-3)*6,1,1)=\"-\",OFFSET(結果貼付け用!$G33,0,(COLUMN()-3)*6,1,1)=\"\"),NA(),(OFFSET(結果貼付け用!$G33,0,(COLUMN()-3)*6,1,1)))","v":{"$error":"#N/A"}},{"$f":"IF(OR(OFFSET(結果貼付け用!$G33,0,(COLUMN()-3)*6,1,1)=\"-\",OFFSET(結果貼付け用!$G33,0,(COLUMN()-3)*6,1,1)=\"\"),NA(),(OFFSET(結果貼付け用!$G33,0,(COLUMN()-3)*6,1,1)))","v":{"$error":"#N/A"}},{"$f":"IF(OR(OFFSET(結果貼付け用!$G33,0,(COLUMN()-3)*6,1,1)=\"-\",OFFSET(結果貼付け用!$G33,0,(COLUMN()-3)*6,1,1)=\"\"),NA(),(OFFSET(結果貼付け用!$G33,0,(COLUMN()-3)*6,1,1)))","v":{"$error":"#N/A"}}]
[]
[]
[]
[]
[]
[]
[]
[]
[]
[]
[]
[]
[]
[]
[]
[]
[]
[]
[]
[]
[null,"実施開始日時",{"$f":"IF(結果貼付け用!B2=\"\",NA(),結果貼付け用!B2)","v":{"$error":"#N/A"}},{"$f":"IF((OFFSET(結果貼付け用!$H$2, 0, (COLUMN() - COLUMN($D$20)) * 6))=\"\",NA(),(OFFSET(結果貼付け用!$H$2, 0, (COLUMN() - COLUMN($D$20)) * 6)))","v":{"$error":"#N/A"}},{"$f":"IF((OFFSET(結果貼付け用!$H$2, 0, (COLUMN() - COLUMN($D$20)) * 6))=\"\",NA(),(OFFSET(結果貼付け用!$H$2, 0, (COLUMN() - COLUMN($D$20)) * 6)))","v":{"$error":"#N/A"}},{"$f":"IF((OFFSET(結果貼付け用!$H$2, 0, (COLUMN() - COLUMN($D$20)) * 6))=\"\",NA(),(OFFSET(結果貼付け用!$H$2, 0, (COLUMN() - COLUMN($D$20)) * 6)))","v":{"$error":"#N/A"}},{"$f":"IF((OFFSET(結果貼付け用!$H$2, 0, (COLUMN() - COLUMN($D$20)) * 6))=\"\",NA(),(OFFSET(結果貼付け用!$H$2, 0, (COLUMN() - COLUMN($D$20)) * 6)))","v":{"$error":"#N/A"}},{"$f":"IF((OFFSET(結果貼付け用!$H$2, 0, (COLUMN() - COLUMN($D$20)) * 6))=\"\",NA(),(OFFSET(結果貼付け用!$H$2, 0, (COLUMN() - COLUMN($D$20)) * 6)))","v":{"$error":"#N/A"}},{"$f":"IF((OFFSET(結果貼付け用!$H$2, 0, (COLUMN() - COLUMN($D$20)) * 6))=\"\",NA(),(OFFSET(結果貼付け用!$H$2, 0, (COLUMN() - COLUMN($D$20)) * 6)))","v":{"$error":"#N/A"}},{"$f":"IF((OFFSET(結果貼付け用!$H$2, 0, (COLUMN() - COLUMN($D$20)) * 6))=\"\",NA(),(OFFSET(結果貼付け用!$H$2, 0, (COLUMN() - COLUMN($D$20)) * 6)))","v":{"$error":"#N/A"}},{"$f":"IF((OFFSET(結果貼付け用!$H$2, 0, (COLUMN() - COLUMN($D$20)) * 6))=\"\",NA(),(OFFSET(結果貼付け用!$H$2, 0, (COLUMN() - COLUMN($D$20)) * 6)))","v":{"$error":"#N/A"}},{"$f":"IF((OFFSET(結果貼付け用!$H$2, 0, (COLUMN() - COLUMN($D$20)) * 6))=\"\",NA(),(OFFSET(結果貼付け用!$H$2, 0, (COLUMN() - COLUMN($D$20)) * 6)))","v":{"$error":"#N/A"}},{"$f":"IF((OFFSET(結果貼付け用!$H$2, 0, (COLUMN() - COLUMN($D$20)) * 6))=\"\",NA(),(OFFSET(結果貼付け用!$H$2, 0, (COLUMN() - COLUMN($D$20)) * 6)))","v":{"$error":"#N/A"}},{"$f":"IF((OFFSET(結果貼付け用!$H$2, 0, (COLUMN() - COLUMN($D$20)) * 6))=\"\",NA(),(OFFSET(結果貼付け用!$H$2, 0, (COLUMN() - COLUMN($D$20)) * 6)))","v":{"$error":"#N/A"}},{"$f":"IF((OFFSET(結果貼付け用!$H$2, 0, (COLUMN() - COLUMN($D$20)) * 6))=\"\",NA(),(OFFSET(結果貼付け用!$H$2, 0, (COLUMN() - COLUMN($D$20)) * 6)))","v":{"$error":"#N/A"}},{"$f":"IF((OFFSET(結果貼付け用!$H$2, 0, (COLUMN() - COLUMN($D$20)) * 6))=\"\",NA(),(OFFSET(結果貼付け用!$H$2, 0, (COLUMN() - COLUMN($D$20)) * 6)))","v":{"$error":"#N/A"}},{"$f":"IF((OFFSET(結果貼付け用!$H$2, 0, (COLUMN() - COLUMN($D$20)) * 6))=\"\",NA(),(OFFSET(結果貼付け用!$H$2, 0, (COLUMN() - COLUMN($D$20)) * 6)))","v":{"$error":"#N/A"}},{"$f":"IF((OFFSET(結果貼付け用!$H$2, 0, (COLUMN() - COLUMN($D$20)) * 6))=\"\",NA(),(OFFSET(結果貼付け用!$H$2, 0, (COLUMN() - COLUMN($D$20)) * 6)))","v":{"$error":"#N/A"}},{"$f":"IF((OFFSET(結果貼付け用!$H$2, 0, (COLUMN() - COLUMN($D$20)) * 6))=\"\",NA(),(OFFSET(結果貼付け用!$H$2, 0, (COLUMN() - COLUMN($D$20)) * 6)))","v":{"$error":"#N/A"}},{"$f":"IF((OFFSET(結果貼付け用!$H$2, 0, (COLUMN() - COLUMN($D$20)) * 6))=\"\",NA(),(OFFSET(結果貼付け用!$H$2, 0, (COLUMN() - COLUMN($D$20)) * 6)))","v":{"$error":"#N/A"}},{"$f":"IF((OFFSET(結果貼付け用!$H$2, 0, (COLUMN() - COLUMN($D$20)) * 6))=\"\",NA(),(OFFSET(結果貼付け用!$H$2, 0, (COLUMN() - COLUMN($D$20)) * 6)))","v":{"$error":"#N/A"}},{"$f":"IF((OFFSET(結果貼付け用!$H$2, 0, (COLUMN() - COLUMN($D$20)) * 6))=\"\",NA(),(OFFSET(結果貼付け用!$H$2, 0, (COLUMN() - COLUMN($D$20)) * 6)))","v":{"$error":"#N/A"}},{"$f":"IF((OFFSET(結果貼付け用!$H$2, 0, (COLUMN() - COLUMN($D$20)) * 6))=\"\",NA(),(OFFSET(結果貼付け用!$H$2, 0, (COLUMN() - COLUMN($D$20)) * 6)))","v":{"$error":"#N/A"}},{"$f":"IF((OFFSET(結果貼付け用!$H$2, 0, (COLUMN() - COLUMN($D$20)) * 6))=\"\",NA(),(OFFSET(結果貼付け用!$H$2, 0, (COLUMN() - COLUMN($D$20)) * 6)))","v":{"$error":"#N/A"}},{"$f":"IF((OFFSET(結果貼付け用!$H$2, 0, (COLUMN() - COLUMN($D$20)) * 6))=\"\",NA(),(OFFSET(結果貼付け用!$H$2, 0, (COLUMN() - COLUMN($D$20)) * 6)))","v":{"$error":"#N/A"}},{"$f":"IF((OFFSET(結果貼付け用!$H$2, 0, (COLUMN() - COLUMN($D$20)) * 6))=\"\",NA(),(OFFSET(結果貼付け用!$H$2, 0, (COLUMN() - COLUMN($D$20)) * 6)))","v":{"$error":"#N/A"}},{"$f":"IF((OFFSET(結果貼付け用!$H$2, 0, (COLUMN() - COLUMN($D$20)) * 6))=\"\",NA(),(OFFSET(結果貼付け用!$H$2, 0, (COLUMN() - COLUMN($D$20)) * 6)))","v":{"$error":"#N/A"}},{"$f":"IF((OFFSET(結果貼付け用!$H$2, 0, (COLUMN() - COLUMN($D$20)) * 6))=\"\",NA(),(OFFSET(結果貼付け用!$H$2, 0, (COLUMN() - COLUMN($D$20)) * 6)))","v":{"$error":"#N/A"}},{"$f":"IF((OFFSET(結果貼付け用!$H$2, 0, (COLUMN() - COLUMN($D$20)) * 6))=\"\",NA(),(OFFSET(結果貼付け用!$H$2, 0, (COLUMN() - COLUMN($D$20)) * 6)))","v":{"$error":"#N/A"}},{"$f":"IF((OFFSET(結果貼付け用!$H$2, 0, (COLUMN() - COLUMN($D$20)) * 6))=\"\",NA(),(OFFSET(結果貼付け用!$H$2, 0, (COLUMN() - COLUMN($D$20)) * 6)))","v":{"$error":"#N/A"}},{"$f":"IF((OFFSET(結果貼付け用!$H$2, 0, (COLUMN() - COLUMN($D$20)) * 6))=\"\",NA(),(OFFSET(結果貼付け用!$H$2, 0, (COLUMN() - COLUMN($D$20)) * 6)))","v":{"$error":"#N/A"}},{"$f":"IF((OFFSET(結果貼付け用!$H$2, 0, (COLUMN() - COLUMN($D$20)) * 6))=\"\",NA(),(OFFSET(結果貼付け用!$H$2, 0, (COLUMN() - COLUMN($D$20)) * 6)))","v":{"$error":"#N/A"}}]
[null,"人事施策",{"$f":"IF(OR(OFFSET(結果貼付け用!$G34,0,(COLUMN()-3)*6,1,1)=\"-\",OFFSET(結果貼付け用!$G34,0,(COLUMN()-3)*6,1,1)=\"\"),NA(),(OFFSET(結果貼付け用!$G34,0,(COLUMN()-3)*6,1,1)))","v":{"$error":"#N/A"}},{"$f":"IF(OR(OFFSET(結果貼付け用!$G34,0,(COLUMN()-3)*6,1,1)=\"-\",OFFSET(結果貼付け用!$G34,0,(COLUMN()-3)*6,1,1)=\"\"),NA(),(OFFSET(結果貼付け用!$G34,0,(COLUMN()-3)*6,1,1)))","v":{"$error":"#N/A"}},{"$f":"IF(OR(OFFSET(結果貼付け用!$G34,0,(COLUMN()-3)*6,1,1)=\"-\",OFFSET(結果貼付け用!$G34,0,(COLUMN()-3)*6,1,1)=\"\"),NA(),(OFFSET(結果貼付け用!$G34,0,(COLUMN()-3)*6,1,1)))","v":{"$error":"#N/A"}},{"$f":"IF(OR(OFFSET(結果貼付け用!$G34,0,(COLUMN()-3)*6,1,1)=\"-\",OFFSET(結果貼付け用!$G34,0,(COLUMN()-3)*6,1,1)=\"\"),NA(),(OFFSET(結果貼付け用!$G34,0,(COLUMN()-3)*6,1,1)))","v":{"$error":"#N/A"}},{"$f":"IF(OR(OFFSET(結果貼付け用!$G34,0,(COLUMN()-3)*6,1,1)=\"-\",OFFSET(結果貼付け用!$G34,0,(COLUMN()-3)*6,1,1)=\"\"),NA(),(OFFSET(結果貼付け用!$G34,0,(COLUMN()-3)*6,1,1)))","v":{"$error":"#N/A"}},{"$f":"IF(OR(OFFSET(結果貼付け用!$G34,0,(COLUMN()-3)*6,1,1)=\"-\",OFFSET(結果貼付け用!$G34,0,(COLUMN()-3)*6,1,1)=\"\"),NA(),(OFFSET(結果貼付け用!$G34,0,(COLUMN()-3)*6,1,1)))","v":{"$error":"#N/A"}},{"$f":"IF(OR(OFFSET(結果貼付け用!$G34,0,(COLUMN()-3)*6,1,1)=\"-\",OFFSET(結果貼付け用!$G34,0,(COLUMN()-3)*6,1,1)=\"\"),NA(),(OFFSET(結果貼付け用!$G34,0,(COLUMN()-3)*6,1,1)))","v":{"$error":"#N/A"}},{"$f":"IF(OR(OFFSET(結果貼付け用!$G34,0,(COLUMN()-3)*6,1,1)=\"-\",OFFSET(結果貼付け用!$G34,0,(COLUMN()-3)*6,1,1)=\"\"),NA(),(OFFSET(結果貼付け用!$G34,0,(COLUMN()-3)*6,1,1)))","v":{"$error":"#N/A"}},{"$f":"IF(OR(OFFSET(結果貼付け用!$G34,0,(COLUMN()-3)*6,1,1)=\"-\",OFFSET(結果貼付け用!$G34,0,(COLUMN()-3)*6,1,1)=\"\"),NA(),(OFFSET(結果貼付け用!$G34,0,(COLUMN()-3)*6,1,1)))","v":{"$error":"#N/A"}},{"$f":"IF(OR(OFFSET(結果貼付け用!$G34,0,(COLUMN()-3)*6,1,1)=\"-\",OFFSET(結果貼付け用!$G34,0,(COLUMN()-3)*6,1,1)=\"\"),NA(),(OFFSET(結果貼付け用!$G34,0,(COLUMN()-3)*6,1,1)))","v":{"$error":"#N/A"}},{"$f":"IF(OR(OFFSET(結果貼付け用!$G34,0,(COLUMN()-3)*6,1,1)=\"-\",OFFSET(結果貼付け用!$G34,0,(COLUMN()-3)*6,1,1)=\"\"),NA(),(OFFSET(結果貼付け用!$G34,0,(COLUMN()-3)*6,1,1)))","v":{"$error":"#N/A"}},{"$f":"IF(OR(OFFSET(結果貼付け用!$G34,0,(COLUMN()-3)*6,1,1)=\"-\",OFFSET(結果貼付け用!$G34,0,(COLUMN()-3)*6,1,1)=\"\"),NA(),(OFFSET(結果貼付け用!$G34,0,(COLUMN()-3)*6,1,1)))","v":{"$error":"#N/A"}},{"$f":"IF(OR(OFFSET(結果貼付け用!$G34,0,(COLUMN()-3)*6,1,1)=\"-\",OFFSET(結果貼付け用!$G34,0,(COLUMN()-3)*6,1,1)=\"\"),NA(),(OFFSET(結果貼付け用!$G34,0,(COLUMN()-3)*6,1,1)))","v":{"$error":"#N/A"}},{"$f":"IF(OR(OFFSET(結果貼付け用!$G34,0,(COLUMN()-3)*6,1,1)=\"-\",OFFSET(結果貼付け用!$G34,0,(COLUMN()-3)*6,1,1)=\"\"),NA(),(OFFSET(結果貼付け用!$G34,0,(COLUMN()-3)*6,1,1)))","v":{"$error":"#N/A"}},{"$f":"IF(OR(OFFSET(結果貼付け用!$G34,0,(COLUMN()-3)*6,1,1)=\"-\",OFFSET(結果貼付け用!$G34,0,(COLUMN()-3)*6,1,1)=\"\"),NA(),(OFFSET(結果貼付け用!$G34,0,(COLUMN()-3)*6,1,1)))","v":{"$error":"#N/A"}},{"$f":"IF(OR(OFFSET(結果貼付け用!$G34,0,(COLUMN()-3)*6,1,1)=\"-\",OFFSET(結果貼付け用!$G34,0,(COLUMN()-3)*6,1,1)=\"\"),NA(),(OFFSET(結果貼付け用!$G34,0,(COLUMN()-3)*6,1,1)))","v":{"$error":"#N/A"}},{"$f":"IF(OR(OFFSET(結果貼付け用!$G34,0,(COLUMN()-3)*6,1,1)=\"-\",OFFSET(結果貼付け用!$G34,0,(COLUMN()-3)*6,1,1)=\"\"),NA(),(OFFSET(結果貼付け用!$G34,0,(COLUMN()-3)*6,1,1)))","v":{"$error":"#N/A"}},{"$f":"IF(OR(OFFSET(結果貼付け用!$G34,0,(COLUMN()-3)*6,1,1)=\"-\",OFFSET(結果貼付け用!$G34,0,(COLUMN()-3)*6,1,1)=\"\"),NA(),(OFFSET(結果貼付け用!$G34,0,(COLUMN()-3)*6,1,1)))","v":{"$error":"#N/A"}},{"$f":"IF(OR(OFFSET(結果貼付け用!$G34,0,(COLUMN()-3)*6,1,1)=\"-\",OFFSET(結果貼付け用!$G34,0,(COLUMN()-3)*6,1,1)=\"\"),NA(),(OFFSET(結果貼付け用!$G34,0,(COLUMN()-3)*6,1,1)))","v":{"$error":"#N/A"}},{"$f":"IF(OR(OFFSET(結果貼付け用!$G34,0,(COLUMN()-3)*6,1,1)=\"-\",OFFSET(結果貼付け用!$G34,0,(COLUMN()-3)*6,1,1)=\"\"),NA(),(OFFSET(結果貼付け用!$G34,0,(COLUMN()-3)*6,1,1)))","v":{"$error":"#N/A"}},{"$f":"IF(OR(OFFSET(結果貼付け用!$G34,0,(COLUMN()-3)*6,1,1)=\"-\",OFFSET(結果貼付け用!$G34,0,(COLUMN()-3)*6,1,1)=\"\"),NA(),(OFFSET(結果貼付け用!$G34,0,(COLUMN()-3)*6,1,1)))","v":{"$error":"#N/A"}},{"$f":"IF(OR(OFFSET(結果貼付け用!$G34,0,(COLUMN()-3)*6,1,1)=\"-\",OFFSET(結果貼付け用!$G34,0,(COLUMN()-3)*6,1,1)=\"\"),NA(),(OFFSET(結果貼付け用!$G34,0,(COLUMN()-3)*6,1,1)))","v":{"$error":"#N/A"}},{"$f":"IF(OR(OFFSET(結果貼付け用!$G34,0,(COLUMN()-3)*6,1,1)=\"-\",OFFSET(結果貼付け用!$G34,0,(COLUMN()-3)*6,1,1)=\"\"),NA(),(OFFSET(結果貼付け用!$G34,0,(COLUMN()-3)*6,1,1)))","v":{"$error":"#N/A"}},{"$f":"IF(OR(OFFSET(結果貼付け用!$G34,0,(COLUMN()-3)*6,1,1)=\"-\",OFFSET(結果貼付け用!$G34,0,(COLUMN()-3)*6,1,1)=\"\"),NA(),(OFFSET(結果貼付け用!$G34,0,(COLUMN()-3)*6,1,1)))","v":{"$error":"#N/A"}},{"$f":"IF(OR(OFFSET(結果貼付け用!$G34,0,(COLUMN()-3)*6,1,1)=\"-\",OFFSET(結果貼付け用!$G34,0,(COLUMN()-3)*6,1,1)=\"\"),NA(),(OFFSET(結果貼付け用!$G34,0,(COLUMN()-3)*6,1,1)))","v":{"$error":"#N/A"}},{"$f":"IF(OR(OFFSET(結果貼付け用!$G34,0,(COLUMN()-3)*6,1,1)=\"-\",OFFSET(結果貼付け用!$G34,0,(COLUMN()-3)*6,1,1)=\"\"),NA(),(OFFSET(結果貼付け用!$G34,0,(COLUMN()-3)*6,1,1)))","v":{"$error":"#N/A"}},{"$f":"IF(OR(OFFSET(結果貼付け用!$G34,0,(COLUMN()-3)*6,1,1)=\"-\",OFFSET(結果貼付け用!$G34,0,(COLUMN()-3)*6,1,1)=\"\"),NA(),(OFFSET(結果貼付け用!$G34,0,(COLUMN()-3)*6,1,1)))","v":{"$error":"#N/A"}},{"$f":"IF(OR(OFFSET(結果貼付け用!$G34,0,(COLUMN()-3)*6,1,1)=\"-\",OFFSET(結果貼付け用!$G34,0,(COLUMN()-3)*6,1,1)=\"\"),NA(),(OFFSET(結果貼付け用!$G34,0,(COLUMN()-3)*6,1,1)))","v":{"$error":"#N/A"}},{"$f":"IF(OR(OFFSET(結果貼付け用!$G34,0,(COLUMN()-3)*6,1,1)=\"-\",OFFSET(結果貼付け用!$G34,0,(COLUMN()-3)*6,1,1)=\"\"),NA(),(OFFSET(結果貼付け用!$G34,0,(COLUMN()-3)*6,1,1)))","v":{"$error":"#N/A"}},{"$f":"IF(OR(OFFSET(結果貼付け用!$G34,0,(COLUMN()-3)*6,1,1)=\"-\",OFFSET(結果貼付け用!$G34,0,(COLUMN()-3)*6,1,1)=\"\"),NA(),(OFFSET(結果貼付け用!$G34,0,(COLUMN()-3)*6,1,1)))","v":{"$error":"#N/A"}}]
[null,"人事評価の透明性",{"$f":"IF(OR(OFFSET(結果貼付け用!$G35,0,(COLUMN()-3)*6,1,1)=\"-\",OFFSET(結果貼付け用!$G35,0,(COLUMN()-3)*6,1,1)=\"\"),NA(),(OFFSET(結果貼付け用!$G35,0,(COLUMN()-3)*6,1,1)))","v":{"$error":"#N/A"}},{"$f":"IF(OR(OFFSET(結果貼付け用!$G35,0,(COLUMN()-3)*6,1,1)=\"-\",OFFSET(結果貼付け用!$G35,0,(COLUMN()-3)*6,1,1)=\"\"),NA(),(OFFSET(結果貼付け用!$G35,0,(COLUMN()-3)*6,1,1)))","v":{"$error":"#N/A"}},{"$f":"IF(OR(OFFSET(結果貼付け用!$G35,0,(COLUMN()-3)*6,1,1)=\"-\",OFFSET(結果貼付け用!$G35,0,(COLUMN()-3)*6,1,1)=\"\"),NA(),(OFFSET(結果貼付け用!$G35,0,(COLUMN()-3)*6,1,1)))","v":{"$error":"#N/A"}},{"$f":"IF(OR(OFFSET(結果貼付け用!$G35,0,(COLUMN()-3)*6,1,1)=\"-\",OFFSET(結果貼付け用!$G35,0,(COLUMN()-3)*6,1,1)=\"\"),NA(),(OFFSET(結果貼付け用!$G35,0,(COLUMN()-3)*6,1,1)))","v":{"$error":"#N/A"}},{"$f":"IF(OR(OFFSET(結果貼付け用!$G35,0,(COLUMN()-3)*6,1,1)=\"-\",OFFSET(結果貼付け用!$G35,0,(COLUMN()-3)*6,1,1)=\"\"),NA(),(OFFSET(結果貼付け用!$G35,0,(COLUMN()-3)*6,1,1)))","v":{"$error":"#N/A"}},{"$f":"IF(OR(OFFSET(結果貼付け用!$G35,0,(COLUMN()-3)*6,1,1)=\"-\",OFFSET(結果貼付け用!$G35,0,(COLUMN()-3)*6,1,1)=\"\"),NA(),(OFFSET(結果貼付け用!$G35,0,(COLUMN()-3)*6,1,1)))","v":{"$error":"#N/A"}},{"$f":"IF(OR(OFFSET(結果貼付け用!$G35,0,(COLUMN()-3)*6,1,1)=\"-\",OFFSET(結果貼付け用!$G35,0,(COLUMN()-3)*6,1,1)=\"\"),NA(),(OFFSET(結果貼付け用!$G35,0,(COLUMN()-3)*6,1,1)))","v":{"$error":"#N/A"}},{"$f":"IF(OR(OFFSET(結果貼付け用!$G35,0,(COLUMN()-3)*6,1,1)=\"-\",OFFSET(結果貼付け用!$G35,0,(COLUMN()-3)*6,1,1)=\"\"),NA(),(OFFSET(結果貼付け用!$G35,0,(COLUMN()-3)*6,1,1)))","v":{"$error":"#N/A"}},{"$f":"IF(OR(OFFSET(結果貼付け用!$G35,0,(COLUMN()-3)*6,1,1)=\"-\",OFFSET(結果貼付け用!$G35,0,(COLUMN()-3)*6,1,1)=\"\"),NA(),(OFFSET(結果貼付け用!$G35,0,(COLUMN()-3)*6,1,1)))","v":{"$error":"#N/A"}},{"$f":"IF(OR(OFFSET(結果貼付け用!$G35,0,(COLUMN()-3)*6,1,1)=\"-\",OFFSET(結果貼付け用!$G35,0,(COLUMN()-3)*6,1,1)=\"\"),NA(),(OFFSET(結果貼付け用!$G35,0,(COLUMN()-3)*6,1,1)))","v":{"$error":"#N/A"}},{"$f":"IF(OR(OFFSET(結果貼付け用!$G35,0,(COLUMN()-3)*6,1,1)=\"-\",OFFSET(結果貼付け用!$G35,0,(COLUMN()-3)*6,1,1)=\"\"),NA(),(OFFSET(結果貼付け用!$G35,0,(COLUMN()-3)*6,1,1)))","v":{"$error":"#N/A"}},{"$f":"IF(OR(OFFSET(結果貼付け用!$G35,0,(COLUMN()-3)*6,1,1)=\"-\",OFFSET(結果貼付け用!$G35,0,(COLUMN()-3)*6,1,1)=\"\"),NA(),(OFFSET(結果貼付け用!$G35,0,(COLUMN()-3)*6,1,1)))","v":{"$error":"#N/A"}},{"$f":"IF(OR(OFFSET(結果貼付け用!$G35,0,(COLUMN()-3)*6,1,1)=\"-\",OFFSET(結果貼付け用!$G35,0,(COLUMN()-3)*6,1,1)=\"\"),NA(),(OFFSET(結果貼付け用!$G35,0,(COLUMN()-3)*6,1,1)))","v":{"$error":"#N/A"}},{"$f":"IF(OR(OFFSET(結果貼付け用!$G35,0,(COLUMN()-3)*6,1,1)=\"-\",OFFSET(結果貼付け用!$G35,0,(COLUMN()-3)*6,1,1)=\"\"),NA(),(OFFSET(結果貼付け用!$G35,0,(COLUMN()-3)*6,1,1)))","v":{"$error":"#N/A"}},{"$f":"IF(OR(OFFSET(結果貼付け用!$G35,0,(COLUMN()-3)*6,1,1)=\"-\",OFFSET(結果貼付け用!$G35,0,(COLUMN()-3)*6,1,1)=\"\"),NA(),(OFFSET(結果貼付け用!$G35,0,(COLUMN()-3)*6,1,1)))","v":{"$error":"#N/A"}},{"$f":"IF(OR(OFFSET(結果貼付け用!$G35,0,(COLUMN()-3)*6,1,1)=\"-\",OFFSET(結果貼付け用!$G35,0,(COLUMN()-3)*6,1,1)=\"\"),NA(),(OFFSET(結果貼付け用!$G35,0,(COLUMN()-3)*6,1,1)))","v":{"$error":"#N/A"}},{"$f":"IF(OR(OFFSET(結果貼付け用!$G35,0,(COLUMN()-3)*6,1,1)=\"-\",OFFSET(結果貼付け用!$G35,0,(COLUMN()-3)*6,1,1)=\"\"),NA(),(OFFSET(結果貼付け用!$G35,0,(COLUMN()-3)*6,1,1)))","v":{"$error":"#N/A"}},{"$f":"IF(OR(OFFSET(結果貼付け用!$G35,0,(COLUMN()-3)*6,1,1)=\"-\",OFFSET(結果貼付け用!$G35,0,(COLUMN()-3)*6,1,1)=\"\"),NA(),(OFFSET(結果貼付け用!$G35,0,(COLUMN()-3)*6,1,1)))","v":{"$error":"#N/A"}},{"$f":"IF(OR(OFFSET(結果貼付け用!$G35,0,(COLUMN()-3)*6,1,1)=\"-\",OFFSET(結果貼付け用!$G35,0,(COLUMN()-3)*6,1,1)=\"\"),NA(),(OFFSET(結果貼付け用!$G35,0,(COLUMN()-3)*6,1,1)))","v":{"$error":"#N/A"}},{"$f":"IF(OR(OFFSET(結果貼付け用!$G35,0,(COLUMN()-3)*6,1,1)=\"-\",OFFSET(結果貼付け用!$G35,0,(COLUMN()-3)*6,1,1)=\"\"),NA(),(OFFSET(結果貼付け用!$G35,0,(COLUMN()-3)*6,1,1)))","v":{"$error":"#N/A"}},{"$f":"IF(OR(OFFSET(結果貼付け用!$G35,0,(COLUMN()-3)*6,1,1)=\"-\",OFFSET(結果貼付け用!$G35,0,(COLUMN()-3)*6,1,1)=\"\"),NA(),(OFFSET(結果貼付け用!$G35,0,(COLUMN()-3)*6,1,1)))","v":{"$error":"#N/A"}},{"$f":"IF(OR(OFFSET(結果貼付け用!$G35,0,(COLUMN()-3)*6,1,1)=\"-\",OFFSET(結果貼付け用!$G35,0,(COLUMN()-3)*6,1,1)=\"\"),NA(),(OFFSET(結果貼付け用!$G35,0,(COLUMN()-3)*6,1,1)))","v":{"$error":"#N/A"}},{"$f":"IF(OR(OFFSET(結果貼付け用!$G35,0,(COLUMN()-3)*6,1,1)=\"-\",OFFSET(結果貼付け用!$G35,0,(COLUMN()-3)*6,1,1)=\"\"),NA(),(OFFSET(結果貼付け用!$G35,0,(COLUMN()-3)*6,1,1)))","v":{"$error":"#N/A"}},{"$f":"IF(OR(OFFSET(結果貼付け用!$G35,0,(COLUMN()-3)*6,1,1)=\"-\",OFFSET(結果貼付け用!$G35,0,(COLUMN()-3)*6,1,1)=\"\"),NA(),(OFFSET(結果貼付け用!$G35,0,(COLUMN()-3)*6,1,1)))","v":{"$error":"#N/A"}},{"$f":"IF(OR(OFFSET(結果貼付け用!$G35,0,(COLUMN()-3)*6,1,1)=\"-\",OFFSET(結果貼付け用!$G35,0,(COLUMN()-3)*6,1,1)=\"\"),NA(),(OFFSET(結果貼付け用!$G35,0,(COLUMN()-3)*6,1,1)))","v":{"$error":"#N/A"}},{"$f":"IF(OR(OFFSET(結果貼付け用!$G35,0,(COLUMN()-3)*6,1,1)=\"-\",OFFSET(結果貼付け用!$G35,0,(COLUMN()-3)*6,1,1)=\"\"),NA(),(OFFSET(結果貼付け用!$G35,0,(COLUMN()-3)*6,1,1)))","v":{"$error":"#N/A"}},{"$f":"IF(OR(OFFSET(結果貼付け用!$G35,0,(COLUMN()-3)*6,1,1)=\"-\",OFFSET(結果貼付け用!$G35,0,(COLUMN()-3)*6,1,1)=\"\"),NA(),(OFFSET(結果貼付け用!$G35,0,(COLUMN()-3)*6,1,1)))","v":{"$error":"#N/A"}},{"$f":"IF(OR(OFFSET(結果貼付け用!$G35,0,(COLUMN()-3)*6,1,1)=\"-\",OFFSET(結果貼付け用!$G35,0,(COLUMN()-3)*6,1,1)=\"\"),NA(),(OFFSET(結果貼付け用!$G35,0,(COLUMN()-3)*6,1,1)))","v":{"$error":"#N/A"}},{"$f":"IF(OR(OFFSET(結果貼付け用!$G35,0,(COLUMN()-3)*6,1,1)=\"-\",OFFSET(結果貼付け用!$G35,0,(COLUMN()-3)*6,1,1)=\"\"),NA(),(OFFSET(結果貼付け用!$G35,0,(COLUMN()-3)*6,1,1)))","v":{"$error":"#N/A"}},{"$f":"IF(OR(OFFSET(結果貼付け用!$G35,0,(COLUMN()-3)*6,1,1)=\"-\",OFFSET(結果貼付け用!$G35,0,(COLUMN()-3)*6,1,1)=\"\"),NA(),(OFFSET(結果貼付け用!$G35,0,(COLUMN()-3)*6,1,1)))","v":{"$error":"#N/A"}}]
[null,"適切な人材確保",{"$f":"IF(OR(OFFSET(結果貼付け用!$G36,0,(COLUMN()-3)*6,1,1)=\"-\",OFFSET(結果貼付け用!$G36,0,(COLUMN()-3)*6,1,1)=\"\"),NA(),(OFFSET(結果貼付け用!$G36,0,(COLUMN()-3)*6,1,1)))","v":{"$error":"#N/A"}},{"$f":"IF(OR(OFFSET(結果貼付け用!$G36,0,(COLUMN()-3)*6,1,1)=\"-\",OFFSET(結果貼付け用!$G36,0,(COLUMN()-3)*6,1,1)=\"\"),NA(),(OFFSET(結果貼付け用!$G36,0,(COLUMN()-3)*6,1,1)))","v":{"$error":"#N/A"}},{"$f":"IF(OR(OFFSET(結果貼付け用!$G36,0,(COLUMN()-3)*6,1,1)=\"-\",OFFSET(結果貼付け用!$G36,0,(COLUMN()-3)*6,1,1)=\"\"),NA(),(OFFSET(結果貼付け用!$G36,0,(COLUMN()-3)*6,1,1)))","v":{"$error":"#N/A"}},{"$f":"IF(OR(OFFSET(結果貼付け用!$G36,0,(COLUMN()-3)*6,1,1)=\"-\",OFFSET(結果貼付け用!$G36,0,(COLUMN()-3)*6,1,1)=\"\"),NA(),(OFFSET(結果貼付け用!$G36,0,(COLUMN()-3)*6,1,1)))","v":{"$error":"#N/A"}},{"$f":"IF(OR(OFFSET(結果貼付け用!$G36,0,(COLUMN()-3)*6,1,1)=\"-\",OFFSET(結果貼付け用!$G36,0,(COLUMN()-3)*6,1,1)=\"\"),NA(),(OFFSET(結果貼付け用!$G36,0,(COLUMN()-3)*6,1,1)))","v":{"$error":"#N/A"}},{"$f":"IF(OR(OFFSET(結果貼付け用!$G36,0,(COLUMN()-3)*6,1,1)=\"-\",OFFSET(結果貼付け用!$G36,0,(COLUMN()-3)*6,1,1)=\"\"),NA(),(OFFSET(結果貼付け用!$G36,0,(COLUMN()-3)*6,1,1)))","v":{"$error":"#N/A"}},{"$f":"IF(OR(OFFSET(結果貼付け用!$G36,0,(COLUMN()-3)*6,1,1)=\"-\",OFFSET(結果貼付け用!$G36,0,(COLUMN()-3)*6,1,1)=\"\"),NA(),(OFFSET(結果貼付け用!$G36,0,(COLUMN()-3)*6,1,1)))","v":{"$error":"#N/A"}},{"$f":"IF(OR(OFFSET(結果貼付け用!$G36,0,(COLUMN()-3)*6,1,1)=\"-\",OFFSET(結果貼付け用!$G36,0,(COLUMN()-3)*6,1,1)=\"\"),NA(),(OFFSET(結果貼付け用!$G36,0,(COLUMN()-3)*6,1,1)))","v":{"$error":"#N/A"}},{"$f":"IF(OR(OFFSET(結果貼付け用!$G36,0,(COLUMN()-3)*6,1,1)=\"-\",OFFSET(結果貼付け用!$G36,0,(COLUMN()-3)*6,1,1)=\"\"),NA(),(OFFSET(結果貼付け用!$G36,0,(COLUMN()-3)*6,1,1)))","v":{"$error":"#N/A"}},{"$f":"IF(OR(OFFSET(結果貼付け用!$G36,0,(COLUMN()-3)*6,1,1)=\"-\",OFFSET(結果貼付け用!$G36,0,(COLUMN()-3)*6,1,1)=\"\"),NA(),(OFFSET(結果貼付け用!$G36,0,(COLUMN()-3)*6,1,1)))","v":{"$error":"#N/A"}},{"$f":"IF(OR(OFFSET(結果貼付け用!$G36,0,(COLUMN()-3)*6,1,1)=\"-\",OFFSET(結果貼付け用!$G36,0,(COLUMN()-3)*6,1,1)=\"\"),NA(),(OFFSET(結果貼付け用!$G36,0,(COLUMN()-3)*6,1,1)))","v":{"$error":"#N/A"}},{"$f":"IF(OR(OFFSET(結果貼付け用!$G36,0,(COLUMN()-3)*6,1,1)=\"-\",OFFSET(結果貼付け用!$G36,0,(COLUMN()-3)*6,1,1)=\"\"),NA(),(OFFSET(結果貼付け用!$G36,0,(COLUMN()-3)*6,1,1)))","v":{"$error":"#N/A"}},{"$f":"IF(OR(OFFSET(結果貼付け用!$G36,0,(COLUMN()-3)*6,1,1)=\"-\",OFFSET(結果貼付け用!$G36,0,(COLUMN()-3)*6,1,1)=\"\"),NA(),(OFFSET(結果貼付け用!$G36,0,(COLUMN()-3)*6,1,1)))","v":{"$error":"#N/A"}},{"$f":"IF(OR(OFFSET(結果貼付け用!$G36,0,(COLUMN()-3)*6,1,1)=\"-\",OFFSET(結果貼付け用!$G36,0,(COLUMN()-3)*6,1,1)=\"\"),NA(),(OFFSET(結果貼付け用!$G36,0,(COLUMN()-3)*6,1,1)))","v":{"$error":"#N/A"}},{"$f":"IF(OR(OFFSET(結果貼付け用!$G36,0,(COLUMN()-3)*6,1,1)=\"-\",OFFSET(結果貼付け用!$G36,0,(COLUMN()-3)*6,1,1)=\"\"),NA(),(OFFSET(結果貼付け用!$G36,0,(COLUMN()-3)*6,1,1)))","v":{"$error":"#N/A"}},{"$f":"IF(OR(OFFSET(結果貼付け用!$G36,0,(COLUMN()-3)*6,1,1)=\"-\",OFFSET(結果貼付け用!$G36,0,(COLUMN()-3)*6,1,1)=\"\"),NA(),(OFFSET(結果貼付け用!$G36,0,(COLUMN()-3)*6,1,1)))","v":{"$error":"#N/A"}},{"$f":"IF(OR(OFFSET(結果貼付け用!$G36,0,(COLUMN()-3)*6,1,1)=\"-\",OFFSET(結果貼付け用!$G36,0,(COLUMN()-3)*6,1,1)=\"\"),NA(),(OFFSET(結果貼付け用!$G36,0,(COLUMN()-3)*6,1,1)))","v":{"$error":"#N/A"}},{"$f":"IF(OR(OFFSET(結果貼付け用!$G36,0,(COLUMN()-3)*6,1,1)=\"-\",OFFSET(結果貼付け用!$G36,0,(COLUMN()-3)*6,1,1)=\"\"),NA(),(OFFSET(結果貼付け用!$G36,0,(COLUMN()-3)*6,1,1)))","v":{"$error":"#N/A"}},{"$f":"IF(OR(OFFSET(結果貼付け用!$G36,0,(COLUMN()-3)*6,1,1)=\"-\",OFFSET(結果貼付け用!$G36,0,(COLUMN()-3)*6,1,1)=\"\"),NA(),(OFFSET(結果貼付け用!$G36,0,(COLUMN()-3)*6,1,1)))","v":{"$error":"#N/A"}},{"$f":"IF(OR(OFFSET(結果貼付け用!$G36,0,(COLUMN()-3)*6,1,1)=\"-\",OFFSET(結果貼付け用!$G36,0,(COLUMN()-3)*6,1,1)=\"\"),NA(),(OFFSET(結果貼付け用!$G36,0,(COLUMN()-3)*6,1,1)))","v":{"$error":"#N/A"}},{"$f":"IF(OR(OFFSET(結果貼付け用!$G36,0,(COLUMN()-3)*6,1,1)=\"-\",OFFSET(結果貼付け用!$G36,0,(COLUMN()-3)*6,1,1)=\"\"),NA(),(OFFSET(結果貼付け用!$G36,0,(COLUMN()-3)*6,1,1)))","v":{"$error":"#N/A"}},{"$f":"IF(OR(OFFSET(結果貼付け用!$G36,0,(COLUMN()-3)*6,1,1)=\"-\",OFFSET(結果貼付け用!$G36,0,(COLUMN()-3)*6,1,1)=\"\"),NA(),(OFFSET(結果貼付け用!$G36,0,(COLUMN()-3)*6,1,1)))","v":{"$error":"#N/A"}},{"$f":"IF(OR(OFFSET(結果貼付け用!$G36,0,(COLUMN()-3)*6,1,1)=\"-\",OFFSET(結果貼付け用!$G36,0,(COLUMN()-3)*6,1,1)=\"\"),NA(),(OFFSET(結果貼付け用!$G36,0,(COLUMN()-3)*6,1,1)))","v":{"$error":"#N/A"}},{"$f":"IF(OR(OFFSET(結果貼付け用!$G36,0,(COLUMN()-3)*6,1,1)=\"-\",OFFSET(結果貼付け用!$G36,0,(COLUMN()-3)*6,1,1)=\"\"),NA(),(OFFSET(結果貼付け用!$G36,0,(COLUMN()-3)*6,1,1)))","v":{"$error":"#N/A"}},{"$f":"IF(OR(OFFSET(結果貼付け用!$G36,0,(COLUMN()-3)*6,1,1)=\"-\",OFFSET(結果貼付け用!$G36,0,(COLUMN()-3)*6,1,1)=\"\"),NA(),(OFFSET(結果貼付け用!$G36,0,(COLUMN()-3)*6,1,1)))","v":{"$error":"#N/A"}},{"$f":"IF(OR(OFFSET(結果貼付け用!$G36,0,(COLUMN()-3)*6,1,1)=\"-\",OFFSET(結果貼付け用!$G36,0,(COLUMN()-3)*6,1,1)=\"\"),NA(),(OFFSET(結果貼付け用!$G36,0,(COLUMN()-3)*6,1,1)))","v":{"$error":"#N/A"}},{"$f":"IF(OR(OFFSET(結果貼付け用!$G36,0,(COLUMN()-3)*6,1,1)=\"-\",OFFSET(結果貼付け用!$G36,0,(COLUMN()-3)*6,1,1)=\"\"),NA(),(OFFSET(結果貼付け用!$G36,0,(COLUMN()-3)*6,1,1)))","v":{"$error":"#N/A"}},{"$f":"IF(OR(OFFSET(結果貼付け用!$G36,0,(COLUMN()-3)*6,1,1)=\"-\",OFFSET(結果貼付け用!$G36,0,(COLUMN()-3)*6,1,1)=\"\"),NA(),(OFFSET(結果貼付け用!$G36,0,(COLUMN()-3)*6,1,1)))","v":{"$error":"#N/A"}},{"$f":"IF(OR(OFFSET(結果貼付け用!$G36,0,(COLUMN()-3)*6,1,1)=\"-\",OFFSET(結果貼付け用!$G36,0,(COLUMN()-3)*6,1,1)=\"\"),NA(),(OFFSET(結果貼付け用!$G36,0,(COLUMN()-3)*6,1,1)))","v":{"$error":"#N/A"}},{"$f":"IF(OR(OFFSET(結果貼付け用!$G36,0,(COLUMN()-3)*6,1,1)=\"-\",OFFSET(結果貼付け用!$G36,0,(COLUMN()-3)*6,1,1)=\"\"),NA(),(OFFSET(結果貼付け用!$G36,0,(COLUMN()-3)*6,1,1)))","v":{"$error":"#N/A"}}]
[null,"教育の充実",{"$f":"IF(OR(OFFSET(結果貼付け用!$G37,0,(COLUMN()-3)*6,1,1)=\"-\",OFFSET(結果貼付け用!$G37,0,(COLUMN()-3)*6,1,1)=\"\"),NA(),(OFFSET(結果貼付け用!$G37,0,(COLUMN()-3)*6,1,1)))","v":{"$error":"#N/A"}},{"$f":"IF(OR(OFFSET(結果貼付け用!$G37,0,(COLUMN()-3)*6,1,1)=\"-\",OFFSET(結果貼付け用!$G37,0,(COLUMN()-3)*6,1,1)=\"\"),NA(),(OFFSET(結果貼付け用!$G37,0,(COLUMN()-3)*6,1,1)))","v":{"$error":"#N/A"}},{"$f":"IF(OR(OFFSET(結果貼付け用!$G37,0,(COLUMN()-3)*6,1,1)=\"-\",OFFSET(結果貼付け用!$G37,0,(COLUMN()-3)*6,1,1)=\"\"),NA(),(OFFSET(結果貼付け用!$G37,0,(COLUMN()-3)*6,1,1)))","v":{"$error":"#N/A"}},{"$f":"IF(OR(OFFSET(結果貼付け用!$G37,0,(COLUMN()-3)*6,1,1)=\"-\",OFFSET(結果貼付け用!$G37,0,(COLUMN()-3)*6,1,1)=\"\"),NA(),(OFFSET(結果貼付け用!$G37,0,(COLUMN()-3)*6,1,1)))","v":{"$error":"#N/A"}},{"$f":"IF(OR(OFFSET(結果貼付け用!$G37,0,(COLUMN()-3)*6,1,1)=\"-\",OFFSET(結果貼付け用!$G37,0,(COLUMN()-3)*6,1,1)=\"\"),NA(),(OFFSET(結果貼付け用!$G37,0,(COLUMN()-3)*6,1,1)))","v":{"$error":"#N/A"}},{"$f":"IF(OR(OFFSET(結果貼付け用!$G37,0,(COLUMN()-3)*6,1,1)=\"-\",OFFSET(結果貼付け用!$G37,0,(COLUMN()-3)*6,1,1)=\"\"),NA(),(OFFSET(結果貼付け用!$G37,0,(COLUMN()-3)*6,1,1)))","v":{"$error":"#N/A"}},{"$f":"IF(OR(OFFSET(結果貼付け用!$G37,0,(COLUMN()-3)*6,1,1)=\"-\",OFFSET(結果貼付け用!$G37,0,(COLUMN()-3)*6,1,1)=\"\"),NA(),(OFFSET(結果貼付け用!$G37,0,(COLUMN()-3)*6,1,1)))","v":{"$error":"#N/A"}},{"$f":"IF(OR(OFFSET(結果貼付け用!$G37,0,(COLUMN()-3)*6,1,1)=\"-\",OFFSET(結果貼付け用!$G37,0,(COLUMN()-3)*6,1,1)=\"\"),NA(),(OFFSET(結果貼付け用!$G37,0,(COLUMN()-3)*6,1,1)))","v":{"$error":"#N/A"}},{"$f":"IF(OR(OFFSET(結果貼付け用!$G37,0,(COLUMN()-3)*6,1,1)=\"-\",OFFSET(結果貼付け用!$G37,0,(COLUMN()-3)*6,1,1)=\"\"),NA(),(OFFSET(結果貼付け用!$G37,0,(COLUMN()-3)*6,1,1)))","v":{"$error":"#N/A"}},{"$f":"IF(OR(OFFSET(結果貼付け用!$G37,0,(COLUMN()-3)*6,1,1)=\"-\",OFFSET(結果貼付け用!$G37,0,(COLUMN()-3)*6,1,1)=\"\"),NA(),(OFFSET(結果貼付け用!$G37,0,(COLUMN()-3)*6,1,1)))","v":{"$error":"#N/A"}},{"$f":"IF(OR(OFFSET(結果貼付け用!$G37,0,(COLUMN()-3)*6,1,1)=\"-\",OFFSET(結果貼付け用!$G37,0,(COLUMN()-3)*6,1,1)=\"\"),NA(),(OFFSET(結果貼付け用!$G37,0,(COLUMN()-3)*6,1,1)))","v":{"$error":"#N/A"}},{"$f":"IF(OR(OFFSET(結果貼付け用!$G37,0,(COLUMN()-3)*6,1,1)=\"-\",OFFSET(結果貼付け用!$G37,0,(COLUMN()-3)*6,1,1)=\"\"),NA(),(OFFSET(結果貼付け用!$G37,0,(COLUMN()-3)*6,1,1)))","v":{"$error":"#N/A"}},{"$f":"IF(OR(OFFSET(結果貼付け用!$G37,0,(COLUMN()-3)*6,1,1)=\"-\",OFFSET(結果貼付け用!$G37,0,(COLUMN()-3)*6,1,1)=\"\"),NA(),(OFFSET(結果貼付け用!$G37,0,(COLUMN()-3)*6,1,1)))","v":{"$error":"#N/A"}},{"$f":"IF(OR(OFFSET(結果貼付け用!$G37,0,(COLUMN()-3)*6,1,1)=\"-\",OFFSET(結果貼付け用!$G37,0,(COLUMN()-3)*6,1,1)=\"\"),NA(),(OFFSET(結果貼付け用!$G37,0,(COLUMN()-3)*6,1,1)))","v":{"$error":"#N/A"}},{"$f":"IF(OR(OFFSET(結果貼付け用!$G37,0,(COLUMN()-3)*6,1,1)=\"-\",OFFSET(結果貼付け用!$G37,0,(COLUMN()-3)*6,1,1)=\"\"),NA(),(OFFSET(結果貼付け用!$G37,0,(COLUMN()-3)*6,1,1)))","v":{"$error":"#N/A"}},{"$f":"IF(OR(OFFSET(結果貼付け用!$G37,0,(COLUMN()-3)*6,1,1)=\"-\",OFFSET(結果貼付け用!$G37,0,(COLUMN()-3)*6,1,1)=\"\"),NA(),(OFFSET(結果貼付け用!$G37,0,(COLUMN()-3)*6,1,1)))","v":{"$error":"#N/A"}},{"$f":"IF(OR(OFFSET(結果貼付け用!$G37,0,(COLUMN()-3)*6,1,1)=\"-\",OFFSET(結果貼付け用!$G37,0,(COLUMN()-3)*6,1,1)=\"\"),NA(),(OFFSET(結果貼付け用!$G37,0,(COLUMN()-3)*6,1,1)))","v":{"$error":"#N/A"}},{"$f":"IF(OR(OFFSET(結果貼付け用!$G37,0,(COLUMN()-3)*6,1,1)=\"-\",OFFSET(結果貼付け用!$G37,0,(COLUMN()-3)*6,1,1)=\"\"),NA(),(OFFSET(結果貼付け用!$G37,0,(COLUMN()-3)*6,1,1)))","v":{"$error":"#N/A"}},{"$f":"IF(OR(OFFSET(結果貼付け用!$G37,0,(COLUMN()-3)*6,1,1)=\"-\",OFFSET(結果貼付け用!$G37,0,(COLUMN()-3)*6,1,1)=\"\"),NA(),(OFFSET(結果貼付け用!$G37,0,(COLUMN()-3)*6,1,1)))","v":{"$error":"#N/A"}},{"$f":"IF(OR(OFFSET(結果貼付け用!$G37,0,(COLUMN()-3)*6,1,1)=\"-\",OFFSET(結果貼付け用!$G37,0,(COLUMN()-3)*6,1,1)=\"\"),NA(),(OFFSET(結果貼付け用!$G37,0,(COLUMN()-3)*6,1,1)))","v":{"$error":"#N/A"}},{"$f":"IF(OR(OFFSET(結果貼付け用!$G37,0,(COLUMN()-3)*6,1,1)=\"-\",OFFSET(結果貼付け用!$G37,0,(COLUMN()-3)*6,1,1)=\"\"),NA(),(OFFSET(結果貼付け用!$G37,0,(COLUMN()-3)*6,1,1)))","v":{"$error":"#N/A"}},{"$f":"IF(OR(OFFSET(結果貼付け用!$G37,0,(COLUMN()-3)*6,1,1)=\"-\",OFFSET(結果貼付け用!$G37,0,(COLUMN()-3)*6,1,1)=\"\"),NA(),(OFFSET(結果貼付け用!$G37,0,(COLUMN()-3)*6,1,1)))","v":{"$error":"#N/A"}},{"$f":"IF(OR(OFFSET(結果貼付け用!$G37,0,(COLUMN()-3)*6,1,1)=\"-\",OFFSET(結果貼付け用!$G37,0,(COLUMN()-3)*6,1,1)=\"\"),NA(),(OFFSET(結果貼付け用!$G37,0,(COLUMN()-3)*6,1,1)))","v":{"$error":"#N/A"}},{"$f":"IF(OR(OFFSET(結果貼付け用!$G37,0,(COLUMN()-3)*6,1,1)=\"-\",OFFSET(結果貼付け用!$G37,0,(COLUMN()-3)*6,1,1)=\"\"),NA(),(OFFSET(結果貼付け用!$G37,0,(COLUMN()-3)*6,1,1)))","v":{"$error":"#N/A"}},{"$f":"IF(OR(OFFSET(結果貼付け用!$G37,0,(COLUMN()-3)*6,1,1)=\"-\",OFFSET(結果貼付け用!$G37,0,(COLUMN()-3)*6,1,1)=\"\"),NA(),(OFFSET(結果貼付け用!$G37,0,(COLUMN()-3)*6,1,1)))","v":{"$error":"#N/A"}},{"$f":"IF(OR(OFFSET(結果貼付け用!$G37,0,(COLUMN()-3)*6,1,1)=\"-\",OFFSET(結果貼付け用!$G37,0,(COLUMN()-3)*6,1,1)=\"\"),NA(),(OFFSET(結果貼付け用!$G37,0,(COLUMN()-3)*6,1,1)))","v":{"$error":"#N/A"}},{"$f":"IF(OR(OFFSET(結果貼付け用!$G37,0,(COLUMN()-3)*6,1,1)=\"-\",OFFSET(結果貼付け用!$G37,0,(COLUMN()-3)*6,1,1)=\"\"),NA(),(OFFSET(結果貼付け用!$G37,0,(COLUMN()-3)*6,1,1)))","v":{"$error":"#N/A"}},{"$f":"IF(OR(OFFSET(結果貼付け用!$G37,0,(COLUMN()-3)*6,1,1)=\"-\",OFFSET(結果貼付け用!$G37,0,(COLUMN()-3)*6,1,1)=\"\"),NA(),(OFFSET(結果貼付け用!$G37,0,(COLUMN()-3)*6,1,1)))","v":{"$error":"#N/A"}},{"$f":"IF(OR(OFFSET(結果貼付け用!$G37,0,(COLUMN()-3)*6,1,1)=\"-\",OFFSET(結果貼付け用!$G37,0,(COLUMN()-3)*6,1,1)=\"\"),NA(),(OFFSET(結果貼付け用!$G37,0,(COLUMN()-3)*6,1,1)))","v":{"$error":"#N/A"}},{"$f":"IF(OR(OFFSET(結果貼付け用!$G37,0,(COLUMN()-3)*6,1,1)=\"-\",OFFSET(結果貼付け用!$G37,0,(COLUMN()-3)*6,1,1)=\"\"),NA(),(OFFSET(結果貼付け用!$G37,0,(COLUMN()-3)*6,1,1)))","v":{"$error":"#N/A"}}]
[]
[]
[]
[]
[]
[]
[]
[]
[]
[]
[]
[]
[]
[]
[]
[]
[]
[]
[]
[]
[null,"実施開始日時",{"$f":"IF(結果貼付け用!B2=\"\",NA(),結果貼付け用!B2)","v":{"$error":"#N/A"}},{"$f":"IF((OFFSET(結果貼付け用!$H$2, 0, (COLUMN() - COLUMN($D$20)) * 6))=\"\",NA(),(OFFSET(結果貼付け用!$H$2, 0, (COLUMN() - COLUMN($D$20)) * 6)))","v":{"$error":"#N/A"}},{"$f":"IF((OFFSET(結果貼付け用!$H$2, 0, (COLUMN() - COLUMN($D$20)) * 6))=\"\",NA(),(OFFSET(結果貼付け用!$H$2, 0, (COLUMN() - COLUMN($D$20)) * 6)))","v":{"$error":"#N/A"}},{"$f":"IF((OFFSET(結果貼付け用!$H$2, 0, (COLUMN() - COLUMN($D$20)) * 6))=\"\",NA(),(OFFSET(結果貼付け用!$H$2, 0, (COLUMN() - COLUMN($D$20)) * 6)))","v":{"$error":"#N/A"}},{"$f":"IF((OFFSET(結果貼付け用!$H$2, 0, (COLUMN() - COLUMN($D$20)) * 6))=\"\",NA(),(OFFSET(結果貼付け用!$H$2, 0, (COLUMN() - COLUMN($D$20)) * 6)))","v":{"$error":"#N/A"}},{"$f":"IF((OFFSET(結果貼付け用!$H$2, 0, (COLUMN() - COLUMN($D$20)) * 6))=\"\",NA(),(OFFSET(結果貼付け用!$H$2, 0, (COLUMN() - COLUMN($D$20)) * 6)))","v":{"$error":"#N/A"}},{"$f":"IF((OFFSET(結果貼付け用!$H$2, 0, (COLUMN() - COLUMN($D$20)) * 6))=\"\",NA(),(OFFSET(結果貼付け用!$H$2, 0, (COLUMN() - COLUMN($D$20)) * 6)))","v":{"$error":"#N/A"}},{"$f":"IF((OFFSET(結果貼付け用!$H$2, 0, (COLUMN() - COLUMN($D$20)) * 6))=\"\",NA(),(OFFSET(結果貼付け用!$H$2, 0, (COLUMN() - COLUMN($D$20)) * 6)))","v":{"$error":"#N/A"}},{"$f":"IF((OFFSET(結果貼付け用!$H$2, 0, (COLUMN() - COLUMN($D$20)) * 6))=\"\",NA(),(OFFSET(結果貼付け用!$H$2, 0, (COLUMN() - COLUMN($D$20)) * 6)))","v":{"$error":"#N/A"}},{"$f":"IF((OFFSET(結果貼付け用!$H$2, 0, (COLUMN() - COLUMN($D$20)) * 6))=\"\",NA(),(OFFSET(結果貼付け用!$H$2, 0, (COLUMN() - COLUMN($D$20)) * 6)))","v":{"$error":"#N/A"}},{"$f":"IF((OFFSET(結果貼付け用!$H$2, 0, (COLUMN() - COLUMN($D$20)) * 6))=\"\",NA(),(OFFSET(結果貼付け用!$H$2, 0, (COLUMN() - COLUMN($D$20)) * 6)))","v":{"$error":"#N/A"}},{"$f":"IF((OFFSET(結果貼付け用!$H$2, 0, (COLUMN() - COLUMN($D$20)) * 6))=\"\",NA(),(OFFSET(結果貼付け用!$H$2, 0, (COLUMN() - COLUMN($D$20)) * 6)))","v":{"$error":"#N/A"}},{"$f":"IF((OFFSET(結果貼付け用!$H$2, 0, (COLUMN() - COLUMN($D$20)) * 6))=\"\",NA(),(OFFSET(結果貼付け用!$H$2, 0, (COLUMN() - COLUMN($D$20)) * 6)))","v":{"$error":"#N/A"}},{"$f":"IF((OFFSET(結果貼付け用!$H$2, 0, (COLUMN() - COLUMN($D$20)) * 6))=\"\",NA(),(OFFSET(結果貼付け用!$H$2, 0, (COLUMN() - COLUMN($D$20)) * 6)))","v":{"$error":"#N/A"}},{"$f":"IF((OFFSET(結果貼付け用!$H$2, 0, (COLUMN() - COLUMN($D$20)) * 6))=\"\",NA(),(OFFSET(結果貼付け用!$H$2, 0, (COLUMN() - COLUMN($D$20)) * 6)))","v":{"$error":"#N/A"}},{"$f":"IF((OFFSET(結果貼付け用!$H$2, 0, (COLUMN() - COLUMN($D$20)) * 6))=\"\",NA(),(OFFSET(結果貼付け用!$H$2, 0, (COLUMN() - COLUMN($D$20)) * 6)))","v":{"$error":"#N/A"}},{"$f":"IF((OFFSET(結果貼付け用!$H$2, 0, (COLUMN() - COLUMN($D$20)) * 6))=\"\",NA(),(OFFSET(結果貼付け用!$H$2, 0, (COLUMN() - COLUMN($D$20)) * 6)))","v":{"$error":"#N/A"}},{"$f":"IF((OFFSET(結果貼付け用!$H$2, 0, (COLUMN() - COLUMN($D$20)) * 6))=\"\",NA(),(OFFSET(結果貼付け用!$H$2, 0, (COLUMN() - COLUMN($D$20)) * 6)))","v":{"$error":"#N/A"}},{"$f":"IF((OFFSET(結果貼付け用!$H$2, 0, (COLUMN() - COLUMN($D$20)) * 6))=\"\",NA(),(OFFSET(結果貼付け用!$H$2, 0, (COLUMN() - COLUMN($D$20)) * 6)))","v":{"$error":"#N/A"}},{"$f":"IF((OFFSET(結果貼付け用!$H$2, 0, (COLUMN() - COLUMN($D$20)) * 6))=\"\",NA(),(OFFSET(結果貼付け用!$H$2, 0, (COLUMN() - COLUMN($D$20)) * 6)))","v":{"$error":"#N/A"}},{"$f":"IF((OFFSET(結果貼付け用!$H$2, 0, (COLUMN() - COLUMN($D$20)) * 6))=\"\",NA(),(OFFSET(結果貼付け用!$H$2, 0, (COLUMN() - COLUMN($D$20)) * 6)))","v":{"$error":"#N/A"}},{"$f":"IF((OFFSET(結果貼付け用!$H$2, 0, (COLUMN() - COLUMN($D$20)) * 6))=\"\",NA(),(OFFSET(結果貼付け用!$H$2, 0, (COLUMN() - COLUMN($D$20)) * 6)))","v":{"$error":"#N/A"}},{"$f":"IF((OFFSET(結果貼付け用!$H$2, 0, (COLUMN() - COLUMN($D$20)) * 6))=\"\",NA(),(OFFSET(結果貼付け用!$H$2, 0, (COLUMN() - COLUMN($D$20)) * 6)))","v":{"$error":"#N/A"}},{"$f":"IF((OFFSET(結果貼付け用!$H$2, 0, (COLUMN() - COLUMN($D$20)) * 6))=\"\",NA(),(OFFSET(結果貼付け用!$H$2, 0, (COLUMN() - COLUMN($D$20)) * 6)))","v":{"$error":"#N/A"}},{"$f":"IF((OFFSET(結果貼付け用!$H$2, 0, (COLUMN() - COLUMN($D$20)) * 6))=\"\",NA(),(OFFSET(結果貼付け用!$H$2, 0, (COLUMN() - COLUMN($D$20)) * 6)))","v":{"$error":"#N/A"}},{"$f":"IF((OFFSET(結果貼付け用!$H$2, 0, (COLUMN() - COLUMN($D$20)) * 6))=\"\",NA(),(OFFSET(結果貼付け用!$H$2, 0, (COLUMN() - COLUMN($D$20)) * 6)))","v":{"$error":"#N/A"}},{"$f":"IF((OFFSET(結果貼付け用!$H$2, 0, (COLUMN() - COLUMN($D$20)) * 6))=\"\",NA(),(OFFSET(結果貼付け用!$H$2, 0, (COLUMN() - COLUMN($D$20)) * 6)))","v":{"$error":"#N/A"}},{"$f":"IF((OFFSET(結果貼付け用!$H$2, 0, (COLUMN() - COLUMN($D$20)) * 6))=\"\",NA(),(OFFSET(結果貼付け用!$H$2, 0, (COLUMN() - COLUMN($D$20)) * 6)))","v":{"$error":"#N/A"}},{"$f":"IF((OFFSET(結果貼付け用!$H$2, 0, (COLUMN() - COLUMN($D$20)) * 6))=\"\",NA(),(OFFSET(結果貼付け用!$H$2, 0, (COLUMN() - COLUMN($D$20)) * 6)))","v":{"$error":"#N/A"}},{"$f":"IF((OFFSET(結果貼付け用!$H$2, 0, (COLUMN() - COLUMN($D$20)) * 6))=\"\",NA(),(OFFSET(結果貼付け用!$H$2, 0, (COLUMN() - COLUMN($D$20)) * 6)))","v":{"$error":"#N/A"}}]
[null,"労務環境",{"$f":"IF(OR(OFFSET(結果貼付け用!$G38,0,(COLUMN()-3)*6,1,1)=\"-\",OFFSET(結果貼付け用!$G38,0,(COLUMN()-3)*6,1,1)=\"\"),NA(),(OFFSET(結果貼付け用!$G38,0,(COLUMN()-3)*6,1,1)))","v":{"$error":"#N/A"}},{"$f":"IF(OR(OFFSET(結果貼付け用!$G38,0,(COLUMN()-3)*6,1,1)=\"-\",OFFSET(結果貼付け用!$G38,0,(COLUMN()-3)*6,1,1)=\"\"),NA(),(OFFSET(結果貼付け用!$G38,0,(COLUMN()-3)*6,1,1)))","v":{"$error":"#N/A"}},{"$f":"IF(OR(OFFSET(結果貼付け用!$G38,0,(COLUMN()-3)*6,1,1)=\"-\",OFFSET(結果貼付け用!$G38,0,(COLUMN()-3)*6,1,1)=\"\"),NA(),(OFFSET(結果貼付け用!$G38,0,(COLUMN()-3)*6,1,1)))","v":{"$error":"#N/A"}},{"$f":"IF(OR(OFFSET(結果貼付け用!$G38,0,(COLUMN()-3)*6,1,1)=\"-\",OFFSET(結果貼付け用!$G38,0,(COLUMN()-3)*6,1,1)=\"\"),NA(),(OFFSET(結果貼付け用!$G38,0,(COLUMN()-3)*6,1,1)))","v":{"$error":"#N/A"}},{"$f":"IF(OR(OFFSET(結果貼付け用!$G38,0,(COLUMN()-3)*6,1,1)=\"-\",OFFSET(結果貼付け用!$G38,0,(COLUMN()-3)*6,1,1)=\"\"),NA(),(OFFSET(結果貼付け用!$G38,0,(COLUMN()-3)*6,1,1)))","v":{"$error":"#N/A"}},{"$f":"IF(OR(OFFSET(結果貼付け用!$G38,0,(COLUMN()-3)*6,1,1)=\"-\",OFFSET(結果貼付け用!$G38,0,(COLUMN()-3)*6,1,1)=\"\"),NA(),(OFFSET(結果貼付け用!$G38,0,(COLUMN()-3)*6,1,1)))","v":{"$error":"#N/A"}},{"$f":"IF(OR(OFFSET(結果貼付け用!$G38,0,(COLUMN()-3)*6,1,1)=\"-\",OFFSET(結果貼付け用!$G38,0,(COLUMN()-3)*6,1,1)=\"\"),NA(),(OFFSET(結果貼付け用!$G38,0,(COLUMN()-3)*6,1,1)))","v":{"$error":"#N/A"}},{"$f":"IF(OR(OFFSET(結果貼付け用!$G38,0,(COLUMN()-3)*6,1,1)=\"-\",OFFSET(結果貼付け用!$G38,0,(COLUMN()-3)*6,1,1)=\"\"),NA(),(OFFSET(結果貼付け用!$G38,0,(COLUMN()-3)*6,1,1)))","v":{"$error":"#N/A"}},{"$f":"IF(OR(OFFSET(結果貼付け用!$G38,0,(COLUMN()-3)*6,1,1)=\"-\",OFFSET(結果貼付け用!$G38,0,(COLUMN()-3)*6,1,1)=\"\"),NA(),(OFFSET(結果貼付け用!$G38,0,(COLUMN()-3)*6,1,1)))","v":{"$error":"#N/A"}},{"$f":"IF(OR(OFFSET(結果貼付け用!$G38,0,(COLUMN()-3)*6,1,1)=\"-\",OFFSET(結果貼付け用!$G38,0,(COLUMN()-3)*6,1,1)=\"\"),NA(),(OFFSET(結果貼付け用!$G38,0,(COLUMN()-3)*6,1,1)))","v":{"$error":"#N/A"}},{"$f":"IF(OR(OFFSET(結果貼付け用!$G38,0,(COLUMN()-3)*6,1,1)=\"-\",OFFSET(結果貼付け用!$G38,0,(COLUMN()-3)*6,1,1)=\"\"),NA(),(OFFSET(結果貼付け用!$G38,0,(COLUMN()-3)*6,1,1)))","v":{"$error":"#N/A"}},{"$f":"IF(OR(OFFSET(結果貼付け用!$G38,0,(COLUMN()-3)*6,1,1)=\"-\",OFFSET(結果貼付け用!$G38,0,(COLUMN()-3)*6,1,1)=\"\"),NA(),(OFFSET(結果貼付け用!$G38,0,(COLUMN()-3)*6,1,1)))","v":{"$error":"#N/A"}},{"$f":"IF(OR(OFFSET(結果貼付け用!$G38,0,(COLUMN()-3)*6,1,1)=\"-\",OFFSET(結果貼付け用!$G38,0,(COLUMN()-3)*6,1,1)=\"\"),NA(),(OFFSET(結果貼付け用!$G38,0,(COLUMN()-3)*6,1,1)))","v":{"$error":"#N/A"}},{"$f":"IF(OR(OFFSET(結果貼付け用!$G38,0,(COLUMN()-3)*6,1,1)=\"-\",OFFSET(結果貼付け用!$G38,0,(COLUMN()-3)*6,1,1)=\"\"),NA(),(OFFSET(結果貼付け用!$G38,0,(COLUMN()-3)*6,1,1)))","v":{"$error":"#N/A"}},{"$f":"IF(OR(OFFSET(結果貼付け用!$G38,0,(COLUMN()-3)*6,1,1)=\"-\",OFFSET(結果貼付け用!$G38,0,(COLUMN()-3)*6,1,1)=\"\"),NA(),(OFFSET(結果貼付け用!$G38,0,(COLUMN()-3)*6,1,1)))","v":{"$error":"#N/A"}},{"$f":"IF(OR(OFFSET(結果貼付け用!$G38,0,(COLUMN()-3)*6,1,1)=\"-\",OFFSET(結果貼付け用!$G38,0,(COLUMN()-3)*6,1,1)=\"\"),NA(),(OFFSET(結果貼付け用!$G38,0,(COLUMN()-3)*6,1,1)))","v":{"$error":"#N/A"}},{"$f":"IF(OR(OFFSET(結果貼付け用!$G38,0,(COLUMN()-3)*6,1,1)=\"-\",OFFSET(結果貼付け用!$G38,0,(COLUMN()-3)*6,1,1)=\"\"),NA(),(OFFSET(結果貼付け用!$G38,0,(COLUMN()-3)*6,1,1)))","v":{"$error":"#N/A"}},{"$f":"IF(OR(OFFSET(結果貼付け用!$G38,0,(COLUMN()-3)*6,1,1)=\"-\",OFFSET(結果貼付け用!$G38,0,(COLUMN()-3)*6,1,1)=\"\"),NA(),(OFFSET(結果貼付け用!$G38,0,(COLUMN()-3)*6,1,1)))","v":{"$error":"#N/A"}},{"$f":"IF(OR(OFFSET(結果貼付け用!$G38,0,(COLUMN()-3)*6,1,1)=\"-\",OFFSET(結果貼付け用!$G38,0,(COLUMN()-3)*6,1,1)=\"\"),NA(),(OFFSET(結果貼付け用!$G38,0,(COLUMN()-3)*6,1,1)))","v":{"$error":"#N/A"}},{"$f":"IF(OR(OFFSET(結果貼付け用!$G38,0,(COLUMN()-3)*6,1,1)=\"-\",OFFSET(結果貼付け用!$G38,0,(COLUMN()-3)*6,1,1)=\"\"),NA(),(OFFSET(結果貼付け用!$G38,0,(COLUMN()-3)*6,1,1)))","v":{"$error":"#N/A"}},{"$f":"IF(OR(OFFSET(結果貼付け用!$G38,0,(COLUMN()-3)*6,1,1)=\"-\",OFFSET(結果貼付け用!$G38,0,(COLUMN()-3)*6,1,1)=\"\"),NA(),(OFFSET(結果貼付け用!$G38,0,(COLUMN()-3)*6,1,1)))","v":{"$error":"#N/A"}},{"$f":"IF(OR(OFFSET(結果貼付け用!$G38,0,(COLUMN()-3)*6,1,1)=\"-\",OFFSET(結果貼付け用!$G38,0,(COLUMN()-3)*6,1,1)=\"\"),NA(),(OFFSET(結果貼付け用!$G38,0,(COLUMN()-3)*6,1,1)))","v":{"$error":"#N/A"}},{"$f":"IF(OR(OFFSET(結果貼付け用!$G38,0,(COLUMN()-3)*6,1,1)=\"-\",OFFSET(結果貼付け用!$G38,0,(COLUMN()-3)*6,1,1)=\"\"),NA(),(OFFSET(結果貼付け用!$G38,0,(COLUMN()-3)*6,1,1)))","v":{"$error":"#N/A"}},{"$f":"IF(OR(OFFSET(結果貼付け用!$G38,0,(COLUMN()-3)*6,1,1)=\"-\",OFFSET(結果貼付け用!$G38,0,(COLUMN()-3)*6,1,1)=\"\"),NA(),(OFFSET(結果貼付け用!$G38,0,(COLUMN()-3)*6,1,1)))","v":{"$error":"#N/A"}},{"$f":"IF(OR(OFFSET(結果貼付け用!$G38,0,(COLUMN()-3)*6,1,1)=\"-\",OFFSET(結果貼付け用!$G38,0,(COLUMN()-3)*6,1,1)=\"\"),NA(),(OFFSET(結果貼付け用!$G38,0,(COLUMN()-3)*6,1,1)))","v":{"$error":"#N/A"}},{"$f":"IF(OR(OFFSET(結果貼付け用!$G38,0,(COLUMN()-3)*6,1,1)=\"-\",OFFSET(結果貼付け用!$G38,0,(COLUMN()-3)*6,1,1)=\"\"),NA(),(OFFSET(結果貼付け用!$G38,0,(COLUMN()-3)*6,1,1)))","v":{"$error":"#N/A"}},{"$f":"IF(OR(OFFSET(結果貼付け用!$G38,0,(COLUMN()-3)*6,1,1)=\"-\",OFFSET(結果貼付け用!$G38,0,(COLUMN()-3)*6,1,1)=\"\"),NA(),(OFFSET(結果貼付け用!$G38,0,(COLUMN()-3)*6,1,1)))","v":{"$error":"#N/A"}},{"$f":"IF(OR(OFFSET(結果貼付け用!$G38,0,(COLUMN()-3)*6,1,1)=\"-\",OFFSET(結果貼付け用!$G38,0,(COLUMN()-3)*6,1,1)=\"\"),NA(),(OFFSET(結果貼付け用!$G38,0,(COLUMN()-3)*6,1,1)))","v":{"$error":"#N/A"}},{"$f":"IF(OR(OFFSET(結果貼付け用!$G38,0,(COLUMN()-3)*6,1,1)=\"-\",OFFSET(結果貼付け用!$G38,0,(COLUMN()-3)*6,1,1)=\"\"),NA(),(OFFSET(結果貼付け用!$G38,0,(COLUMN()-3)*6,1,1)))","v":{"$error":"#N/A"}},{"$f":"IF(OR(OFFSET(結果貼付け用!$G38,0,(COLUMN()-3)*6,1,1)=\"-\",OFFSET(結果貼付け用!$G38,0,(COLUMN()-3)*6,1,1)=\"\"),NA(),(OFFSET(結果貼付け用!$G38,0,(COLUMN()-3)*6,1,1)))","v":{"$error":"#N/A"}}]
[null,"上司の安全配慮意識",{"$f":"IF(OR(OFFSET(結果貼付け用!$G39,0,(COLUMN()-3)*6,1,1)=\"-\",OFFSET(結果貼付け用!$G39,0,(COLUMN()-3)*6,1,1)=\"\"),NA(),(OFFSET(結果貼付け用!$G39,0,(COLUMN()-3)*6,1,1)))","v":{"$error":"#N/A"}},{"$f":"IF(OR(OFFSET(結果貼付け用!$G39,0,(COLUMN()-3)*6,1,1)=\"-\",OFFSET(結果貼付け用!$G39,0,(COLUMN()-3)*6,1,1)=\"\"),NA(),(OFFSET(結果貼付け用!$G39,0,(COLUMN()-3)*6,1,1)))","v":{"$error":"#N/A"}},{"$f":"IF(OR(OFFSET(結果貼付け用!$G39,0,(COLUMN()-3)*6,1,1)=\"-\",OFFSET(結果貼付け用!$G39,0,(COLUMN()-3)*6,1,1)=\"\"),NA(),(OFFSET(結果貼付け用!$G39,0,(COLUMN()-3)*6,1,1)))","v":{"$error":"#N/A"}},{"$f":"IF(OR(OFFSET(結果貼付け用!$G39,0,(COLUMN()-3)*6,1,1)=\"-\",OFFSET(結果貼付け用!$G39,0,(COLUMN()-3)*6,1,1)=\"\"),NA(),(OFFSET(結果貼付け用!$G39,0,(COLUMN()-3)*6,1,1)))","v":{"$error":"#N/A"}},{"$f":"IF(OR(OFFSET(結果貼付け用!$G39,0,(COLUMN()-3)*6,1,1)=\"-\",OFFSET(結果貼付け用!$G39,0,(COLUMN()-3)*6,1,1)=\"\"),NA(),(OFFSET(結果貼付け用!$G39,0,(COLUMN()-3)*6,1,1)))","v":{"$error":"#N/A"}},{"$f":"IF(OR(OFFSET(結果貼付け用!$G39,0,(COLUMN()-3)*6,1,1)=\"-\",OFFSET(結果貼付け用!$G39,0,(COLUMN()-3)*6,1,1)=\"\"),NA(),(OFFSET(結果貼付け用!$G39,0,(COLUMN()-3)*6,1,1)))","v":{"$error":"#N/A"}},{"$f":"IF(OR(OFFSET(結果貼付け用!$G39,0,(COLUMN()-3)*6,1,1)=\"-\",OFFSET(結果貼付け用!$G39,0,(COLUMN()-3)*6,1,1)=\"\"),NA(),(OFFSET(結果貼付け用!$G39,0,(COLUMN()-3)*6,1,1)))","v":{"$error":"#N/A"}},{"$f":"IF(OR(OFFSET(結果貼付け用!$G39,0,(COLUMN()-3)*6,1,1)=\"-\",OFFSET(結果貼付け用!$G39,0,(COLUMN()-3)*6,1,1)=\"\"),NA(),(OFFSET(結果貼付け用!$G39,0,(COLUMN()-3)*6,1,1)))","v":{"$error":"#N/A"}},{"$f":"IF(OR(OFFSET(結果貼付け用!$G39,0,(COLUMN()-3)*6,1,1)=\"-\",OFFSET(結果貼付け用!$G39,0,(COLUMN()-3)*6,1,1)=\"\"),NA(),(OFFSET(結果貼付け用!$G39,0,(COLUMN()-3)*6,1,1)))","v":{"$error":"#N/A"}},{"$f":"IF(OR(OFFSET(結果貼付け用!$G39,0,(COLUMN()-3)*6,1,1)=\"-\",OFFSET(結果貼付け用!$G39,0,(COLUMN()-3)*6,1,1)=\"\"),NA(),(OFFSET(結果貼付け用!$G39,0,(COLUMN()-3)*6,1,1)))","v":{"$error":"#N/A"}},{"$f":"IF(OR(OFFSET(結果貼付け用!$G39,0,(COLUMN()-3)*6,1,1)=\"-\",OFFSET(結果貼付け用!$G39,0,(COLUMN()-3)*6,1,1)=\"\"),NA(),(OFFSET(結果貼付け用!$G39,0,(COLUMN()-3)*6,1,1)))","v":{"$error":"#N/A"}},{"$f":"IF(OR(OFFSET(結果貼付け用!$G39,0,(COLUMN()-3)*6,1,1)=\"-\",OFFSET(結果貼付け用!$G39,0,(COLUMN()-3)*6,1,1)=\"\"),NA(),(OFFSET(結果貼付け用!$G39,0,(COLUMN()-3)*6,1,1)))","v":{"$error":"#N/A"}},{"$f":"IF(OR(OFFSET(結果貼付け用!$G39,0,(COLUMN()-3)*6,1,1)=\"-\",OFFSET(結果貼付け用!$G39,0,(COLUMN()-3)*6,1,1)=\"\"),NA(),(OFFSET(結果貼付け用!$G39,0,(COLUMN()-3)*6,1,1)))","v":{"$error":"#N/A"}},{"$f":"IF(OR(OFFSET(結果貼付け用!$G39,0,(COLUMN()-3)*6,1,1)=\"-\",OFFSET(結果貼付け用!$G39,0,(COLUMN()-3)*6,1,1)=\"\"),NA(),(OFFSET(結果貼付け用!$G39,0,(COLUMN()-3)*6,1,1)))","v":{"$error":"#N/A"}},{"$f":"IF(OR(OFFSET(結果貼付け用!$G39,0,(COLUMN()-3)*6,1,1)=\"-\",OFFSET(結果貼付け用!$G39,0,(COLUMN()-3)*6,1,1)=\"\"),NA(),(OFFSET(結果貼付け用!$G39,0,(COLUMN()-3)*6,1,1)))","v":{"$error":"#N/A"}},{"$f":"IF(OR(OFFSET(結果貼付け用!$G39,0,(COLUMN()-3)*6,1,1)=\"-\",OFFSET(結果貼付け用!$G39,0,(COLUMN()-3)*6,1,1)=\"\"),NA(),(OFFSET(結果貼付け用!$G39,0,(COLUMN()-3)*6,1,1)))","v":{"$error":"#N/A"}},{"$f":"IF(OR(OFFSET(結果貼付け用!$G39,0,(COLUMN()-3)*6,1,1)=\"-\",OFFSET(結果貼付け用!$G39,0,(COLUMN()-3)*6,1,1)=\"\"),NA(),(OFFSET(結果貼付け用!$G39,0,(COLUMN()-3)*6,1,1)))","v":{"$error":"#N/A"}},{"$f":"IF(OR(OFFSET(結果貼付け用!$G39,0,(COLUMN()-3)*6,1,1)=\"-\",OFFSET(結果貼付け用!$G39,0,(COLUMN()-3)*6,1,1)=\"\"),NA(),(OFFSET(結果貼付け用!$G39,0,(COLUMN()-3)*6,1,1)))","v":{"$error":"#N/A"}},{"$f":"IF(OR(OFFSET(結果貼付け用!$G39,0,(COLUMN()-3)*6,1,1)=\"-\",OFFSET(結果貼付け用!$G39,0,(COLUMN()-3)*6,1,1)=\"\"),NA(),(OFFSET(結果貼付け用!$G39,0,(COLUMN()-3)*6,1,1)))","v":{"$error":"#N/A"}},{"$f":"IF(OR(OFFSET(結果貼付け用!$G39,0,(COLUMN()-3)*6,1,1)=\"-\",OFFSET(結果貼付け用!$G39,0,(COLUMN()-3)*6,1,1)=\"\"),NA(),(OFFSET(結果貼付け用!$G39,0,(COLUMN()-3)*6,1,1)))","v":{"$error":"#N/A"}},{"$f":"IF(OR(OFFSET(結果貼付け用!$G39,0,(COLUMN()-3)*6,1,1)=\"-\",OFFSET(結果貼付け用!$G39,0,(COLUMN()-3)*6,1,1)=\"\"),NA(),(OFFSET(結果貼付け用!$G39,0,(COLUMN()-3)*6,1,1)))","v":{"$error":"#N/A"}},{"$f":"IF(OR(OFFSET(結果貼付け用!$G39,0,(COLUMN()-3)*6,1,1)=\"-\",OFFSET(結果貼付け用!$G39,0,(COLUMN()-3)*6,1,1)=\"\"),NA(),(OFFSET(結果貼付け用!$G39,0,(COLUMN()-3)*6,1,1)))","v":{"$error":"#N/A"}},{"$f":"IF(OR(OFFSET(結果貼付け用!$G39,0,(COLUMN()-3)*6,1,1)=\"-\",OFFSET(結果貼付け用!$G39,0,(COLUMN()-3)*6,1,1)=\"\"),NA(),(OFFSET(結果貼付け用!$G39,0,(COLUMN()-3)*6,1,1)))","v":{"$error":"#N/A"}},{"$f":"IF(OR(OFFSET(結果貼付け用!$G39,0,(COLUMN()-3)*6,1,1)=\"-\",OFFSET(結果貼付け用!$G39,0,(COLUMN()-3)*6,1,1)=\"\"),NA(),(OFFSET(結果貼付け用!$G39,0,(COLUMN()-3)*6,1,1)))","v":{"$error":"#N/A"}},{"$f":"IF(OR(OFFSET(結果貼付け用!$G39,0,(COLUMN()-3)*6,1,1)=\"-\",OFFSET(結果貼付け用!$G39,0,(COLUMN()-3)*6,1,1)=\"\"),NA(),(OFFSET(結果貼付け用!$G39,0,(COLUMN()-3)*6,1,1)))","v":{"$error":"#N/A"}},{"$f":"IF(OR(OFFSET(結果貼付け用!$G39,0,(COLUMN()-3)*6,1,1)=\"-\",OFFSET(結果貼付け用!$G39,0,(COLUMN()-3)*6,1,1)=\"\"),NA(),(OFFSET(結果貼付け用!$G39,0,(COLUMN()-3)*6,1,1)))","v":{"$error":"#N/A"}},{"$f":"IF(OR(OFFSET(結果貼付け用!$G39,0,(COLUMN()-3)*6,1,1)=\"-\",OFFSET(結果貼付け用!$G39,0,(COLUMN()-3)*6,1,1)=\"\"),NA(),(OFFSET(結果貼付け用!$G39,0,(COLUMN()-3)*6,1,1)))","v":{"$error":"#N/A"}},{"$f":"IF(OR(OFFSET(結果貼付け用!$G39,0,(COLUMN()-3)*6,1,1)=\"-\",OFFSET(結果貼付け用!$G39,0,(COLUMN()-3)*6,1,1)=\"\"),NA(),(OFFSET(結果貼付け用!$G39,0,(COLUMN()-3)*6,1,1)))","v":{"$error":"#N/A"}},{"$f":"IF(OR(OFFSET(結果貼付け用!$G39,0,(COLUMN()-3)*6,1,1)=\"-\",OFFSET(結果貼付け用!$G39,0,(COLUMN()-3)*6,1,1)=\"\"),NA(),(OFFSET(結果貼付け用!$G39,0,(COLUMN()-3)*6,1,1)))","v":{"$error":"#N/A"}},{"$f":"IF(OR(OFFSET(結果貼付け用!$G39,0,(COLUMN()-3)*6,1,1)=\"-\",OFFSET(結果貼付け用!$G39,0,(COLUMN()-3)*6,1,1)=\"\"),NA(),(OFFSET(結果貼付け用!$G39,0,(COLUMN()-3)*6,1,1)))","v":{"$error":"#N/A"}}]
[null,"職場の健康配慮意識",{"$f":"IF(OR(OFFSET(結果貼付け用!$G40,0,(COLUMN()-3)*6,1,1)=\"-\",OFFSET(結果貼付け用!$G40,0,(COLUMN()-3)*6,1,1)=\"\"),NA(),(OFFSET(結果貼付け用!$G40,0,(COLUMN()-3)*6,1,1)))","v":{"$error":"#N/A"}},{"$f":"IF(OR(OFFSET(結果貼付け用!$G40,0,(COLUMN()-3)*6,1,1)=\"-\",OFFSET(結果貼付け用!$G40,0,(COLUMN()-3)*6,1,1)=\"\"),NA(),(OFFSET(結果貼付け用!$G40,0,(COLUMN()-3)*6,1,1)))","v":{"$error":"#N/A"}},{"$f":"IF(OR(OFFSET(結果貼付け用!$G40,0,(COLUMN()-3)*6,1,1)=\"-\",OFFSET(結果貼付け用!$G40,0,(COLUMN()-3)*6,1,1)=\"\"),NA(),(OFFSET(結果貼付け用!$G40,0,(COLUMN()-3)*6,1,1)))","v":{"$error":"#N/A"}},{"$f":"IF(OR(OFFSET(結果貼付け用!$G40,0,(COLUMN()-3)*6,1,1)=\"-\",OFFSET(結果貼付け用!$G40,0,(COLUMN()-3)*6,1,1)=\"\"),NA(),(OFFSET(結果貼付け用!$G40,0,(COLUMN()-3)*6,1,1)))","v":{"$error":"#N/A"}},{"$f":"IF(OR(OFFSET(結果貼付け用!$G40,0,(COLUMN()-3)*6,1,1)=\"-\",OFFSET(結果貼付け用!$G40,0,(COLUMN()-3)*6,1,1)=\"\"),NA(),(OFFSET(結果貼付け用!$G40,0,(COLUMN()-3)*6,1,1)))","v":{"$error":"#N/A"}},{"$f":"IF(OR(OFFSET(結果貼付け用!$G40,0,(COLUMN()-3)*6,1,1)=\"-\",OFFSET(結果貼付け用!$G40,0,(COLUMN()-3)*6,1,1)=\"\"),NA(),(OFFSET(結果貼付け用!$G40,0,(COLUMN()-3)*6,1,1)))","v":{"$error":"#N/A"}},{"$f":"IF(OR(OFFSET(結果貼付け用!$G40,0,(COLUMN()-3)*6,1,1)=\"-\",OFFSET(結果貼付け用!$G40,0,(COLUMN()-3)*6,1,1)=\"\"),NA(),(OFFSET(結果貼付け用!$G40,0,(COLUMN()-3)*6,1,1)))","v":{"$error":"#N/A"}},{"$f":"IF(OR(OFFSET(結果貼付け用!$G40,0,(COLUMN()-3)*6,1,1)=\"-\",OFFSET(結果貼付け用!$G40,0,(COLUMN()-3)*6,1,1)=\"\"),NA(),(OFFSET(結果貼付け用!$G40,0,(COLUMN()-3)*6,1,1)))","v":{"$error":"#N/A"}},{"$f":"IF(OR(OFFSET(結果貼付け用!$G40,0,(COLUMN()-3)*6,1,1)=\"-\",OFFSET(結果貼付け用!$G40,0,(COLUMN()-3)*6,1,1)=\"\"),NA(),(OFFSET(結果貼付け用!$G40,0,(COLUMN()-3)*6,1,1)))","v":{"$error":"#N/A"}},{"$f":"IF(OR(OFFSET(結果貼付け用!$G40,0,(COLUMN()-3)*6,1,1)=\"-\",OFFSET(結果貼付け用!$G40,0,(COLUMN()-3)*6,1,1)=\"\"),NA(),(OFFSET(結果貼付け用!$G40,0,(COLUMN()-3)*6,1,1)))","v":{"$error":"#N/A"}},{"$f":"IF(OR(OFFSET(結果貼付け用!$G40,0,(COLUMN()-3)*6,1,1)=\"-\",OFFSET(結果貼付け用!$G40,0,(COLUMN()-3)*6,1,1)=\"\"),NA(),(OFFSET(結果貼付け用!$G40,0,(COLUMN()-3)*6,1,1)))","v":{"$error":"#N/A"}},{"$f":"IF(OR(OFFSET(結果貼付け用!$G40,0,(COLUMN()-3)*6,1,1)=\"-\",OFFSET(結果貼付け用!$G40,0,(COLUMN()-3)*6,1,1)=\"\"),NA(),(OFFSET(結果貼付け用!$G40,0,(COLUMN()-3)*6,1,1)))","v":{"$error":"#N/A"}},{"$f":"IF(OR(OFFSET(結果貼付け用!$G40,0,(COLUMN()-3)*6,1,1)=\"-\",OFFSET(結果貼付け用!$G40,0,(COLUMN()-3)*6,1,1)=\"\"),NA(),(OFFSET(結果貼付け用!$G40,0,(COLUMN()-3)*6,1,1)))","v":{"$error":"#N/A"}},{"$f":"IF(OR(OFFSET(結果貼付け用!$G40,0,(COLUMN()-3)*6,1,1)=\"-\",OFFSET(結果貼付け用!$G40,0,(COLUMN()-3)*6,1,1)=\"\"),NA(),(OFFSET(結果貼付け用!$G40,0,(COLUMN()-3)*6,1,1)))","v":{"$error":"#N/A"}},{"$f":"IF(OR(OFFSET(結果貼付け用!$G40,0,(COLUMN()-3)*6,1,1)=\"-\",OFFSET(結果貼付け用!$G40,0,(COLUMN()-3)*6,1,1)=\"\"),NA(),(OFFSET(結果貼付け用!$G40,0,(COLUMN()-3)*6,1,1)))","v":{"$error":"#N/A"}},{"$f":"IF(OR(OFFSET(結果貼付け用!$G40,0,(COLUMN()-3)*6,1,1)=\"-\",OFFSET(結果貼付け用!$G40,0,(COLUMN()-3)*6,1,1)=\"\"),NA(),(OFFSET(結果貼付け用!$G40,0,(COLUMN()-3)*6,1,1)))","v":{"$error":"#N/A"}},{"$f":"IF(OR(OFFSET(結果貼付け用!$G40,0,(COLUMN()-3)*6,1,1)=\"-\",OFFSET(結果貼付け用!$G40,0,(COLUMN()-3)*6,1,1)=\"\"),NA(),(OFFSET(結果貼付け用!$G40,0,(COLUMN()-3)*6,1,1)))","v":{"$error":"#N/A"}},{"$f":"IF(OR(OFFSET(結果貼付け用!$G40,0,(COLUMN()-3)*6,1,1)=\"-\",OFFSET(結果貼付け用!$G40,0,(COLUMN()-3)*6,1,1)=\"\"),NA(),(OFFSET(結果貼付け用!$G40,0,(COLUMN()-3)*6,1,1)))","v":{"$error":"#N/A"}},{"$f":"IF(OR(OFFSET(結果貼付け用!$G40,0,(COLUMN()-3)*6,1,1)=\"-\",OFFSET(結果貼付け用!$G40,0,(COLUMN()-3)*6,1,1)=\"\"),NA(),(OFFSET(結果貼付け用!$G40,0,(COLUMN()-3)*6,1,1)))","v":{"$error":"#N/A"}},{"$f":"IF(OR(OFFSET(結果貼付け用!$G40,0,(COLUMN()-3)*6,1,1)=\"-\",OFFSET(結果貼付け用!$G40,0,(COLUMN()-3)*6,1,1)=\"\"),NA(),(OFFSET(結果貼付け用!$G40,0,(COLUMN()-3)*6,1,1)))","v":{"$error":"#N/A"}},{"$f":"IF(OR(OFFSET(結果貼付け用!$G40,0,(COLUMN()-3)*6,1,1)=\"-\",OFFSET(結果貼付け用!$G40,0,(COLUMN()-3)*6,1,1)=\"\"),NA(),(OFFSET(結果貼付け用!$G40,0,(COLUMN()-3)*6,1,1)))","v":{"$error":"#N/A"}},{"$f":"IF(OR(OFFSET(結果貼付け用!$G40,0,(COLUMN()-3)*6,1,1)=\"-\",OFFSET(結果貼付け用!$G40,0,(COLUMN()-3)*6,1,1)=\"\"),NA(),(OFFSET(結果貼付け用!$G40,0,(COLUMN()-3)*6,1,1)))","v":{"$error":"#N/A"}},{"$f":"IF(OR(OFFSET(結果貼付け用!$G40,0,(COLUMN()-3)*6,1,1)=\"-\",OFFSET(結果貼付け用!$G40,0,(COLUMN()-3)*6,1,1)=\"\"),NA(),(OFFSET(結果貼付け用!$G40,0,(COLUMN()-3)*6,1,1)))","v":{"$error":"#N/A"}},{"$f":"IF(OR(OFFSET(結果貼付け用!$G40,0,(COLUMN()-3)*6,1,1)=\"-\",OFFSET(結果貼付け用!$G40,0,(COLUMN()-3)*6,1,1)=\"\"),NA(),(OFFSET(結果貼付け用!$G40,0,(COLUMN()-3)*6,1,1)))","v":{"$error":"#N/A"}},{"$f":"IF(OR(OFFSET(結果貼付け用!$G40,0,(COLUMN()-3)*6,1,1)=\"-\",OFFSET(結果貼付け用!$G40,0,(COLUMN()-3)*6,1,1)=\"\"),NA(),(OFFSET(結果貼付け用!$G40,0,(COLUMN()-3)*6,1,1)))","v":{"$error":"#N/A"}},{"$f":"IF(OR(OFFSET(結果貼付け用!$G40,0,(COLUMN()-3)*6,1,1)=\"-\",OFFSET(結果貼付け用!$G40,0,(COLUMN()-3)*6,1,1)=\"\"),NA(),(OFFSET(結果貼付け用!$G40,0,(COLUMN()-3)*6,1,1)))","v":{"$error":"#N/A"}},{"$f":"IF(OR(OFFSET(結果貼付け用!$G40,0,(COLUMN()-3)*6,1,1)=\"-\",OFFSET(結果貼付け用!$G40,0,(COLUMN()-3)*6,1,1)=\"\"),NA(),(OFFSET(結果貼付け用!$G40,0,(COLUMN()-3)*6,1,1)))","v":{"$error":"#N/A"}},{"$f":"IF(OR(OFFSET(結果貼付け用!$G40,0,(COLUMN()-3)*6,1,1)=\"-\",OFFSET(結果貼付け用!$G40,0,(COLUMN()-3)*6,1,1)=\"\"),NA(),(OFFSET(結果貼付け用!$G40,0,(COLUMN()-3)*6,1,1)))","v":{"$error":"#N/A"}},{"$f":"IF(OR(OFFSET(結果貼付け用!$G40,0,(COLUMN()-3)*6,1,1)=\"-\",OFFSET(結果貼付け用!$G40,0,(COLUMN()-3)*6,1,1)=\"\"),NA(),(OFFSET(結果貼付け用!$G40,0,(COLUMN()-3)*6,1,1)))","v":{"$error":"#N/A"}},{"$f":"IF(OR(OFFSET(結果貼付け用!$G40,0,(COLUMN()-3)*6,1,1)=\"-\",OFFSET(結果貼付け用!$G40,0,(COLUMN()-3)*6,1,1)=\"\"),NA(),(OFFSET(結果貼付け用!$G40,0,(COLUMN()-3)*6,1,1)))","v":{"$error":"#N/A"}}]
[null,"職場のコンプライアンス意識",{"$f":"IF(OR(OFFSET(結果貼付け用!$G41,0,(COLUMN()-3)*6,1,1)=\"-\",OFFSET(結果貼付け用!$G41,0,(COLUMN()-3)*6,1,1)=\"\"),NA(),(OFFSET(結果貼付け用!$G41,0,(COLUMN()-3)*6,1,1)))","v":{"$error":"#N/A"}},{"$f":"IF(OR(OFFSET(結果貼付け用!$G41,0,(COLUMN()-3)*6,1,1)=\"-\",OFFSET(結果貼付け用!$G41,0,(COLUMN()-3)*6,1,1)=\"\"),NA(),(OFFSET(結果貼付け用!$G41,0,(COLUMN()-3)*6,1,1)))","v":{"$error":"#N/A"}},{"$f":"IF(OR(OFFSET(結果貼付け用!$G41,0,(COLUMN()-3)*6,1,1)=\"-\",OFFSET(結果貼付け用!$G41,0,(COLUMN()-3)*6,1,1)=\"\"),NA(),(OFFSET(結果貼付け用!$G41,0,(COLUMN()-3)*6,1,1)))","v":{"$error":"#N/A"}},{"$f":"IF(OR(OFFSET(結果貼付け用!$G41,0,(COLUMN()-3)*6,1,1)=\"-\",OFFSET(結果貼付け用!$G41,0,(COLUMN()-3)*6,1,1)=\"\"),NA(),(OFFSET(結果貼付け用!$G41,0,(COLUMN()-3)*6,1,1)))","v":{"$error":"#N/A"}},{"$f":"IF(OR(OFFSET(結果貼付け用!$G41,0,(COLUMN()-3)*6,1,1)=\"-\",OFFSET(結果貼付け用!$G41,0,(COLUMN()-3)*6,1,1)=\"\"),NA(),(OFFSET(結果貼付け用!$G41,0,(COLUMN()-3)*6,1,1)))","v":{"$error":"#N/A"}},{"$f":"IF(OR(OFFSET(結果貼付け用!$G41,0,(COLUMN()-3)*6,1,1)=\"-\",OFFSET(結果貼付け用!$G41,0,(COLUMN()-3)*6,1,1)=\"\"),NA(),(OFFSET(結果貼付け用!$G41,0,(COLUMN()-3)*6,1,1)))","v":{"$error":"#N/A"}},{"$f":"IF(OR(OFFSET(結果貼付け用!$G41,0,(COLUMN()-3)*6,1,1)=\"-\",OFFSET(結果貼付け用!$G41,0,(COLUMN()-3)*6,1,1)=\"\"),NA(),(OFFSET(結果貼付け用!$G41,0,(COLUMN()-3)*6,1,1)))","v":{"$error":"#N/A"}},{"$f":"IF(OR(OFFSET(結果貼付け用!$G41,0,(COLUMN()-3)*6,1,1)=\"-\",OFFSET(結果貼付け用!$G41,0,(COLUMN()-3)*6,1,1)=\"\"),NA(),(OFFSET(結果貼付け用!$G41,0,(COLUMN()-3)*6,1,1)))","v":{"$error":"#N/A"}},{"$f":"IF(OR(OFFSET(結果貼付け用!$G41,0,(COLUMN()-3)*6,1,1)=\"-\",OFFSET(結果貼付け用!$G41,0,(COLUMN()-3)*6,1,1)=\"\"),NA(),(OFFSET(結果貼付け用!$G41,0,(COLUMN()-3)*6,1,1)))","v":{"$error":"#N/A"}},{"$f":"IF(OR(OFFSET(結果貼付け用!$G41,0,(COLUMN()-3)*6,1,1)=\"-\",OFFSET(結果貼付け用!$G41,0,(COLUMN()-3)*6,1,1)=\"\"),NA(),(OFFSET(結果貼付け用!$G41,0,(COLUMN()-3)*6,1,1)))","v":{"$error":"#N/A"}},{"$f":"IF(OR(OFFSET(結果貼付け用!$G41,0,(COLUMN()-3)*6,1,1)=\"-\",OFFSET(結果貼付け用!$G41,0,(COLUMN()-3)*6,1,1)=\"\"),NA(),(OFFSET(結果貼付け用!$G41,0,(COLUMN()-3)*6,1,1)))","v":{"$error":"#N/A"}},{"$f":"IF(OR(OFFSET(結果貼付け用!$G41,0,(COLUMN()-3)*6,1,1)=\"-\",OFFSET(結果貼付け用!$G41,0,(COLUMN()-3)*6,1,1)=\"\"),NA(),(OFFSET(結果貼付け用!$G41,0,(COLUMN()-3)*6,1,1)))","v":{"$error":"#N/A"}},{"$f":"IF(OR(OFFSET(結果貼付け用!$G41,0,(COLUMN()-3)*6,1,1)=\"-\",OFFSET(結果貼付け用!$G41,0,(COLUMN()-3)*6,1,1)=\"\"),NA(),(OFFSET(結果貼付け用!$G41,0,(COLUMN()-3)*6,1,1)))","v":{"$error":"#N/A"}},{"$f":"IF(OR(OFFSET(結果貼付け用!$G41,0,(COLUMN()-3)*6,1,1)=\"-\",OFFSET(結果貼付け用!$G41,0,(COLUMN()-3)*6,1,1)=\"\"),NA(),(OFFSET(結果貼付け用!$G41,0,(COLUMN()-3)*6,1,1)))","v":{"$error":"#N/A"}},{"$f":"IF(OR(OFFSET(結果貼付け用!$G41,0,(COLUMN()-3)*6,1,1)=\"-\",OFFSET(結果貼付け用!$G41,0,(COLUMN()-3)*6,1,1)=\"\"),NA(),(OFFSET(結果貼付け用!$G41,0,(COLUMN()-3)*6,1,1)))","v":{"$error":"#N/A"}},{"$f":"IF(OR(OFFSET(結果貼付け用!$G41,0,(COLUMN()-3)*6,1,1)=\"-\",OFFSET(結果貼付け用!$G41,0,(COLUMN()-3)*6,1,1)=\"\"),NA(),(OFFSET(結果貼付け用!$G41,0,(COLUMN()-3)*6,1,1)))","v":{"$error":"#N/A"}},{"$f":"IF(OR(OFFSET(結果貼付け用!$G41,0,(COLUMN()-3)*6,1,1)=\"-\",OFFSET(結果貼付け用!$G41,0,(COLUMN()-3)*6,1,1)=\"\"),NA(),(OFFSET(結果貼付け用!$G41,0,(COLUMN()-3)*6,1,1)))","v":{"$error":"#N/A"}},{"$f":"IF(OR(OFFSET(結果貼付け用!$G41,0,(COLUMN()-3)*6,1,1)=\"-\",OFFSET(結果貼付け用!$G41,0,(COLUMN()-3)*6,1,1)=\"\"),NA(),(OFFSET(結果貼付け用!$G41,0,(COLUMN()-3)*6,1,1)))","v":{"$error":"#N/A"}},{"$f":"IF(OR(OFFSET(結果貼付け用!$G41,0,(COLUMN()-3)*6,1,1)=\"-\",OFFSET(結果貼付け用!$G41,0,(COLUMN()-3)*6,1,1)=\"\"),NA(),(OFFSET(結果貼付け用!$G41,0,(COLUMN()-3)*6,1,1)))","v":{"$error":"#N/A"}},{"$f":"IF(OR(OFFSET(結果貼付け用!$G41,0,(COLUMN()-3)*6,1,1)=\"-\",OFFSET(結果貼付け用!$G41,0,(COLUMN()-3)*6,1,1)=\"\"),NA(),(OFFSET(結果貼付け用!$G41,0,(COLUMN()-3)*6,1,1)))","v":{"$error":"#N/A"}},{"$f":"IF(OR(OFFSET(結果貼付け用!$G41,0,(COLUMN()-3)*6,1,1)=\"-\",OFFSET(結果貼付け用!$G41,0,(COLUMN()-3)*6,1,1)=\"\"),NA(),(OFFSET(結果貼付け用!$G41,0,(COLUMN()-3)*6,1,1)))","v":{"$error":"#N/A"}},{"$f":"IF(OR(OFFSET(結果貼付け用!$G41,0,(COLUMN()-3)*6,1,1)=\"-\",OFFSET(結果貼付け用!$G41,0,(COLUMN()-3)*6,1,1)=\"\"),NA(),(OFFSET(結果貼付け用!$G41,0,(COLUMN()-3)*6,1,1)))","v":{"$error":"#N/A"}},{"$f":"IF(OR(OFFSET(結果貼付け用!$G41,0,(COLUMN()-3)*6,1,1)=\"-\",OFFSET(結果貼付け用!$G41,0,(COLUMN()-3)*6,1,1)=\"\"),NA(),(OFFSET(結果貼付け用!$G41,0,(COLUMN()-3)*6,1,1)))","v":{"$error":"#N/A"}},{"$f":"IF(OR(OFFSET(結果貼付け用!$G41,0,(COLUMN()-3)*6,1,1)=\"-\",OFFSET(結果貼付け用!$G41,0,(COLUMN()-3)*6,1,1)=\"\"),NA(),(OFFSET(結果貼付け用!$G41,0,(COLUMN()-3)*6,1,1)))","v":{"$error":"#N/A"}},{"$f":"IF(OR(OFFSET(結果貼付け用!$G41,0,(COLUMN()-3)*6,1,1)=\"-\",OFFSET(結果貼付け用!$G41,0,(COLUMN()-3)*6,1,1)=\"\"),NA(),(OFFSET(結果貼付け用!$G41,0,(COLUMN()-3)*6,1,1)))","v":{"$error":"#N/A"}},{"$f":"IF(OR(OFFSET(結果貼付け用!$G41,0,(COLUMN()-3)*6,1,1)=\"-\",OFFSET(結果貼付け用!$G41,0,(COLUMN()-3)*6,1,1)=\"\"),NA(),(OFFSET(結果貼付け用!$G41,0,(COLUMN()-3)*6,1,1)))","v":{"$error":"#N/A"}},{"$f":"IF(OR(OFFSET(結果貼付け用!$G41,0,(COLUMN()-3)*6,1,1)=\"-\",OFFSET(結果貼付け用!$G41,0,(COLUMN()-3)*6,1,1)=\"\"),NA(),(OFFSET(結果貼付け用!$G41,0,(COLUMN()-3)*6,1,1)))","v":{"$error":"#N/A"}},{"$f":"IF(OR(OFFSET(結果貼付け用!$G41,0,(COLUMN()-3)*6,1,1)=\"-\",OFFSET(結果貼付け用!$G41,0,(COLUMN()-3)*6,1,1)=\"\"),NA(),(OFFSET(結果貼付け用!$G41,0,(COLUMN()-3)*6,1,1)))","v":{"$error":"#N/A"}},{"$f":"IF(OR(OFFSET(結果貼付け用!$G41,0,(COLUMN()-3)*6,1,1)=\"-\",OFFSET(結果貼付け用!$G41,0,(COLUMN()-3)*6,1,1)=\"\"),NA(),(OFFSET(結果貼付け用!$G41,0,(COLUMN()-3)*6,1,1)))","v":{"$error":"#N/A"}},{"$f":"IF(OR(OFFSET(結果貼付け用!$G41,0,(COLUMN()-3)*6,1,1)=\"-\",OFFSET(結果貼付け用!$G41,0,(COLUMN()-3)*6,1,1)=\"\"),NA(),(OFFSET(結果貼付け用!$G41,0,(COLUMN()-3)*6,1,1)))","v":{"$error":"#N/A"}}]
[]
[]
[]
[]
[]
[]
[]
[]
[]
[]
[]
[]
[]
[]
[]
[]
[]
[]
[]
[]
[null,"実施開始日時",{"$f":"IF(結果貼付け用!B2=\"\",NA(),結果貼付け用!B2)","v":{"$error":"#N/A"}},{"$f":"IF((OFFSET(結果貼付け用!$H$2, 0, (COLUMN() - COLUMN($D$20)) * 6))=\"\",NA(),(OFFSET(結果貼付け用!$H$2, 0, (COLUMN() - COLUMN($D$20)) * 6)))","v":{"$error":"#N/A"}},{"$f":"IF((OFFSET(結果貼付け用!$H$2, 0, (COLUMN() - COLUMN($D$20)) * 6))=\"\",NA(),(OFFSET(結果貼付け用!$H$2, 0, (COLUMN() - COLUMN($D$20)) * 6)))","v":{"$error":"#N/A"}},{"$f":"IF((OFFSET(結果貼付け用!$H$2, 0, (COLUMN() - COLUMN($D$20)) * 6))=\"\",NA(),(OFFSET(結果貼付け用!$H$2, 0, (COLUMN() - COLUMN($D$20)) * 6)))","v":{"$error":"#N/A"}},{"$f":"IF((OFFSET(結果貼付け用!$H$2, 0, (COLUMN() - COLUMN($D$20)) * 6))=\"\",NA(),(OFFSET(結果貼付け用!$H$2, 0, (COLUMN() - COLUMN($D$20)) * 6)))","v":{"$error":"#N/A"}},{"$f":"IF((OFFSET(結果貼付け用!$H$2, 0, (COLUMN() - COLUMN($D$20)) * 6))=\"\",NA(),(OFFSET(結果貼付け用!$H$2, 0, (COLUMN() - COLUMN($D$20)) * 6)))","v":{"$error":"#N/A"}},{"$f":"IF((OFFSET(結果貼付け用!$H$2, 0, (COLUMN() - COLUMN($D$20)) * 6))=\"\",NA(),(OFFSET(結果貼付け用!$H$2, 0, (COLUMN() - COLUMN($D$20)) * 6)))","v":{"$error":"#N/A"}},{"$f":"IF((OFFSET(結果貼付け用!$H$2, 0, (COLUMN() - COLUMN($D$20)) * 6))=\"\",NA(),(OFFSET(結果貼付け用!$H$2, 0, (COLUMN() - COLUMN($D$20)) * 6)))","v":{"$error":"#N/A"}},{"$f":"IF((OFFSET(結果貼付け用!$H$2, 0, (COLUMN() - COLUMN($D$20)) * 6))=\"\",NA(),(OFFSET(結果貼付け用!$H$2, 0, (COLUMN() - COLUMN($D$20)) * 6)))","v":{"$error":"#N/A"}},{"$f":"IF((OFFSET(結果貼付け用!$H$2, 0, (COLUMN() - COLUMN($D$20)) * 6))=\"\",NA(),(OFFSET(結果貼付け用!$H$2, 0, (COLUMN() - COLUMN($D$20)) * 6)))","v":{"$error":"#N/A"}},{"$f":"IF((OFFSET(結果貼付け用!$H$2, 0, (COLUMN() - COLUMN($D$20)) * 6))=\"\",NA(),(OFFSET(結果貼付け用!$H$2, 0, (COLUMN() - COLUMN($D$20)) * 6)))","v":{"$error":"#N/A"}},{"$f":"IF((OFFSET(結果貼付け用!$H$2, 0, (COLUMN() - COLUMN($D$20)) * 6))=\"\",NA(),(OFFSET(結果貼付け用!$H$2, 0, (COLUMN() - COLUMN($D$20)) * 6)))","v":{"$error":"#N/A"}},{"$f":"IF((OFFSET(結果貼付け用!$H$2, 0, (COLUMN() - COLUMN($D$20)) * 6))=\"\",NA(),(OFFSET(結果貼付け用!$H$2, 0, (COLUMN() - COLUMN($D$20)) * 6)))","v":{"$error":"#N/A"}},{"$f":"IF((OFFSET(結果貼付け用!$H$2, 0, (COLUMN() - COLUMN($D$20)) * 6))=\"\",NA(),(OFFSET(結果貼付け用!$H$2, 0, (COLUMN() - COLUMN($D$20)) * 6)))","v":{"$error":"#N/A"}},{"$f":"IF((OFFSET(結果貼付け用!$H$2, 0, (COLUMN() - COLUMN($D$20)) * 6))=\"\",NA(),(OFFSET(結果貼付け用!$H$2, 0, (COLUMN() - COLUMN($D$20)) * 6)))","v":{"$error":"#N/A"}},{"$f":"IF((OFFSET(結果貼付け用!$H$2, 0, (COLUMN() - COLUMN($D$20)) * 6))=\"\",NA(),(OFFSET(結果貼付け用!$H$2, 0, (COLUMN() - COLUMN($D$20)) * 6)))","v":{"$error":"#N/A"}},{"$f":"IF((OFFSET(結果貼付け用!$H$2, 0, (COLUMN() - COLUMN($D$20)) * 6))=\"\",NA(),(OFFSET(結果貼付け用!$H$2, 0, (COLUMN() - COLUMN($D$20)) * 6)))","v":{"$error":"#N/A"}},{"$f":"IF((OFFSET(結果貼付け用!$H$2, 0, (COLUMN() - COLUMN($D$20)) * 6))=\"\",NA(),(OFFSET(結果貼付け用!$H$2, 0, (COLUMN() - COLUMN($D$20)) * 6)))","v":{"$error":"#N/A"}},{"$f":"IF((OFFSET(結果貼付け用!$H$2, 0, (COLUMN() - COLUMN($D$20)) * 6))=\"\",NA(),(OFFSET(結果貼付け用!$H$2, 0, (COLUMN() - COLUMN($D$20)) * 6)))","v":{"$error":"#N/A"}},{"$f":"IF((OFFSET(結果貼付け用!$H$2, 0, (COLUMN() - COLUMN($D$20)) * 6))=\"\",NA(),(OFFSET(結果貼付け用!$H$2, 0, (COLUMN() - COLUMN($D$20)) * 6)))","v":{"$error":"#N/A"}},{"$f":"IF((OFFSET(結果貼付け用!$H$2, 0, (COLUMN() - COLUMN($D$20)) * 6))=\"\",NA(),(OFFSET(結果貼付け用!$H$2, 0, (COLUMN() - COLUMN($D$20)) * 6)))","v":{"$error":"#N/A"}},{"$f":"IF((OFFSET(結果貼付け用!$H$2, 0, (COLUMN() - COLUMN($D$20)) * 6))=\"\",NA(),(OFFSET(結果貼付け用!$H$2, 0, (COLUMN() - COLUMN($D$20)) * 6)))","v":{"$error":"#N/A"}},{"$f":"IF((OFFSET(結果貼付け用!$H$2, 0, (COLUMN() - COLUMN($D$20)) * 6))=\"\",NA(),(OFFSET(結果貼付け用!$H$2, 0, (COLUMN() - COLUMN($D$20)) * 6)))","v":{"$error":"#N/A"}},{"$f":"IF((OFFSET(結果貼付け用!$H$2, 0, (COLUMN() - COLUMN($D$20)) * 6))=\"\",NA(),(OFFSET(結果貼付け用!$H$2, 0, (COLUMN() - COLUMN($D$20)) * 6)))","v":{"$error":"#N/A"}},{"$f":"IF((OFFSET(結果貼付け用!$H$2, 0, (COLUMN() - COLUMN($D$20)) * 6))=\"\",NA(),(OFFSET(結果貼付け用!$H$2, 0, (COLUMN() - COLUMN($D$20)) * 6)))","v":{"$error":"#N/A"}},{"$f":"IF((OFFSET(結果貼付け用!$H$2, 0, (COLUMN() - COLUMN($D$20)) * 6))=\"\",NA(),(OFFSET(結果貼付け用!$H$2, 0, (COLUMN() - COLUMN($D$20)) * 6)))","v":{"$error":"#N/A"}},{"$f":"IF((OFFSET(結果貼付け用!$H$2, 0, (COLUMN() - COLUMN($D$20)) * 6))=\"\",NA(),(OFFSET(結果貼付け用!$H$2, 0, (COLUMN() - COLUMN($D$20)) * 6)))","v":{"$error":"#N/A"}},{"$f":"IF((OFFSET(結果貼付け用!$H$2, 0, (COLUMN() - COLUMN($D$20)) * 6))=\"\",NA(),(OFFSET(結果貼付け用!$H$2, 0, (COLUMN() - COLUMN($D$20)) * 6)))","v":{"$error":"#N/A"}},{"$f":"IF((OFFSET(結果貼付け用!$H$2, 0, (COLUMN() - COLUMN($D$20)) * 6))=\"\",NA(),(OFFSET(結果貼付け用!$H$2, 0, (COLUMN() - COLUMN($D$20)) * 6)))","v":{"$error":"#N/A"}},{"$f":"IF((OFFSET(結果貼付け用!$H$2, 0, (COLUMN() - COLUMN($D$20)) * 6))=\"\",NA(),(OFFSET(結果貼付け用!$H$2, 0, (COLUMN() - COLUMN($D$20)) * 6)))","v":{"$error":"#N/A"}}]
[null,"個人要因",{"$f":"IF(OR(OFFSET(結果貼付け用!$G42,0,(COLUMN()-3)*6,1,1)=\"-\",OFFSET(結果貼付け用!$G42,0,(COLUMN()-3)*6,1,1)=\"\"),NA(),(OFFSET(結果貼付け用!$G42,0,(COLUMN()-3)*6,1,1)))","v":{"$error":"#N/A"}},{"$f":"IF(OR(OFFSET(結果貼付け用!$G42,0,(COLUMN()-3)*6,1,1)=\"-\",OFFSET(結果貼付け用!$G42,0,(COLUMN()-3)*6,1,1)=\"\"),NA(),(OFFSET(結果貼付け用!$G42,0,(COLUMN()-3)*6,1,1)))","v":{"$error":"#N/A"}},{"$f":"IF(OR(OFFSET(結果貼付け用!$G42,0,(COLUMN()-3)*6,1,1)=\"-\",OFFSET(結果貼付け用!$G42,0,(COLUMN()-3)*6,1,1)=\"\"),NA(),(OFFSET(結果貼付け用!$G42,0,(COLUMN()-3)*6,1,1)))","v":{"$error":"#N/A"}},{"$f":"IF(OR(OFFSET(結果貼付け用!$G42,0,(COLUMN()-3)*6,1,1)=\"-\",OFFSET(結果貼付け用!$G42,0,(COLUMN()-3)*6,1,1)=\"\"),NA(),(OFFSET(結果貼付け用!$G42,0,(COLUMN()-3)*6,1,1)))","v":{"$error":"#N/A"}},{"$f":"IF(OR(OFFSET(結果貼付け用!$G42,0,(COLUMN()-3)*6,1,1)=\"-\",OFFSET(結果貼付け用!$G42,0,(COLUMN()-3)*6,1,1)=\"\"),NA(),(OFFSET(結果貼付け用!$G42,0,(COLUMN()-3)*6,1,1)))","v":{"$error":"#N/A"}},{"$f":"IF(OR(OFFSET(結果貼付け用!$G42,0,(COLUMN()-3)*6,1,1)=\"-\",OFFSET(結果貼付け用!$G42,0,(COLUMN()-3)*6,1,1)=\"\"),NA(),(OFFSET(結果貼付け用!$G42,0,(COLUMN()-3)*6,1,1)))","v":{"$error":"#N/A"}},{"$f":"IF(OR(OFFSET(結果貼付け用!$G42,0,(COLUMN()-3)*6,1,1)=\"-\",OFFSET(結果貼付け用!$G42,0,(COLUMN()-3)*6,1,1)=\"\"),NA(),(OFFSET(結果貼付け用!$G42,0,(COLUMN()-3)*6,1,1)))","v":{"$error":"#N/A"}},{"$f":"IF(OR(OFFSET(結果貼付け用!$G42,0,(COLUMN()-3)*6,1,1)=\"-\",OFFSET(結果貼付け用!$G42,0,(COLUMN()-3)*6,1,1)=\"\"),NA(),(OFFSET(結果貼付け用!$G42,0,(COLUMN()-3)*6,1,1)))","v":{"$error":"#N/A"}},{"$f":"IF(OR(OFFSET(結果貼付け用!$G42,0,(COLUMN()-3)*6,1,1)=\"-\",OFFSET(結果貼付け用!$G42,0,(COLUMN()-3)*6,1,1)=\"\"),NA(),(OFFSET(結果貼付け用!$G42,0,(COLUMN()-3)*6,1,1)))","v":{"$error":"#N/A"}},{"$f":"IF(OR(OFFSET(結果貼付け用!$G42,0,(COLUMN()-3)*6,1,1)=\"-\",OFFSET(結果貼付け用!$G42,0,(COLUMN()-3)*6,1,1)=\"\"),NA(),(OFFSET(結果貼付け用!$G42,0,(COLUMN()-3)*6,1,1)))","v":{"$error":"#N/A"}},{"$f":"IF(OR(OFFSET(結果貼付け用!$G42,0,(COLUMN()-3)*6,1,1)=\"-\",OFFSET(結果貼付け用!$G42,0,(COLUMN()-3)*6,1,1)=\"\"),NA(),(OFFSET(結果貼付け用!$G42,0,(COLUMN()-3)*6,1,1)))","v":{"$error":"#N/A"}},{"$f":"IF(OR(OFFSET(結果貼付け用!$G42,0,(COLUMN()-3)*6,1,1)=\"-\",OFFSET(結果貼付け用!$G42,0,(COLUMN()-3)*6,1,1)=\"\"),NA(),(OFFSET(結果貼付け用!$G42,0,(COLUMN()-3)*6,1,1)))","v":{"$error":"#N/A"}},{"$f":"IF(OR(OFFSET(結果貼付け用!$G42,0,(COLUMN()-3)*6,1,1)=\"-\",OFFSET(結果貼付け用!$G42,0,(COLUMN()-3)*6,1,1)=\"\"),NA(),(OFFSET(結果貼付け用!$G42,0,(COLUMN()-3)*6,1,1)))","v":{"$error":"#N/A"}},{"$f":"IF(OR(OFFSET(結果貼付け用!$G42,0,(COLUMN()-3)*6,1,1)=\"-\",OFFSET(結果貼付け用!$G42,0,(COLUMN()-3)*6,1,1)=\"\"),NA(),(OFFSET(結果貼付け用!$G42,0,(COLUMN()-3)*6,1,1)))","v":{"$error":"#N/A"}},{"$f":"IF(OR(OFFSET(結果貼付け用!$G42,0,(COLUMN()-3)*6,1,1)=\"-\",OFFSET(結果貼付け用!$G42,0,(COLUMN()-3)*6,1,1)=\"\"),NA(),(OFFSET(結果貼付け用!$G42,0,(COLUMN()-3)*6,1,1)))","v":{"$error":"#N/A"}},{"$f":"IF(OR(OFFSET(結果貼付け用!$G42,0,(COLUMN()-3)*6,1,1)=\"-\",OFFSET(結果貼付け用!$G42,0,(COLUMN()-3)*6,1,1)=\"\"),NA(),(OFFSET(結果貼付け用!$G42,0,(COLUMN()-3)*6,1,1)))","v":{"$error":"#N/A"}},{"$f":"IF(OR(OFFSET(結果貼付け用!$G42,0,(COLUMN()-3)*6,1,1)=\"-\",OFFSET(結果貼付け用!$G42,0,(COLUMN()-3)*6,1,1)=\"\"),NA(),(OFFSET(結果貼付け用!$G42,0,(COLUMN()-3)*6,1,1)))","v":{"$error":"#N/A"}},{"$f":"IF(OR(OFFSET(結果貼付け用!$G42,0,(COLUMN()-3)*6,1,1)=\"-\",OFFSET(結果貼付け用!$G42,0,(COLUMN()-3)*6,1,1)=\"\"),NA(),(OFFSET(結果貼付け用!$G42,0,(COLUMN()-3)*6,1,1)))","v":{"$error":"#N/A"}},{"$f":"IF(OR(OFFSET(結果貼付け用!$G42,0,(COLUMN()-3)*6,1,1)=\"-\",OFFSET(結果貼付け用!$G42,0,(COLUMN()-3)*6,1,1)=\"\"),NA(),(OFFSET(結果貼付け用!$G42,0,(COLUMN()-3)*6,1,1)))","v":{"$error":"#N/A"}},{"$f":"IF(OR(OFFSET(結果貼付け用!$G42,0,(COLUMN()-3)*6,1,1)=\"-\",OFFSET(結果貼付け用!$G42,0,(COLUMN()-3)*6,1,1)=\"\"),NA(),(OFFSET(結果貼付け用!$G42,0,(COLUMN()-3)*6,1,1)))","v":{"$error":"#N/A"}},{"$f":"IF(OR(OFFSET(結果貼付け用!$G42,0,(COLUMN()-3)*6,1,1)=\"-\",OFFSET(結果貼付け用!$G42,0,(COLUMN()-3)*6,1,1)=\"\"),NA(),(OFFSET(結果貼付け用!$G42,0,(COLUMN()-3)*6,1,1)))","v":{"$error":"#N/A"}},{"$f":"IF(OR(OFFSET(結果貼付け用!$G42,0,(COLUMN()-3)*6,1,1)=\"-\",OFFSET(結果貼付け用!$G42,0,(COLUMN()-3)*6,1,1)=\"\"),NA(),(OFFSET(結果貼付け用!$G42,0,(COLUMN()-3)*6,1,1)))","v":{"$error":"#N/A"}},{"$f":"IF(OR(OFFSET(結果貼付け用!$G42,0,(COLUMN()-3)*6,1,1)=\"-\",OFFSET(結果貼付け用!$G42,0,(COLUMN()-3)*6,1,1)=\"\"),NA(),(OFFSET(結果貼付け用!$G42,0,(COLUMN()-3)*6,1,1)))","v":{"$error":"#N/A"}},{"$f":"IF(OR(OFFSET(結果貼付け用!$G42,0,(COLUMN()-3)*6,1,1)=\"-\",OFFSET(結果貼付け用!$G42,0,(COLUMN()-3)*6,1,1)=\"\"),NA(),(OFFSET(結果貼付け用!$G42,0,(COLUMN()-3)*6,1,1)))","v":{"$error":"#N/A"}},{"$f":"IF(OR(OFFSET(結果貼付け用!$G42,0,(COLUMN()-3)*6,1,1)=\"-\",OFFSET(結果貼付け用!$G42,0,(COLUMN()-3)*6,1,1)=\"\"),NA(),(OFFSET(結果貼付け用!$G42,0,(COLUMN()-3)*6,1,1)))","v":{"$error":"#N/A"}},{"$f":"IF(OR(OFFSET(結果貼付け用!$G42,0,(COLUMN()-3)*6,1,1)=\"-\",OFFSET(結果貼付け用!$G42,0,(COLUMN()-3)*6,1,1)=\"\"),NA(),(OFFSET(結果貼付け用!$G42,0,(COLUMN()-3)*6,1,1)))","v":{"$error":"#N/A"}},{"$f":"IF(OR(OFFSET(結果貼付け用!$G42,0,(COLUMN()-3)*6,1,1)=\"-\",OFFSET(結果貼付け用!$G42,0,(COLUMN()-3)*6,1,1)=\"\"),NA(),(OFFSET(結果貼付け用!$G42,0,(COLUMN()-3)*6,1,1)))","v":{"$error":"#N/A"}},{"$f":"IF(OR(OFFSET(結果貼付け用!$G42,0,(COLUMN()-3)*6,1,1)=\"-\",OFFSET(結果貼付け用!$G42,0,(COLUMN()-3)*6,1,1)=\"\"),NA(),(OFFSET(結果貼付け用!$G42,0,(COLUMN()-3)*6,1,1)))","v":{"$error":"#N/A"}},{"$f":"IF(OR(OFFSET(結果貼付け用!$G42,0,(COLUMN()-3)*6,1,1)=\"-\",OFFSET(結果貼付け用!$G42,0,(COLUMN()-3)*6,1,1)=\"\"),NA(),(OFFSET(結果貼付け用!$G42,0,(COLUMN()-3)*6,1,1)))","v":{"$error":"#N/A"}},{"$f":"IF(OR(OFFSET(結果貼付け用!$G42,0,(COLUMN()-3)*6,1,1)=\"-\",OFFSET(結果貼付け用!$G42,0,(COLUMN()-3)*6,1,1)=\"\"),NA(),(OFFSET(結果貼付け用!$G42,0,(COLUMN()-3)*6,1,1)))","v":{"$error":"#N/A"}}]
[null,"組織市民行動",{"$f":"IF(OR(OFFSET(結果貼付け用!$G43,0,(COLUMN()-3)*6,1,1)=\"-\",OFFSET(結果貼付け用!$G43,0,(COLUMN()-3)*6,1,1)=\"\"),NA(),(OFFSET(結果貼付け用!$G43,0,(COLUMN()-3)*6,1,1)))","v":{"$error":"#N/A"}},{"$f":"IF(OR(OFFSET(結果貼付け用!$G43,0,(COLUMN()-3)*6,1,1)=\"-\",OFFSET(結果貼付け用!$G43,0,(COLUMN()-3)*6,1,1)=\"\"),NA(),(OFFSET(結果貼付け用!$G43,0,(COLUMN()-3)*6,1,1)))","v":{"$error":"#N/A"}},{"$f":"IF(OR(OFFSET(結果貼付け用!$G43,0,(COLUMN()-3)*6,1,1)=\"-\",OFFSET(結果貼付け用!$G43,0,(COLUMN()-3)*6,1,1)=\"\"),NA(),(OFFSET(結果貼付け用!$G43,0,(COLUMN()-3)*6,1,1)))","v":{"$error":"#N/A"}},{"$f":"IF(OR(OFFSET(結果貼付け用!$G43,0,(COLUMN()-3)*6,1,1)=\"-\",OFFSET(結果貼付け用!$G43,0,(COLUMN()-3)*6,1,1)=\"\"),NA(),(OFFSET(結果貼付け用!$G43,0,(COLUMN()-3)*6,1,1)))","v":{"$error":"#N/A"}},{"$f":"IF(OR(OFFSET(結果貼付け用!$G43,0,(COLUMN()-3)*6,1,1)=\"-\",OFFSET(結果貼付け用!$G43,0,(COLUMN()-3)*6,1,1)=\"\"),NA(),(OFFSET(結果貼付け用!$G43,0,(COLUMN()-3)*6,1,1)))","v":{"$error":"#N/A"}},{"$f":"IF(OR(OFFSET(結果貼付け用!$G43,0,(COLUMN()-3)*6,1,1)=\"-\",OFFSET(結果貼付け用!$G43,0,(COLUMN()-3)*6,1,1)=\"\"),NA(),(OFFSET(結果貼付け用!$G43,0,(COLUMN()-3)*6,1,1)))","v":{"$error":"#N/A"}},{"$f":"IF(OR(OFFSET(結果貼付け用!$G43,0,(COLUMN()-3)*6,1,1)=\"-\",OFFSET(結果貼付け用!$G43,0,(COLUMN()-3)*6,1,1)=\"\"),NA(),(OFFSET(結果貼付け用!$G43,0,(COLUMN()-3)*6,1,1)))","v":{"$error":"#N/A"}},{"$f":"IF(OR(OFFSET(結果貼付け用!$G43,0,(COLUMN()-3)*6,1,1)=\"-\",OFFSET(結果貼付け用!$G43,0,(COLUMN()-3)*6,1,1)=\"\"),NA(),(OFFSET(結果貼付け用!$G43,0,(COLUMN()-3)*6,1,1)))","v":{"$error":"#N/A"}},{"$f":"IF(OR(OFFSET(結果貼付け用!$G43,0,(COLUMN()-3)*6,1,1)=\"-\",OFFSET(結果貼付け用!$G43,0,(COLUMN()-3)*6,1,1)=\"\"),NA(),(OFFSET(結果貼付け用!$G43,0,(COLUMN()-3)*6,1,1)))","v":{"$error":"#N/A"}},{"$f":"IF(OR(OFFSET(結果貼付け用!$G43,0,(COLUMN()-3)*6,1,1)=\"-\",OFFSET(結果貼付け用!$G43,0,(COLUMN()-3)*6,1,1)=\"\"),NA(),(OFFSET(結果貼付け用!$G43,0,(COLUMN()-3)*6,1,1)))","v":{"$error":"#N/A"}},{"$f":"IF(OR(OFFSET(結果貼付け用!$G43,0,(COLUMN()-3)*6,1,1)=\"-\",OFFSET(結果貼付け用!$G43,0,(COLUMN()-3)*6,1,1)=\"\"),NA(),(OFFSET(結果貼付け用!$G43,0,(COLUMN()-3)*6,1,1)))","v":{"$error":"#N/A"}},{"$f":"IF(OR(OFFSET(結果貼付け用!$G43,0,(COLUMN()-3)*6,1,1)=\"-\",OFFSET(結果貼付け用!$G43,0,(COLUMN()-3)*6,1,1)=\"\"),NA(),(OFFSET(結果貼付け用!$G43,0,(COLUMN()-3)*6,1,1)))","v":{"$error":"#N/A"}},{"$f":"IF(OR(OFFSET(結果貼付け用!$G43,0,(COLUMN()-3)*6,1,1)=\"-\",OFFSET(結果貼付け用!$G43,0,(COLUMN()-3)*6,1,1)=\"\"),NA(),(OFFSET(結果貼付け用!$G43,0,(COLUMN()-3)*6,1,1)))","v":{"$error":"#N/A"}},{"$f":"IF(OR(OFFSET(結果貼付け用!$G43,0,(COLUMN()-3)*6,1,1)=\"-\",OFFSET(結果貼付け用!$G43,0,(COLUMN()-3)*6,1,1)=\"\"),NA(),(OFFSET(結果貼付け用!$G43,0,(COLUMN()-3)*6,1,1)))","v":{"$error":"#N/A"}},{"$f":"IF(OR(OFFSET(結果貼付け用!$G43,0,(COLUMN()-3)*6,1,1)=\"-\",OFFSET(結果貼付け用!$G43,0,(COLUMN()-3)*6,1,1)=\"\"),NA(),(OFFSET(結果貼付け用!$G43,0,(COLUMN()-3)*6,1,1)))","v":{"$error":"#N/A"}},{"$f":"IF(OR(OFFSET(結果貼付け用!$G43,0,(COLUMN()-3)*6,1,1)=\"-\",OFFSET(結果貼付け用!$G43,0,(COLUMN()-3)*6,1,1)=\"\"),NA(),(OFFSET(結果貼付け用!$G43,0,(COLUMN()-3)*6,1,1)))","v":{"$error":"#N/A"}},{"$f":"IF(OR(OFFSET(結果貼付け用!$G43,0,(COLUMN()-3)*6,1,1)=\"-\",OFFSET(結果貼付け用!$G43,0,(COLUMN()-3)*6,1,1)=\"\"),NA(),(OFFSET(結果貼付け用!$G43,0,(COLUMN()-3)*6,1,1)))","v":{"$error":"#N/A"}},{"$f":"IF(OR(OFFSET(結果貼付け用!$G43,0,(COLUMN()-3)*6,1,1)=\"-\",OFFSET(結果貼付け用!$G43,0,(COLUMN()-3)*6,1,1)=\"\"),NA(),(OFFSET(結果貼付け用!$G43,0,(COLUMN()-3)*6,1,1)))","v":{"$error":"#N/A"}},{"$f":"IF(OR(OFFSET(結果貼付け用!$G43,0,(COLUMN()-3)*6,1,1)=\"-\",OFFSET(結果貼付け用!$G43,0,(COLUMN()-3)*6,1,1)=\"\"),NA(),(OFFSET(結果貼付け用!$G43,0,(COLUMN()-3)*6,1,1)))","v":{"$error":"#N/A"}},{"$f":"IF(OR(OFFSET(結果貼付け用!$G43,0,(COLUMN()-3)*6,1,1)=\"-\",OFFSET(結果貼付け用!$G43,0,(COLUMN()-3)*6,1,1)=\"\"),NA(),(OFFSET(結果貼付け用!$G43,0,(COLUMN()-3)*6,1,1)))","v":{"$error":"#N/A"}},{"$f":"IF(OR(OFFSET(結果貼付け用!$G43,0,(COLUMN()-3)*6,1,1)=\"-\",OFFSET(結果貼付け用!$G43,0,(COLUMN()-3)*6,1,1)=\"\"),NA(),(OFFSET(結果貼付け用!$G43,0,(COLUMN()-3)*6,1,1)))","v":{"$error":"#N/A"}},{"$f":"IF(OR(OFFSET(結果貼付け用!$G43,0,(COLUMN()-3)*6,1,1)=\"-\",OFFSET(結果貼付け用!$G43,0,(COLUMN()-3)*6,1,1)=\"\"),NA(),(OFFSET(結果貼付け用!$G43,0,(COLUMN()-3)*6,1,1)))","v":{"$error":"#N/A"}},{"$f":"IF(OR(OFFSET(結果貼付け用!$G43,0,(COLUMN()-3)*6,1,1)=\"-\",OFFSET(結果貼付け用!$G43,0,(COLUMN()-3)*6,1,1)=\"\"),NA(),(OFFSET(結果貼付け用!$G43,0,(COLUMN()-3)*6,1,1)))","v":{"$error":"#N/A"}},{"$f":"IF(OR(OFFSET(結果貼付け用!$G43,0,(COLUMN()-3)*6,1,1)=\"-\",OFFSET(結果貼付け用!$G43,0,(COLUMN()-3)*6,1,1)=\"\"),NA(),(OFFSET(結果貼付け用!$G43,0,(COLUMN()-3)*6,1,1)))","v":{"$error":"#N/A"}},{"$f":"IF(OR(OFFSET(結果貼付け用!$G43,0,(COLUMN()-3)*6,1,1)=\"-\",OFFSET(結果貼付け用!$G43,0,(COLUMN()-3)*6,1,1)=\"\"),NA(),(OFFSET(結果貼付け用!$G43,0,(COLUMN()-3)*6,1,1)))","v":{"$error":"#N/A"}},{"$f":"IF(OR(OFFSET(結果貼付け用!$G43,0,(COLUMN()-3)*6,1,1)=\"-\",OFFSET(結果貼付け用!$G43,0,(COLUMN()-3)*6,1,1)=\"\"),NA(),(OFFSET(結果貼付け用!$G43,0,(COLUMN()-3)*6,1,1)))","v":{"$error":"#N/A"}},{"$f":"IF(OR(OFFSET(結果貼付け用!$G43,0,(COLUMN()-3)*6,1,1)=\"-\",OFFSET(結果貼付け用!$G43,0,(COLUMN()-3)*6,1,1)=\"\"),NA(),(OFFSET(結果貼付け用!$G43,0,(COLUMN()-3)*6,1,1)))","v":{"$error":"#N/A"}},{"$f":"IF(OR(OFFSET(結果貼付け用!$G43,0,(COLUMN()-3)*6,1,1)=\"-\",OFFSET(結果貼付け用!$G43,0,(COLUMN()-3)*6,1,1)=\"\"),NA(),(OFFSET(結果貼付け用!$G43,0,(COLUMN()-3)*6,1,1)))","v":{"$error":"#N/A"}},{"$f":"IF(OR(OFFSET(結果貼付け用!$G43,0,(COLUMN()-3)*6,1,1)=\"-\",OFFSET(結果貼付け用!$G43,0,(COLUMN()-3)*6,1,1)=\"\"),NA(),(OFFSET(結果貼付け用!$G43,0,(COLUMN()-3)*6,1,1)))","v":{"$error":"#N/A"}},{"$f":"IF(OR(OFFSET(結果貼付け用!$G43,0,(COLUMN()-3)*6,1,1)=\"-\",OFFSET(結果貼付け用!$G43,0,(COLUMN()-3)*6,1,1)=\"\"),NA(),(OFFSET(結果貼付け用!$G43,0,(COLUMN()-3)*6,1,1)))","v":{"$error":"#N/A"}}]
[null,"改善提案行動",{"$f":"IF(OR(OFFSET(結果貼付け用!$G44,0,(COLUMN()-3)*6,1,1)=\"-\",OFFSET(結果貼付け用!$G44,0,(COLUMN()-3)*6,1,1)=\"\"),NA(),(OFFSET(結果貼付け用!$G44,0,(COLUMN()-3)*6,1,1)))","v":{"$error":"#N/A"}},{"$f":"IF(OR(OFFSET(結果貼付け用!$G44,0,(COLUMN()-3)*6,1,1)=\"-\",OFFSET(結果貼付け用!$G44,0,(COLUMN()-3)*6,1,1)=\"\"),NA(),(OFFSET(結果貼付け用!$G44,0,(COLUMN()-3)*6,1,1)))","v":{"$error":"#N/A"}},{"$f":"IF(OR(OFFSET(結果貼付け用!$G44,0,(COLUMN()-3)*6,1,1)=\"-\",OFFSET(結果貼付け用!$G44,0,(COLUMN()-3)*6,1,1)=\"\"),NA(),(OFFSET(結果貼付け用!$G44,0,(COLUMN()-3)*6,1,1)))","v":{"$error":"#N/A"}},{"$f":"IF(OR(OFFSET(結果貼付け用!$G44,0,(COLUMN()-3)*6,1,1)=\"-\",OFFSET(結果貼付け用!$G44,0,(COLUMN()-3)*6,1,1)=\"\"),NA(),(OFFSET(結果貼付け用!$G44,0,(COLUMN()-3)*6,1,1)))","v":{"$error":"#N/A"}},{"$f":"IF(OR(OFFSET(結果貼付け用!$G44,0,(COLUMN()-3)*6,1,1)=\"-\",OFFSET(結果貼付け用!$G44,0,(COLUMN()-3)*6,1,1)=\"\"),NA(),(OFFSET(結果貼付け用!$G44,0,(COLUMN()-3)*6,1,1)))","v":{"$error":"#N/A"}},{"$f":"IF(OR(OFFSET(結果貼付け用!$G44,0,(COLUMN()-3)*6,1,1)=\"-\",OFFSET(結果貼付け用!$G44,0,(COLUMN()-3)*6,1,1)=\"\"),NA(),(OFFSET(結果貼付け用!$G44,0,(COLUMN()-3)*6,1,1)))","v":{"$error":"#N/A"}},{"$f":"IF(OR(OFFSET(結果貼付け用!$G44,0,(COLUMN()-3)*6,1,1)=\"-\",OFFSET(結果貼付け用!$G44,0,(COLUMN()-3)*6,1,1)=\"\"),NA(),(OFFSET(結果貼付け用!$G44,0,(COLUMN()-3)*6,1,1)))","v":{"$error":"#N/A"}},{"$f":"IF(OR(OFFSET(結果貼付け用!$G44,0,(COLUMN()-3)*6,1,1)=\"-\",OFFSET(結果貼付け用!$G44,0,(COLUMN()-3)*6,1,1)=\"\"),NA(),(OFFSET(結果貼付け用!$G44,0,(COLUMN()-3)*6,1,1)))","v":{"$error":"#N/A"}},{"$f":"IF(OR(OFFSET(結果貼付け用!$G44,0,(COLUMN()-3)*6,1,1)=\"-\",OFFSET(結果貼付け用!$G44,0,(COLUMN()-3)*6,1,1)=\"\"),NA(),(OFFSET(結果貼付け用!$G44,0,(COLUMN()-3)*6,1,1)))","v":{"$error":"#N/A"}},{"$f":"IF(OR(OFFSET(結果貼付け用!$G44,0,(COLUMN()-3)*6,1,1)=\"-\",OFFSET(結果貼付け用!$G44,0,(COLUMN()-3)*6,1,1)=\"\"),NA(),(OFFSET(結果貼付け用!$G44,0,(COLUMN()-3)*6,1,1)))","v":{"$error":"#N/A"}},{"$f":"IF(OR(OFFSET(結果貼付け用!$G44,0,(COLUMN()-3)*6,1,1)=\"-\",OFFSET(結果貼付け用!$G44,0,(COLUMN()-3)*6,1,1)=\"\"),NA(),(OFFSET(結果貼付け用!$G44,0,(COLUMN()-3)*6,1,1)))","v":{"$error":"#N/A"}},{"$f":"IF(OR(OFFSET(結果貼付け用!$G44,0,(COLUMN()-3)*6,1,1)=\"-\",OFFSET(結果貼付け用!$G44,0,(COLUMN()-3)*6,1,1)=\"\"),NA(),(OFFSET(結果貼付け用!$G44,0,(COLUMN()-3)*6,1,1)))","v":{"$error":"#N/A"}},{"$f":"IF(OR(OFFSET(結果貼付け用!$G44,0,(COLUMN()-3)*6,1,1)=\"-\",OFFSET(結果貼付け用!$G44,0,(COLUMN()-3)*6,1,1)=\"\"),NA(),(OFFSET(結果貼付け用!$G44,0,(COLUMN()-3)*6,1,1)))","v":{"$error":"#N/A"}},{"$f":"IF(OR(OFFSET(結果貼付け用!$G44,0,(COLUMN()-3)*6,1,1)=\"-\",OFFSET(結果貼付け用!$G44,0,(COLUMN()-3)*6,1,1)=\"\"),NA(),(OFFSET(結果貼付け用!$G44,0,(COLUMN()-3)*6,1,1)))","v":{"$error":"#N/A"}},{"$f":"IF(OR(OFFSET(結果貼付け用!$G44,0,(COLUMN()-3)*6,1,1)=\"-\",OFFSET(結果貼付け用!$G44,0,(COLUMN()-3)*6,1,1)=\"\"),NA(),(OFFSET(結果貼付け用!$G44,0,(COLUMN()-3)*6,1,1)))","v":{"$error":"#N/A"}},{"$f":"IF(OR(OFFSET(結果貼付け用!$G44,0,(COLUMN()-3)*6,1,1)=\"-\",OFFSET(結果貼付け用!$G44,0,(COLUMN()-3)*6,1,1)=\"\"),NA(),(OFFSET(結果貼付け用!$G44,0,(COLUMN()-3)*6,1,1)))","v":{"$error":"#N/A"}},{"$f":"IF(OR(OFFSET(結果貼付け用!$G44,0,(COLUMN()-3)*6,1,1)=\"-\",OFFSET(結果貼付け用!$G44,0,(COLUMN()-3)*6,1,1)=\"\"),NA(),(OFFSET(結果貼付け用!$G44,0,(COLUMN()-3)*6,1,1)))","v":{"$error":"#N/A"}},{"$f":"IF(OR(OFFSET(結果貼付け用!$G44,0,(COLUMN()-3)*6,1,1)=\"-\",OFFSET(結果貼付け用!$G44,0,(COLUMN()-3)*6,1,1)=\"\"),NA(),(OFFSET(結果貼付け用!$G44,0,(COLUMN()-3)*6,1,1)))","v":{"$error":"#N/A"}},{"$f":"IF(OR(OFFSET(結果貼付け用!$G44,0,(COLUMN()-3)*6,1,1)=\"-\",OFFSET(結果貼付け用!$G44,0,(COLUMN()-3)*6,1,1)=\"\"),NA(),(OFFSET(結果貼付け用!$G44,0,(COLUMN()-3)*6,1,1)))","v":{"$error":"#N/A"}},{"$f":"IF(OR(OFFSET(結果貼付け用!$G44,0,(COLUMN()-3)*6,1,1)=\"-\",OFFSET(結果貼付け用!$G44,0,(COLUMN()-3)*6,1,1)=\"\"),NA(),(OFFSET(結果貼付け用!$G44,0,(COLUMN()-3)*6,1,1)))","v":{"$error":"#N/A"}},{"$f":"IF(OR(OFFSET(結果貼付け用!$G44,0,(COLUMN()-3)*6,1,1)=\"-\",OFFSET(結果貼付け用!$G44,0,(COLUMN()-3)*6,1,1)=\"\"),NA(),(OFFSET(結果貼付け用!$G44,0,(COLUMN()-3)*6,1,1)))","v":{"$error":"#N/A"}},{"$f":"IF(OR(OFFSET(結果貼付け用!$G44,0,(COLUMN()-3)*6,1,1)=\"-\",OFFSET(結果貼付け用!$G44,0,(COLUMN()-3)*6,1,1)=\"\"),NA(),(OFFSET(結果貼付け用!$G44,0,(COLUMN()-3)*6,1,1)))","v":{"$error":"#N/A"}},{"$f":"IF(OR(OFFSET(結果貼付け用!$G44,0,(COLUMN()-3)*6,1,1)=\"-\",OFFSET(結果貼付け用!$G44,0,(COLUMN()-3)*6,1,1)=\"\"),NA(),(OFFSET(結果貼付け用!$G44,0,(COLUMN()-3)*6,1,1)))","v":{"$error":"#N/A"}},{"$f":"IF(OR(OFFSET(結果貼付け用!$G44,0,(COLUMN()-3)*6,1,1)=\"-\",OFFSET(結果貼付け用!$G44,0,(COLUMN()-3)*6,1,1)=\"\"),NA(),(OFFSET(結果貼付け用!$G44,0,(COLUMN()-3)*6,1,1)))","v":{"$error":"#N/A"}},{"$f":"IF(OR(OFFSET(結果貼付け用!$G44,0,(COLUMN()-3)*6,1,1)=\"-\",OFFSET(結果貼付け用!$G44,0,(COLUMN()-3)*6,1,1)=\"\"),NA(),(OFFSET(結果貼付け用!$G44,0,(COLUMN()-3)*6,1,1)))","v":{"$error":"#N/A"}},{"$f":"IF(OR(OFFSET(結果貼付け用!$G44,0,(COLUMN()-3)*6,1,1)=\"-\",OFFSET(結果貼付け用!$G44,0,(COLUMN()-3)*6,1,1)=\"\"),NA(),(OFFSET(結果貼付け用!$G44,0,(COLUMN()-3)*6,1,1)))","v":{"$error":"#N/A"}},{"$f":"IF(OR(OFFSET(結果貼付け用!$G44,0,(COLUMN()-3)*6,1,1)=\"-\",OFFSET(結果貼付け用!$G44,0,(COLUMN()-3)*6,1,1)=\"\"),NA(),(OFFSET(結果貼付け用!$G44,0,(COLUMN()-3)*6,1,1)))","v":{"$error":"#N/A"}},{"$f":"IF(OR(OFFSET(結果貼付け用!$G44,0,(COLUMN()-3)*6,1,1)=\"-\",OFFSET(結果貼付け用!$G44,0,(COLUMN()-3)*6,1,1)=\"\"),NA(),(OFFSET(結果貼付け用!$G44,0,(COLUMN()-3)*6,1,1)))","v":{"$error":"#N/A"}},{"$f":"IF(OR(OFFSET(結果貼付け用!$G44,0,(COLUMN()-3)*6,1,1)=\"-\",OFFSET(結果貼付け用!$G44,0,(COLUMN()-3)*6,1,1)=\"\"),NA(),(OFFSET(結果貼付け用!$G44,0,(COLUMN()-3)*6,1,1)))","v":{"$error":"#N/A"}},{"$f":"IF(OR(OFFSET(結果貼付け用!$G44,0,(COLUMN()-3)*6,1,1)=\"-\",OFFSET(結果貼付け用!$G44,0,(COLUMN()-3)*6,1,1)=\"\"),NA(),(OFFSET(結果貼付け用!$G44,0,(COLUMN()-3)*6,1,1)))","v":{"$error":"#N/A"}}]
[null,"セルフ・エフィカシー",{"$f":"IF(OR(OFFSET(結果貼付け用!$G45,0,(COLUMN()-3)*6,1,1)=\"-\",OFFSET(結果貼付け用!$G45,0,(COLUMN()-3)*6,1,1)=\"\"),NA(),(OFFSET(結果貼付け用!$G45,0,(COLUMN()-3)*6,1,1)))","v":{"$error":"#N/A"}},{"$f":"IF(OR(OFFSET(結果貼付け用!$G45,0,(COLUMN()-3)*6,1,1)=\"-\",OFFSET(結果貼付け用!$G45,0,(COLUMN()-3)*6,1,1)=\"\"),NA(),(OFFSET(結果貼付け用!$G45,0,(COLUMN()-3)*6,1,1)))","v":{"$error":"#N/A"}},{"$f":"IF(OR(OFFSET(結果貼付け用!$G45,0,(COLUMN()-3)*6,1,1)=\"-\",OFFSET(結果貼付け用!$G45,0,(COLUMN()-3)*6,1,1)=\"\"),NA(),(OFFSET(結果貼付け用!$G45,0,(COLUMN()-3)*6,1,1)))","v":{"$error":"#N/A"}},{"$f":"IF(OR(OFFSET(結果貼付け用!$G45,0,(COLUMN()-3)*6,1,1)=\"-\",OFFSET(結果貼付け用!$G45,0,(COLUMN()-3)*6,1,1)=\"\"),NA(),(OFFSET(結果貼付け用!$G45,0,(COLUMN()-3)*6,1,1)))","v":{"$error":"#N/A"}},{"$f":"IF(OR(OFFSET(結果貼付け用!$G45,0,(COLUMN()-3)*6,1,1)=\"-\",OFFSET(結果貼付け用!$G45,0,(COLUMN()-3)*6,1,1)=\"\"),NA(),(OFFSET(結果貼付け用!$G45,0,(COLUMN()-3)*6,1,1)))","v":{"$error":"#N/A"}},{"$f":"IF(OR(OFFSET(結果貼付け用!$G45,0,(COLUMN()-3)*6,1,1)=\"-\",OFFSET(結果貼付け用!$G45,0,(COLUMN()-3)*6,1,1)=\"\"),NA(),(OFFSET(結果貼付け用!$G45,0,(COLUMN()-3)*6,1,1)))","v":{"$error":"#N/A"}},{"$f":"IF(OR(OFFSET(結果貼付け用!$G45,0,(COLUMN()-3)*6,1,1)=\"-\",OFFSET(結果貼付け用!$G45,0,(COLUMN()-3)*6,1,1)=\"\"),NA(),(OFFSET(結果貼付け用!$G45,0,(COLUMN()-3)*6,1,1)))","v":{"$error":"#N/A"}},{"$f":"IF(OR(OFFSET(結果貼付け用!$G45,0,(COLUMN()-3)*6,1,1)=\"-\",OFFSET(結果貼付け用!$G45,0,(COLUMN()-3)*6,1,1)=\"\"),NA(),(OFFSET(結果貼付け用!$G45,0,(COLUMN()-3)*6,1,1)))","v":{"$error":"#N/A"}},{"$f":"IF(OR(OFFSET(結果貼付け用!$G45,0,(COLUMN()-3)*6,1,1)=\"-\",OFFSET(結果貼付け用!$G45,0,(COLUMN()-3)*6,1,1)=\"\"),NA(),(OFFSET(結果貼付け用!$G45,0,(COLUMN()-3)*6,1,1)))","v":{"$error":"#N/A"}},{"$f":"IF(OR(OFFSET(結果貼付け用!$G45,0,(COLUMN()-3)*6,1,1)=\"-\",OFFSET(結果貼付け用!$G45,0,(COLUMN()-3)*6,1,1)=\"\"),NA(),(OFFSET(結果貼付け用!$G45,0,(COLUMN()-3)*6,1,1)))","v":{"$error":"#N/A"}},{"$f":"IF(OR(OFFSET(結果貼付け用!$G45,0,(COLUMN()-3)*6,1,1)=\"-\",OFFSET(結果貼付け用!$G45,0,(COLUMN()-3)*6,1,1)=\"\"),NA(),(OFFSET(結果貼付け用!$G45,0,(COLUMN()-3)*6,1,1)))","v":{"$error":"#N/A"}},{"$f":"IF(OR(OFFSET(結果貼付け用!$G45,0,(COLUMN()-3)*6,1,1)=\"-\",OFFSET(結果貼付け用!$G45,0,(COLUMN()-3)*6,1,1)=\"\"),NA(),(OFFSET(結果貼付け用!$G45,0,(COLUMN()-3)*6,1,1)))","v":{"$error":"#N/A"}},{"$f":"IF(OR(OFFSET(結果貼付け用!$G45,0,(COLUMN()-3)*6,1,1)=\"-\",OFFSET(結果貼付け用!$G45,0,(COLUMN()-3)*6,1,1)=\"\"),NA(),(OFFSET(結果貼付け用!$G45,0,(COLUMN()-3)*6,1,1)))","v":{"$error":"#N/A"}},{"$f":"IF(OR(OFFSET(結果貼付け用!$G45,0,(COLUMN()-3)*6,1,1)=\"-\",OFFSET(結果貼付け用!$G45,0,(COLUMN()-3)*6,1,1)=\"\"),NA(),(OFFSET(結果貼付け用!$G45,0,(COLUMN()-3)*6,1,1)))","v":{"$error":"#N/A"}},{"$f":"IF(OR(OFFSET(結果貼付け用!$G45,0,(COLUMN()-3)*6,1,1)=\"-\",OFFSET(結果貼付け用!$G45,0,(COLUMN()-3)*6,1,1)=\"\"),NA(),(OFFSET(結果貼付け用!$G45,0,(COLUMN()-3)*6,1,1)))","v":{"$error":"#N/A"}},{"$f":"IF(OR(OFFSET(結果貼付け用!$G45,0,(COLUMN()-3)*6,1,1)=\"-\",OFFSET(結果貼付け用!$G45,0,(COLUMN()-3)*6,1,1)=\"\"),NA(),(OFFSET(結果貼付け用!$G45,0,(COLUMN()-3)*6,1,1)))","v":{"$error":"#N/A"}},{"$f":"IF(OR(OFFSET(結果貼付け用!$G45,0,(COLUMN()-3)*6,1,1)=\"-\",OFFSET(結果貼付け用!$G45,0,(COLUMN()-3)*6,1,1)=\"\"),NA(),(OFFSET(結果貼付け用!$G45,0,(COLUMN()-3)*6,1,1)))","v":{"$error":"#N/A"}},{"$f":"IF(OR(OFFSET(結果貼付け用!$G45,0,(COLUMN()-3)*6,1,1)=\"-\",OFFSET(結果貼付け用!$G45,0,(COLUMN()-3)*6,1,1)=\"\"),NA(),(OFFSET(結果貼付け用!$G45,0,(COLUMN()-3)*6,1,1)))","v":{"$error":"#N/A"}},{"$f":"IF(OR(OFFSET(結果貼付け用!$G45,0,(COLUMN()-3)*6,1,1)=\"-\",OFFSET(結果貼付け用!$G45,0,(COLUMN()-3)*6,1,1)=\"\"),NA(),(OFFSET(結果貼付け用!$G45,0,(COLUMN()-3)*6,1,1)))","v":{"$error":"#N/A"}},{"$f":"IF(OR(OFFSET(結果貼付け用!$G45,0,(COLUMN()-3)*6,1,1)=\"-\",OFFSET(結果貼付け用!$G45,0,(COLUMN()-3)*6,1,1)=\"\"),NA(),(OFFSET(結果貼付け用!$G45,0,(COLUMN()-3)*6,1,1)))","v":{"$error":"#N/A"}},{"$f":"IF(OR(OFFSET(結果貼付け用!$G45,0,(COLUMN()-3)*6,1,1)=\"-\",OFFSET(結果貼付け用!$G45,0,(COLUMN()-3)*6,1,1)=\"\"),NA(),(OFFSET(結果貼付け用!$G45,0,(COLUMN()-3)*6,1,1)))","v":{"$error":"#N/A"}},{"$f":"IF(OR(OFFSET(結果貼付け用!$G45,0,(COLUMN()-3)*6,1,1)=\"-\",OFFSET(結果貼付け用!$G45,0,(COLUMN()-3)*6,1,1)=\"\"),NA(),(OFFSET(結果貼付け用!$G45,0,(COLUMN()-3)*6,1,1)))","v":{"$error":"#N/A"}},{"$f":"IF(OR(OFFSET(結果貼付け用!$G45,0,(COLUMN()-3)*6,1,1)=\"-\",OFFSET(結果貼付け用!$G45,0,(COLUMN()-3)*6,1,1)=\"\"),NA(),(OFFSET(結果貼付け用!$G45,0,(COLUMN()-3)*6,1,1)))","v":{"$error":"#N/A"}},{"$f":"IF(OR(OFFSET(結果貼付け用!$G45,0,(COLUMN()-3)*6,1,1)=\"-\",OFFSET(結果貼付け用!$G45,0,(COLUMN()-3)*6,1,1)=\"\"),NA(),(OFFSET(結果貼付け用!$G45,0,(COLUMN()-3)*6,1,1)))","v":{"$error":"#N/A"}},{"$f":"IF(OR(OFFSET(結果貼付け用!$G45,0,(COLUMN()-3)*6,1,1)=\"-\",OFFSET(結果貼付け用!$G45,0,(COLUMN()-3)*6,1,1)=\"\"),NA(),(OFFSET(結果貼付け用!$G45,0,(COLUMN()-3)*6,1,1)))","v":{"$error":"#N/A"}},{"$f":"IF(OR(OFFSET(結果貼付け用!$G45,0,(COLUMN()-3)*6,1,1)=\"-\",OFFSET(結果貼付け用!$G45,0,(COLUMN()-3)*6,1,1)=\"\"),NA(),(OFFSET(結果貼付け用!$G45,0,(COLUMN()-3)*6,1,1)))","v":{"$error":"#N/A"}},{"$f":"IF(OR(OFFSET(結果貼付け用!$G45,0,(COLUMN()-3)*6,1,1)=\"-\",OFFSET(結果貼付け用!$G45,0,(COLUMN()-3)*6,1,1)=\"\"),NA(),(OFFSET(結果貼付け用!$G45,0,(COLUMN()-3)*6,1,1)))","v":{"$error":"#N/A"}},{"$f":"IF(OR(OFFSET(結果貼付け用!$G45,0,(COLUMN()-3)*6,1,1)=\"-\",OFFSET(結果貼付け用!$G45,0,(COLUMN()-3)*6,1,1)=\"\"),NA(),(OFFSET(結果貼付け用!$G45,0,(COLUMN()-3)*6,1,1)))","v":{"$error":"#N/A"}},{"$f":"IF(OR(OFFSET(結果貼付け用!$G45,0,(COLUMN()-3)*6,1,1)=\"-\",OFFSET(結果貼付け用!$G45,0,(COLUMN()-3)*6,1,1)=\"\"),NA(),(OFFSET(結果貼付け用!$G45,0,(COLUMN()-3)*6,1,1)))","v":{"$error":"#N/A"}},{"$f":"IF(OR(OFFSET(結果貼付け用!$G45,0,(COLUMN()-3)*6,1,1)=\"-\",OFFSET(結果貼付け用!$G45,0,(COLUMN()-3)*6,1,1)=\"\"),NA(),(OFFSET(結果貼付け用!$G45,0,(COLUMN()-3)*6,1,1)))","v":{"$error":"#N/A"}}]

{"sheet":"階層間GAP","index":5,"n_rows":39,"n_cols":2,"rows_kept":39,"cut":false,"hidden":false,"merged":[]}
[]
[null,"各診断回のGAPの推移を確認する"]
[null,"エンゲージメント"]
[null,"能力発揮感"]
[null,"職場貢献感"]
[null,"働きがい"]
[null,"目標遂行感"]
[null,"人生における仕事の意味"]
[null,"部下支持"]
[null,"上司からの意見尊重"]
[null,"上司からの強みの引き出し"]
[null,"上司からの動機づけ"]
[null,"上司からの適切な仕事支援"]
[null,"業務設計"]
[null,"目標達成意識"]
[null,"ストレッチ目標"]
[null,"協働必要性"]
[null,"仕事状況"]
[null,"十分な休息"]
[null,"仕事時間の適切感"]
[null,"役割明確性"]
[null,"職場風土"]
[null,"仕事の相互助言"]
[null,"職場の人間関係の良さ"]
[null,"職場の心理的安全性"]
[null,"人事施策"]
[null,"人事評価の透明性"]
[null,"適切な人材確保"]
[null,"教育の充実"]
[null,"労務環境"]
[null,"上司の安全配慮意識"]
[null,"職場の健康配慮意識"]
[null,"職場のコンプライアンス意識"]
[null,"個人要因"]
[null,"組織市民行動"]
[null,"改善提案行動"]
[null,"セルフ・エフィカシー"]
[]
[null,"管理職・非管理職のGAPの大きいランキングを確認する(確認したい比較対象のボタンを押下してください)"]